Workbook

Sheet 1
D1: 7:00-8:00 | H1: 8:00-9:00 | L1: 9:00-10:00 | P1: 10:00-11:00 | T1: 11:00-12:00 | X1: 12:00-13:00 | AB1: 13:00-14:00 | AF1: 14:00-15:00 | AJ1: 15:00-16:00 | AN1: 16:00-17:00 | AR1: 17:00-18:00 | AV1: 18:00-19:00 | AZ1: 19:00-20:00
C2: grupa
D3: 7:00-8:00 | H3: 8:00-9:00 | L3: 9:00-10:00 | P3: 10:00-11:00 | T3: 11:00-12:00 | X3: 12:00-13:00 | AB3: 13:00-14:00 | AF3: 14:00-15:00 | AJ3: 15:00-16:00 | AN3: 16:00-17:00 | AR3: 17:00-18:00 | AV3: 18:00-19:00 | AZ3: 19:00-20:00
A4: 46293 | B4: poniedziałek | C4: 1A
C5: 1B
C6: 2A
C7: 2B
C8: 3A
C9: 3B
C10: 4A
C11: 4B
D12: 7:00-8:00 | H12: 8:00-9:00 | L12: 9:00-10:00 | P12: 10:00-11:00 | T12: 11:00-12:00 | X12: 12:00-13:00 | AB12: 13:00-14:00 | AF12: 14:00-15:00 | AJ12: 15:00-16:00 | AN12: 16:00-17:00 | AR12: 17:00-18:00 | AV12: 18:00-19:00 | AZ12: 19:00-20:00
A13: =A4+1 -> 46294 | B13: Wtorek | C13: 1A
C14: 1B
C15: 2A
C16: 2B
C17: 3A
C18: 3B
C19: 4A
C20: 4B
D21: 7:00-8:00 | H21: 8:00-9:00 | L21: 9:00-10:00 | P21: 10:00-11:00 | T21: 11:00-12:00 | X21: 12:00-13:00 | AB21: 13:00-14:00 | AF21: 14:00-15:00 | AJ21: 15:00-16:00 | AN21: 16:00-17:00 | AR21: 17:00-18:00 | AV21: 18:00-19:00 | AZ21: 19:00-20:00
A22: =A4+2 -> 46295 | B22: Środa | C22: 1A
C23: 1B
C24: 2A
C25: 2B
C26: 3A
C27: 3B
C28: 4A
C29: 4B
D30: 7:00-8:00 | H30: 8:00-9:00 | L30: 9:00-10:00 | P30: 10:00-11:00 | T30: 11:00-12:00 | X30: 12:00-13:00 | AB30: 13:00-14:00 | AF30: 14:00-15:00 | AJ30: 15:00-16:00 | AN30: 16:00-17:00 | AR30: 17:00-18:00 | AV30: 18:00-19:00 | AZ30: 19:00-20:00
A31: =A4+3 -> 46296 | B31: czwartek | C31: 1A | H31: Farmakologia i toksykologia CN 1A | AL31: Mikrobiologia WY | AR31: Farmakologia i toksykologia WY | AY31: Propedeutyka chorób wew.WY
C32: 1B | R32: Farmakologia i toksykologia CN 1B
C33: 2A | R33: Farmakologia i toksykologia CN 2A
C34: 2B | AB34: Farmakologia i toksykologia CN 2B
C35: 3A | Q35: Prop. Inter. CK 3A, CK 3B
C36: 3B | J36: Prop. Inter. CK 3C, CK 3D
C37: 4A | S37: K | T37: Propedeutyka pediatrii CK 4A, CK 4B
C38: 4B | S38: G | T38: Propedeutyka pediatrii CK 4D
D39: 7:00-8:00 | H39: 8:00-9:00 | L39: 9:00-10:00 | P39: 10:00-11:00 | T39: 11:00-12:00 | X39: 12:00-13:00 | AB39: 13:00-14:00 | AF39: 14:00-15:00 | AJ39: 15:00-16:00 | AN39: 16:00-17:00 | AR39: 17:00-18:00 | AV39: 18:00-19:00 | AZ39: 19:00-20:00
A40: =A4+4 -> 46297 | B40: piątek | C40: 1A | L40: Propedeutyka stomatologii SE 1 | AG40: Mikrobiologia WY | AN40: Propedeutyka pediatrii WY
C41: 1B
C42: 2A | S42: K | T42: Propedeutyka pediatrii CK 2A, CK 2B
C43: 2B | S43: K | T43: Propedeutyka pediatrii CK 2C, CK 2D
C44: 3A | I44: B | J44: Propedeutyka pediatrii CK 3A, CK 3B
C45: 3B | V45: B | W45: Propedeutyka pediatrii CK 3C, CK 3D
C46: 4A | F46: Farmakologia i toksykologia CN 4A
C47: 4B | F47: Farmakologia i toksykologia CN 4B | V47: Prop. Inter. CK 4C, CK 4D
D48: 7:00-8:00 | H48: 8:00-9:00 | L48: 9:00-10:00 | P48: 10:00-11:00 | T48: 11:00-12:00 | X48: 12:00-13:00 | AB48: 13:00-14:00 | AF48: 14:00-15:00 | AJ48: 15:00-16:00 | AN48: 16:00-17:00 | AR48: 17:00-18:00 | AV48: 18:00-19:00 | AZ48: 19:00-20:00

Sheet 2
D1: 7:00-8:00 | H1: 8:00-9:00 | L1: 9:00-10:00 | P1: 10:00-11:00 | T1: 11:00-12:00 | X1: 12:00-13:00 | AB1: 13:00-14:00 | AF1: 14:00-15:00 | AJ1: 15:00-16:00 | AN1: 16:00-17:00 | AR1: 17:00-18:00 | AV1: 18:00-19:00 | AZ1: 19:00-20:00
C2: grupa
D3: 7:00-8:00 | H3: 8:00-9:00 | L3: 9:00-10:00 | P3: 10:00-11:00 | T3: 11:00-12:00 | X3: 12:00-13:00 | AB3: 13:00-14:00 | AF3: 14:00-15:00 | AJ3: 15:00-16:00 | AN3: 16:00-17:00 | AR3: 17:00-18:00 | AV3: 18:00-19:00 | AZ3: 19:00-20:00
A4: ='1'!A4:A11+7 -> 46300 | B4: poniedziałek | C4: 1A | I4: K | J4: Propedeutyka pediatrii CK 1A | T4: Mikrobiologia CL 1 = CN 1A
C5: 1B | T5: Mikrobiologia CL 2 = CN 1A, 1B | AD5: Mikrobiologia CL 3 = CN 1B, 2A
C6: 2A | H6: Prop. Inter. CK 2A | O6: Prop. Inter. CK 2B | AD6: Mikrobiologia CL 4 = CN 2A
C7: 2B | V7: Prop. Inter. CK 2C
C8: 3A
C9: 3B
C10: 4A
C11: 4B
D12: 7:00-8:00 | H12: 8:00-9:00 | L12: 9:00-10:00 | P12: 10:00-11:00 | T12: 11:00-12:00 | X12: 12:00-13:00 | AB12: 13:00-14:00 | AF12: 14:00-15:00 | AJ12: 15:00-16:00 | AN12: 16:00-17:00 | AR12: 17:00-18:00 | AV12: 18:00-19:00 | AZ12: 19:00-20:00
A13: =A4+1 -> 46301 | B13: Wtorek | C13: 1A
C14: 1B
C15: 2A
C16: 2B
C17: 3A
C18: 3B
C19: 4A
C20: 4B
D21: 7:00-8:00 | H21: 8:00-9:00 | L21: 9:00-10:00 | P21: 10:00-11:00 | T21: 11:00-12:00 | X21: 12:00-13:00 | AB21: 13:00-14:00 | AF21: 14:00-15:00 | AJ21: 15:00-16:00 | AN21: 16:00-17:00 | AR21: 17:00-18:00 | AV21: 18:00-19:00 | AZ21: 19:00-20:00
A22: =A4+2 -> 46302 | B22: Środa | C22: 1A | H22: Prop. Inter. CK 1A, CK 1B | AN22: Mikrobiologia WY
C23: 1B | O23: Prop. Inter. CK 1C, CK 1D | X23: Propedeutyka pediatrii CK 1C, CK 1D
C24: 2A
C25: 2B | R25: Mikrobiologia CL 5 = CN 2B
C26: 3A | R26: Mikrobiologia CL 6 = CN 2B, 3A
C27: 3B | H27: Mikrobiologia CL 8 = CN 3B | R27: Mikrobiologia CL 7 = CN 3A, 3B
C28: 4A | H28: Mikrobiologia CL 9 = CN 4A
C29: 4B | H29: Mikrobiologia CL 10 = CN 4A, 4B
D30: 7:00-8:00 | H30: 8:00-9:00 | L30: 9:00-10:00 | P30: 10:00-11:00 | T30: 11:00-12:00 | X30: 12:00-13:00 | AB30: 13:00-14:00 | AF30: 14:00-15:00 | AJ30: 15:00-16:00 | AN30: 16:00-17:00 | AR30: 17:00-18:00 | AV30: 18:00-19:00 | AZ30: 19:00-20:00
A31: =A4+3 -> 46303 | B31: czwartek | C31: 1A | H31: Farmakologia i toksykologia CN 1A | AR31: Farmakologia i toksykologia WY | AY31: Propedeutyka chorób wew.WY
C32: 1B | R32: Farmakologia i toksykologia CN 1B
C33: 2A | R33: Farmakologia i toksykologia CN 2A
C34: 2B | AB34: Farmakologia i toksykologia CN 2B
C35: 3A | Q35: Prop. Inter. CK 3A, CK 3B
C36: 3B | J36: Prop. Inter. CK 3C, CK 3D
C37: 4A | S37: K | T37: Propedeutyka pediatrii CK 4A, CK 4B
C38: 4B | S38: G | T38: Propedeutyka pediatrii CK 4D
D39: 7:00-8:00 | H39: 8:00-9:00 | L39: 9:00-10:00 | P39: 10:00-11:00 | T39: 11:00-12:00 | X39: 12:00-13:00 | AB39: 13:00-14:00 | AF39: 14:00-15:00 | AJ39: 15:00-16:00 | AN39: 16:00-17:00 | AR39: 17:00-18:00 | AV39: 18:00-19:00 | AZ39: 19:00-20:00
A40: =A4+4 -> 46304 | B40: piątek | C40: 1A | J40: Propedeutyka stomatologii SE 1 | AN40: Propedeutyka pediatrii WY
C41: 1B
C42: 2A | S42: K | T42: Propedeutyka pediatrii CK 2A, CK 2B
C43: 2B | S43: K | T43: Propedeutyka pediatrii CK 2C, CK 2D
C44: 3A | I44: B | J44: Propedeutyka pediatrii CK 3A, CK 3B
C45: 3B | V45: B | W45: Propedeutyka pediatrii CK 3C, CK 3D
C46: 4A | H46: Farmakologia i toksykologia CN 4A
C47: 4B | F47: Farmakologia i toksykologia CN 4B | V47: Prop. Inter. CK 4C, CK 4D
D48: 7:00-8:00 | H48: 8:00-9:00 | L48: 9:00-10:00 | P48: 10:00-11:00 | T48: 11:00-12:00 | X48: 12:00-13:00 | AB48: 13:00-14:00 | AF48: 14:00-15:00 | AJ48: 15:00-16:00 | AN48: 16:00-17:00 | AR48: 17:00-18:00 | AV48: 18:00-19:00 | AZ48: 19:00-20:00

Sheet 3
D1: 7:00-8:00 | H1: 8:00-9:00 | L1: 9:00-10:00 | P1: 10:00-11:00 | T1: 11:00-12:00 | X1: 12:00-13:00 | AB1: 13:00-14:00 | AF1: 14:00-15:00 | AJ1: 15:00-16:00 | AN1: 16:00-17:00 | AR1: 17:00-18:00 | AV1: 18:00-19:00 | AZ1: 19:00-20:00
C2: grupa
D3: 7:00-8:00 | H3: 8:00-9:00 | L3: 9:00-10:00 | P3: 10:00-11:00 | T3: 11:00-12:00 | X3: 12:00-13:00 | AB3: 13:00-14:00 | AF3: 14:00-15:00 | AJ3: 15:00-16:00 | AN3: 16:00-17:00 | AR3: 17:00-18:00 | AV3: 18:00-19:00 | AZ3: 19:00-20:00
A4: ='2'!A4:A11+7 -> 46307 | B4: poniedziałek | C4: 1A | I4: K | J4: Propedeutyka pediatrii CK 1A | T4: Mikrobiologia CL 1 = CN 1A
C5: 1B | T5: Mikrobiologia CL 2 = CN 1A, 1B | AD5: Mikrobiologia CL 3 = CN 1B, 2A
C6: 2A | H6: Prop. Inter. CK 2A | O6: Prop. Inter. CK 2B | AD6: Mikrobiologia CL 4 = CN 2A
C7: 2B | V7: Prop. Inter. CK 2C
C8: 3A | V8: Patomorfologia SE 3
C9: 3B
C10: 4A | V10: Patomorfologia SE 4
C11: 4B
D12: 7:00-8:00 | H12: 8:00-9:00 | L12: 9:00-10:00 | P12: 10:00-11:00 | T12: 11:00-12:00 | X12: 12:00-13:00 | AB12: 13:00-14:00 | AF12: 14:00-15:00 | AJ12: 15:00-16:00 | AN12: 16:00-17:00 | AR12: 17:00-18:00 | AV12: 18:00-19:00 | AZ12: 19:00-20:00
A13: =A4+1 -> 46308 | B13: Wtorek | C13: 1A | I13: K | J13: Propedeutyka pediatrii CK 1B | V13: Patomorfologia SE 1 | AR13: Patomorfologia WY
C14: 1B
C15: 2A | V15: Patomorfologia SE 2
C16: 2B | H16: Prop. Inter. CK 2D
C17: 3A | H17: Farmakologia i toksykologia CN 3A
C18: 3B | R18: Farmakologia i toksykologia CN 3B
C19: 4A | O19: Prop. Inter. CK 4A | V19: Prop. Inter. CK 4B
C20: 4B | S20: G | T20: Propedeutyka pediatrii CK 4C
D21: 7:00-8:00 | H21: 8:00-9:00 | L21: 9:00-10:00 | P21: 10:00-11:00 | T21: 11:00-12:00 | X21: 12:00-13:00 | AB21: 13:00-14:00 | AF21: 14:00-15:00 | AJ21: 15:00-16:00 | AN21: 16:00-17:00 | AR21: 17:00-18:00 | AV21: 18:00-19:00 | AZ21: 19:00-20:00
A22: =A4+2 -> 46309 | B22: Środa | C22: 1A | H22: Prop. Inter. CK 1A, CK 1B | AN22: Mikrobiologia WY
C23: 1B | O23: Prop. Inter. CK 1C, CK 1D | X23: Propedeutyka pediatrii CK 1C, CK 1D
C24: 2A
C25: 2B | R25: Mikrobiologia CL 5 = CN 2B
C26: 3A | R26: Mikrobiologia CL 6 = CN 2B, 3A
C27: 3B | H27: Mikrobiologia CL 8 = CN 3B | R27: Mikrobiologia CL 7 = CN 3A, 3B
C28: 4A | H28: Mikrobiologia CL 9 = CN 4A
C29: 4B | H29: Mikrobiologia CL 10 = CN 4A, 4B
D30: 7:00-8:00 | H30: 8:00-9:00 | L30: 9:00-10:00 | P30: 10:00-11:00 | T30: 11:00-12:00 | X30: 12:00-13:00 | AB30: 13:00-14:00 | AF30: 14:00-15:00 | AJ30: 15:00-16:00 | AN30: 16:00-17:00 | AR30: 17:00-18:00 | AV30: 18:00-19:00 | AZ30: 19:00-20:00
A31: =A4+3 -> 46310 | B31: czwartek | C31: 1A | H31: Farmakologia i toksykologia CN 1A | AR31: Farmakologia i toksykologia WY | AY31: Propedeutyka chorób wew.WY
C32: 1B | R32: Farmakologia i toksykologia CN 1B
C33: 2A | R33: Farmakologia i toksykologia CN 2A
C34: 2B | AB34: Farmakologia i toksykologia CN 2B
C35: 3A | Q35: Prop. Inter. CK 3A, CK 3B
C36: 3B | J36: Prop. Inter. CK 3C, CK 3D
C37: 4A | S37: K | T37: Propedeutyka pediatrii CK 4A, CK 4B
C38: 4B | S38: G | T38: Propedeutyka pediatrii CK 4D
D39: 7:00-8:00 | H39: 8:00-9:00 | L39: 9:00-10:00 | P39: 10:00-11:00 | T39: 11:00-12:00 | X39: 12:00-13:00 | AB39: 13:00-14:00 | AF39: 14:00-15:00 | AJ39: 15:00-16:00 | AN39: 16:00-17:00 | AR39: 17:00-18:00 | AV39: 18:00-19:00 | AZ39: 19:00-20:00
A40: =A4+4 -> 46311 | B40: piątek | C40: 1A | H40: Propedeutyka stomatologii CN 1A, 1B | AN40: Propedeutyka pediatrii WY
C41: 1B
C42: 2A | S42: K | T42: Propedeutyka pediatrii CK 2A, CK 2B
C43: 2B | S43: K | T43: Propedeutyka pediatrii CK 2C, CK 2D
C44: 3A | I44: B | J44: Propedeutyka pediatrii CK 3A, CK 3B
C45: 3B | V45: B | W45: Propedeutyka pediatrii CK 3C, CK 3D
C46: 4A | H46: Farmakologia i toksykologia CN 4A
C47: 4B | V47: Prop. Inter. CK 4C, CK 4D
D48: 7:00-8:00 | H48: 8:00-9:00 | L48: 9:00-10:00 | P48: 10:00-11:00 | T48: 11:00-12:00 | X48: 12:00-13:00 | AB48: 13:00-14:00 | AF48: 14:00-15:00 | AJ48: 15:00-16:00 | AN48: 16:00-17:00 | AR48: 17:00-18:00 | AV48: 18:00-19:00 | AZ48: 19:00-20:00

Sheet 4
D1: 7:00-8:00 | H1: 8:00-9:00 | L1: 9:00-10:00 | P1: 10:00-11:00 | T1: 11:00-12:00 | X1: 12:00-13:00 | AB1: 13:00-14:00 | AF1: 14:00-15:00 | AJ1: 15:00-16:00 | AN1: 16:00-17:00 | AR1: 17:00-18:00 | AV1: 18:00-19:00 | AZ1: 19:00-20:00
C2: grupa
D3: 7:00-8:00 | H3: 8:00-9:00 | L3: 9:00-10:00 | P3: 10:00-11:00 | T3: 11:00-12:00 | X3: 12:00-13:00 | AB3: 13:00-14:00 | AF3: 14:00-15:00 | AJ3: 15:00-16:00 | AN3: 16:00-17:00 | AR3: 17:00-18:00 | AV3: 18:00-19:00 | AZ3: 19:00-20:00
A4: ='3'!A4:A11+7 -> 46314 | B4: poniedziałek | C4: 1A | I4: K | J4: Propedeutyka pediatrii CK 1A | T4: Mikrobiologia CL 1 = CN 1A
C5: 1B | T5: Mikrobiologia CL 2 = CN 1A, 1B | AD5: Mikrobiologia CL 3 = CN 1B, 2A
C6: 2A | H6: Prop. Inter. CK 2A | O6: Prop. Inter. CK 2B | AD6: Mikrobiologia CL 4 = CN 2A
C7: 2B | V7: Prop. Inter. CK 2C
C8: 3A | V8: Patomorfologia SE 3
C9: 3B
C10: 4A | V10: Patomorfologia SE 4
C11: 4B
D12: 7:00-8:00 | H12: 8:00-9:00 | L12: 9:00-10:00 | P12: 10:00-11:00 | T12: 11:00-12:00 | X12: 12:00-13:00 | AB12: 13:00-14:00 | AF12: 14:00-15:00 | AJ12: 15:00-16:00 | AN12: 16:00-17:00 | AR12: 17:00-18:00 | AV12: 18:00-19:00 | AZ12: 19:00-20:00
A13: =A4+1 -> 46315 | B13: Wtorek | C13: 1A | I13: K | J13: Propedeutyka pediatrii CK 1B | V13: Patomorfologia SE 1 | AR13: Patomorfologia WY
C14: 1B
C15: 2A | V15: Patomorfologia SE 2
C16: 2B | H16: Prop. Inter. CK 2D
C17: 3A | H17: Farmakologia i toksykologia CN 3A
C18: 3B | R18: Farmakologia i toksykologia CN 3B
C19: 4A | O19: Prop. Inter. CK 4A | V19: Prop. Inter. CK 4B
C20: 4B | S20: CSM | T20: Propedeutyka pediatrii CK 4C, CK 4D
D21: 7:00-8:00 | H21: 8:00-9:00 | L21: 9:00-10:00 | P21: 10:00-11:00 | T21: 11:00-12:00 | X21: 12:00-13:00 | AB21: 13:00-14:00 | AF21: 14:00-15:00 | AJ21: 15:00-16:00 | AN21: 16:00-17:00 | AR21: 17:00-18:00 | AV21: 18:00-19:00 | AZ21: 19:00-20:00
A22: =A4+2 -> 46316 | B22: Środa | C22: 1A | H22: Prop. Inter. CK 1A, CK 1B | AN22: Mikrobiologia WY
C23: 1B | O23: Prop. Inter. CK 1C, CK 1D | X23: Propedeutyka pediatrii CK 1C, CK 1D
C24: 2A
C25: 2B | R25: Mikrobiologia CL 5 = CN 2B
C26: 3A | R26: Mikrobiologia CL 6 = CN 2B, 3A
C27: 3B | H27: Mikrobiologia CL 8 = CN 3B | R27: Mikrobiologia CL 7 = CN 3A, 3B
C28: 4A | H28: Mikrobiologia CL 9 = CN 4A
C29: 4B | H29: Mikrobiologia CL 10 = CN 4A, 4B
D30: 7:00-8:00 | H30: 8:00-9:00 | L30: 9:00-10:00 | P30: 10:00-11:00 | T30: 11:00-12:00 | X30: 12:00-13:00 | AB30: 13:00-14:00 | AF30: 14:00-15:00 | AJ30: 15:00-16:00 | AN30: 16:00-17:00 | AR30: 17:00-18:00 | AV30: 18:00-19:00 | AZ30: 19:00-20:00
A31: =A4+3 -> 46317 | B31: czwartek | C31: 1A | H31: Farmakologia i toksykologia CN 1A | AR31: Farmakologia i toksykologia WY | AY31: Propedeutyka chorób wew.WY
C32: 1B | R32: Farmakologia i toksykologia CN 1B
C33: 2A | R33: Farmakologia i toksykologia CN 2A
C34: 2B | AB34: Farmakologia i toksykologia CN 2B
C35: 3A | Q35: Prop. Inter. CK 3A, CK 3B
C36: 3B | J36: Prop. Inter. CK 3C, CK 3D
C37: 4A | S37: K | T37: Propedeutyka pediatrii CK 4A, CK 4B
C38: 4B
D39: 7:00-8:00 | H39: 8:00-9:00 | L39: 9:00-10:00 | P39: 10:00-11:00 | T39: 11:00-12:00 | X39: 12:00-13:00 | AB39: 13:00-14:00 | AF39: 14:00-15:00 | AJ39: 15:00-16:00 | AN39: 16:00-17:00 | AR39: 17:00-18:00 | AV39: 18:00-19:00 | AZ39: 19:00-20:00
A40: =A4+4 -> 46318 | B40: piątek | C40: 1A | J40: Propedeutyka stomatologii CN 1A, 1B | AN40: Propedeutyka pediatrii WY
C41: 1B
C42: 2A | S42: K | T42: Propedeutyka pediatrii CK 2A, CK 2B
C43: 2B | S43: K | T43: Propedeutyka pediatrii CK 2C, CK 2D
C44: 3A | I44: B | J44: Propedeutyka pediatrii CK 3A, CK 3B
C45: 3B | V45: B | W45: Propedeutyka pediatrii CK 3C, CK 3D
C46: 4A | H46: Farmakologia i toksykologia CN 4A
C47: 4B | F47: Farmakologia i toksykologia CN 4B | V47: Prop. Inter. CK 4C, CK 4D
D48: 7:00-8:00 | H48: 8:00-9:00 | L48: 9:00-10:00 | P48: 10:00-11:00 | T48: 11:00-12:00 | X48: 12:00-13:00 | AB48: 13:00-14:00 | AF48: 14:00-15:00 | AJ48: 15:00-16:00 | AN48: 16:00-17:00 | AR48: 17:00-18:00 | AV48: 18:00-19:00 | AZ48: 19:00-20:00

Sheet 5
D1: 7:00-8:00 | H1: 8:00-9:00 | L1: 9:00-10:00 | P1: 10:00-11:00 | T1: 11:00-12:00 | X1: 12:00-13:00 | AB1: 13:00-14:00 | AF1: 14:00-15:00 | AJ1: 15:00-16:00 | AN1: 16:00-17:00 | AR1: 17:00-18:00 | AV1: 18:00-19:00 | AZ1: 19:00-20:00
C2: grupa
D3: 7:00-8:00 | H3: 8:00-9:00 | L3: 9:00-10:00 | P3: 10:00-11:00 | T3: 11:00-12:00 | X3: 12:00-13:00 | AB3: 13:00-14:00 | AF3: 14:00-15:00 | AJ3: 15:00-16:00 | AN3: 16:00-17:00 | AR3: 17:00-18:00 | AV3: 18:00-19:00 | AZ3: 19:00-20:00
A4: ='4'!A4:A11+7 -> 46321 | B4: poniedziałek | C4: 1A | I4: K | J4: Propedeutyka pediatrii CK 1A | T4: Mikrobiologia CL 1 = CN 1A
C5: 1B | T5: Mikrobiologia CL 2 = CN 1A, 1B | AD5: Mikrobiologia CL 3 = CN 1B, 2A
C6: 2A | H6: Prop. Inter. CK 2A | O6: Prop. Inter. CK 2B | AD6: Mikrobiologia CL 4 = CN 2A
C7: 2B | V7: Prop. Inter. CK 2C
C8: 3A | V8: Patomorfologia SE 3
C9: 3B
C10: 4A | V10: Patomorfologia SE 4
C11: 4B
D12: 7:00-8:00 | H12: 8:00-9:00 | L12: 9:00-10:00 | P12: 10:00-11:00 | T12: 11:00-12:00 | X12: 12:00-13:00 | AB12: 13:00-14:00 | AF12: 14:00-15:00 | AJ12: 15:00-16:00 | AN12: 16:00-17:00 | AR12: 17:00-18:00 | AV12: 18:00-19:00 | AZ12: 19:00-20:00
A13: =A4+1 -> 46322 | B13: Wtorek | C13: 1A | I13: K | J13: Propedeutyka pediatrii CK 1B | V13: Patomorfologia SE 1 | AR13: Patomorfologia WY
C14: 1B
C15: 2A | V15: Patomorfologia SE 2
C16: 2B | H16: Prop. Inter. CK 2D
C17: 3A | H17: Farmakologia i toksykologia CN 3A
C18: 3B | R18: Farmakologia i toksykologia CN 3B
C19: 4A | O19: Prop. Inter. CK 4A | V19: Prop. Inter. CK 4B
C20: 4B | S20: G | T20: Propedeutyka pediatrii CK 4C
D21: 7:00-8:00 | H21: 8:00-9:00 | L21: 9:00-10:00 | P21: 10:00-11:00 | T21: 11:00-12:00 | X21: 12:00-13:00 | AB21: 13:00-14:00 | AF21: 14:00-15:00 | AJ21: 15:00-16:00 | AN21: 16:00-17:00 | AR21: 17:00-18:00 | AV21: 18:00-19:00 | AZ21: 19:00-20:00
A22: =A4+2 -> 46323 | B22: Środa | C22: 1A | H22: Prop. Inter. CK 1A, CK 1B | AN22: Mikrobiologia WY
C23: 1B | O23: Prop. Inter. CK 1C, CK 1D | X23: Propedeutyka pediatrii CK 1C, CK 1D
C24: 2A
C25: 2B | R25: Mikrobiologia CL 5 = CN 2B
C26: 3A | R26: Mikrobiologia CL 6 = CN 2B, 3A
C27: 3B | H27: Mikrobiologia CL 8 = CN 3B | R27: Mikrobiologia CL 7 = CN 3A, 3B
C28: 4A | H28: Mikrobiologia CL 9 = CN 4A | R28: Propedeutyka chirurgii SE 4 | U28: Propedeutyka chirurgii CS 4A,4B
C29: 4B | H29: Mikrobiologia CL 10 = CN 4A, 4B
D30: 7:00-8:00 | H30: 8:00-9:00 | L30: 9:00-10:00 | P30: 10:00-11:00 | T30: 11:00-12:00 | X30: 12:00-13:00 | AB30: 13:00-14:00 | AF30: 14:00-15:00 | AJ30: 15:00-16:00 | AN30: 16:00-17:00 | AR30: 17:00-18:00 | AV30: 18:00-19:00 | AZ30: 19:00-20:00
A31: =A4+3 -> 46324 | B31: czwartek | C31: 1A | H31: Farmakologia i toksykologia CN 1A | AR31: Farmakologia i toksykologia WY | AY31: Propedeutyka chorób wew.WY
C32: 1B | R32: Farmakologia i toksykologia CN 1B
C33: 2A | R33: Farmakologia i toksykologia CN 2A
C34: 2B | AB34: Farmakologia i toksykologia CN 2B
C35: 3A | Q35: Prop. Inter. CK 3A, CK 3B
C36: 3B | J36: Prop. Inter. CK 3C, CK 3D
C37: 4A | S37: K | T37: Propedeutyka pediatrii CK 4A, CK 4B
C38: 4B | S38: G | T38: Propedeutyka pediatrii CK 4D
D39: 7:00-8:00 | H39: 8:00-9:00 | L39: 9:00-10:00 | P39: 10:00-11:00 | T39: 11:00-12:00 | X39: 12:00-13:00 | AB39: 13:00-14:00 | AF39: 14:00-15:00 | AJ39: 15:00-16:00 | AN39: 16:00-17:00 | AR39: 17:00-18:00 | AV39: 18:00-19:00 | AZ39: 19:00-20:00
A40: =A4+4 -> 46325 | B40: piątek | C40: 1A | J40: Propedeutyka stomatologii CN 1A, 1B | AN40: Propedeutyka pediatrii WY
C41: 1B
C42: 2A | S42: CSM | T42: Propedeutyka pediatrii CK 2A, CK 2B
C43: 2B | S43: CSM | T43: Propedeutyka pediatrii CK 2C, CK 2D
C44: 3A | I44: B | J44: Propedeutyka pediatrii CK 3A, CK 3B
C45: 3B | V45: B | W45: Propedeutyka pediatrii CK 3C, CK 3D
C46: 4A | H46: Farmakologia i toksykologia CN 4A
C47: 4B | F47: Farmakologia i toksykologia CN 4B | V47: Prop. Inter. CK 4C, CK 4D
D48: 7:00-8:00 | H48: 8:00-9:00 | L48: 9:00-10:00 | P48: 10:00-11:00 | T48: 11:00-12:00 | X48: 12:00-13:00 | AB48: 13:00-14:00 | AF48: 14:00-15:00 | AJ48: 15:00-16:00 | AN48: 16:00-17:00 | AR48: 17:00-18:00 | AV48: 18:00-19:00 | AZ48: 19:00-20:00

Sheet 6
D1: 7:00-8:00 | H1: 8:00-9:00 | L1: 9:00-10:00 | P1: 10:00-11:00 | T1: 11:00-12:00 | X1: 12:00-13:00 | AB1: 13:00-14:00 | AF1: 14:00-15:00 | AJ1: 15:00-16:00 | AN1: 16:00-17:00 | AR1: 17:00-18:00 | AV1: 18:00-19:00 | AZ1: 19:00-20:00
C2: grupa
D3: 7:00-8:00 | H3: 8:00-9:00 | L3: 9:00-10:00 | P3: 10:00-11:00 | T3: 11:00-12:00 | X3: 12:00-13:00 | AB3: 13:00-14:00 | AF3: 14:00-15:00 | AJ3: 15:00-16:00 | AN3: 16:00-17:00 | AR3: 17:00-18:00 | AV3: 18:00-19:00 | AZ3: 19:00-20:00
A4: ='5'!A4:A11+7 -> 46328 | B4: poniedziałek | C4: 1A | I4: K | J4: Propedeutyka pediatrii CK 1A | T4: Mikrobiologia CL 1 = CN 1A
C5: 1B | T5: Mikrobiologia CL 2 = CN 1A, 1B | AD5: Mikrobiologia CL 3 = CN 1B, 2A
C6: 2A | H6: Prop. Inter. CK 2A | O6: Prop. Inter. CK 2B | AD6: Mikrobiologia CL 4 = CN 2A
C7: 2B | V7: Prop. Inter. CK 2C
C8: 3A | V8: Patomorfologia SE 3
C9: 3B
C10: 4A | V10: Patomorfologia SE 4
C11: 4B
D12: 7:00-8:00 | H12: 8:00-9:00 | L12: 9:00-10:00 | P12: 10:00-11:00 | T12: 11:00-12:00 | X12: 12:00-13:00 | AB12: 13:00-14:00 | AF12: 14:00-15:00 | AJ12: 15:00-16:00 | AN12: 16:00-17:00 | AR12: 17:00-18:00 | AV12: 18:00-19:00 | AZ12: 19:00-20:00
A13: =A4+1 -> 46329 | B13: Wtorek | C13: 1A | I13: K | J13: Propedeutyka pediatrii CK 1B | V13: Patomorfologia SE 1 | AR13: Patomorfologia WY
C14: 1B
C15: 2A | V15: Patomorfologia SE 2
C16: 2B | H16: Prop. Inter. CK 2D
C17: 3A | H17: Farmakologia i toksykologia CN 3A
C18: 3B | R18: Farmakologia i toksykologia CN 3B
C19: 4A | O19: Prop. Inter. CK 4A | V19: Prop. Inter. CK 4B
C20: 4B | S20: G | T20: Propedeutyka pediatrii CK 4C
D21: 7:00-8:00 | H21: 8:00-9:00 | L21: 9:00-10:00 | P21: 10:00-11:00 | T21: 11:00-12:00 | X21: 12:00-13:00 | AB21: 13:00-14:00 | AF21: 14:00-15:00 | AJ21: 15:00-16:00 | AN21: 16:00-17:00 | AR21: 17:00-18:00 | AV21: 18:00-19:00 | AZ21: 19:00-20:00
A22: =A4+2 -> 46330 | B22: Środa | C22: 1A | H22: Prop. Inter. CK 1A, CK 1B | AN22: Mikrobiologia WY
C23: 1B | O23: Prop. Inter. CK 1C, CK 1D | X23: Propedeutyka pediatrii CK 1C, CK 1D
C24: 2A
C25: 2B | R25: Mikrobiologia CL 5 = CN 2B
C26: 3A | R26: Mikrobiologia CL 6 = CN 2B, 3A
C27: 3B | H27: Mikrobiologia CL 8 = CN 3B | R27: Mikrobiologia CL 7 = CN 3A, 3B
C28: 4A | H28: Mikrobiologia CL 9 = CN 4A | R28: Propedeutyka chirurgii SE 4 | X28: Propedeutyka chirurgii CS 4A,4B
C29: 4B | H29: Mikrobiologia CL 10 = CN 4A, 4B
D30: 7:00-8:00 | H30: 8:00-9:00 | L30: 9:00-10:00 | P30: 10:00-11:00 | T30: 11:00-12:00 | X30: 12:00-13:00 | AB30: 13:00-14:00 | AF30: 14:00-15:00 | AJ30: 15:00-16:00 | AN30: 16:00-17:00 | AR30: 17:00-18:00 | AV30: 18:00-19:00 | AZ30: 19:00-20:00
A31: =A4+3 -> 46331 | B31: czwartek | C31: 1A | H31: Farmakologia i toksykologia CN 1A | AR31: Farmakologia i toksykologia WY | AY31: Propedeutyka chorób wew.WY
C32: 1B | R32: Farmakologia i toksykologia CN 1B
C33: 2A | R33: Farmakologia i toksykologia CN 2A
C34: 2B | AB34: Farmakologia i toksykologia CN 2B
C35: 3A | Q35: Prop. Inter. CK 3A, CK 3B
C36: 3B | J36: Prop. Inter. CK 3C, CK 3D
C37: 4A | S37: CSM | T37: Propedeutyka pediatrii CK 4A, CK 4B
C38: 4B | S38: G | T38: Propedeutyka pediatrii CK 4D
D39: 7:00-8:00 | H39: 8:00-9:00 | L39: 9:00-10:00 | P39: 10:00-11:00 | T39: 11:00-12:00 | X39: 12:00-13:00 | AB39: 13:00-14:00 | AF39: 14:00-15:00 | AJ39: 15:00-16:00 | AN39: 16:00-17:00 | AR39: 17:00-18:00 | AV39: 18:00-19:00 | AZ39: 19:00-20:00
A40: =A4+4 -> 46332 | B40: piątek | C40: 1A | AN40: Propedeutyka pediatrii WY
C41: 1B
C42: 2A | S42: K | T42: Propedeutyka pediatrii CK 2A, CK 2B
C43: 2B | S43: K | T43: Propedeutyka pediatrii CK 2C, CK 2D
C44: 3A | I44: B | J44: Propedeutyka pediatrii CK 3A, CK 3B
C45: 3B | V45: B | W45: Propedeutyka pediatrii CK 3C, CK 3D
C46: 4A | H46: Farmakologia i toksykologia CN 4A
C47: 4B | H47: Farmakologia i toksykologia CN 4B | V47: Prop. Inter. CK 4C, CK 4D
D48: 7:00-8:00 | H48: 8:00-9:00 | L48: 9:00-10:00 | P48: 10:00-11:00 | T48: 11:00-12:00 | X48: 12:00-13:00 | AB48: 13:00-14:00 | AF48: 14:00-15:00 | AJ48: 15:00-16:00 | AN48: 16:00-17:00 | AR48: 17:00-18:00 | AV48: 18:00-19:00 | AZ48: 19:00-20:00

Sheet 7
D1: 7:00-8:00 | H1: 8:00-9:00 | L1: 9:00-10:00 | P1: 10:00-11:00 | T1: 11:00-12:00 | X1: 12:00-13:00 | AB1: 13:00-14:00 | AF1: 14:00-15:00 | AJ1: 15:00-16:00 | AN1: 16:00-17:00 | AR1: 17:00-18:00 | AV1: 18:00-19:00 | AZ1: 19:00-20:00
C2: grupa
D3: 7:00-8:00 | H3: 8:00-9:00 | L3: 9:00-10:00 | P3: 10:00-11:00 | T3: 11:00-12:00 | X3: 12:00-13:00 | AB3: 13:00-14:00 | AF3: 14:00-15:00 | AJ3: 15:00-16:00 | AN3: 16:00-17:00 | AR3: 17:00-18:00 | AV3: 18:00-19:00 | AZ3: 19:00-20:00
A4: ='6'!A4:A11+7 -> 46335 | B4: poniedziałek | C4: 1A | I4: CSM | J4: Propedeutyka pediatrii CK 1A, CK 1B
C5: 1B
C6: 2A | H6: Prop. Inter. CK 2A | O6: Prop. Inter. CK 2B
C7: 2B | V7: Prop. Inter. CK 2C
C8: 3A | V8: Patomorfologia SE 3
C9: 3B
C10: 4A | V10: Patomorfologia SE 4
C11: 4B
D12: 7:00-8:00 | H12: 8:00-9:00 | L12: 9:00-10:00 | P12: 10:00-11:00 | T12: 11:00-12:00 | X12: 12:00-13:00 | AB12: 13:00-14:00 | AF12: 14:00-15:00 | AJ12: 15:00-16:00 | AN12: 16:00-17:00 | AR12: 17:00-18:00 | AV12: 18:00-19:00 | AZ12: 19:00-20:00
A13: =A4+1 -> 46336 | B13: Wtorek | C13: 1A | V13: Patomorfologia SE 1 | AR13: Patomorfologia WY
C14: 1B
C15: 2A | V15: Patomorfologia SE 2
C16: 2B | H16: Prop. Inter. CK 2D
C17: 3A | H17: Farmakologia i toksykologia CN 3A
C18: 3B | R18: Farmakologia i toksykologia CN 3B
C19: 4A | O19: Prop. Inter. CK 4A | V19: Prop. Inter. CK 4B
C20: 4B | S20: G | T20: Propedeutyka pediatrii CK 4C
D21: 7:00-8:00 | H21: 8:00-9:00 | L21: 9:00-10:00 | P21: 10:00-11:00 | T21: 11:00-12:00 | X21: 12:00-13:00 | AB21: 13:00-14:00 | AF21: 14:00-15:00 | AJ21: 15:00-16:00 | AN21: 16:00-17:00 | AR21: 17:00-18:00 | AV21: 18:00-19:00 | AZ21: 19:00-20:00
A22: =A4+2 -> 46337 | B22: Środa | C22: 1A
C23: 1B
C24: 2A
C25: 2B
C26: 3A
C27: 3B
C28: 4A
C29: 4B
D30: 7:00-8:00 | H30: 8:00-9:00 | L30: 9:00-10:00 | P30: 10:00-11:00 | T30: 11:00-12:00 | X30: 12:00-13:00 | AB30: 13:00-14:00 | AF30: 14:00-15:00 | AJ30: 15:00-16:00 | AN30: 16:00-17:00 | AR30: 17:00-18:00 | AV30: 18:00-19:00 | AZ30: 19:00-20:00
A31: =A4+3 -> 46338 | B31: czwartek | C31: 1A | H31: Prop. Inter. CK 1A, CK 1B | AN31: Mikrobiologia WY
C32: 1B | O32: Prop. Inter. CK 1C, CK 1D
C33: 2A
C34: 2B
C35: 3A
C36: 3B
C37: 4A | R37: Propedeutyka chirurgii SE 4 | X37: Propedeutyka chirurgii CS 4A,4B
C38: 4B
D39: 7:00-8:00 | H39: 8:00-9:00 | L39: 9:00-10:00 | P39: 10:00-11:00 | T39: 11:00-12:00 | X39: 12:00-13:00 | AB39: 13:00-14:00 | AF39: 14:00-15:00 | AJ39: 15:00-16:00 | AN39: 16:00-17:00 | AR39: 17:00-18:00 | AV39: 18:00-19:00 | AZ39: 19:00-20:00
A40: =A4+4 -> 46339 | B40: piątek | C40: 1A
C41: 1B | I41: CSM | J41: Propedeutyka pediatrii CK 1C, CK 1D
C42: 2A | S42: K | T42: Propedeutyka pediatrii CK 2A, CK 2B
C43: 2B | S43: K | T43: Propedeutyka pediatrii CK 2C, CK 2D
C44: 3A | I44: B | J44: Propedeutyka pediatrii CK 3A, CK 3B
C45: 3B | V45: B | W45: Propedeutyka pediatrii CK 3C, CK 3D
C46: 4A | H46: Farmakologia i toksykologia CN 4A
C47: 4B | H47: Farmakologia i toksykologia CN 4B | V47: Prop. Inter. CK 4C, CK 4D
D48: 7:00-8:00 | H48: 8:00-9:00 | L48: 9:00-10:00 | P48: 10:00-11:00 | T48: 11:00-12:00 | X48: 12:00-13:00 | AB48: 13:00-14:00 | AF48: 14:00-15:00 | AJ48: 15:00-16:00 | AN48: 16:00-17:00 | AR48: 17:00-18:00 | AV48: 18:00-19:00 | AZ48: 19:00-20:00

Sheet 8
D1: 7:00-8:00 | H1: 8:00-9:00 | L1: 9:00-10:00 | P1: 10:00-11:00 | T1: 11:00-12:00 | X1: 12:00-13:00 | AB1: 13:00-14:00 | AF1: 14:00-15:00 | AJ1: 15:00-16:00 | AN1: 16:00-17:00 | AR1: 17:00-18:00 | AV1: 18:00-19:00 | AZ1: 19:00-20:00
C2: grupa
D3: 7:00-8:00 | H3: 8:00-9:00 | L3: 9:00-10:00 | P3: 10:00-11:00 | T3: 11:00-12:00 | X3: 12:00-13:00 | AB3: 13:00-14:00 | AF3: 14:00-15:00 | AJ3: 15:00-16:00 | AN3: 16:00-17:00 | AR3: 17:00-18:00 | AV3: 18:00-19:00 | AZ3: 19:00-20:00
A4: ='7'!A4:A11+7 -> 46342 | B4: poniedziałek | C4: 1A | I4: K | J4: Propedeutyka pediatrii CK 1A | T4: Mikrobiologia CL 1 = CN 1A
C5: 1B | T5: Mikrobiologia CL 2 = CN 1A, 1B | AD5: Mikrobiologia CL 3 = CN 1B, 2A
C6: 2A | H6: Prop. Inter. CK 2A | O6: Prop. Inter. CK 2B | AD6: Mikrobiologia CL 4 = CN 2A
C7: 2B | V7: Prop. Inter. CK 2C
C8: 3A | V8: Patomorfologia SE 3
C9: 3B
C10: 4A | V10: Patomorfologia SE 4
C11: 4B
D12: 7:00-8:00 | H12: 8:00-9:00 | L12: 9:00-10:00 | P12: 10:00-11:00 | T12: 11:00-12:00 | X12: 12:00-13:00 | AB12: 13:00-14:00 | AF12: 14:00-15:00 | AJ12: 15:00-16:00 | AN12: 16:00-17:00 | AR12: 17:00-18:00 | AV12: 18:00-19:00 | AZ12: 19:00-20:00
A13: =A4+1 -> 46343 | B13: Wtorek | C13: 1A | I13: K | J13: Propedeutyka pediatrii CK 1B | V13: Patomorfologia SE 1 | AR13: Patomorfologia WY
C14: 1B
C15: 2A | V15: Patomorfologia SE 2
C16: 2B | H16: Prop. Inter. CK 2D
C17: 3A | H17: Farmakologia i toksykologia CN 3A | S17: CSM | T17: Propedeutyka pediatrii CK 3A, CK 3B
C18: 3B | R18: Farmakologia i toksykologia CN 3B
C19: 4A | O19: Prop. Inter. CK 4A | V19: Prop. Inter. CK 4B
C20: 4B | S20: G | T20: Propedeutyka pediatrii CK 4C
D21: 7:00-8:00 | H21: 8:00-9:00 | L21: 9:00-10:00 | P21: 10:00-11:00 | T21: 11:00-12:00 | X21: 12:00-13:00 | AB21: 13:00-14:00 | AF21: 14:00-15:00 | AJ21: 15:00-16:00 | AN21: 16:00-17:00 | AR21: 17:00-18:00 | AV21: 18:00-19:00 | AZ21: 19:00-20:00
A22: =A4+2 -> 46344 | B22: Środa | C22: 1A | H22: Prop. Inter. CK 1A, CK 1B | AN22: Mikrobiologia WY
C23: 1B | O23: Prop. Inter. CK 1C, CK 1D | X23: Propedeutyka pediatrii CK 1C, CK 1D
C24: 2A
C25: 2B | R25: Mikrobiologia CL 5 = CN 2B
C26: 3A | R26: Mikrobiologia CL 6 = CN 2B, 3A
C27: 3B | H27: Mikrobiologia CL 8 = CN 3B | R27: Mikrobiologia CL 7 = CN 3A, 3B
C28: 4A | H28: Mikrobiologia CL 9 = CN 4A
C29: 4B | H29: Mikrobiologia CL 10 = CN 4A, 4B
D30: 7:00-8:00 | H30: 8:00-9:00 | L30: 9:00-10:00 | P30: 10:00-11:00 | T30: 11:00-12:00 | X30: 12:00-13:00 | AB30: 13:00-14:00 | AF30: 14:00-15:00 | AJ30: 15:00-16:00 | AN30: 16:00-17:00 | AR30: 17:00-18:00 | AV30: 18:00-19:00 | AZ30: 19:00-20:00
A31: =A4+3 -> 46345 | B31: czwartek | C31: 1A | H31: Farmakologia i toksykologia CN 1A | AR31: Farmakologia i toksykologia WY
C32: 1B | R32: Farmakologia i toksykologia CN 1B
C33: 2A | R33: Farmakologia i toksykologia CN 2A
C34: 2B | AB34: Farmakologia i toksykologia CN 2B
C35: 3A | Q35: Prop. Inter. CK 3A, CK 3B
C36: 3B | J36: Prop. Inter. CK 3C, CK 3D
C37: 4A | S37: K | T37: Propedeutyka pediatrii CK 4A, CK 4B
C38: 4B | S38: G | T38: Propedeutyka pediatrii CK 4D
D39: 7:00-8:00 | H39: 8:00-9:00 | L39: 9:00-10:00 | P39: 10:00-11:00 | T39: 11:00-12:00 | X39: 12:00-13:00 | AB39: 13:00-14:00 | AF39: 14:00-15:00 | AJ39: 15:00-16:00 | AN39: 16:00-17:00 | AR39: 17:00-18:00 | AV39: 18:00-19:00 | AZ39: 19:00-20:00
A40: =A4+4 -> 46346 | B40: piątek | C40: 1A | H40: Propedeutyka chirurgii SE 1 | K40: Propedeutyka chirurgii CS 1A,1B
C41: 1B
C42: 2A | S42: K | T42: Propedeutyka pediatrii CK 2A, CK 2B
C43: 2B | S43: K | T43: Propedeutyka pediatrii CK 2C, CK 2D
C44: 3A
C45: 3B | S45: CSM | T45: Propedeutyka pediatrii CK 3C, CK 3D
C46: 4A | F46: Farmakologia i toksykologia CN 4A
C47: 4B | F47: Farmakologia i toksykologia CN 4B | V47: Prop. Inter. CK 4C, CK 4D
D48: 7:00-8:00 | H48: 8:00-9:00 | L48: 9:00-10:00 | P48: 10:00-11:00 | T48: 11:00-12:00 | X48: 12:00-13:00 | AB48: 13:00-14:00 | AF48: 14:00-15:00 | AJ48: 15:00-16:00 | AN48: 16:00-17:00 | AR48: 17:00-18:00 | AV48: 18:00-19:00 | AZ48: 19:00-20:00

Sheet 9
D1: 7:00-8:00 | H1: 8:00-9:00 | L1: 9:00-10:00 | P1: 10:00-11:00 | T1: 11:00-12:00 | X1: 12:00-13:00 | AB1: 13:00-14:00 | AF1: 14:00-15:00 | AJ1: 15:00-16:00 | AN1: 16:00-17:00 | AR1: 17:00-18:00 | AV1: 18:00-19:00 | AZ1: 19:00-20:00
C2: grupa
D3: 7:00-8:00 | H3: 8:00-9:00 | L3: 9:00-10:00 | P3: 10:00-11:00 | T3: 11:00-12:00 | X3: 12:00-13:00 | AB3: 13:00-14:00 | AF3: 14:00-15:00 | AJ3: 15:00-16:00 | AN3: 16:00-17:00 | AR3: 17:00-18:00 | AV3: 18:00-19:00 | AZ3: 19:00-20:00
A4: ='8'!A4:A11+7 -> 46349 | B4: poniedziałek | C4: 1A | I4: K | J4: Propedeutyka pediatrii CK 1A | T4: Mikrobiologia CL 1 = CN 1A
C5: 1B | T5: Mikrobiologia CL 2 = CN 1A, 1B | AD5: Mikrobiologia CL 3 = CN 1B, 2A
C6: 2A | H6: Prop. Inter. CK 2A | O6: Prop. Inter. CK 2B | AD6: Mikrobiologia CL 4 = CN 2A
C7: 2B | V7: Prop. Inter. CK 2C
C8: 3A | V8: Patomorfologia SE 3
C9: 3B
C10: 4A | V10: Patomorfologia SE 4
C11: 4B
D12: 7:00-8:00 | H12: 8:00-9:00 | L12: 9:00-10:00 | P12: 10:00-11:00 | T12: 11:00-12:00 | X12: 12:00-13:00 | AB12: 13:00-14:00 | AF12: 14:00-15:00 | AJ12: 15:00-16:00 | AN12: 16:00-17:00 | AR12: 17:00-18:00 | AV12: 18:00-19:00 | AZ12: 19:00-20:00
A13: =A4+1 -> 46350 | B13: Wtorek | C13: 1A | I13: K | J13: Propedeutyka pediatrii CK 1B | V13: Patomorfologia SE 1 | AR13: Patomorfologia WY
C14: 1B
C15: 2A | V15: Patomorfologia SE 2
C16: 2B | H16: Prop. Inter. CK 2D
C17: 3A | H17: Farmakologia i toksykologia CN 3A
C18: 3B | R18: Farmakologia i toksykologia CN 3B
C19: 4A | O19: Prop. Inter. CK 4A | V19: Prop. Inter. CK 4B
C20: 4B | S20: G | T20: Propedeutyka pediatrii CK 4C
D21: 7:00-8:00 | H21: 8:00-9:00 | L21: 9:00-10:00 | P21: 10:00-11:00 | T21: 11:00-12:00 | X21: 12:00-13:00 | AB21: 13:00-14:00 | AF21: 14:00-15:00 | AJ21: 15:00-16:00 | AN21: 16:00-17:00 | AR21: 17:00-18:00 | AV21: 18:00-19:00 | AZ21: 19:00-20:00
A22: =A4+2 -> 46351 | B22: Środa | C22: 1A | H22: Prop. Inter. CK 1A, CK 1B | AN22: Mikrobiologia WY
C23: 1B | O23: Prop. Inter. CK 1C, CK 1D | X23: Propedeutyka pediatrii CK 1C, CK 1D
C24: 2A
C25: 2B | R25: Mikrobiologia CL 5 = CN 2B
C26: 3A | R26: Mikrobiologia CL 6 = CN 2B, 3A
C27: 3B | H27: Mikrobiologia CL 8 = CN 3B | R27: Mikrobiologia CL 7 = CN 3A, 3B
C28: 4A | H28: Mikrobiologia CL 9 = CN 4A
C29: 4B | H29: Mikrobiologia CL 10 = CN 4A, 4B
D30: 7:00-8:00 | H30: 8:00-9:00 | L30: 9:00-10:00 | P30: 10:00-11:00 | T30: 11:00-12:00 | X30: 12:00-13:00 | AB30: 13:00-14:00 | AF30: 14:00-15:00 | AJ30: 15:00-16:00 | AN30: 16:00-17:00 | AR30: 17:00-18:00 | AV30: 18:00-19:00 | AZ30: 19:00-20:00
A31: =A4+3 -> 46352 | B31: czwartek | C31: 1A | H31: Farmakologia i toksykologia CN 1A | AR31: Farmakologia i toksykologia WY
C32: 1B | R32: Farmakologia i toksykologia CN 1B
C33: 2A | R33: Farmakologia i toksykologia CN 2A
C34: 2B | AB34: Farmakologia i toksykologia CN 2B
C35: 3A | Q35: Prop. Inter. CK 3A, CK 3B
C36: 3B | J36: Prop. Inter. CK 3C, CK 3D
C37: 4A | S37: K | T37: Propedeutyka pediatrii CK 4A, CK 4B
C38: 4B | S38: G | T38: Propedeutyka pediatrii CK 4D
D39: 7:00-8:00 | H39: 8:00-9:00 | L39: 9:00-10:00 | P39: 10:00-11:00 | T39: 11:00-12:00 | X39: 12:00-13:00 | AB39: 13:00-14:00 | AF39: 14:00-15:00 | AJ39: 15:00-16:00 | AN39: 16:00-17:00 | AR39: 17:00-18:00 | AV39: 18:00-19:00 | AZ39: 19:00-20:00
A40: =A4+4 -> 46353 | B40: piątek | C40: 1A | H40: Propedeutyka chirurgii SE 1 | N40: Propedeutyka chirurgii CS 1A,1B
C41: 1B
C42: 2A | S42: K | T42: Propedeutyka pediatrii CK 2A, CK 2B
C43: 2B | S43: K | T43: Propedeutyka pediatrii CK 2C, CK 2D
C44: 3A | I44: B | J44: Propedeutyka pediatrii CK 3A, CK 3B
C45: 3B | V45: B | W45: Propedeutyka pediatrii CK 3C, CK 3D
C46: 4A | H46: Farmakologia i toksykologia CN 4A
C47: 4B | H47: Farmakologia i toksykologia CN 4B | V47: Prop. Inter. CK 4C, CK 4D
D48: 7:00-8:00 | H48: 8:00-9:00 | L48: 9:00-10:00 | P48: 10:00-11:00 | T48: 11:00-12:00 | X48: 12:00-13:00 | AB48: 13:00-14:00 | AF48: 14:00-15:00 | AJ48: 15:00-16:00 | AN48: 16:00-17:00 | AR48: 17:00-18:00 | AV48: 18:00-19:00 | AZ48: 19:00-20:00

Sheet 10
D1: 7:00-8:00 | H1: 8:00-9:00 | L1: 9:00-10:00 | P1: 10:00-11:00 | T1: 11:00-12:00 | X1: 12:00-13:00 | AB1: 13:00-14:00 | AF1: 14:00-15:00 | AJ1: 15:00-16:00 | AN1: 16:00-17:00 | AR1: 17:00-18:00 | AV1: 18:00-19:00 | AZ1: 19:00-20:00
C2: grupa
D3: 7:00-8:00 | H3: 8:00-9:00 | L3: 9:00-10:00 | P3: 10:00-11:00 | T3: 11:00-12:00 | X3: 12:00-13:00 | AB3: 13:00-14:00 | AF3: 14:00-15:00 | AJ3: 15:00-16:00 | AN3: 16:00-17:00 | AR3: 17:00-18:00 | AV3: 18:00-19:00 | AZ3: 19:00-20:00
A4: ='9'!A4:A11+7 -> 46356 | B4: poniedziałek | C4: 1A | I4: K | J4: Propedeutyka pediatrii CK 1A | T4: Mikrobiologia CL 1 = CN 1A
C5: 1B | T5: Mikrobiologia CL 2 = CN 1A, 1B | AD5: Mikrobiologia CL 3 = CN 1B, 2A
C6: 2A | H6: Prop. Inter. CK 2A | O6: Prop. Inter. CK 2B | AD6: Mikrobiologia CL 4 = CN 2A
C7: 2B | V7: Prop. Inter. CK 2C
C8: 3A | V8: Patomorfologia SE 3
C9: 3B
C10: 4A | V10: Patomorfologia SE 4
C11: 4B
D12: 7:00-8:00 | H12: 8:00-9:00 | L12: 9:00-10:00 | P12: 10:00-11:00 | T12: 11:00-12:00 | X12: 12:00-13:00 | AB12: 13:00-14:00 | AF12: 14:00-15:00 | AJ12: 15:00-16:00 | AN12: 16:00-17:00 | AR12: 17:00-18:00 | AV12: 18:00-19:00 | AZ12: 19:00-20:00
A13: =A4+1 -> 46357 | B13: Wtorek | C13: 1A | I13: K | J13: Propedeutyka pediatrii CK 1B | V13: Patomorfologia SE 1 | AR13: Patomorfologia WY
C14: 1B
C15: 2A | V15: Patomorfologia SE 2
C16: 2B | H16: Prop. Inter. CK 2D
C17: 3A | H17: Farmakologia i toksykologia CN 3A
C18: 3B | R18: Farmakologia i toksykologia CN 3B
C19: 4A | O19: Prop. Inter. CK 4A | V19: Prop. Inter. CK 4B
C20: 4B | S20: G | T20: Propedeutyka pediatrii CK 4C
D21: 7:00-8:00 | H21: 8:00-9:00 | L21: 9:00-10:00 | P21: 10:00-11:00 | T21: 11:00-12:00 | X21: 12:00-13:00 | AB21: 13:00-14:00 | AF21: 14:00-15:00 | AJ21: 15:00-16:00 | AN21: 16:00-17:00 | AR21: 17:00-18:00 | AV21: 18:00-19:00 | AZ21: 19:00-20:00
A22: =A4+2 -> 46358 | B22: Środa | C22: 1A | H22: Prop. Inter. CK 1A, CK 1B | AN22: Mikrobiologia WY
C23: 1B | O23: Prop. Inter. CK 1C, CK 1D | X23: Propedeutyka pediatrii CK 1C, CK 1D
C24: 2A
C25: 2B | R25: Mikrobiologia CL 5 = CN 2B
C26: 3A | R26: Mikrobiologia CL 6 = CN 2B, 3A
C27: 3B | H27: Mikrobiologia CL 8 = CN 3B | R27: Mikrobiologia CL 7 = CN 3A, 3B
C28: 4A | H28: Mikrobiologia CL 9 = CN 4A
C29: 4B | H29: Mikrobiologia CL 10 = CN 4A, 4B
D30: 7:00-8:00 | H30: 8:00-9:00 | L30: 9:00-10:00 | P30: 10:00-11:00 | T30: 11:00-12:00 | X30: 12:00-13:00 | AB30: 13:00-14:00 | AF30: 14:00-15:00 | AJ30: 15:00-16:00 | AN30: 16:00-17:00 | AR30: 17:00-18:00 | AV30: 18:00-19:00 | AZ30: 19:00-20:00
A31: =A4+3 -> 46359 | B31: czwartek | C31: 1A | H31: Farmakologia i toksykologia CN 1A | AR31: Farmakologia i toksykologia WY
C32: 1B | R32: Farmakologia i toksykologia CN 1B
C33: 2A | R33: Farmakologia i toksykologia CN 2A
C34: 2B | AB34: Farmakologia i toksykologia CN 2B
C35: 3A | Q35: Prop. Inter. CK 3A, CK 3B
C36: 3B | J36: Prop. Inter. CK 3C, CK 3D
C37: 4A | S37: K | T37: Propedeutyka pediatrii CK 4A, CK 4B
C38: 4B | S38: G | T38: Propedeutyka pediatrii CK 4D
D39: 7:00-8:00 | H39: 8:00-9:00 | L39: 9:00-10:00 | P39: 10:00-11:00 | T39: 11:00-12:00 | X39: 12:00-13:00 | AB39: 13:00-14:00 | AF39: 14:00-15:00 | AJ39: 15:00-16:00 | AN39: 16:00-17:00 | AR39: 17:00-18:00 | AV39: 18:00-19:00 | AZ39: 19:00-20:00
A40: =A4+4 -> 46360 | B40: piątek | C40: 1A | H40: Propedeutyka chirurgii SE 1 | N40: Propedeutyka chirurgii CS 1A,1B | AJ40: Propedeutyka pediatrii SE 1
C41: 1B
C42: 2A | S42: K | T42: Propedeutyka pediatrii CK 2A, CK 2B
C43: 2B | S43: K | T43: Propedeutyka pediatrii CK 2C, CK 2D
C44: 3A | I44: B | J44: Propedeutyka pediatrii CK 3A, CK 3B
C45: 3B | V45: B | W45: Propedeutyka pediatrii CK 3C, CK 3D
C46: 4A | H46: Farmakologia i toksykologia CN 4A
C47: 4B | H47: Farmakologia i toksykologia CN 4B | V47: Prop. Inter. CK 4C, CK 4D
D48: 7:00-8:00 | H48: 8:00-9:00 | L48: 9:00-10:00 | P48: 10:00-11:00 | T48: 11:00-12:00 | X48: 12:00-13:00 | AB48: 13:00-14:00 | AF48: 14:00-15:00 | AJ48: 15:00-16:00 | AN48: 16:00-17:00 | AR48: 17:00-18:00 | AV48: 18:00-19:00 | AZ48: 19:00-20:00

Sheet 11
D1: 7:00-8:00 | H1: 8:00-9:00 | L1: 9:00-10:00 | P1: 10:00-11:00 | T1: 11:00-12:00 | X1: 12:00-13:00 | AB1: 13:00-14:00 | AF1: 14:00-15:00 | AJ1: 15:00-16:00 | AN1: 16:00-17:00 | AR1: 17:00-18:00 | AV1: 18:00-19:00 | AZ1: 19:00-20:00
C2: grupa
D3: 7:00-8:00 | H3: 8:00-9:00 | L3: 9:00-10:00 | P3: 10:00-11:00 | T3: 11:00-12:00 | X3: 12:00-13:00 | AB3: 13:00-14:00 | AF3: 14:00-15:00 | AJ3: 15:00-16:00 | AN3: 16:00-17:00 | AR3: 17:00-18:00 | AV3: 18:00-19:00 | AZ3: 19:00-20:00
A4: ='10'!A4:A11+7 -> 46363 | B4: poniedziałek | C4: 1A | I4: K | J4: Propedeutyka pediatrii CK 1A | T4: Mikrobiologia CL 1 = CN 1A
C5: 1B | T5: Mikrobiologia CL 2 = CN 1A, 1B | AA5: Mikrobiologia CL 3 = CN 1B, 2A
C6: 2A | H6: Prop. Inter. CK 2A | O6: Prop. Inter. CK 2B | AA6: Mikrobiologia CL 4 = CN 2A
C7: 2B | V7: Prop. Inter. CK 2C
C8: 3A | V8: Patomorfologia SE 3
C9: 3B
C10: 4A | V10: Patomorfologia SE 4
C11: 4B
D12: 7:00-8:00 | H12: 8:00-9:00 | L12: 9:00-10:00 | P12: 10:00-11:00 | T12: 11:00-12:00 | X12: 12:00-13:00 | AB12: 13:00-14:00 | AF12: 14:00-15:00 | AJ12: 15:00-16:00 | AN12: 16:00-17:00 | AR12: 17:00-18:00 | AV12: 18:00-19:00 | AZ12: 19:00-20:00
A13: =A4+1 -> 46364 | B13: Wtorek | C13: 1A | I13: K | J13: Propedeutyka pediatrii CK 1B | V13: Patomorfologia SE 1 | AR13: Patomorfologia WY
C14: 1B
C15: 2A | V15: Patomorfologia SE 2
C16: 2B | H16: Prop. Inter. CK 2D
C17: 3A | H17: Farmakologia i toksykologia CN 3A
C18: 3B | R18: Farmakologia i toksykologia CN 3B
C19: 4A | O19: Prop. Inter. CK 4A | V19: Prop. Inter. CK 4B
C20: 4B | S20: G | T20: Propedeutyka pediatrii CK 4C
D21: 7:00-8:00 | H21: 8:00-9:00 | L21: 9:00-10:00 | P21: 10:00-11:00 | T21: 11:00-12:00 | X21: 12:00-13:00 | AB21: 13:00-14:00 | AF21: 14:00-15:00 | AJ21: 15:00-16:00 | AN21: 16:00-17:00 | AR21: 17:00-18:00 | AV21: 18:00-19:00 | AZ21: 19:00-20:00
A22: =A4+2 -> 46365 | B22: Środa | C22: 1A | H22: Prop. Inter. CK 1A, CK 1B
C23: 1B | O23: Prop. Inter. CK 1C, CK 1D | X23: Propedeutyka pediatrii CK 1C, CK 1D
C24: 2A | AJ24: Propedeutyka pediatrii SE 2
C25: 2B | O25: Mikrobiologia CL 5 = CN 2B
C26: 3A | O26: Mikrobiologia CL 6 = CN 2B, 3A | V26: Propedeutyka chirurgii SE 3 | Y26: Propedeutyka chirurgii CS 3A,3B
C27: 3B | H27: Mikrobiologia CL 8 = CN 3B | O27: Mikrobiologia CL 7 = CN 3A, 3B
C28: 4A | H28: Mikrobiologia CL 9 = CN 4A
C29: 4B | H29: Mikrobiologia CL 10 = CN 4A, 4B
D30: 7:00-8:00 | H30: 8:00-9:00 | L30: 9:00-10:00 | P30: 10:00-11:00 | T30: 11:00-12:00 | X30: 12:00-13:00 | AB30: 13:00-14:00 | AF30: 14:00-15:00 | AJ30: 15:00-16:00 | AN30: 16:00-17:00 | AR30: 17:00-18:00 | AV30: 18:00-19:00 | AZ30: 19:00-20:00
A31: =A4+3 -> 46366 | B31: czwartek | C31: 1A | H31: Farmakologia i toksykologia CN 1A | AR31: Farmakologia i toksykologia WY
C32: 1B | R32: Farmakologia i toksykologia CN 1B
C33: 2A | R33: Farmakologia i toksykologia CN 2A
C34: 2B | AB34: Farmakologia i toksykologia CN 2B
C35: 3A | Q35: Prop. Inter. CK 3A, CK 3B
C36: 3B | J36: Prop. Inter. CK 3C, CK 3D
C37: 4A | S37: K | T37: Propedeutyka pediatrii CK 4A, CK 4B
C38: 4B | S38: G | T38: Propedeutyka pediatrii CK 4D
D39: 7:00-8:00 | H39: 8:00-9:00 | L39: 9:00-10:00 | P39: 10:00-11:00 | T39: 11:00-12:00 | X39: 12:00-13:00 | AB39: 13:00-14:00 | AF39: 14:00-15:00 | AJ39: 15:00-16:00 | AN39: 16:00-17:00 | AR39: 17:00-18:00 | AV39: 18:00-19:00 | AZ39: 19:00-20:00
A40: =A4+4 -> 46367 | B40: piątek | C40: 1A
C41: 1B
C42: 2A | L42: Propedeutyka stomatologii SE 2
C43: 2B
C44: 3A | AJ44: Propedeutyka pediatrii SE 3
C45: 3B
C46: 4A | H46: Farmakologia i toksykologia CN 4A
C47: 4B | H47: Farmakologia i toksykologia CN 4B | V47: Prop. Inter. CK 4C, CK 4D
D48: 7:00-8:00 | H48: 8:00-9:00 | L48: 9:00-10:00 | P48: 10:00-11:00 | T48: 11:00-12:00 | X48: 12:00-13:00 | AB48: 13:00-14:00 | AF48: 14:00-15:00 | AJ48: 15:00-16:00 | AN48: 16:00-17:00 | AR48: 17:00-18:00 | AV48: 18:00-19:00 | AZ48: 19:00-20:00

Sheet 13
D1: 7:00-8:00 | H1: 8:00-9:00 | L1: 9:00-10:00 | P1: 10:00-11:00 | T1: 11:00-12:00 | X1: 12:00-13:00 | AB1: 13:00-14:00 | AF1: 14:00-15:00 | AJ1: 15:00-16:00 | AN1: 16:00-17:00 | AR1: 17:00-18:00 | AV1: 18:00-19:00 | AZ1: 19:00-20:00
C2: grupa
D3: 7:00-8:00 | H3: 8:00-9:00 | L3: 9:00-10:00 | P3: 10:00-11:00 | T3: 11:00-12:00 | X3: 12:00-13:00 | AB3: 13:00-14:00 | AF3: 14:00-15:00 | AJ3: 15:00-16:00 | AN3: 16:00-17:00 | AR3: 17:00-18:00 | AV3: 18:00-19:00 | AZ3: 19:00-20:00
A4: ='12'!A4:A11+21 -> 46391 | B4: poniedziałek | C4: 1A
C5: 1B
C6: 2A
C7: 2B
C8: 3A | V8: Patomorfologia SE 3
C9: 3B
C10: 4A | V10: Patomorfologia SE 4
C11: 4B
D12: 7:00-8:00 | H12: 8:00-9:00 | L12: 9:00-10:00 | P12: 10:00-11:00 | T12: 11:00-12:00 | X12: 12:00-13:00 | AB12: 13:00-14:00 | AF12: 14:00-15:00 | AJ12: 15:00-16:00 | AN12: 16:00-17:00 | AR12: 17:00-18:00 | AV12: 18:00-19:00 | AZ12: 19:00-20:00
A13: =A4+1 -> 46392 | B13: Wtorek | C13: 1A | V13: Patomorfologia SE 1 | AR13: Patomorfologia WY
C14: 1B
C15: 2A | V15: Patomorfologia SE 2
C16: 2B | H16: Prop. Inter. CK 2D
C17: 3A | H17: Farmakologia i toksykologia CN 3A
C18: 3B | R18: Farmakologia i toksykologia CN 3B
C19: 4A | O19: Prop. Inter. CK 4A | V19: Prop. Inter. CK 4B
C20: 4B
D21: 7:00-8:00 | H21: 8:00-9:00 | L21: 9:00-10:00 | P21: 10:00-11:00 | T21: 11:00-12:00 | X21: 12:00-13:00 | AB21: 13:00-14:00 | AF21: 14:00-15:00 | AJ21: 15:00-16:00 | AN21: 16:00-17:00 | AR21: 17:00-18:00 | AV21: 18:00-19:00 | AZ21: 19:00-20:00
A22: =A4+2 -> 46393 | B22: Środa | C22: 1A
C23: 1B
C24: 2A
C25: 2B
C26: 3A
C27: 3B
C28: 4A
C29: 4B
D30: 7:00-8:00 | H30: 8:00-9:00 | L30: 9:00-10:00 | P30: 10:00-11:00 | T30: 11:00-12:00 | X30: 12:00-13:00 | AB30: 13:00-14:00 | AF30: 14:00-15:00 | AJ30: 15:00-16:00 | AN30: 16:00-17:00 | AR30: 17:00-18:00 | AV30: 18:00-19:00 | AZ30: 19:00-20:00
A31: =A4+3 -> 46394 | B31: czwartek | C31: 1A | H31: Farmakologia i toksykologia CN 1A | AR31: Farmakologia i toksykologia WY
C32: 1B | R32: Farmakologia i toksykologia CN 1B
C33: 2A | R33: Farmakologia i toksykologia CN 2A
C34: 2B | AB34: Farmakologia i toksykologia CN 2B
C35: 3A | X35: Propedeutyka chirurgii SE 3 | AD35: Propedeutyka chirurgii CS 3A,3B
C36: 3B
C37: 4A | J37: Propedeutyka stomatologii SE 4
C38: 4B
D39: 7:00-8:00 | H39: 8:00-9:00 | L39: 9:00-10:00 | P39: 10:00-11:00 | T39: 11:00-12:00 | X39: 12:00-13:00 | AB39: 13:00-14:00 | AF39: 14:00-15:00 | AJ39: 15:00-16:00 | AN39: 16:00-17:00 | AR39: 17:00-18:00 | AV39: 18:00-19:00 | AZ39: 19:00-20:00
A40: =A4+4 -> 46395 | B40: piątek | C40: 1A | T40: Prop. Inter.SE 1
C41: 1B
C42: 2A | H42: Propedeutyka chirurgii SE 2 | K42: Propedeutyka chirurgii CS 2A,2B
C43: 2B
C44: 3A | J44: Propedeutyka stomatologii SE 3
C45: 3B
C46: 4A
C47: 4B
D48: 7:00-8:00 | H48: 8:00-9:00 | L48: 9:00-10:00 | P48: 10:00-11:00 | T48: 11:00-12:00 | X48: 12:00-13:00 | AB48: 13:00-14:00 | AF48: 14:00-15:00 | AJ48: 15:00-16:00 | AN48: 16:00-17:00 | AR48: 17:00-18:00 | AV48: 18:00-19:00 | AZ48: 19:00-20:00

Sheet 12
D1: 7:00-8:00 | H1: 8:00-9:00 | L1: 9:00-10:00 | P1: 10:00-11:00 | T1: 11:00-12:00 | X1: 12:00-13:00 | AB1: 13:00-14:00 | AF1: 14:00-15:00 | AJ1: 15:00-16:00 | AN1: 16:00-17:00 | AR1: 17:00-18:00 | AV1: 18:00-19:00 | AZ1: 19:00-20:00
C2: grupa
D3: 7:00-8:00 | H3: 8:00-9:00 | L3: 9:00-10:00 | P3: 10:00-11:00 | T3: 11:00-12:00 | X3: 12:00-13:00 | AB3: 13:00-14:00 | AF3: 14:00-15:00 | AJ3: 15:00-16:00 | AN3: 16:00-17:00 | AR3: 17:00-18:00 | AV3: 18:00-19:00 | AZ3: 19:00-20:00
A4: ='11'!A4:A11+7 -> 46370 | B4: poniedziałek | C4: 1A | T4: Mikrobiologia CL 1 = CN 1A
C5: 1B | T5: Mikrobiologia CL 2 = CN 1A, 1B | AA5: Mikrobiologia CL 3 = CN 1B, 2A
C6: 2A | H6: Prop. Inter. CK 2A | O6: Prop. Inter. CK 2B | AA6: Mikrobiologia CL 4 = CN 2A
C7: 2B | V7: Prop. Inter. CK 2C
C8: 3A | L8: Propedeutyka stomatologii SE 3 | V8: Patomorfologia SE 3
C9: 3B
C10: 4A | V10: Patomorfologia SE 4
C11: 4B
D12: 7:00-8:00 | H12: 8:00-9:00 | L12: 9:00-10:00 | P12: 10:00-11:00 | T12: 11:00-12:00 | X12: 12:00-13:00 | AB12: 13:00-14:00 | AF12: 14:00-15:00 | AJ12: 15:00-16:00 | AN12: 16:00-17:00 | AR12: 17:00-18:00 | AV12: 18:00-19:00 | AZ12: 19:00-20:00
A13: =A4+1 -> 46371 | B13: Wtorek | C13: 1A | I13: K | J13: Propedeutyka pediatrii CK 1B | V13: Patomorfologia SE 1 | AR13: Patomorfologia WY
C14: 1B
C15: 2A | V15: Patomorfologia SE 2
C16: 2B | H16: Prop. Inter. CK 2D
C17: 3A | H17: Farmakologia i toksykologia CN 3A
C18: 3B | R18: Farmakologia i toksykologia CN 3B
C19: 4A | O19: Prop. Inter. CK 4A | V19: Prop. Inter. CK 4B
C20: 4B | S20: G | T20: Propedeutyka pediatrii CK 4C
D21: 7:00-8:00 | H21: 8:00-9:00 | L21: 9:00-10:00 | P21: 10:00-11:00 | T21: 11:00-12:00 | X21: 12:00-13:00 | AB21: 13:00-14:00 | AF21: 14:00-15:00 | AJ21: 15:00-16:00 | AN21: 16:00-17:00 | AR21: 17:00-18:00 | AV21: 18:00-19:00 | AZ21: 19:00-20:00
A22: =A4+2 -> 46372 | B22: Środa | C22: 1A | H22: Prop. Inter. CK 1A, CK 1B
C23: 1B | O23: Prop. Inter. CK 1C, CK 1D
C24: 2A
C25: 2B | O25: Mikrobiologia CL 5 = CN 2B
C26: 3A | O26: Mikrobiologia CL 6 = CN 2B, 3A | V26: Propedeutyka chirurgii SE 3 | AB26: Propedeutyka chirurgii CS 3A,3B
C27: 3B | H27: Mikrobiologia CL 8 = CN 3B | O27: Mikrobiologia CL 7 = CN 3A, 3B
C28: 4A | H28: Mikrobiologia CL 9 = CN 4A | AJ28: Propedeutyka pediatrii SE 4
C29: 4B | H29: Mikrobiologia CL 10 = CN 4A, 4B
D30: 7:00-8:00 | H30: 8:00-9:00 | L30: 9:00-10:00 | P30: 10:00-11:00 | T30: 11:00-12:00 | X30: 12:00-13:00 | AB30: 13:00-14:00 | AF30: 14:00-15:00 | AJ30: 15:00-16:00 | AN30: 16:00-17:00 | AR30: 17:00-18:00 | AV30: 18:00-19:00 | AZ30: 19:00-20:00
A31: =A4+3 -> 46373 | B31: czwartek | C31: 1A | H31: Farmakologia i toksykologia CN 1A | AR31: Farmakologia i toksykologia WY
C32: 1B | R32: Farmakologia i toksykologia CN 1B
C33: 2A | R33: Farmakologia i toksykologia CN 2A
C34: 2B | AB34: Farmakologia i toksykologia CN 2B
C35: 3A | Q35: Prop. Inter. CK 3A, CK 3B
C36: 3B | J36: Prop. Inter. CK 3C, CK 3D
C37: 4A | L37: Propedeutyka stomatologii SE 4
C38: 4B
D39: 7:00-8:00 | H39: 8:00-9:00 | L39: 9:00-10:00 | P39: 10:00-11:00 | T39: 11:00-12:00 | X39: 12:00-13:00 | AB39: 13:00-14:00 | AF39: 14:00-15:00 | AJ39: 15:00-16:00 | AN39: 16:00-17:00 | AR39: 17:00-18:00 | AV39: 18:00-19:00 | AZ39: 19:00-20:00
A40: =A4+4 -> 46374 | B40: piątek | C40: 1A
C41: 1B
C42: 2A | J42: Propedeutyka stomatologii SE 2
C43: 2B
C44: 3A
C45: 3B
C46: 4A | H46: Farmakologia i toksykologia CN 4A
C47: 4B | H47: Farmakologia i toksykologia CN 4B
D48: 7:00-8:00 | H48: 8:00-9:00 | L48: 9:00-10:00 | P48: 10:00-11:00 | T48: 11:00-12:00 | X48: 12:00-13:00 | AB48: 13:00-14:00 | AF48: 14:00-15:00 | AJ48: 15:00-16:00 | AN48: 16:00-17:00 | AR48: 17:00-18:00 | AV48: 18:00-19:00 | AZ48: 19:00-20:00

Sheet 14
D1: 7:00-8:00 | H1: 8:00-9:00 | L1: 9:00-10:00 | P1: 10:00-11:00 | T1: 11:00-12:00 | X1: 12:00-13:00 | AB1: 13:00-14:00 | AF1: 14:00-15:00 | AJ1: 15:00-16:00 | AN1: 16:00-17:00 | AR1: 17:00-18:00 | AV1: 18:00-19:00 | AZ1: 19:00-20:00
C2: grupa
D3: 7:00-8:00 | H3: 8:00-9:00 | L3: 9:00-10:00 | P3: 10:00-11:00 | T3: 11:00-12:00 | X3: 12:00-13:00 | AB3: 13:00-14:00 | AF3: 14:00-15:00 | AJ3: 15:00-16:00 | AN3: 16:00-17:00 | AR3: 17:00-18:00 | AV3: 18:00-19:00 | AZ3: 19:00-20:00
A4: ='13'!A4:A11+7 -> 46398 | B4: poniedziałek | C4: 1A
C5: 1B
C6: 2A | R6: Propedeutyka chirurgii SE 2 | X6: Propedeutyka chirurgii CS 2A,2B
C7: 2B
C8: 3A | V8: Patomorfologia SE 3
C9: 3B
C10: 4A | V10: Patomorfologia SE 4
C11: 4B
D12: 7:00-8:00 | H12: 8:00-9:00 | L12: 9:00-10:00 | P12: 10:00-11:00 | T12: 11:00-12:00 | X12: 12:00-13:00 | AB12: 13:00-14:00 | AF12: 14:00-15:00 | AJ12: 15:00-16:00 | AN12: 16:00-17:00 | AR12: 17:00-18:00 | AV12: 18:00-19:00 | AZ12: 19:00-20:00
A13: =A4+1 -> 46399 | B13: Wtorek | C13: 1A | V13: Patomorfologia SE 1 | AR13: Patomorfologia WY
C14: 1B
C15: 2A | V15: Patomorfologia SE 2
C16: 2B
C17: 3A | H17: Farmakologia i toksykologia CN 3A
C18: 3B | R18: Farmakologia i toksykologia CN 3B
C19: 4A
C20: 4B
D21: 7:00-8:00 | H21: 8:00-9:00 | L21: 9:00-10:00 | P21: 10:00-11:00 | T21: 11:00-12:00 | X21: 12:00-13:00 | AB21: 13:00-14:00 | AF21: 14:00-15:00 | AJ21: 15:00-16:00 | AN21: 16:00-17:00 | AR21: 17:00-18:00 | AV21: 18:00-19:00 | AZ21: 19:00-20:00
A22: =A4+2 -> 46400 | B22: Środa | C22: 1A
C23: 1B
C24: 2A | J24: Prop. Inter.SE 2
C25: 2B
C26: 3A | H26: Propedeutyka stomatologii CN 3A, 3B
C27: 3B
C28: 4A
C29: 4B
D30: 7:00-8:00 | H30: 8:00-9:00 | L30: 9:00-10:00 | P30: 10:00-11:00 | T30: 11:00-12:00 | X30: 12:00-13:00 | AB30: 13:00-14:00 | AF30: 14:00-15:00 | AJ30: 15:00-16:00 | AN30: 16:00-17:00 | AR30: 17:00-18:00 | AV30: 18:00-19:00 | AZ30: 19:00-20:00
A31: =A4+3 -> 46401 | B31: czwartek | C31: 1A | H31: Farmakologia i toksykologia CN 1A | AR31: Farmakologia i toksykologia WY
C32: 1B | R32: Farmakologia i toksykologia CN 1B
C33: 2A | R33: Farmakologia i toksykologia CN 2A
C34: 2B | AB34: Farmakologia i toksykologia CN 2B
C35: 3A
C36: 3B
C37: 4A | H37: Propedeutyka stomatologii CN 4A, 4B
C38: 4B
D39: 7:00-8:00 | H39: 8:00-9:00 | L39: 9:00-10:00 | P39: 10:00-11:00 | T39: 11:00-12:00 | X39: 12:00-13:00 | AB39: 13:00-14:00 | AF39: 14:00-15:00 | AJ39: 15:00-16:00 | AN39: 16:00-17:00 | AR39: 17:00-18:00 | AV39: 18:00-19:00 | AZ39: 19:00-20:00
A40: =A4+4 -> 46402 | B40: piątek | C40: 1A | T40: Prop. Inter.SE 1
C41: 1B
C42: 2A | H42: Propedeutyka stomatologii CN 2A, 2B
C43: 2B
C44: 3A
C45: 3B
C46: 4A | H46: Farmakologia i toksykologia CN 4A
C47: 4B | H47: Farmakologia i toksykologia CN 4B
D48: 7:00-8:00 | H48: 8:00-9:00 | L48: 9:00-10:00 | P48: 10:00-11:00 | T48: 11:00-12:00 | X48: 12:00-13:00 | AB48: 13:00-14:00 | AF48: 14:00-15:00 | AJ48: 15:00-16:00 | AN48: 16:00-17:00 | AR48: 17:00-18:00 | AV48: 18:00-19:00 | AZ48: 19:00-20:00

Sheet 15
D1: 7:00-8:00 | H1: 8:00-9:00 | L1: 9:00-10:00 | P1: 10:00-11:00 | T1: 11:00-12:00 | X1: 12:00-13:00 | AB1: 13:00-14:00 | AF1: 14:00-15:00 | AJ1: 15:00-16:00 | AN1: 16:00-17:00 | AR1: 17:00-18:00 | AV1: 18:00-19:00 | AZ1: 19:00-20:00
C2: grupa
D3: 7:00-8:00 | H3: 8:00-9:00 | L3: 9:00-10:00 | P3: 10:00-11:00 | T3: 11:00-12:00 | X3: 12:00-13:00 | AB3: 13:00-14:00 | AF3: 14:00-15:00 | AJ3: 15:00-16:00 | AN3: 16:00-17:00 | AR3: 17:00-18:00 | AV3: 18:00-19:00 | AZ3: 19:00-20:00
A4: ='14'!A4:A11+7 -> 46405 | B4: poniedziałek | C4: 1A
C5: 1B
C6: 2A | H6: Propedeutyka chirurgii SE 2 | N6: Propedeutyka chirurgii CS 2A,2B
C7: 2B
C8: 3A | V8: Patomorfologia SE 3
C9: 3B
C10: 4A | V10: Patomorfologia SE 4
C11: 4B
D12: 7:00-8:00 | H12: 8:00-9:00 | L12: 9:00-10:00 | P12: 10:00-11:00 | T12: 11:00-12:00 | X12: 12:00-13:00 | AB12: 13:00-14:00 | AF12: 14:00-15:00 | AJ12: 15:00-16:00 | AN12: 16:00-17:00 | AR12: 17:00-18:00 | AV12: 18:00-19:00 | AZ12: 19:00-20:00
A13: =A4+1 -> 46406 | B13: Wtorek | C13: 1A | V13: Patomorfologia SE 1 | AR13: Patomorfologia WY
C14: 1B
C15: 2A | V15: Patomorfologia SE 2
C16: 2B
C17: 3A | H17: Farmakologia i toksykologia CN 3A
C18: 3B | R18: Farmakologia i toksykologia CN 3B
C19: 4A
C20: 4B
D21: 7:00-8:00 | H21: 8:00-9:00 | L21: 9:00-10:00 | P21: 10:00-11:00 | T21: 11:00-12:00 | X21: 12:00-13:00 | AB21: 13:00-14:00 | AF21: 14:00-15:00 | AJ21: 15:00-16:00 | AN21: 16:00-17:00 | AR21: 17:00-18:00 | AV21: 18:00-19:00 | AZ21: 19:00-20:00
A22: =A4+2 -> 46407 | B22: Środa | C22: 1A
C23: 1B
C24: 2A | J24: Prop. Inter.SE 2
C25: 2B
C26: 3A | J26: Propedeutyka stomatologii CN 3A, 3B
C27: 3B
C28: 4A
C29: 4B
D30: 7:00-8:00 | H30: 8:00-9:00 | L30: 9:00-10:00 | P30: 10:00-11:00 | T30: 11:00-12:00 | X30: 12:00-13:00 | AB30: 13:00-14:00 | AF30: 14:00-15:00 | AJ30: 15:00-16:00 | AN30: 16:00-17:00 | AR30: 17:00-18:00 | AV30: 18:00-19:00 | AZ30: 19:00-20:00
A31: =A4+3 -> 46408 | B31: czwartek | C31: 1A | H31: Farmakologia i toksykologia CN 1A | AR31: Farmakologia i toksykologia WY
C32: 1B | R32: Farmakologia i toksykologia CN 1B
C33: 2A | R33: Farmakologia i toksykologia CN 2A
C34: 2B | AB34: Farmakologia i toksykologia CN 2B
C35: 3A | J35: Prop. Inter.SE 3
C36: 3B
C37: 4A | J37: Propedeutyka stomatologii CN 4A, 4B | T37: Prop. Inter.SE 4
C38: 4B
D39: 7:00-8:00 | H39: 8:00-9:00 | L39: 9:00-10:00 | P39: 10:00-11:00 | T39: 11:00-12:00 | X39: 12:00-13:00 | AB39: 13:00-14:00 | AF39: 14:00-15:00 | AJ39: 15:00-16:00 | AN39: 16:00-17:00 | AR39: 17:00-18:00 | AV39: 18:00-19:00 | AZ39: 19:00-20:00
A40: =A4+4 -> 46409 | B40: piątek | C40: 1A
C41: 1B
C42: 2A | J42: Propedeutyka stomatologii CN 2A, 2B
C43: 2B
C44: 3A
C45: 3B
C46: 4A | F46: Farmakologia i toksykologia CN 4A
C47: 4B | F47: Farmakologia i toksykologia CN 4B
D48: 7:00-8:00 | H48: 8:00-9:00 | L48: 9:00-10:00 | P48: 10:00-11:00 | T48: 11:00-12:00 | X48: 12:00-13:00 | AB48: 13:00-14:00 | AF48: 14:00-15:00 | AJ48: 15:00-16:00 | AN48: 16:00-17:00 | AR48: 17:00-18:00 | AV48: 18:00-19:00 | AZ48: 19:00-20:00

Sheet 16
D1: 7:00-8:00 | H1: 8:00-9:00 | L1: 9:00-10:00 | P1: 10:00-11:00 | T1: 11:00-12:00 | X1: 12:00-13:00 | AB1: 13:00-14:00 | AF1: 14:00-15:00 | AJ1: 15:00-16:00 | AN1: 16:00-17:00 | AR1: 17:00-18:00 | AV1: 18:00-19:00 | AZ1: 19:00-20:00
C2: grupa
D3: 7:00-8:00 | H3: 8:00-9:00 | L3: 9:00-10:00 | P3: 10:00-11:00 | T3: 11:00-12:00 | X3: 12:00-13:00 | AB3: 13:00-14:00 | AF3: 14:00-15:00 | AJ3: 15:00-16:00 | AN3: 16:00-17:00 | AR3: 17:00-18:00 | AV3: 18:00-19:00 | AZ3: 19:00-20:00
A4: ='15'!A4:A11+7 -> 46412 | B4: poniedziałek | C4: 1A
C5: 1B
C6: 2A
C7: 2B
C8: 3A | V8: Patomorfologia SE 3
C9: 3B
C10: 4A | V10: Patomorfologia SE 4
C11: 4B
D12: 7:00-8:00 | H12: 8:00-9:00 | L12: 9:00-10:00 | P12: 10:00-11:00 | T12: 11:00-12:00 | X12: 12:00-13:00 | AB12: 13:00-14:00 | AF12: 14:00-15:00 | AJ12: 15:00-16:00 | AN12: 16:00-17:00 | AR12: 17:00-18:00 | AV12: 18:00-19:00 | AZ12: 19:00-20:00
A13: =A4+1 -> 46413 | B13: Wtorek | C13: 1A | V13: Patomorfologia SE 1 | AR13: Patomorfologia WY
C14: 1B
C15: 2A | V15: Patomorfologia SE 2
C16: 2B
C17: 3A | H17: Farmakologia i toksykologia CN 3A
C18: 3B | R18: Farmakologia i toksykologia CN 3B
C19: 4A
C20: 4B
D21: 7:00-8:00 | H21: 8:00-9:00 | L21: 9:00-10:00 | P21: 10:00-11:00 | T21: 11:00-12:00 | X21: 12:00-13:00 | AB21: 13:00-14:00 | AF21: 14:00-15:00 | AJ21: 15:00-16:00 | AN21: 16:00-17:00 | AR21: 17:00-18:00 | AV21: 18:00-19:00 | AZ21: 19:00-20:00
A22: =A4+2 -> 46414 | B22: Środa | C22: 1A
C23: 1B
C24: 2A
C25: 2B
C26: 3A | J26: Propedeutyka stomatologii CN 3A, 3B
C27: 3B
C28: 4A
C29: 4B
D30: 7:00-8:00 | H30: 8:00-9:00 | L30: 9:00-10:00 | P30: 10:00-11:00 | T30: 11:00-12:00 | X30: 12:00-13:00 | AB30: 13:00-14:00 | AF30: 14:00-15:00 | AJ30: 15:00-16:00 | AN30: 16:00-17:00 | AR30: 17:00-18:00 | AV30: 18:00-19:00 | AZ30: 19:00-20:00
A31: =A4+3 -> 46415 | B31: czwartek | C31: 1A | H31: Farmakologia i toksykologia CN 1A | AR31: Farmakologia i toksykologia WY
C32: 1B | R32: Farmakologia i toksykologia CN 1B
C33: 2A | R33: Farmakologia i toksykologia CN 2A
C34: 2B | AB34: Farmakologia i toksykologia CN 2B
C35: 3A | J35: Prop. Inter.SE 3
C36: 3B
C37: 4A | J37: Propedeutyka stomatologii CN 4A, 4B | T37: Prop. Inter.SE 4
C38: 4B
D39: 7:00-8:00 | H39: 8:00-9:00 | L39: 9:00-10:00 | P39: 10:00-11:00 | T39: 11:00-12:00 | X39: 12:00-13:00 | AB39: 13:00-14:00 | AF39: 14:00-15:00 | AJ39: 15:00-16:00 | AN39: 16:00-17:00 | AR39: 17:00-18:00 | AV39: 18:00-19:00 | AZ39: 19:00-20:00
A40: =A4+4 -> 46416 | B40: piątek | C40: 1A
C41: 1B
C42: 2A | J42: Propedeutyka stomatologii CN 2A, 2B
C43: 2B
C44: 3A
C45: 3B
C46: 4A | F46: Farmakologia i toksykologia CN 4A
C47: 4B | F47: Farmakologia i toksykologia CN 4B
D48: 7:00-8:00 | H48: 8:00-9:00 | L48: 9:00-10:00 | P48: 10:00-11:00 | T48: 11:00-12:00 | X48: 12:00-13:00 | AB48: 13:00-14:00 | AF48: 14:00-15:00 | AJ48: 15:00-16:00 | AN48: 16:00-17:00 | AR48: 17:00-18:00 | AV48: 18:00-19:00 | AZ48: 19:00-20:00

Sheet 17
D1: 7:00-8:00 | H1: 8:00-9:00 | L1: 9:00-10:00 | P1: 10:00-11:00 | T1: 11:00-12:00 | X1: 12:00-13:00 | AB1: 13:00-14:00 | AF1: 14:00-15:00 | AJ1: 15:00-16:00 | AN1: 16:00-17:00 | AR1: 17:00-18:00 | AV1: 18:00-19:00 | AZ1: 19:00-20:00
C2: grupa
D3: 7:00-8:00 | H3: 8:00-9:00 | L3: 9:00-10:00 | P3: 10:00-11:00 | T3: 11:00-12:00 | X3: 12:00-13:00 | AB3: 13:00-14:00 | AF3: 14:00-15:00 | AJ3: 15:00-16:00 | AN3: 16:00-17:00 | AR3: 17:00-18:00 | AV3: 18:00-19:00 | AZ3: 19:00-20:00
A4: ='16'!A4:A11+7 -> 46419 | B4: poniedziałek | C4: 1A | AR4: Patomorfologia WY
C5: 1B
C6: 2A
C7: 2B
C8: 3A | H8: Farmakologia i toksykologia CN 3A
C9: 3B | R9: Farmakologia i toksykologia CN 3B
C10: 4A
C11: 4B
D12: 7:00-8:00 | H12: 8:00-9:00 | L12: 9:00-10:00 | P12: 10:00-11:00 | T12: 11:00-12:00 | X12: 12:00-13:00 | AB12: 13:00-14:00 | AF12: 14:00-15:00 | AJ12: 15:00-16:00 | AN12: 16:00-17:00 | AR12: 17:00-18:00 | AV12: 18:00-19:00 | AZ12: 19:00-20:00
A13: =A4+1 -> 46420 | B13: Wtorek | C13: 1A
C14: 1B
C15: 2A
C16: 2B
C17: 3A
C18: 3B
C19: 4A
C20: 4B
D21: 7:00-8:00 | H21: 8:00-9:00 | L21: 9:00-10:00 | P21: 10:00-11:00 | T21: 11:00-12:00 | X21: 12:00-13:00 | AB21: 13:00-14:00 | AF21: 14:00-15:00 | AJ21: 15:00-16:00 | AN21: 16:00-17:00 | AR21: 17:00-18:00 | AV21: 18:00-19:00 | AZ21: 19:00-20:00
A22: =A4+2 -> 46421 | B22: Środa | C22: 1A
C23: 1B
C24: 2A
C25: 2B
C26: 3A
C27: 3B
C28: 4A
C29: 4B
D30: 7:00-8:00 | H30: 8:00-9:00 | L30: 9:00-10:00 | P30: 10:00-11:00 | T30: 11:00-12:00 | X30: 12:00-13:00 | AB30: 13:00-14:00 | AF30: 14:00-15:00 | AJ30: 15:00-16:00 | AN30: 16:00-17:00 | AR30: 17:00-18:00 | AV30: 18:00-19:00 | AZ30: 19:00-20:00
A31: =A4+3 -> 46422 | B31: czwartek | C31: 1A
C32: 1B
C33: 2A
C34: 2B
C35: 3A
C36: 3B
C37: 4A
C38: 4B
D39: 7:00-8:00 | H39: 8:00-9:00 | L39: 9:00-10:00 | P39: 10:00-11:00 | T39: 11:00-12:00 | X39: 12:00-13:00 | AB39: 13:00-14:00 | AF39: 14:00-15:00 | AJ39: 15:00-16:00 | AN39: 16:00-17:00 | AR39: 17:00-18:00 | AV39: 18:00-19:00 | AZ39: 19:00-20:00
A40: =A4+4 -> 46423 | B40: piątek | C40: 1A
C41: 1B
C42: 2A
C43: 2B
C44: 3A
C45: 3B
C46: 4A
C47: 4B
D48: 7:00-8:00 | H48: 8:00-9:00 | L48: 9:00-10:00 | P48: 10:00-11:00 | T48: 11:00-12:00 | X48: 12:00-13:00 | AB48: 13:00-14:00 | AF48: 14:00-15:00 | AJ48: 15:00-16:00 | AN48: 16:00-17:00 | AR48: 17:00-18:00 | AV48: 18:00-19:00 | AZ48: 19:00-20:00
