Workbook

Sheet 1
D1: 7:00-8:00 | H1: 8:00-9:00 | L1: 9:00-10:00 | P1: 10:00-11:00 | T1: 11:00-12:00 | X1: 12:00-13:00 | AB1: 13:00-14:00 | AF1: 14:00-15:00 | AJ1: 15:00-16:00 | AN1: 16:00-17:00 | AR1: 17:00-18:00 | AV1: 18:00-19:00 | AZ1: 19:00-20:00 | BD1: 20:00-21:00
C2: grupa
D3: 7:00-8:00 | H3: 8:00-9:00 | L3: 9:00-10:00 | P3: 10:00-11:00 | T3: 11:00-12:00 | X3: 12:00-13:00 | AB3: 13:00-14:00 | AF3: 14:00-15:00 | AJ3: 15:00-16:00 | AN3: 16:00-17:00 | AR3: 17:00-18:00 | AV3: 18:00-19:00 | AZ3: 19:00-20:00 | BD3: 20:00-21:00
A4: 46293 | B4: poniedziałek | C4: 1A
C5: 1B
C6: 2A
C7: 2B
C8: 3A
C9: 3B
C10: 4A
C11: 4B
C12: 5A
C13: 5B
C14: 6A
C15: 6B
C16: 7A
... C39: 18B
D40: 7:00-8:00 | H40: 8:00-9:00 | L40: 9:00-10:00 | P40: 10:00-11:00 | T40: 11:00-12:00 | X40: 12:00-13:00 | AB40: 13:00-14:00 | AF40: 14:00-15:00 | AJ40: 15:00-16:00 | AN40: 16:00-17:00 | AR40: 17:00-18:00 | AV40: 18:00-19:00 | AZ40: 19:00-20:00 | BD40: 20:00-21:00
A41: =A4+1 -> 46294 | B41: Wtorek | C41: 1A
C42: 1B
C43: 2A
C44: 2B
C45: 3A
C46: 3B
C47: 4A
C48: 4B
C49: 5A
C50: 5B
C51: 6A
C52: 6B
C53: 7A
... C76: 18B
D77: 7:00-8:00 | H77: 8:00-9:00 | L77: 9:00-10:00 | P77: 10:00-11:00 | T77: 11:00-12:00 | X77: 12:00-13:00 | AB77: 13:00-14:00 | AF77: 14:00-15:00 | AJ77: 15:00-16:00 | AN77: 16:00-17:00 | AR77: 17:00-18:00 | AV77: 18:00-19:00 | AZ77: 19:00-20:00 | BD77: 20:00-21:00
A78: =A4+2 -> 46295 | B78: Środa | C78: 1A
C79: 1B
C80: 2A
C81: 2B
C82: 3A
C83: 3B
C84: 4A
C85: 4B
C86: 5A
C87: 5B
C88: 6A
C89: 6B
C90: 7A
... C113: 18B
D114: 7:00-8:00 | H114: 8:00-9:00 | L114: 9:00-10:00 | P114: 10:00-11:00 | T114: 11:00-12:00 | X114: 12:00-13:00 | AB114: 13:00-14:00 | AF114: 14:00-15:00 | AJ114: 15:00-16:00 | AN114: 16:00-17:00 | AR114: 17:00-18:00 | AV114: 18:00-19:00 | AZ114: 19:00-20:00 | BD114: 20:00-21:00
A115: =A4+3 -> 46296 | B115: czwartek | C115: 1A | AY115: Biochemia WY1
C116: 1B
C117: 2A
C118: 2B
C119: 3A | V119: Angielski LE 3
C120: 3B
C121: 4A | H121: Epidemiologia SE 4
C122: 4B
C123: 5A | N123: Epidemiologia SE 5 | AC123: Angielski LE 5
C124: 5B
C125: 6A | AC125: Socjologia SE 6
C126: 6B
C127: 7A
C128: 7B
C129: 8A | U129: Socjologia SE 8
C130: 8B
C131: 9A | U131: Angielski LE 9
C132: 9B
C133: 10A | AA133: Angielski LE 10
C134: 10B
C135: 11A
C136: 11B
C137: 12A
C138: 12B
C139: 13A
C140: 13B
C141: 14A
C142: 14B
C143: 15A | I143: Psychologia lek. SE 15
C144: 15B
C145: 16A | T145: Epidemiologia SE 16 | AA145: Psychologia lek. SE 16
C146: 16B
C147: 17A | O147: Psychologia lek. SE 17 | Z147: Epidemiologia SE 17
C148: 17B | AG148: Fizjologia CN 17B
C149: 18A | N149: Socjologia SE 18 | U149: Psychologia lek. SE 18
C150: 18B
D151: 7:00-8:00 | H151: 8:00-9:00 | L151: 9:00-10:00 | P151: 10:00-11:00 | T151: 11:00-12:00 | X151: 12:00-13:00 | AB151: 13:00-14:00 | AF151: 14:00-15:00 | AJ151: 15:00-16:00 | AN151: 16:00-17:00 | AR151: 17:00-18:00 | AV151: 18:00-19:00 | AZ151: 19:00-20:00 | BD151: 20:00-21:00
A152: =A4+4 -> 46297 | B152: piątek | C152: 1A | H152: Fizjologia CN 1A
C153: 1B | H153: Fizjologia CN 1B
C154: 2A | H154: Fizjologia CN 2A
C155: 2B | H155: Fizjologia CN 2B
C156: 3A | T156: Fizjologia CN 3A
C157: 3B | T157: Fizjologia CN 3B
C158: 4A | T158: Fizjologia CN 4A
C159: 4B | T159: Fizjologia CN 4B
C160: 5A | AF160: Fizjologia CN 5A
C161: 5B | AF161: Fizjologia CN 5B
C162: 6A | AF162: Fizjologia CN 6A
C163: 6B | AF163: Fizjologia CN 6B
C164: 7A
C165: 7B
C166: 8A
...

Sheet 2
D1: 7:00-8:00 | H1: 8:00-9:00 | L1: 9:00-10:00 | P1: 10:00-11:00 | T1: 11:00-12:00 | X1: 12:00-13:00 | AB1: 13:00-14:00 | AF1: 14:00-15:00 | AJ1: 15:00-16:00 | AN1: 16:00-17:00 | AR1: 17:00-18:00 | AV1: 18:00-19:00 | AZ1: 19:00-20:00 | BD1: 20:00-21:00
C2: grupa
D3: 7:00-8:00 | H3: 8:00-9:00 | L3: 9:00-10:00 | P3: 10:00-11:00 | T3: 11:00-12:00 | X3: 12:00-13:00 | AB3: 13:00-14:00 | AF3: 14:00-15:00 | AJ3: 15:00-16:00 | AN3: 16:00-17:00 | AR3: 17:00-18:00 | AV3: 18:00-19:00 | AZ3: 19:00-20:00 | BD3: 20:00-21:00
A4: ='1'!A4:A39+7 -> 46300 | B4: poniedziałek | C4: 1A | H4: Epidemiologia CN 1A
C5: 1B | H5: Epidemiologia CN 1B
C6: 2A | T6: Epidemiologia CN 2A | AC6: Angielski LE 2
C7: 2B | T7: Epidemiologia CN 2B
C8: 3A | N8: Epidemiologia CN 3A
C9: 3B | N9: Epidemiologia CN 3B
C10: 4A
C11: 4B
C12: 5A | S12: Socjologia SE 5
C13: 5B
C14: 6A | H14: Angielski LE 6 | O14: Psychologia lek. SE 6
C15: 6B
C16: 7A | H16: Fizjologia CN 7A | Z16: Socjologia SE 7
C17: 7B | H17: Fizjologia CN 7B
C18: 8A | H18: Fizjologia CN 8A | V18: Angielski LE 8
C19: 8B | H19: Fizjologia CN 8B
C20: 9A | T20: Fizjologia CN 9A | AG20: Socjologia SE 9
C21: 9B | T21: Fizjologia CN 9B
C22: 10A | T22: Fizjologia CN 10A
C23: 10B | T23: Fizjologia CN 10B
C24: 11A | O24: Angielski LE 11 | V24: Psychologia lek. SE 11
C25: 11B
C26: 12A | L26: Socjologia SE 12 | V26: Angielski LE 12 | AC26: Psychologia lek. SE 12
C27: 12B
C28: 13A | O28: Angielski LE 13
C29: 13B
C30: 14A | O30: Socjologia SE 14
C31: 14B
C32: 15A | H32: Socjologia SE 15 | V32: Angielski LE 15 | AF32: Fizjologia CN 15A
C33: 15B | AF33: Fizjologia CN 15B
C34: 16A | V34: Socjologia SE 16 | AF34: Fizjologia CN 16A
C35: 16B | AF35: Fizjologia CN 16B
C36: 17A | H36: Angielski LE 17 | AC36: Socjologia SE 17
C37: 17B
C38: 18A | AC38: Angielski LE 18
C39: 18B
D40: 7:00-8:00 | H40: 8:00-9:00 | L40: 9:00-10:00 | P40: 10:00-11:00 | T40: 11:00-12:00 | X40: 12:00-13:00 | AB40: 13:00-14:00 | AF40: 14:00-15:00 | AJ40: 15:00-16:00 | AN40: 16:00-17:00 | AR40: 17:00-18:00 | AV40: 18:00-19:00 | AZ40: 19:00-20:00 | BD40: 20:00-21:00
A41: =A4+1 -> 46301 | B41: Wtorek | C41: 1A
C42: 1B
C43: 2A
C44: 2B
C45: 3A
C46: 3B
C47: 4A
C48: 4B
C49: 5A
C50: 5B
C51: 6A
C52: 6B
C53: 7A
... C76: 18B
D77: 7:00-8:00 | H77: 8:00-9:00 | L77: 9:00-10:00 | P77: 10:00-11:00 | T77: 11:00-12:00 | X77: 12:00-13:00 | AB77: 13:00-14:00 | AF77: 14:00-15:00 | AJ77: 15:00-16:00 | AN77: 16:00-17:00 | AR77: 17:00-18:00 | AV77: 18:00-19:00 | AZ77: 19:00-20:00 | BD77: 20:00-21:00
A78: =A4+2 -> 46302 | B78: Środa | C78: 1A | L78: Psychologia lek. SE 1 | S78: Socjologia SE 1 | Z78: Angielski LE 1 | AV78: Fizjologia WY1
C79: 1B
C80: 2A | R80: Psychologia lek. SE 2 | Z80: Socjologia SE 2
C81: 2B
C82: 3A | X82: Psychologia lek. SE 3 | AG82: Socjologia SE 3
C83: 3B
C84: 4A | L84: Socjologia SE 4 | S84: Angielski LE 4 | AD84: Psychologia lek. SE 4
C85: 4B
C86: 5A
C87: 5B
C88: 6A | T88: Epidemiologia CN 6A
C89: 6B | T89: Epidemiologia CN 6B
C90: 7A | S90: Angielski LE 7 | Z90: Epidemiologia CN 7A
C91: 7B | Z91: Epidemiologia CN 7B
C92: 8A
C93: 8B
C94: 9A
C95: 9B
C96: 10A
C97: 10B
C98: 11A | AG98: Fizjologia CN 11A
C99: 11B | AG99: Fizjologia CN 11B
C100: 12A | AG100: Fizjologia CN 12A
C101: 12B
C102: 13A | N102: Epidemiologia CN 13A | U102: Fizjologia CN 13A
C103: 13B | N103: Epidemiologia CN 13B | U103: Fizjologia CN 13B
C104: 14A | H104: Fizjologia CN 14A
C105: 14B | H105: Fizjologia CN 14B
C106: 15A | AH106: Biochemia SE 15 | AR106: Biochemia WY2
C107: 15B
C108: 16A | Z108: Angielski LE 16 | AH108: Biochemia SE 16
C109: 16B
C110: 17A | T110: Fizjologia CN 17A | AH110: Biochemia SE 17
C111: 17B
C112: 18A | H112: Epidemiologia CN 18A | AH112: Biochemia SE 18
C113: 18B | H113: Epidemiologia CN 18B
D114: 7:00-8:00 | H114: 8:00-9:00 | L114: 9:00-10:00 | P114: 10:00-11:00 | T114: 11:00-12:00 | X114: 12:00-13:00 | AB114: 13:00-14:00 | AF114: 14:00-15:00 | AJ114: 15:00-16:00 | AN114: 16:00-17:00 | AR114: 17:00-18:00 | AV114: 18:00-19:00 | AZ114: 19:00-20:00 | BD114: 20:00-21:00
A115: =A4+3 -> 46303 | B115: czwartek | C115: 1A | AY115: Biochemia WY1
C116: 1B
C117: 2A
C118: 2B
C119: 3A | V119: Angielski LE 3
C120: 3B
C121: 4A | H121: Epidemiologia CN 4A
C122: 4B | H122: Epidemiologia CN 4B
...

Sheet 3
D1: 7:00-8:00 | H1: 8:00-9:00 | L1: 9:00-10:00 | P1: 10:00-11:00 | T1: 11:00-12:00 | X1: 12:00-13:00 | AB1: 13:00-14:00 | AF1: 14:00-15:00 | AJ1: 15:00-16:00 | AN1: 16:00-17:00 | AR1: 17:00-18:00 | AV1: 18:00-19:00 | AZ1: 19:00-20:00 | BD1: 20:00-21:00
C2: grupa
D3: 7:00-8:00 | H3: 8:00-9:00 | L3: 9:00-10:00 | P3: 10:00-11:00 | T3: 11:00-12:00 | X3: 12:00-13:00 | AB3: 13:00-14:00 | AF3: 14:00-15:00 | AJ3: 15:00-16:00 | AN3: 16:00-17:00 | AR3: 17:00-18:00 | AV3: 18:00-19:00 | AZ3: 19:00-20:00 | BD3: 20:00-21:00
A4: ='2'!A4:A39+7 -> 46307 | B4: poniedziałek | C4: 1A | H4: Epidemiologia CN 1A
C5: 1B | H5: Epidemiologia CN 1B
C6: 2A | T6: Epidemiologia CN 2A | AC6: Angielski LE 2
C7: 2B | T7: Epidemiologia CN 2B
C8: 3A | N8: Epidemiologia CN 3A
C9: 3B | N9: Epidemiologia CN 3B
C10: 4A
C11: 4B
C12: 5A | S12: Socjologia SE 5
C13: 5B
C14: 6A | H14: Angielski LE 6 | O14: Psychologia lek. SE 6
C15: 6B
C16: 7A | H16: Fizjologia CN 7A | Z16: Socjologia SE 7
C17: 7B | H17: Fizjologia CN 7B
C18: 8A | H18: Fizjologia CN 8A | V18: Angielski LE 8
C19: 8B | H19: Fizjologia CN 8B
C20: 9A | T20: Fizjologia CN 9A | AG20: Socjologia SE 9
C21: 9B | T21: Fizjologia CN 9B
C22: 10A | T22: Fizjologia CN 10A
C23: 10B | T23: Fizjologia CN 10B
C24: 11A | O24: Angielski LE 11 | V24: Psychologia lek. SE 11
C25: 11B
C26: 12A | L26: Socjologia SE 12 | V26: Angielski LE 12 | AC26: Psychologia lek. SE 12
C27: 12B
C28: 13A | O28: Angielski LE 13
C29: 13B
C30: 14A | O30: Socjologia SE 14
C31: 14B
C32: 15A | H32: Socjologia SE 15 | V32: Angielski LE 15 | AF32: Fizjologia CN 15A
C33: 15B | AF33: Fizjologia CN 15B
C34: 16A | V34: Socjologia SE 16 | AF34: Fizjologia CN 16A
C35: 16B | AF35: Fizjologia CN 16B
C36: 17A | H36: Angielski LE 17 | AC36: Socjologia SE 17
C37: 17B
C38: 18A | AC38: Angielski LE 18
C39: 18B
D40: 7:00-8:00 | H40: 8:00-9:00 | L40: 9:00-10:00 | P40: 10:00-11:00 | T40: 11:00-12:00 | X40: 12:00-13:00 | AB40: 13:00-14:00 | AF40: 14:00-15:00 | AJ40: 15:00-16:00 | AN40: 16:00-17:00 | AR40: 17:00-18:00 | AV40: 18:00-19:00 | AZ40: 19:00-20:00 | BD40: 20:00-21:00
A41: =A4+1 -> 46308 | B41: Wtorek | C41: 1A | AH41: Biochemia SE 1
C42: 1B
C43: 2A | AH43: Biochemia SE 2
C44: 2B
C45: 3A | AH45: Biochemia SE 3
C46: 3B
C47: 4A | AH47: Biochemia SE 4
C48: 4B
C49: 5A | L49: Psychologia lek. SE 5 | AH49: Biochemia SE 5
C50: 5B
C51: 6A | AH51: Biochemia SE 6
C52: 6B
C53: 7A | I53: Psychologia lek. SE 7 | AH53: Biochemia SE 7
C54: 7B
C55: 8A | H55: Epidemiologia CN 8A | O55: Psychologia lek. SE 8
C56: 8B | H56: Epidemiologia CN 8B
C57: 9A | N57: Epidemiologia CN 9A | U57: Psychologia lek. SE 9
C58: 9B | N58: Epidemiologia CN 9B
C59: 10A | L59: Socjologia SE 10 | T59: Epidemiologia CN 10A | AA59: Psychologia lek. SE 10
C60: 10B | T60: Epidemiologia CN 10B
C61: 11A | S61: Socjologia SE 11 | Z61: Epidemiologia CN 11A
C62: 11B | Z62: Epidemiologia CN 11B
C63: 12A
C64: 12B | AF64: Fizjologia CN 12B
C65: 13A | S65: Psychologia lek. SE 13 | Z65: Socjologia SE 13
C66: 13B
C67: 14A | O67: Angielski LE 14 | Z67: Psychologia lek. SE 14
C68: 14B
C69: 15A | H69: Fizjologia WY2
C70: 15B
C71: 16A
C72: 16B
C73: 17A
C74: 17B
C75: 18A | AF75: Fizjologia CN 18A
C76: 18B | AF76: Fizjologia CN 18B
D77: 7:00-8:00 | H77: 8:00-9:00 | L77: 9:00-10:00 | P77: 10:00-11:00 | T77: 11:00-12:00 | X77: 12:00-13:00 | AB77: 13:00-14:00 | AF77: 14:00-15:00 | AJ77: 15:00-16:00 | AN77: 16:00-17:00 | AR77: 17:00-18:00 | AV77: 18:00-19:00 | AZ77: 19:00-20:00 | BD77: 20:00-21:00
A78: =A4+2 -> 46309 | B78: Środa | C78: 1A | L78: Psychologia lek. SE 1 | S78: Socjologia SE 1 | Z78: Angielski LE 1 | AV78: Fizjologia WY1
C79: 1B
C80: 2A | R80: Psychologia lek. SE 2 | Z80: Socjologia SE 2
C81: 2B
C82: 3A | X82: Psychologia lek. SE 3 | AG82: Socjologia SE 3
C83: 3B
C84: 4A | L84: Socjologia SE 4 | S84: Angielski LE 4 | AD84: Psychologia lek. SE 4
C85: 4B
C86: 5A
C87: 5B
C88: 6A | T88: Epidemiologia CN 6A
C89: 6B | T89: Epidemiologia CN 6B
C90: 7A | S90: Angielski LE 7 | Z90: Epidemiologia CN 7A
C91: 7B | Z91: Epidemiologia CN 7B
C92: 8A
C93: 8B
C94: 9A
C95: 9B
C96: 10A
C97: 10B
C98: 11A | AG98: Fizjologia CN 11A
C99: 11B | AG99: Fizjologia CN 11B
C100: 12A | AG100: Fizjologia CN 12A
...

Sheet 4
D1: 7:00-8:00 | H1: 8:00-9:00 | L1: 9:00-10:00 | P1: 10:00-11:00 | T1: 11:00-12:00 | X1: 12:00-13:00 | AB1: 13:00-14:00 | AF1: 14:00-15:00 | AJ1: 15:00-16:00 | AN1: 16:00-17:00 | AR1: 17:00-18:00 | AV1: 18:00-19:00 | AZ1: 19:00-20:00 | BD1: 20:00-21:00
C2: grupa
D3: 7:00-8:00 | H3: 8:00-9:00 | L3: 9:00-10:00 | P3: 10:00-11:00 | T3: 11:00-12:00 | X3: 12:00-13:00 | AB3: 13:00-14:00 | AF3: 14:00-15:00 | AJ3: 15:00-16:00 | AN3: 16:00-17:00 | AR3: 17:00-18:00 | AV3: 18:00-19:00 | AZ3: 19:00-20:00 | BD3: 20:00-21:00
A4: ='3'!A4:A39+7 -> 46314 | B4: poniedziałek | C4: 1A | H4: Epidemiologia CN 1A
C5: 1B | H5: Epidemiologia CN 1B
C6: 2A | T6: Epidemiologia CN 2A | AC6: Angielski LE 2
C7: 2B | T7: Epidemiologia CN 2B
C8: 3A | N8: Epidemiologia CN 3A
C9: 3B | N9: Epidemiologia CN 3B
C10: 4A
C11: 4B
C12: 5A | S12: Socjologia SE 5
C13: 5B
C14: 6A | H14: Angielski LE 6 | O14: Psychologia lek. SE 6
C15: 6B
C16: 7A | H16: Fizjologia CN 7A | Z16: Socjologia SE 7
C17: 7B | H17: Fizjologia CN 7B
C18: 8A | H18: Fizjologia CN 8A | V18: Angielski LE 8
C19: 8B | H19: Fizjologia CN 8B
C20: 9A | T20: Fizjologia CN 9A | AG20: Socjologia SE 9
C21: 9B | T21: Fizjologia CN 9B
C22: 10A | T22: Fizjologia CN 10A
C23: 10B | T23: Fizjologia CN 10B
C24: 11A | O24: Angielski LE 11 | V24: Psychologia lek. SE 11
C25: 11B
C26: 12A | L26: Socjologia SE 12 | V26: Angielski LE 12 | AC26: Psychologia lek. SE 12
C27: 12B
C28: 13A | O28: Angielski LE 13
C29: 13B
C30: 14A | O30: Socjologia SE 14
C31: 14B
C32: 15A | H32: Socjologia SE 15 | V32: Angielski LE 15 | AF32: Fizjologia CN 15A
C33: 15B | AF33: Fizjologia CN 15B
C34: 16A | V34: Socjologia SE 16 | AF34: Fizjologia CN 16A
C35: 16B | AF35: Fizjologia CN 16B
C36: 17A | H36: Angielski LE 17 | AC36: Socjologia SE 17
C37: 17B
C38: 18A | AC38: Angielski LE 18
C39: 18B
D40: 7:00-8:00 | H40: 8:00-9:00 | L40: 9:00-10:00 | P40: 10:00-11:00 | T40: 11:00-12:00 | X40: 12:00-13:00 | AB40: 13:00-14:00 | AF40: 14:00-15:00 | AJ40: 15:00-16:00 | AN40: 16:00-17:00 | AR40: 17:00-18:00 | AV40: 18:00-19:00 | AZ40: 19:00-20:00 | BD40: 20:00-21:00
A41: =A4+1 -> 46315 | B41: Wtorek | C41: 1A | H41: Biochemia CL 1,2,3,4,5,6 = SE 1, 2, 3 | AH41: Biochemia SE 1
C42: 1B
C43: 2A | AH43: Biochemia SE 2
C44: 2B
C45: 3A | U45: Biochemia CL 7,8,9,10,11,12,13,14,15,16,17,18 = SE 3,4,5,6,7 | AH45: Biochemia SE 3
C46: 3B
C47: 4A | AH47: Biochemia SE 4
C48: 4B
C49: 5A | L49: Psychologia lek. SE 5 | AH49: Biochemia SE 5
C50: 5B
C51: 6A | AH51: Biochemia SE 6
C52: 6B
C53: 7A | I53: Psychologia lek. SE 7 | AH53: Biochemia SE 7
C54: 7B
C55: 8A | H55: Epidemiologia CN 8A | O55: Psychologia lek. SE 8
C56: 8B | H56: Epidemiologia CN 8B
C57: 9A | N57: Epidemiologia CN 9A | U57: Psychologia lek. SE 9
C58: 9B | N58: Epidemiologia CN 9B
C59: 10A | L59: Socjologia SE 10 | T59: Epidemiologia CN 10A | AA59: Psychologia lek. SE 10
C60: 10B | T60: Epidemiologia CN 10B
C61: 11A | S61: Socjologia SE 11 | Z61: Epidemiologia CN 11A
C62: 11B | Z62: Epidemiologia CN 11B
C63: 12A
C64: 12B | AF64: Fizjologia CN 12B
C65: 13A | S65: Psychologia lek. SE 13 | Z65: Socjologia SE 13
C66: 13B
C67: 14A | O67: Angielski LE 14 | Z67: Psychologia lek. SE 14
C68: 14B
C69: 15A | H69: Fizjologia WY2
C70: 15B
C71: 16A
C72: 16B
C73: 17A
C74: 17B
C75: 18A | AF75: Fizjologia CN 18A
C76: 18B | AF76: Fizjologia CN 18B
D77: 7:00-8:00 | H77: 8:00-9:00 | L77: 9:00-10:00 | P77: 10:00-11:00 | T77: 11:00-12:00 | X77: 12:00-13:00 | AB77: 13:00-14:00 | AF77: 14:00-15:00 | AJ77: 15:00-16:00 | AN77: 16:00-17:00 | AR77: 17:00-18:00 | AV77: 18:00-19:00 | AZ77: 19:00-20:00 | BD77: 20:00-21:00
A78: =A4+2 -> 46316 | B78: Środa | C78: 1A | L78: Psychologia lek. SE 1 | S78: Socjologia SE 1 | Z78: Angielski LE 1 | AV78: Fizjologia WY1
C79: 1B
C80: 2A | R80: Psychologia lek. SE 2 | Z80: Socjologia SE 2
C81: 2B
C82: 3A | X82: Psychologia lek. SE 3 | AG82: Socjologia SE 3
C83: 3B
C84: 4A | L84: Socjologia SE 4 | S84: Angielski LE 4 | AD84: Psychologia lek. SE 4
C85: 4B
C86: 5A
C87: 5B
C88: 6A | T88: Epidemiologia CN 6A
C89: 6B | T89: Epidemiologia CN 6B
C90: 7A | S90: Angielski LE 7 | Z90: Epidemiologia CN 7A
C91: 7B | Z91: Epidemiologia CN 7B
C92: 8A
C93: 8B
C94: 9A
C95: 9B
C96: 10A
C97: 10B
C98: 11A | AG98: Fizjologia CN 11A
C99: 11B | AG99: Fizjologia CN 11B
C100: 12A | AG100: Fizjologia CN 12A
...

Sheet 5
D1: 7:00-8:00 | H1: 8:00-9:00 | L1: 9:00-10:00 | P1: 10:00-11:00 | T1: 11:00-12:00 | X1: 12:00-13:00 | AB1: 13:00-14:00 | AF1: 14:00-15:00 | AJ1: 15:00-16:00 | AN1: 16:00-17:00 | AR1: 17:00-18:00 | AV1: 18:00-19:00 | AZ1: 19:00-20:00 | BD1: 20:00-21:00
C2: grupa
D3: 7:00-8:00 | H3: 8:00-9:00 | L3: 9:00-10:00 | P3: 10:00-11:00 | T3: 11:00-12:00 | X3: 12:00-13:00 | AB3: 13:00-14:00 | AF3: 14:00-15:00 | AJ3: 15:00-16:00 | AN3: 16:00-17:00 | AR3: 17:00-18:00 | AV3: 18:00-19:00 | AZ3: 19:00-20:00 | BD3: 20:00-21:00
A4: ='4'!A4:A39+7 -> 46321 | B4: poniedziałek | C4: 1A | H4: Epidemiologia CN 1A
C5: 1B | H5: Epidemiologia CN 1B
C6: 2A | T6: Epidemiologia CN 2A | AC6: Angielski LE 2
C7: 2B | T7: Epidemiologia CN 2B
C8: 3A | N8: Epidemiologia CN 3A
C9: 3B | N9: Epidemiologia CN 3B
C10: 4A
C11: 4B
C12: 5A | S12: Socjologia SE 5
C13: 5B
C14: 6A | H14: Angielski LE 6 | O14: Psychologia lek. SE 6
C15: 6B
C16: 7A | H16: Fizjologia CN 7A | Z16: Socjologia SE 7
C17: 7B | H17: Fizjologia CN 7B
C18: 8A | H18: Fizjologia CN 8A | V18: Angielski LE 8
C19: 8B | H19: Fizjologia CN 8B
C20: 9A | T20: Fizjologia CN 9A | AG20: Socjologia SE 9
C21: 9B | T21: Fizjologia CN 9B
C22: 10A | T22: Fizjologia CN 10A
C23: 10B | T23: Fizjologia CN 10B
C24: 11A | O24: Angielski LE 11 | V24: Psychologia lek. SE 11
C25: 11B
C26: 12A | L26: Socjologia SE 12 | V26: Angielski LE 12 | AC26: Psychologia lek. SE 12
C27: 12B
C28: 13A | O28: Angielski LE 13
C29: 13B
C30: 14A | O30: Socjologia SE 14
C31: 14B
C32: 15A | H32: Socjologia SE 15 | V32: Angielski LE 15 | AF32: Fizjologia CN 15A
C33: 15B | AF33: Fizjologia CN 15B
C34: 16A | V34: Socjologia SE 16 | AF34: Fizjologia CN 16A
C35: 16B | AF35: Fizjologia CN 16B
C36: 17A | H36: Angielski LE 17 | AC36: Socjologia SE 17
C37: 17B
C38: 18A | AC38: Angielski LE 18
C39: 18B
D40: 7:00-8:00 | H40: 8:00-9:00 | L40: 9:00-10:00 | P40: 10:00-11:00 | T40: 11:00-12:00 | X40: 12:00-13:00 | AB40: 13:00-14:00 | AF40: 14:00-15:00 | AJ40: 15:00-16:00 | AN40: 16:00-17:00 | AR40: 17:00-18:00 | AV40: 18:00-19:00 | AZ40: 19:00-20:00 | BD40: 20:00-21:00
A41: =A4+1 -> 46322 | B41: Wtorek | C41: 1A | H41: Biochemia CL 1,2,3,4,5,6 = SE 1, 2, 3 | AH41: Biochemia SE 1 | AV41: Patofizjologia WY1
C42: 1B
C43: 2A | AH43: Biochemia SE 2
C44: 2B
C45: 3A | U45: Biochemia CL 7,8,9,10,11,12,13,14,15,16,17,18 = SE 3,4,5,6,7 | AH45: Biochemia SE 3
C46: 3B
C47: 4A | AH47: Biochemia SE 4
C48: 4B
C49: 5A | L49: Psychologia lek. SE 5 | AH49: Biochemia SE 5
C50: 5B
C51: 6A | AH51: Biochemia SE 6
C52: 6B
C53: 7A | I53: Psychologia lek. SE 7 | AH53: Biochemia SE 7
C54: 7B
C55: 8A | H55: Epidemiologia CN 8A | O55: Psychologia lek. SE 8
C56: 8B | H56: Epidemiologia CN 8B
C57: 9A | N57: Epidemiologia CN 9A | U57: Psychologia lek. SE 9
C58: 9B | N58: Epidemiologia CN 9B
C59: 10A | L59: Socjologia SE 10 | T59: Epidemiologia CN 10A | AA59: Psychologia lek. SE 10
C60: 10B | T60: Epidemiologia CN 10B
C61: 11A | S61: Socjologia SE 11 | Z61: Epidemiologia CN 11A
C62: 11B | Z62: Epidemiologia CN 11B
C63: 12A
C64: 12B | AF64: Fizjologia CN 12B
C65: 13A | S65: Psychologia lek. SE 13 | Z65: Socjologia SE 13
C66: 13B
C67: 14A | O67: Angielski LE 14 | Z67: Psychologia lek. SE 14
C68: 14B
C69: 15A | H69: Fizjologia WY2
C70: 15B
C71: 16A
C72: 16B
C73: 17A
C74: 17B
C75: 18A | AF75: Fizjologia CN 18A
C76: 18B | AF76: Fizjologia CN 18B
D77: 7:00-8:00 | H77: 8:00-9:00 | L77: 9:00-10:00 | P77: 10:00-11:00 | T77: 11:00-12:00 | X77: 12:00-13:00 | AB77: 13:00-14:00 | AF77: 14:00-15:00 | AJ77: 15:00-16:00 | AN77: 16:00-17:00 | AR77: 17:00-18:00 | AV77: 18:00-19:00 | AZ77: 19:00-20:00 | BD77: 20:00-21:00
A78: =A4+2 -> 46323 | B78: Środa | C78: 1A | L78: Psychologia lek. SE 1 | S78: Socjologia SE 1 | Z78: Angielski LE 1 | AV78: Fizjologia WY1
C79: 1B
C80: 2A | R80: Psychologia lek. SE 2 | Z80: Socjologia SE 2
C81: 2B
C82: 3A | X82: Psychologia lek. SE 3 | AG82: Socjologia SE 3
C83: 3B
C84: 4A | L84: Socjologia SE 4 | S84: Angielski LE 4 | AD84: Psychologia lek. SE 4
C85: 4B
C86: 5A
C87: 5B
C88: 6A | T88: Epidemiologia CN 6A
C89: 6B | T89: Epidemiologia CN 6B
C90: 7A | S90: Angielski LE 7 | Z90: Epidemiologia CN 7A
C91: 7B | Z91: Epidemiologia CN 7B
C92: 8A
C93: 8B
C94: 9A
C95: 9B
C96: 10A
C97: 10B
C98: 11A | AG98: Fizjologia CN 11A
C99: 11B | AG99: Fizjologia CN 11B
C100: 12A | AG100: Fizjologia CN 12A
...

Sheet 6
D1: 7:00-8:00 | H1: 8:00-9:00 | L1: 9:00-10:00 | P1: 10:00-11:00 | T1: 11:00-12:00 | X1: 12:00-13:00 | AB1: 13:00-14:00 | AF1: 14:00-15:00 | AJ1: 15:00-16:00 | AN1: 16:00-17:00 | AR1: 17:00-18:00 | AV1: 18:00-19:00 | AZ1: 19:00-20:00 | BD1: 20:00-21:00
C2: grupa
D3: 7:00-8:00 | H3: 8:00-9:00 | L3: 9:00-10:00 | P3: 10:00-11:00 | T3: 11:00-12:00 | X3: 12:00-13:00 | AB3: 13:00-14:00 | AF3: 14:00-15:00 | AJ3: 15:00-16:00 | AN3: 16:00-17:00 | AR3: 17:00-18:00 | AV3: 18:00-19:00 | AZ3: 19:00-20:00 | BD3: 20:00-21:00
A4: ='5'!A4:A39+7 -> 46328 | B4: poniedziałek | C4: 1A | H4: Epidemiologia CN 1A
C5: 1B | H5: Epidemiologia CN 1B
C6: 2A | T6: Epidemiologia CN 2A | AC6: Angielski LE 2
C7: 2B | T7: Epidemiologia CN 2B
C8: 3A | N8: Epidemiologia CN 3A
C9: 3B | N9: Epidemiologia CN 3B
C10: 4A
C11: 4B
C12: 5A | S12: Socjologia SE 5
C13: 5B
C14: 6A | H14: Angielski LE 6
C15: 6B
C16: 7A | H16: Fizjologia CN 7A | Z16: Socjologia SE 7
C17: 7B | H17: Fizjologia CN 7B
C18: 8A | H18: Fizjologia CN 8A | V18: Angielski LE 8
C19: 8B | H19: Fizjologia CN 8B
C20: 9A | T20: Fizjologia CN 9A | AG20: Socjologia SE 9
C21: 9B | T21: Fizjologia CN 9B
C22: 10A | T22: Fizjologia CN 10A
C23: 10B | T23: Fizjologia CN 10B | AG23: Patofizjologia CN 10B
C24: 11A | O24: Angielski LE 11
C25: 11B
C26: 12A | L26: Socjologia SE 12 | V26: Angielski LE 12
C27: 12B | AM27: Patofizjologia CN 12B
C28: 13A | H28: Patofizjologia CN 13A | O28: Angielski LE 13
C29: 13B | H29: Patofizjologia CN 13B
C30: 14A | H30: Patofizjologia CN 14A | O30: Socjologia SE 14
C31: 14B | H31: Patofizjologia CN 14B
C32: 15A | H32: Socjologia SE 15 | O32: Patofizjologia CN 15A | V32: Angielski LE 15 | AF32: Fizjologia CN 15A
C33: 15B | O33: Patofizjologia CN 15B | AF33: Fizjologia CN 15B
C34: 16A | V34: Socjologia SE 16 | AF34: Fizjologia CN 16A
C35: 16B | AF35: Fizjologia CN 16B
C36: 17A | H36: Angielski LE 17 | V36: Patofizjologia CN 17A | AC36: Socjologia SE 17
C37: 17B | AS37: Patofizjologia CN 17B
C38: 18A | AC38: Angielski LE 18
C39: 18B | V39: Patofizjologia CN 18B
D40: 7:00-8:00 | H40: 8:00-9:00 | L40: 9:00-10:00 | P40: 10:00-11:00 | T40: 11:00-12:00 | X40: 12:00-13:00 | AB40: 13:00-14:00 | AF40: 14:00-15:00 | AJ40: 15:00-16:00 | AN40: 16:00-17:00 | AR40: 17:00-18:00 | AV40: 18:00-19:00 | AZ40: 19:00-20:00 | BD40: 20:00-21:00
A41: =A4+1 -> 46329 | B41: Wtorek | C41: 1A | H41: Biochemia CL 1,2,3,4,5,6 = SE 1, 2, 3 | AH41: Biochemia SE 1 | AV41: Patofizjologia WY1
C42: 1B
C43: 2A | AH43: Biochemia SE 2
C44: 2B
C45: 3A | U45: Biochemia CL 7,8,9,10,11,12,13,14,15,16,17,18 = SE 3,4,5,6,7 | AH45: Biochemia SE 3
C46: 3B
C47: 4A | AH47: Biochemia SE 4
C48: 4B
C49: 5A | AH49: Biochemia SE 5
C50: 5B
C51: 6A | AH51: Biochemia SE 6
C52: 6B
C53: 7A | I53: Psychologia lek. SE 7 | AH53: Biochemia SE 7
C54: 7B
C55: 8A | H55: Epidemiologia CN 8A | O55: Psychologia lek. SE 8
C56: 8B | H56: Epidemiologia CN 8B
C57: 9A | N57: Epidemiologia CN 9A | U57: Psychologia lek. SE 9
C58: 9B | N58: Epidemiologia CN 9B
C59: 10A | L59: Socjologia SE 10 | T59: Epidemiologia CN 10A | AA59: Psychologia lek. SE 10
C60: 10B | T60: Epidemiologia CN 10B
C61: 11A | S61: Socjologia SE 11 | Z61: Epidemiologia CN 11A
C62: 11B | Z62: Epidemiologia CN 11B
C63: 12A
C64: 12B | AF64: Fizjologia CN 12B
C65: 13A | Z65: Socjologia SE 13
C66: 13B
C67: 14A | O67: Angielski LE 14
C68: 14B
C69: 15A | H69: Fizjologia WY2
C70: 15B
C71: 16A | AN71: Patofizjologia CN 16A
C72: 16B | AN72: Patofizjologia CN 16B
C73: 17A
C74: 17B
C75: 18A | AF75: Fizjologia CN 18A | AS75: Patofizjologia CN 18A
C76: 18B | AF76: Fizjologia CN 18B
D77: 7:00-8:00 | H77: 8:00-9:00 | L77: 9:00-10:00 | P77: 10:00-11:00 | T77: 11:00-12:00 | X77: 12:00-13:00 | AB77: 13:00-14:00 | AF77: 14:00-15:00 | AJ77: 15:00-16:00 | AN77: 16:00-17:00 | AR77: 17:00-18:00 | AV77: 18:00-19:00 | AZ77: 19:00-20:00 | BD77: 20:00-21:00
A78: =A4+2 -> 46330 | B78: Środa | C78: 1A | L78: Psychologia lek. SE 1 | S78: Socjologia SE 1 | Z78: Angielski LE 1 | AV78: Fizjologia WY1
C79: 1B
C80: 2A | R80: Psychologia lek. SE 2 | Z80: Socjologia SE 2
C81: 2B
C82: 3A | X82: Psychologia lek. SE 3 | AG82: Socjologia SE 3
C83: 3B
C84: 4A | L84: Socjologia SE 4 | S84: Angielski LE 4 | AD84: Psychologia lek. SE 4
C85: 4B
C86: 5A
C87: 5B
C88: 6A | L88: Psychologia lek. SE 6 | T88: Epidemiologia CN 6A
C89: 6B | T89: Epidemiologia CN 6B
C90: 7A | S90: Angielski LE 7 | Z90: Epidemiologia CN 7A
C91: 7B | Z91: Epidemiologia CN 7B
C92: 8A
C93: 8B
C94: 9A
C95: 9B
C96: 10A
C97: 10B
C98: 11A | S98: Psychologia lek. SE 11 | AG98: Fizjologia CN 11A
C99: 11B | AG99: Fizjologia CN 11B
C100: 12A | Z100: Psychologia lek. SE 12 | AG100: Fizjologia CN 12A
...

Sheet 7
D1: 7:00-8:00 | H1: 8:00-9:00 | L1: 9:00-10:00 | P1: 10:00-11:00 | T1: 11:00-12:00 | X1: 12:00-13:00 | AB1: 13:00-14:00 | AF1: 14:00-15:00 | AJ1: 15:00-16:00 | AN1: 16:00-17:00 | AR1: 17:00-18:00 | AV1: 18:00-19:00 | AZ1: 19:00-20:00 | BD1: 20:00-21:00
C2: grupa
D3: 7:00-8:00 | H3: 8:00-9:00 | L3: 9:00-10:00 | P3: 10:00-11:00 | T3: 11:00-12:00 | X3: 12:00-13:00 | AB3: 13:00-14:00 | AF3: 14:00-15:00 | AJ3: 15:00-16:00 | AN3: 16:00-17:00 | AR3: 17:00-18:00 | AV3: 18:00-19:00 | AZ3: 19:00-20:00 | BD3: 20:00-21:00
A4: ='6'!A4:A39+7 -> 46335 | B4: poniedziałek | C4: 1A | H4: Epidemiologia SE 1
C5: 1B
C6: 2A | T6: Epidemiologia SE 2 | AC6: Angielski LE 2
C7: 2B
C8: 3A | N8: Epidemiologia SE 3
C9: 3B
C10: 4A
C11: 4B
C12: 5A | S12: Socjologia SE 5
C13: 5B
C14: 6A | H14: Angielski LE 6 | O14: Psychologia lek. SE 6
C15: 6B
C16: 7A | H16: Fizjologia CN 7A | Z16: Socjologia SE 7
C17: 7B | H17: Fizjologia CN 7B
C18: 8A | H18: Fizjologia CN 8A | V18: Angielski LE 8
C19: 8B | H19: Fizjologia CN 8B
C20: 9A | T20: Fizjologia CN 9A | AG20: Socjologia SE 9
C21: 9B | T21: Fizjologia CN 9B
C22: 10A | T22: Fizjologia CN 10A
C23: 10B | T23: Fizjologia CN 10B | AG23: Patofizjologia CN 10B
C24: 11A | O24: Angielski LE 11 | V24: Psychologia lek. SE 11
C25: 11B
C26: 12A | L26: Socjologia SE 12 | V26: Angielski LE 12 | AC26: Psychologia lek. SE 12
C27: 12B | AM27: Patofizjologia CN 12B
C28: 13A | H28: Patofizjologia CN 13A | O28: Angielski LE 13
C29: 13B | H29: Patofizjologia CN 13B
C30: 14A | H30: Patofizjologia CN 14A | O30: Socjologia SE 14
C31: 14B | H31: Patofizjologia CN 14B
C32: 15A | H32: Socjologia SE 15 | O32: Patofizjologia CN 15A | V32: Angielski LE 15 | AF32: Fizjologia CN 15A
C33: 15B | O33: Patofizjologia CN 15B | AF33: Fizjologia CN 15B
C34: 16A | V34: Socjologia SE 16 | AF34: Fizjologia CN 16A
C35: 16B | AF35: Fizjologia CN 16B
C36: 17A | H36: Angielski LE 17 | V36: Patofizjologia CN 17A | AC36: Socjologia SE 17
C37: 17B | AS37: Patofizjologia CN 17B
C38: 18A | AC38: Angielski LE 18
C39: 18B | V39: Patofizjologia CN 18B
D40: 7:00-8:00 | H40: 8:00-9:00 | L40: 9:00-10:00 | P40: 10:00-11:00 | T40: 11:00-12:00 | X40: 12:00-13:00 | AB40: 13:00-14:00 | AF40: 14:00-15:00 | AJ40: 15:00-16:00 | AN40: 16:00-17:00 | AR40: 17:00-18:00 | AV40: 18:00-19:00 | AZ40: 19:00-20:00 | BD40: 20:00-21:00
A41: =A4+1 -> 46336 | B41: Wtorek | C41: 1A | AH41: Biochemia SE 1 | AV41: Patofizjologia WY1
C42: 1B
C43: 2A | AH43: Biochemia SE 2
C44: 2B
C45: 3A | AH45: Biochemia SE 3
C46: 3B
C47: 4A | AH47: Biochemia SE 4
C48: 4B
C49: 5A | L49: Psychologia lek. SE 5 | AH49: Biochemia SE 5
C50: 5B
C51: 6A | AH51: Biochemia SE 6
C52: 6B
C53: 7A | AH53: Biochemia SE 7
C54: 7B
C55: 8A | H55: Epidemiologia SE 8
C56: 8B
C57: 9A | N57: Epidemiologia SE 9
C58: 9B
C59: 10A | L59: Socjologia SE 10 | T59: Epidemiologia SE 10
C60: 10B
C61: 11A | S61: Socjologia SE 11 | Z61: Epidemiologia SE 11
C62: 11B
C63: 12A
C64: 12B | AF64: Fizjologia CN 12B
C65: 13A | S65: Psychologia lek. SE 13 | Z65: Socjologia SE 13
C66: 13B
C67: 14A | O67: Angielski LE 14 | Z67: Psychologia lek. SE 14
C68: 14B
C69: 15A | H69: Fizjologia WY2
C70: 15B
C71: 16A | AN71: Patofizjologia CN 16A
C72: 16B | AN72: Patofizjologia CN 16B
C73: 17A
C74: 17B
C75: 18A | AF75: Fizjologia CN 18A | AS75: Patofizjologia CN 18A
C76: 18B | AF76: Fizjologia CN 18B
D77: 7:00-8:00 | H77: 8:00-9:00 | L77: 9:00-10:00 | P77: 10:00-11:00 | T77: 11:00-12:00 | X77: 12:00-13:00 | AB77: 13:00-14:00 | AF77: 14:00-15:00 | AJ77: 15:00-16:00 | AN77: 16:00-17:00 | AR77: 17:00-18:00 | AV77: 18:00-19:00 | AZ77: 19:00-20:00 | BD77: 20:00-21:00
A78: =A4+2 -> 46337 | B78: Środa | C78: 1A
C79: 1B
C80: 2A
C81: 2B
C82: 3A
C83: 3B
C84: 4A
C85: 4B
C86: 5A
C87: 5B
C88: 6A
C89: 6B
C90: 7A
... C113: 18B
D114: 7:00-8:00 | H114: 8:00-9:00 | L114: 9:00-10:00 | P114: 10:00-11:00 | T114: 11:00-12:00 | X114: 12:00-13:00 | AB114: 13:00-14:00 | AF114: 14:00-15:00 | AJ114: 15:00-16:00 | AN114: 16:00-17:00 | AR114: 17:00-18:00 | AV114: 18:00-19:00 | AZ114: 19:00-20:00 | BD114: 20:00-21:00
A115: =A4+3 -> 46338 | B115: czwartek | C115: 1A | S115: Socjologia SE 1 | Z115: Angielski LE 1 | AV115: Fizjologia WY1
C116: 1B
C117: 2A | Z117: Socjologia SE 2
C118: 2B
C119: 3A | AG119: Socjologia SE 3
C120: 3B
C121: 4A | L121: Socjologia SE 4 | S121: Angielski LE 4
C122: 4B
...

Sheet 8
D1: 7:00-8:00 | H1: 8:00-9:00 | L1: 9:00-10:00 | P1: 10:00-11:00 | T1: 11:00-12:00 | X1: 12:00-13:00 | AB1: 13:00-14:00 | AF1: 14:00-15:00 | AJ1: 15:00-16:00 | AN1: 16:00-17:00 | AR1: 17:00-18:00 | AV1: 18:00-19:00 | AZ1: 19:00-20:00 | BD1: 20:00-21:00
C2: grupa
D3: 7:00-8:00 | H3: 8:00-9:00 | L3: 9:00-10:00 | P3: 10:00-11:00 | T3: 11:00-12:00 | X3: 12:00-13:00 | AB3: 13:00-14:00 | AF3: 14:00-15:00 | AJ3: 15:00-16:00 | AN3: 16:00-17:00 | AR3: 17:00-18:00 | AV3: 18:00-19:00 | AZ3: 19:00-20:00 | BD3: 20:00-21:00
A4: ='7'!A4:A39+7 -> 46342 | B4: poniedziałek | C4: 1A | H4: Epidemiologia CN 1A
C5: 1B | H5: Epidemiologia CN 1B
C6: 2A | T6: Epidemiologia CN 2A | AC6: Angielski LE 2
C7: 2B | T7: Epidemiologia CN 2B
C8: 3A | N8: Epidemiologia CN 3A
C9: 3B | N9: Epidemiologia CN 3B
C10: 4A
C11: 4B
C12: 5A | S12: Socjologia SE 5
C13: 5B
C14: 6A | H14: Angielski LE 6 | O14: Psychologia lek. SE 6
C15: 6B
C16: 7A | H16: Fizjologia CN 7A | Z16: Socjologia SE 7
C17: 7B | H17: Fizjologia CN 7B
C18: 8A | H18: Fizjologia CN 8A | V18: Angielski LE 8
C19: 8B | H19: Fizjologia CN 8B
C20: 9A | T20: Fizjologia CN 9A | AG20: Socjologia SE 9
C21: 9B | T21: Fizjologia CN 9B
C22: 10A | T22: Fizjologia CN 10A
C23: 10B | T23: Fizjologia CN 10B | AG23: Patofizjologia CN 10B
C24: 11A | O24: Angielski LE 11 | V24: Psychologia lek. SE 11
C25: 11B
C26: 12A | L26: Socjologia SE 12 | V26: Angielski LE 12 | AC26: Psychologia lek. SE 12
C27: 12B | AM27: Patofizjologia CN 12B
C28: 13A | H28: Patofizjologia CN 13A | O28: Angielski LE 13
C29: 13B | H29: Patofizjologia CN 13B
C30: 14A | H30: Patofizjologia CN 14A | O30: Socjologia SE 14
C31: 14B | H31: Patofizjologia CN 14B
C32: 15A | H32: Socjologia SE 15 | O32: Patofizjologia CN 15A | V32: Angielski LE 15 | AF32: Fizjologia CN 15A
C33: 15B | O33: Patofizjologia CN 15B | AF33: Fizjologia CN 15B
C34: 16A | V34: Socjologia SE 16 | AF34: Fizjologia CN 16A
C35: 16B | AF35: Fizjologia CN 16B
C36: 17A | H36: Angielski LE 17 | V36: Patofizjologia CN 17A | AC36: Socjologia SE 17
C37: 17B | AS37: Patofizjologia CN 17B
C38: 18A | AC38: Angielski LE 18
C39: 18B | V39: Patofizjologia CN 18B
D40: 7:00-8:00 | H40: 8:00-9:00 | L40: 9:00-10:00 | P40: 10:00-11:00 | T40: 11:00-12:00 | X40: 12:00-13:00 | AB40: 13:00-14:00 | AF40: 14:00-15:00 | AJ40: 15:00-16:00 | AN40: 16:00-17:00 | AR40: 17:00-18:00 | AV40: 18:00-19:00 | AZ40: 19:00-20:00 | BD40: 20:00-21:00
A41: =A4+1 -> 46343 | B41: Wtorek | C41: 1A | H41: Biochemia CL 1,2,3,4,5,6 = SE 1, 2, 3 | AH41: Biochemia SE 1 | AV41: Patofizjologia WY1
C42: 1B
C43: 2A | AH43: Biochemia SE 2
C44: 2B
C45: 3A | U45: Biochemia CL 7,8,9,10,11,12,13,14,15,16,17,18 = SE 3,4,5,6,7 | AH45: Biochemia SE 3
C46: 3B
C47: 4A | AH47: Biochemia SE 4
C48: 4B
C49: 5A | L49: Psychologia lek. SE 5 | AH49: Biochemia SE 5
C50: 5B
C51: 6A | AH51: Biochemia SE 6
C52: 6B
C53: 7A | I53: Psychologia lek. SE 7 | AH53: Biochemia SE 7
C54: 7B
C55: 8A | H55: Epidemiologia CN 8A | O55: Psychologia lek. SE 8
C56: 8B | H56: Epidemiologia CN 8B
C57: 9A | N57: Epidemiologia CN 9A | U57: Psychologia lek. SE 9
C58: 9B | N58: Epidemiologia CN 9B
C59: 10A | L59: Socjologia SE 10 | T59: Epidemiologia CN 10A | AA59: Psychologia lek. SE 10
C60: 10B | T60: Epidemiologia CN 10B
C61: 11A | S61: Socjologia SE 11 | Z61: Epidemiologia CN 11A
C62: 11B | Z62: Epidemiologia CN 11B
C63: 12A
C64: 12B | AF64: Fizjologia CN 12B
C65: 13A | S65: Psychologia lek. SE 13 | Z65: Socjologia SE 13
C66: 13B
C67: 14A | O67: Angielski LE 14 | Z67: Psychologia lek. SE 14
C68: 14B
C69: 15A | H69: Fizjologia WY2
C70: 15B
C71: 16A | AN71: Patofizjologia CN 16A
C72: 16B | AN72: Patofizjologia CN 16B
C73: 17A
C74: 17B
C75: 18A | AF75: Fizjologia CN 18A | AS75: Patofizjologia CN 18A
C76: 18B | AF76: Fizjologia CN 18B
D77: 7:00-8:00 | H77: 8:00-9:00 | L77: 9:00-10:00 | P77: 10:00-11:00 | T77: 11:00-12:00 | X77: 12:00-13:00 | AB77: 13:00-14:00 | AF77: 14:00-15:00 | AJ77: 15:00-16:00 | AN77: 16:00-17:00 | AR77: 17:00-18:00 | AV77: 18:00-19:00 | AZ77: 19:00-20:00 | BD77: 20:00-21:00
A78: =A4+2 -> 46344 | B78: Środa | C78: 1A | L78: Psychologia lek. SE 1 | S78: Socjologia SE 1 | Z78: Angielski LE 1 | AV78: Fizjologia WY1
C79: 1B
C80: 2A | R80: Psychologia lek. SE 2 | Z80: Socjologia SE 2
C81: 2B
C82: 3A | X82: Psychologia lek. SE 3 | AG82: Socjologia SE 3
C83: 3B
C84: 4A | L84: Socjologia SE 4 | S84: Angielski LE 4 | AD84: Psychologia lek. SE 4
C85: 4B
C86: 5A | N86: Psychologia lek. SE 5
C87: 5B
C88: 6A | T88: Epidemiologia CN 6A
C89: 6B | T89: Epidemiologia CN 6B
C90: 7A | S90: Angielski LE 7 | Z90: Epidemiologia CN 7A
C91: 7B | Z91: Epidemiologia CN 7B
C92: 8A
C93: 8B
C94: 9A
C95: 9B
C96: 10A
C97: 10B
C98: 11A | AG98: Fizjologia CN 11A
C99: 11B | AG99: Fizjologia CN 11B
C100: 12A | AG100: Fizjologia CN 12A
...

Sheet 9
D1: 7:00-8:00 | H1: 8:00-9:00 | L1: 9:00-10:00 | P1: 10:00-11:00 | T1: 11:00-12:00 | X1: 12:00-13:00 | AB1: 13:00-14:00 | AF1: 14:00-15:00 | AJ1: 15:00-16:00 | AN1: 16:00-17:00 | AR1: 17:00-18:00 | AV1: 18:00-19:00 | AZ1: 19:00-20:00 | BD1: 20:00-21:00
C2: grupa
D3: 7:00-8:00 | H3: 8:00-9:00 | L3: 9:00-10:00 | P3: 10:00-11:00 | T3: 11:00-12:00 | X3: 12:00-13:00 | AB3: 13:00-14:00 | AF3: 14:00-15:00 | AJ3: 15:00-16:00 | AN3: 16:00-17:00 | AR3: 17:00-18:00 | AV3: 18:00-19:00 | AZ3: 19:00-20:00 | BD3: 20:00-21:00
A4: ='8'!A4:A39+7 -> 46349 | B4: poniedziałek | C4: 1A | H4: Epidemiologia CN 1A
C5: 1B | H5: Epidemiologia CN 1B
C6: 2A | T6: Epidemiologia CN 2A | AC6: Angielski LE 2
C7: 2B | T7: Epidemiologia CN 2B
C8: 3A | N8: Epidemiologia CN 3A
C9: 3B | N9: Epidemiologia CN 3B
C10: 4A
C11: 4B
C12: 5A | S12: Socjologia SE 5
C13: 5B
C14: 6A | H14: Angielski LE 6 | O14: Psychologia lek. SE 6
C15: 6B
C16: 7A | H16: Fizjologia CN 7A | Z16: Socjologia SE 7
C17: 7B | H17: Fizjologia CN 7B
C18: 8A | H18: Fizjologia CN 8A | V18: Angielski LE 8
C19: 8B | H19: Fizjologia CN 8B
C20: 9A | T20: Fizjologia CN 9A | AG20: Socjologia SE 9
C21: 9B | T21: Fizjologia CN 9B
C22: 10A | T22: Fizjologia CN 10A
C23: 10B | T23: Fizjologia CN 10B | AG23: Patofizjologia CN 10B
C24: 11A | O24: Angielski LE 11 | V24: Psychologia lek. SE 11
C25: 11B
C26: 12A | L26: Socjologia SE 12 | V26: Angielski LE 12 | AC26: Psychologia lek. SE 12
C27: 12B | AM27: Patofizjologia CN 12B
C28: 13A | H28: Patofizjologia CN 13A | O28: Angielski LE 13
C29: 13B | H29: Patofizjologia CN 13B
C30: 14A | H30: Patofizjologia CN 14A | O30: Socjologia SE 14
C31: 14B | H31: Patofizjologia CN 14B
C32: 15A | H32: Socjologia SE 15 | O32: Patofizjologia CN 15A | V32: Angielski LE 15 | AF32: Fizjologia CN 15A
C33: 15B | O33: Patofizjologia CN 15B | AF33: Fizjologia CN 15B
C34: 16A | V34: Socjologia SE 16 | AF34: Fizjologia CN 16A
C35: 16B | AF35: Fizjologia CN 16B
C36: 17A | H36: Angielski LE 17 | V36: Patofizjologia CN 17A | AC36: Socjologia SE 17
C37: 17B | AS37: Patofizjologia CN 17B
C38: 18A | AC38: Angielski LE 18
C39: 18B | V39: Patofizjologia CN 18B
D40: 7:00-8:00 | H40: 8:00-9:00 | L40: 9:00-10:00 | P40: 10:00-11:00 | T40: 11:00-12:00 | X40: 12:00-13:00 | AB40: 13:00-14:00 | AF40: 14:00-15:00 | AJ40: 15:00-16:00 | AN40: 16:00-17:00 | AR40: 17:00-18:00 | AV40: 18:00-19:00 | AZ40: 19:00-20:00 | BD40: 20:00-21:00
A41: =A4+1 -> 46350 | B41: Wtorek | C41: 1A | H41: Biochemia CL 1,2,3,4,5,6 = SE 1, 2, 3 | AH41: Biochemia SE 1
C42: 1B
C43: 2A | AH43: Biochemia SE 2
C44: 2B
C45: 3A | U45: Biochemia CL 7,8,9,10,11,12,13,14,15,16,17,18 = SE 3,4,5,6,7 | AH45: Biochemia SE 3
C46: 3B
C47: 4A | AH47: Biochemia SE 4
C48: 4B
C49: 5A | AH49: Biochemia SE 5
C50: 5B | L50: Psychologia lek. SE 5
C51: 6A | AH51: Biochemia SE 6
C52: 6B
C53: 7A | I53: Psychologia lek. SE 7 | AH53: Biochemia SE 7
C54: 7B
C55: 8A | H55: Epidemiologia CN 8A | O55: Psychologia lek. SE 8
C56: 8B | H56: Epidemiologia CN 8B
C57: 9A | N57: Epidemiologia CN 9A | U57: Psychologia lek. SE 9
C58: 9B | N58: Epidemiologia CN 9B
C59: 10A | L59: Socjologia SE 10 | T59: Epidemiologia CN 10A | AA59: Psychologia lek. SE 10
C60: 10B | T60: Epidemiologia CN 10B
C61: 11A | S61: Socjologia SE 11 | Z61: Epidemiologia CN 11A
C62: 11B | Z62: Epidemiologia CN 11B
C63: 12A
C64: 12B | AF64: Fizjologia CN 12B
C65: 13A | S65: Psychologia lek. SE 13 | Z65: Socjologia SE 13
C66: 13B
C67: 14A | O67: Angielski LE 14 | Z67: Psychologia lek. SE 14
C68: 14B
C69: 15A | H69: Fizjologia WY2
C70: 15B
C71: 16A | AN71: Patofizjologia CN 16A
C72: 16B | AN72: Patofizjologia CN 16B
C73: 17A
C74: 17B
C75: 18A | AF75: Fizjologia CN 18A | AS75: Patofizjologia CN 18A
C76: 18B | AF76: Fizjologia CN 18B
D77: 7:00-8:00 | H77: 8:00-9:00 | L77: 9:00-10:00 | P77: 10:00-11:00 | T77: 11:00-12:00 | X77: 12:00-13:00 | AB77: 13:00-14:00 | AF77: 14:00-15:00 | AJ77: 15:00-16:00 | AN77: 16:00-17:00 | AR77: 17:00-18:00 | AV77: 18:00-19:00 | AZ77: 19:00-20:00 | BD77: 20:00-21:00
A78: =A4+2 -> 46351 | B78: Środa | C78: 1A | L78: Psychologia lek. SE 1 | S78: Socjologia SE 1 | Z78: Angielski LE 1 | AV78: Fizjologia WY1
C79: 1B
C80: 2A | R80: Psychologia lek. SE 2 | Z80: Socjologia SE 2
C81: 2B
C82: 3A | X82: Psychologia lek. SE 3 | AG82: Socjologia SE 3
C83: 3B
C84: 4A | L84: Socjologia SE 4 | S84: Angielski LE 4 | AD84: Psychologia lek. SE 4
C85: 4B
C86: 5A
C87: 5B
C88: 6A | T88: Epidemiologia CN 6A
C89: 6B | T89: Epidemiologia CN 6B
C90: 7A | S90: Angielski LE 7 | Z90: Epidemiologia CN 7A
C91: 7B | Z91: Epidemiologia CN 7B
C92: 8A
C93: 8B
C94: 9A
C95: 9B
C96: 10A
C97: 10B
C98: 11A | AG98: Fizjologia CN 11A
C99: 11B | AG99: Fizjologia CN 11B
C100: 12A | AG100: Fizjologia CN 12A
...

Sheet 10
D1: 7:00-8:00 | H1: 8:00-9:00 | L1: 9:00-10:00 | P1: 10:00-11:00 | T1: 11:00-12:00 | X1: 12:00-13:00 | AB1: 13:00-14:00 | AF1: 14:00-15:00 | AJ1: 15:00-16:00 | AN1: 16:00-17:00 | AR1: 17:00-18:00 | AV1: 18:00-19:00 | AZ1: 19:00-20:00 | BD1: 20:00-21:00
C2: grupa
D3: 7:00-8:00 | H3: 8:00-9:00 | L3: 9:00-10:00 | P3: 10:00-11:00 | T3: 11:00-12:00 | X3: 12:00-13:00 | AB3: 13:00-14:00 | AF3: 14:00-15:00 | AJ3: 15:00-16:00 | AN3: 16:00-17:00 | AR3: 17:00-18:00 | AV3: 18:00-19:00 | AZ3: 19:00-20:00 | BD3: 20:00-21:00
A4: ='9'!A4:A39+7 -> 46356 | B4: poniedziałek | C4: 1A | H4: Epidemiologia CN 1A
C5: 1B | H5: Epidemiologia CN 1B
C6: 2A | T6: Epidemiologia CN 2A | AC6: Angielski LE 2
C7: 2B | T7: Epidemiologia CN 2B
C8: 3A | N8: Epidemiologia CN 3A
C9: 3B | N9: Epidemiologia CN 3B
C10: 4A
C11: 4B
C12: 5A | S12: Socjologia SE 5
C13: 5B
C14: 6A | H14: Angielski LE 6 | O14: Psychologia lek. SE 6
C15: 6B
C16: 7A | H16: Fizjologia CN 7A | Z16: Socjologia SE 7
C17: 7B | H17: Fizjologia CN 7B
C18: 8A | H18: Fizjologia CN 8A | V18: Angielski LE 8
C19: 8B | H19: Fizjologia CN 8B
C20: 9A | T20: Fizjologia CN 9A | AG20: Socjologia SE 9
C21: 9B | T21: Fizjologia CN 9B
C22: 10A | T22: Fizjologia CN 10A
C23: 10B | T23: Fizjologia CN 10B | AG23: Patofizjologia CN 10B
C24: 11A | O24: Angielski LE 11 | V24: Psychologia lek. SE 11
C25: 11B
C26: 12A | L26: Socjologia SE 12 | V26: Angielski LE 12 | AC26: Psychologia lek. SE 12
C27: 12B | AM27: Patofizjologia CN 12B
C28: 13A | H28: Patofizjologia CN 13A | O28: Angielski LE 13
C29: 13B | H29: Patofizjologia CN 13B
C30: 14A | H30: Patofizjologia CN 14A | O30: Socjologia SE 14
C31: 14B | H31: Patofizjologia CN 14B
C32: 15A | H32: Socjologia SE 15 | O32: Patofizjologia CN 15A | V32: Angielski LE 15 | AF32: Fizjologia CN 15A
C33: 15B | O33: Patofizjologia CN 15B | AF33: Fizjologia CN 15B
C34: 16A | V34: Socjologia SE 16 | AF34: Fizjologia CN 16A
C35: 16B | AF35: Fizjologia CN 16B
C36: 17A | H36: Angielski LE 17 | V36: Patofizjologia CN 17A | AC36: Socjologia SE 17
C37: 17B | AS37: Patofizjologia CN 17B
C38: 18A | AC38: Angielski LE 18
C39: 18B | V39: Patofizjologia CN 18B
D40: 7:00-8:00 | H40: 8:00-9:00 | L40: 9:00-10:00 | P40: 10:00-11:00 | T40: 11:00-12:00 | X40: 12:00-13:00 | AB40: 13:00-14:00 | AF40: 14:00-15:00 | AJ40: 15:00-16:00 | AN40: 16:00-17:00 | AR40: 17:00-18:00 | AV40: 18:00-19:00 | AZ40: 19:00-20:00 | BD40: 20:00-21:00
A41: =A4+1 -> 46357 | B41: Wtorek | C41: 1A | H41: Biochemia CL 1,2,3,4,5,6 = SE 1, 2, 3 | AH41: Biochemia SE 1
C42: 1B
C43: 2A | AH43: Biochemia SE 2
C44: 2B
C45: 3A | U45: Biochemia CL 7,8,9,10,11,12,13,14,15,16,17,18 = SE 3,4,5,6,7 | AH45: Biochemia SE 3
C46: 3B
C47: 4A | AH47: Biochemia SE 4
C48: 4B
C49: 5A | L49: Psychologia lek. SE 5 | AH49: Biochemia SE 5
C50: 5B
C51: 6A | AH51: Biochemia SE 6
C52: 6B
C53: 7A | I53: Psychologia lek. SE 7 | AH53: Biochemia SE 7
C54: 7B
C55: 8A | H55: Epidemiologia CN 8A | O55: Psychologia lek. SE 8
C56: 8B | H56: Epidemiologia CN 8B
C57: 9A | N57: Epidemiologia CN 9A | U57: Psychologia lek. SE 9
C58: 9B | N58: Epidemiologia CN 9B
C59: 10A | L59: Socjologia SE 10 | T59: Epidemiologia CN 10A | AA59: Psychologia lek. SE 10
C60: 10B | T60: Epidemiologia CN 10B
C61: 11A | S61: Socjologia SE 11 | Z61: Epidemiologia CN 11A
C62: 11B | Z62: Epidemiologia CN 11B
C63: 12A
C64: 12B | AF64: Fizjologia CN 12B
C65: 13A | S65: Psychologia lek. SE 13 | Z65: Socjologia SE 13
C66: 13B
C67: 14A | O67: Angielski LE 14 | Z67: Psychologia lek. SE 14
C68: 14B
C69: 15A | H69: Fizjologia WY2
C70: 15B
C71: 16A | AN71: Patofizjologia CN 16A
C72: 16B | AN72: Patofizjologia CN 16B
C73: 17A
C74: 17B
C75: 18A | AF75: Fizjologia CN 18A | AS75: Patofizjologia CN 18A
C76: 18B | AF76: Fizjologia CN 18B
D77: 7:00-8:00 | H77: 8:00-9:00 | L77: 9:00-10:00 | P77: 10:00-11:00 | T77: 11:00-12:00 | X77: 12:00-13:00 | AB77: 13:00-14:00 | AF77: 14:00-15:00 | AJ77: 15:00-16:00 | AN77: 16:00-17:00 | AR77: 17:00-18:00 | AV77: 18:00-19:00 | AZ77: 19:00-20:00 | BD77: 20:00-21:00
A78: =A4+2 -> 46358 | B78: Środa | C78: 1A | L78: Psychologia lek. SE 1 | S78: Socjologia SE 1 | Z78: Angielski LE 1 | AV78: Fizjologia WY1
C79: 1B
C80: 2A | R80: Psychologia lek. SE 2 | Z80: Socjologia SE 2
C81: 2B
C82: 3A | X82: Psychologia lek. SE 3 | AG82: Socjologia SE 3
C83: 3B
C84: 4A | L84: Socjologia SE 4 | S84: Angielski LE 4 | AD84: Psychologia lek. SE 4
C85: 4B
C86: 5A
C87: 5B
C88: 6A | T88: Epidemiologia CN 6A
C89: 6B | T89: Epidemiologia CN 6B
C90: 7A | S90: Angielski LE 7 | Z90: Epidemiologia CN 7A
C91: 7B | Z91: Epidemiologia CN 7B
C92: 8A
C93: 8B
C94: 9A
C95: 9B
C96: 10A
C97: 10B
C98: 11A | AG98: Fizjologia CN 11A
C99: 11B | AG99: Fizjologia CN 11B
C100: 12A | AG100: Fizjologia CN 12A
...

Sheet 11
D1: 7:00-8:00 | H1: 8:00-9:00 | L1: 9:00-10:00 | P1: 10:00-11:00 | T1: 11:00-12:00 | X1: 12:00-13:00 | AB1: 13:00-14:00 | AF1: 14:00-15:00 | AJ1: 15:00-16:00 | AN1: 16:00-17:00 | AR1: 17:00-18:00 | AV1: 18:00-19:00 | AZ1: 19:00-20:00 | BD1: 20:00-21:00
C2: grupa
D3: 7:00-8:00 | H3: 8:00-9:00 | L3: 9:00-10:00 | P3: 10:00-11:00 | T3: 11:00-12:00 | X3: 12:00-13:00 | AB3: 13:00-14:00 | AF3: 14:00-15:00 | AJ3: 15:00-16:00 | AN3: 16:00-17:00 | AR3: 17:00-18:00 | AV3: 18:00-19:00 | AZ3: 19:00-20:00 | BD3: 20:00-21:00
A4: ='10'!A4:A39+7 -> 46363 | B4: poniedziałek | C4: 1A | H4: Epidemiologia CN 1A
C5: 1B | H5: Epidemiologia CN 1B
C6: 2A | T6: Epidemiologia CN 2A | AC6: Angielski LE 2
C7: 2B | T7: Epidemiologia CN 2B
C8: 3A | N8: Epidemiologia CN 3A
C9: 3B | N9: Epidemiologia CN 3B
C10: 4A
C11: 4B
C12: 5A | S12: Socjologia SE 5
C13: 5B
C14: 6A | H14: Angielski LE 6 | O14: Psychologia lek. SE 6
C15: 6B
C16: 7A | H16: Fizjologia CN 7A | Z16: Socjologia SE 7
C17: 7B | H17: Fizjologia CN 7B
C18: 8A | H18: Fizjologia CN 8A | V18: Angielski LE 8
C19: 8B | H19: Fizjologia CN 8B
C20: 9A | T20: Fizjologia CN 9A | AG20: Socjologia SE 9
C21: 9B | T21: Fizjologia CN 9B
C22: 10A | T22: Fizjologia CN 10A
C23: 10B | T23: Fizjologia CN 10B | AG23: Patofizjologia CN 10B
C24: 11A | O24: Angielski LE 11 | V24: Psychologia lek. SE 11
C25: 11B
C26: 12A | L26: Socjologia SE 12 | V26: Angielski LE 12 | AC26: Psychologia lek. SE 12
C27: 12B | AM27: Patofizjologia CN 12B
C28: 13A | H28: Patofizjologia CN 13A | O28: Angielski LE 13
C29: 13B | H29: Patofizjologia CN 13B
C30: 14A | H30: Patofizjologia CN 14A | O30: Socjologia SE 14
C31: 14B | H31: Patofizjologia CN 14B
C32: 15A | H32: Socjologia SE 15 | O32: Patofizjologia CN 15A | V32: Angielski LE 15 | AF32: Fizjologia CN 15A
C33: 15B | O33: Patofizjologia CN 15B | AF33: Fizjologia CN 15B
C34: 16A | V34: Socjologia SE 16 | AF34: Fizjologia CN 16A
C35: 16B | AF35: Fizjologia CN 16B
C36: 17A | H36: Angielski LE 17 | V36: Patofizjologia CN 17A | AC36: Socjologia SE 17
C37: 17B | AS37: Patofizjologia CN 17B
C38: 18A | AC38: Angielski LE 18
C39: 18B | V39: Patofizjologia CN 18B
D40: 7:00-8:00 | H40: 8:00-9:00 | L40: 9:00-10:00 | P40: 10:00-11:00 | T40: 11:00-12:00 | X40: 12:00-13:00 | AB40: 13:00-14:00 | AF40: 14:00-15:00 | AJ40: 15:00-16:00 | AN40: 16:00-17:00 | AR40: 17:00-18:00 | AV40: 18:00-19:00 | AZ40: 19:00-20:00 | BD40: 20:00-21:00
A41: =A4+1 -> 46364 | B41: Wtorek | C41: 1A | H41: Biochemia CL 1,2,3,4,5,6 = SE 1, 2, 3 | AH41: Biochemia SE 1
C42: 1B
C43: 2A | AH43: Biochemia SE 2
C44: 2B
C45: 3A | U45: Biochemia CL 7,8,9,10,11,12,13,14,15,16,17,18 = SE 3,4,5,6,7 | AH45: Biochemia SE 3
C46: 3B
C47: 4A | AH47: Biochemia SE 4
C48: 4B
C49: 5A | L49: Psychologia lek. SE 5 | AH49: Biochemia SE 5
C50: 5B
C51: 6A | AH51: Biochemia SE 6
C52: 6B
C53: 7A | I53: Psychologia lek. SE 7 | AH53: Biochemia SE 7
C54: 7B
C55: 8A | H55: Epidemiologia CN 8A | O55: Psychologia lek. SE 8
C56: 8B | H56: Epidemiologia CN 8B
C57: 9A | N57: Epidemiologia CN 9A | U57: Psychologia lek. SE 9
C58: 9B | N58: Epidemiologia CN 9B
C59: 10A | L59: Socjologia SE 10 | T59: Epidemiologia CN 10A | AA59: Psychologia lek. SE 10
C60: 10B | T60: Epidemiologia CN 10B
C61: 11A | S61: Socjologia SE 11 | Z61: Epidemiologia CN 11A
C62: 11B | Z62: Epidemiologia CN 11B
C63: 12A
C64: 12B | AF64: Fizjologia CN 12B
C65: 13A | S65: Psychologia lek. SE 13 | Z65: Socjologia SE 13
C66: 13B
C67: 14A | O67: Angielski LE 14 | Z67: Psychologia lek. SE 14
C68: 14B
C69: 15A | H69: Fizjologia WY2
C70: 15B
C71: 16A | AN71: Patofizjologia CN 16A
C72: 16B | AN72: Patofizjologia CN 16B
C73: 17A
C74: 17B
C75: 18A | AF75: Fizjologia CN 18A | AS75: Patofizjologia CN 18A
C76: 18B | AF76: Fizjologia CN 18B
D77: 7:00-8:00 | H77: 8:00-9:00 | L77: 9:00-10:00 | P77: 10:00-11:00 | T77: 11:00-12:00 | X77: 12:00-13:00 | AB77: 13:00-14:00 | AF77: 14:00-15:00 | AJ77: 15:00-16:00 | AN77: 16:00-17:00 | AR77: 17:00-18:00 | AV77: 18:00-19:00 | AZ77: 19:00-20:00 | BD77: 20:00-21:00
A78: =A4+2 -> 46365 | B78: Środa | C78: 1A | L78: Psychologia lek. SE 1 | S78: Socjologia SE 1 | Z78: Angielski LE 1 | AV78: Fizjologia WY1
C79: 1B
C80: 2A | R80: Psychologia lek. SE 2 | Z80: Socjologia SE 2
C81: 2B
C82: 3A | X82: Psychologia lek. SE 3 | AG82: Socjologia SE 3
C83: 3B
C84: 4A | L84: Socjologia SE 4 | S84: Angielski LE 4 | AD84: Psychologia lek. SE 4
C85: 4B
C86: 5A
C87: 5B
C88: 6A | T88: Epidemiologia CN 6A
C89: 6B | T89: Epidemiologia CN 6B
C90: 7A | S90: Angielski LE 7 | Z90: Epidemiologia CN 7A
C91: 7B | Z91: Epidemiologia CN 7B
C92: 8A
C93: 8B
C94: 9A
C95: 9B
C96: 10A
C97: 10B
C98: 11A | AG98: Fizjologia CN 11A
C99: 11B | AG99: Fizjologia CN 11B
C100: 12A | AG100: Fizjologia CN 12A
...

Sheet 12
D1: 7:00-8:00 | H1: 8:00-9:00 | L1: 9:00-10:00 | P1: 10:00-11:00 | T1: 11:00-12:00 | X1: 12:00-13:00 | AB1: 13:00-14:00 | AF1: 14:00-15:00 | AJ1: 15:00-16:00 | AN1: 16:00-17:00 | AR1: 17:00-18:00 | AV1: 18:00-19:00 | AZ1: 19:00-20:00 | BD1: 20:00-21:00
C2: grupa
D3: 7:00-8:00 | H3: 8:00-9:00 | L3: 9:00-10:00 | P3: 10:00-11:00 | T3: 11:00-12:00 | X3: 12:00-13:00 | AB3: 13:00-14:00 | AF3: 14:00-15:00 | AJ3: 15:00-16:00 | AN3: 16:00-17:00 | AR3: 17:00-18:00 | AV3: 18:00-19:00 | AZ3: 19:00-20:00 | BD3: 20:00-21:00
A4: ='11'!A4:A39+7 -> 46370 | B4: poniedziałek | C4: 1A | H4: Epidemiologia SE 1
C5: 1B
C6: 2A | T6: Epidemiologia SE 2 | AC6: Angielski LE 2
C7: 2B
C8: 3A | N8: Epidemiologia SE 3
C9: 3B
C10: 4A
C11: 4B
C12: 5A
C13: 5B
C14: 6A | H14: Angielski LE 6 | O14: Psychologia lek. SE 6
C15: 6B
C16: 7A | H16: Fizjologia CN 7A
C17: 7B | H17: Fizjologia CN 7B
C18: 8A | H18: Fizjologia CN 8A | V18: Angielski LE 8
C19: 8B | H19: Fizjologia CN 8B
C20: 9A | T20: Fizjologia CN 9A
C21: 9B | T21: Fizjologia CN 9B
C22: 10A | T22: Fizjologia CN 10A
C23: 10B | T23: Fizjologia CN 10B | AG23: Patofizjologia CN 10B
C24: 11A | O24: Angielski LE 11 | V24: Psychologia lek. SE 11
C25: 11B
C26: 12A | V26: Angielski LE 12 | AC26: Psychologia lek. SE 12
C27: 12B | AM27: Patofizjologia CN 12B
C28: 13A | H28: Patofizjologia CN 13A | O28: Angielski LE 13
C29: 13B | H29: Patofizjologia CN 13B
C30: 14A | H30: Patofizjologia CN 14A
C31: 14B | H31: Patofizjologia CN 14B
C32: 15A | O32: Patofizjologia CN 15A | V32: Angielski LE 15 | AF32: Fizjologia CN 15A
C33: 15B | O33: Patofizjologia CN 15B | AF33: Fizjologia CN 15B
C34: 16A | AF34: Fizjologia CN 16A
C35: 16B | AF35: Fizjologia CN 16B
C36: 17A | H36: Angielski LE 17 | V36: Patofizjologia CN 17A
C37: 17B | AS37: Patofizjologia CN 17B
C38: 18A | AC38: Angielski LE 18
C39: 18B | V39: Patofizjologia CN 18B
D40: 7:00-8:00 | H40: 8:00-9:00 | L40: 9:00-10:00 | P40: 10:00-11:00 | T40: 11:00-12:00 | X40: 12:00-13:00 | AB40: 13:00-14:00 | AF40: 14:00-15:00 | AJ40: 15:00-16:00 | AN40: 16:00-17:00 | AR40: 17:00-18:00 | AV40: 18:00-19:00 | AZ40: 19:00-20:00 | BD40: 20:00-21:00
A41: =A4+1 -> 46371 | B41: Wtorek | C41: 1A | H41: Biochemia CL 1,2,3,4,5,6 = SE 1, 2, 3 | AH41: Biochemia SE 1
C42: 1B
C43: 2A | AH43: Biochemia SE 2
C44: 2B
C45: 3A | U45: Biochemia CL 7,8,9,10,11,12,13,14,15,16,17,18 = SE 3,4,5,6,7 | AH45: Biochemia SE 3
C46: 3B
C47: 4A | AH47: Biochemia SE 4
C48: 4B
C49: 5A | L49: Psychologia lek. SE 5 | AH49: Biochemia SE 5
C50: 5B
C51: 6A | AH51: Biochemia SE 6
C52: 6B
C53: 7A | I53: Psychologia lek. SE 7 | AH53: Biochemia SE 7
C54: 7B
C55: 8A | H55: Epidemiologia SE 8 | O55: Psychologia lek. SE 8
C56: 8B
C57: 9A | N57: Epidemiologia SE 9 | U57: Psychologia lek. SE 9
C58: 9B
C59: 10A | L59: Socjologia SE 10 | T59: Epidemiologia SE 10 | AA59: Psychologia lek. SE 10
C60: 10B
C61: 11A | S61: Socjologia SE 11 | Z61: Epidemiologia SE 11
C62: 11B
C63: 12A
C64: 12B | AF64: Fizjologia CN 12B
C65: 13A | S65: Psychologia lek. SE 13 | Z65: Socjologia SE 13
C66: 13B
C67: 14A | O67: Angielski LE 14 | Z67: Psychologia lek. SE 14
C68: 14B
C69: 15A | H69: Fizjologia WY2
C70: 15B
C71: 16A | AN71: Patofizjologia CN 16A
C72: 16B | AN72: Patofizjologia CN 16B
C73: 17A
C74: 17B
C75: 18A | AF75: Fizjologia CN 18A | AS75: Patofizjologia CN 18A
C76: 18B | AF76: Fizjologia CN 18B
D77: 7:00-8:00 | H77: 8:00-9:00 | L77: 9:00-10:00 | P77: 10:00-11:00 | T77: 11:00-12:00 | X77: 12:00-13:00 | AB77: 13:00-14:00 | AF77: 14:00-15:00 | AJ77: 15:00-16:00 | AN77: 16:00-17:00 | AR77: 17:00-18:00 | AV77: 18:00-19:00 | AZ77: 19:00-20:00 | BD77: 20:00-21:00
A78: =A4+2 -> 46372 | B78: Środa | C78: 1A | L78: Psychologia lek. SE 1 | Z78: Angielski LE 1 | AV78: Fizjologia WY1
C79: 1B
C80: 2A | R80: Psychologia lek. SE 2
C81: 2B
C82: 3A | X82: Psychologia lek. SE 3
C83: 3B
C84: 4A | S84: Angielski LE 4 | AD84: Psychologia lek. SE 4
C85: 4B
C86: 5A
C87: 5B
C88: 6A | T88: Epidemiologia SE 6
C89: 6B
C90: 7A | S90: Angielski LE 7 | Z90: Epidemiologia SE 7
C91: 7B
C92: 8A
C93: 8B
C94: 9A
C95: 9B
C96: 10A
C97: 10B
C98: 11A | AG98: Fizjologia CN 11A
C99: 11B | AG99: Fizjologia CN 11B
C100: 12A | AG100: Fizjologia CN 12A
...

Sheet 13
D1: 7:00-8:00 | H1: 8:00-9:00 | L1: 9:00-10:00 | P1: 10:00-11:00 | T1: 11:00-12:00 | X1: 12:00-13:00 | AB1: 13:00-14:00 | AF1: 14:00-15:00 | AJ1: 15:00-16:00 | AN1: 16:00-17:00 | AR1: 17:00-18:00 | AV1: 18:00-19:00 | AZ1: 19:00-20:00 | BD1: 20:00-21:00
C2: grupa
D3: 7:00-8:00 | H3: 8:00-9:00 | L3: 9:00-10:00 | P3: 10:00-11:00 | T3: 11:00-12:00 | X3: 12:00-13:00 | AB3: 13:00-14:00 | AF3: 14:00-15:00 | AJ3: 15:00-16:00 | AN3: 16:00-17:00 | AR3: 17:00-18:00 | AV3: 18:00-19:00 | AZ3: 19:00-20:00 | BD3: 20:00-21:00
A4: ='12'!A4:A39+21 -> 46391 | B4: poniedziałek | C4: 1A | H4: Epidemiologia SE 1
C5: 1B
C6: 2A | T6: Epidemiologia SE 2 | AC6: Angielski LE 2
C7: 2B
C8: 3A | N8: Epidemiologia SE 3
C9: 3B
C10: 4A
C11: 4B
C12: 5A
C13: 5B
C14: 6A | H14: Angielski LE 6 | O14: Psychologia lek. SE 6
C15: 6B
C16: 7A | H16: Fizjologia CN 7A
C17: 7B | H17: Fizjologia CN 7B
C18: 8A | H18: Fizjologia CN 8A | V18: Angielski LE 8
C19: 8B | H19: Fizjologia CN 8B
C20: 9A | T20: Fizjologia CN 9A
C21: 9B | T21: Fizjologia CN 9B
C22: 10A | T22: Fizjologia CN 10A
C23: 10B | T23: Fizjologia CN 10B | AG23: Patofizjologia CN 10B
C24: 11A | O24: Angielski LE 11 | V24: Psychologia lek. SE 11
C25: 11B
C26: 12A | V26: Angielski LE 12 | AC26: Psychologia lek. SE 12
C27: 12B | AM27: Patofizjologia CN 12B
C28: 13A | H28: Patofizjologia CN 13A | O28: Angielski LE 13
C29: 13B | H29: Patofizjologia CN 13B
C30: 14A | H30: Patofizjologia CN 14A
C31: 14B | H31: Patofizjologia CN 14B
C32: 15A | O32: Patofizjologia CN 15A | V32: Angielski LE 15 | AF32: Fizjologia CN 15A
C33: 15B | O33: Patofizjologia CN 15B | AF33: Fizjologia CN 15B
C34: 16A | AF34: Fizjologia CN 16A
C35: 16B | AF35: Fizjologia CN 16B
C36: 17A | H36: Angielski LE 17 | V36: Patofizjologia CN 17A
C37: 17B | AS37: Patofizjologia CN 17B
C38: 18A | AC38: Angielski LE 18
C39: 18B | V39: Patofizjologia CN 18B
D40: 7:00-8:00 | H40: 8:00-9:00 | L40: 9:00-10:00 | P40: 10:00-11:00 | T40: 11:00-12:00 | X40: 12:00-13:00 | AB40: 13:00-14:00 | AF40: 14:00-15:00 | AJ40: 15:00-16:00 | AN40: 16:00-17:00 | AR40: 17:00-18:00 | AV40: 18:00-19:00 | AZ40: 19:00-20:00 | BD40: 20:00-21:00
A41: =A4+1 -> 46392 | B41: Wtorek | C41: 1A | H41: Biochemia CL 1,2,3,4,5,6 = SE 1, 2, 3 | AG41: Psychologia lek. SE 1
C42: 1B
C43: 2A
C44: 2B
C45: 3A | U45: Biochemia CL 7,8,9,10,11,12,13,14,15,16,17,18 = SE 3,4,5,6,7
C46: 3B
C47: 4A
C48: 4B
C49: 5A | L49: Psychologia lek. SE 5
C50: 5B
C51: 6A
C52: 6B
C53: 7A | I53: Psychologia lek. SE 7
C54: 7B
C55: 8A | H55: Epidemiologia SE 8 | O55: Psychologia lek. SE 8
C56: 8B
C57: 9A | N57: Epidemiologia SE 9 | U57: Psychologia lek. SE 9
C58: 9B
C59: 10A | T59: Epidemiologia SE 10 | AA59: Psychologia lek. SE 10
C60: 10B
C61: 11A | Z61: Epidemiologia SE 11
C62: 11B
C63: 12A
C64: 12B | AF64: Fizjologia CN 12B
C65: 13A | S65: Psychologia lek. SE 13
C66: 13B
C67: 14A | O67: Angielski LE 14 | Z67: Psychologia lek. SE 14
C68: 14B
C69: 15A | H69: Fizjologia WY2
C70: 15B
C71: 16A | AN71: Patofizjologia CN 16A
C72: 16B | AN72: Patofizjologia CN 16B
C73: 17A
C74: 17B
C75: 18A | AF75: Fizjologia CN 18A | AS75: Patofizjologia CN 18A
C76: 18B | AF76: Fizjologia CN 18B
D77: 7:00-8:00 | H77: 8:00-9:00 | L77: 9:00-10:00 | P77: 10:00-11:00 | T77: 11:00-12:00 | X77: 12:00-13:00 | AB77: 13:00-14:00 | AF77: 14:00-15:00 | AJ77: 15:00-16:00 | AN77: 16:00-17:00 | AR77: 17:00-18:00 | AV77: 18:00-19:00 | AZ77: 19:00-20:00 | BD77: 20:00-21:00
A78: =A4+2 -> 46393 | B78: Środa | C78: 1A
C79: 1B
C80: 2A
C81: 2B
C82: 3A
C83: 3B
C84: 4A
C85: 4B
C86: 5A
C87: 5B
C88: 6A
C89: 6B
C90: 7A
... C113: 18B
D114: 7:00-8:00 | H114: 8:00-9:00 | L114: 9:00-10:00 | P114: 10:00-11:00 | T114: 11:00-12:00 | X114: 12:00-13:00 | AB114: 13:00-14:00 | AF114: 14:00-15:00 | AJ114: 15:00-16:00 | AN114: 16:00-17:00 | AR114: 17:00-18:00 | AV114: 18:00-19:00 | AZ114: 19:00-20:00 | BD114: 20:00-21:00
A115: =A4+3 -> 46394 | B115: czwartek | C115: 1A | H115: Patofizjologia CN 1A
C116: 1B | H116: Patofizjologia CN 1B
C117: 2A | H117: Patofizjologia CN 2A
C118: 2B | H118: Patofizjologia CN 2B
C119: 3A | O119: Patofizjologia CN 3A | V119: Angielski LE 3
C120: 3B | O120: Patofizjologia CN 3B
C121: 4A | H121: Epidemiologia SE 4 | O121: Patofizjologia CN 4A
C122: 4B | O122: Patofizjologia CN 4B
...

Sheet 14
D1: 7:00-8:00 | H1: 8:00-9:00 | L1: 9:00-10:00 | P1: 10:00-11:00 | T1: 11:00-12:00 | X1: 12:00-13:00 | AB1: 13:00-14:00 | AF1: 14:00-15:00 | AJ1: 15:00-16:00 | AN1: 16:00-17:00 | AR1: 17:00-18:00 | AV1: 18:00-19:00 | AZ1: 19:00-20:00 | BD1: 20:00-21:00
C2: grupa
D3: 7:00-8:00 | H3: 8:00-9:00 | L3: 9:00-10:00 | P3: 10:00-11:00 | T3: 11:00-12:00 | X3: 12:00-13:00 | AB3: 13:00-14:00 | AF3: 14:00-15:00 | AJ3: 15:00-16:00 | AN3: 16:00-17:00 | AR3: 17:00-18:00 | AV3: 18:00-19:00 | AZ3: 19:00-20:00 | BD3: 20:00-21:00
A4: ='13'!A4:A39+7 -> 46398 | B4: poniedziałek | C4: 1A | H4: Epidemiologia SE 1
C5: 1B
C6: 2A | T6: Epidemiologia SE 2 | AC6: Angielski LE 2
C7: 2B
C8: 3A | N8: Epidemiologia SE 3
C9: 3B
C10: 4A
C11: 4B
C12: 5A
C13: 5B
C14: 6A | H14: Angielski LE 6 | O14: Psychologia lek. SE 6
C15: 6B
C16: 7A | H16: Fizjologia CN 7A
C17: 7B | H17: Fizjologia CN 7B
C18: 8A | H18: Fizjologia CN 8A | V18: Angielski LE 8
C19: 8B | H19: Fizjologia CN 8B
C20: 9A | T20: Fizjologia CN 9A
C21: 9B | T21: Fizjologia CN 9B
C22: 10A | T22: Fizjologia CN 10A
C23: 10B | T23: Fizjologia CN 10B | AG23: Patofizjologia CN 10B
C24: 11A | O24: Angielski LE 11 | V24: Psychologia lek. SE 11
C25: 11B
C26: 12A | V26: Angielski LE 12 | AC26: Psychologia lek. SE 12
C27: 12B | AM27: Patofizjologia CN 12B
C28: 13A | H28: Patofizjologia CN 13A | O28: Angielski LE 13
C29: 13B | H29: Patofizjologia CN 13B
C30: 14A | H30: Patofizjologia CN 14A
C31: 14B | H31: Patofizjologia CN 14B
C32: 15A | O32: Patofizjologia CN 15A | V32: Angielski LE 15 | AF32: Fizjologia CN 15A
C33: 15B | O33: Patofizjologia CN 15B | AF33: Fizjologia CN 15B
C34: 16A | AF34: Fizjologia CN 16A
C35: 16B | AF35: Fizjologia CN 16B
C36: 17A | H36: Angielski LE 17 | V36: Patofizjologia CN 17A
C37: 17B | AS37: Patofizjologia CN 17B
C38: 18A | AC38: Angielski LE 18
C39: 18B | V39: Patofizjologia CN 18B
D40: 7:00-8:00 | H40: 8:00-9:00 | L40: 9:00-10:00 | P40: 10:00-11:00 | T40: 11:00-12:00 | X40: 12:00-13:00 | AB40: 13:00-14:00 | AF40: 14:00-15:00 | AJ40: 15:00-16:00 | AN40: 16:00-17:00 | AR40: 17:00-18:00 | AV40: 18:00-19:00 | AZ40: 19:00-20:00 | BD40: 20:00-21:00
A41: =A4+1 -> 46399 | B41: Wtorek | C41: 1A | H41: Biochemia CL 1,2,3,4,5,6 = SE 1, 2, 3
C42: 1B
C43: 2A | AG43: Psychologia lek. SE 2
C44: 2B
C45: 3A | U45: Biochemia CL 7,8,9,10,11,12,13,14,15,16,17,18 = SE 3,4,5,6,7
C46: 3B
C47: 4A
C48: 4B
C49: 5A | L49: Psychologia lek. SE 5
C50: 5B
C51: 6A
C52: 6B
C53: 7A | I53: Psychologia lek. SE 7
C54: 7B
C55: 8A | H55: Epidemiologia SE 8 | O55: Psychologia lek. SE 8
C56: 8B
C57: 9A | N57: Epidemiologia SE 9 | U57: Psychologia lek. SE 9
C58: 9B
C59: 10A | T59: Epidemiologia SE 10 | AA59: Psychologia lek. SE 10
C60: 10B
C61: 11A | Z61: Epidemiologia SE 11
C62: 11B
C63: 12A
C64: 12B | AF64: Fizjologia CN 12B
C65: 13A | S65: Psychologia lek. SE 13
C66: 13B
C67: 14A | O67: Angielski LE 14 | Z67: Psychologia lek. SE 14
C68: 14B
C69: 15A
C70: 15B
C71: 16A | AN71: Patofizjologia CN 16A
C72: 16B | AN72: Patofizjologia CN 16B
C73: 17A
C74: 17B
C75: 18A | AF75: Fizjologia CN 18A | AS75: Patofizjologia CN 18A
C76: 18B | AF76: Fizjologia CN 18B
D77: 7:00-8:00 | H77: 8:00-9:00 | L77: 9:00-10:00 | P77: 10:00-11:00 | T77: 11:00-12:00 | X77: 12:00-13:00 | AB77: 13:00-14:00 | AF77: 14:00-15:00 | AJ77: 15:00-16:00 | AN77: 16:00-17:00 | AR77: 17:00-18:00 | AV77: 18:00-19:00 | AZ77: 19:00-20:00 | BD77: 20:00-21:00
A78: =A4+2 -> 46400 | B78: Środa | C78: 1A | L78: Psychologia lek. SE 1 | Z78: Angielski LE 1
C79: 1B
C80: 2A | R80: Psychologia lek. SE 2
C81: 2B
C82: 3A | X82: Psychologia lek. SE 3
C83: 3B
C84: 4A | S84: Angielski LE 4 | AD84: Psychologia lek. SE 4
C85: 4B
C86: 5A
C87: 5B
C88: 6A | T88: Epidemiologia SE 6
C89: 6B
C90: 7A | S90: Angielski LE 7 | Z90: Epidemiologia SE 7
C91: 7B
C92: 8A | AJ92: Psychologia lek. SE 8
C93: 8B
C94: 9A
C95: 9B
C96: 10A
C97: 10B
C98: 11A | AG98: Fizjologia CN 11A
C99: 11B | AG99: Fizjologia CN 11B
C100: 12A | AG100: Fizjologia CN 12A
...

Sheet 15
D1: 7:00-8:00 | H1: 8:00-9:00 | L1: 9:00-10:00 | P1: 10:00-11:00 | T1: 11:00-12:00 | X1: 12:00-13:00 | AB1: 13:00-14:00 | AF1: 14:00-15:00 | AJ1: 15:00-16:00 | AN1: 16:00-17:00 | AR1: 17:00-18:00 | AV1: 18:00-19:00 | AZ1: 19:00-20:00 | BD1: 20:00-21:00
C2: grupa
D3: 7:00-8:00 | H3: 8:00-9:00 | L3: 9:00-10:00 | P3: 10:00-11:00 | T3: 11:00-12:00 | X3: 12:00-13:00 | AB3: 13:00-14:00 | AF3: 14:00-15:00 | AJ3: 15:00-16:00 | AN3: 16:00-17:00 | AR3: 17:00-18:00 | AV3: 18:00-19:00 | AZ3: 19:00-20:00 | BD3: 20:00-21:00
A4: ='14'!A4:A39+7 -> 46405 | B4: poniedziałek | C4: 1A | H4: Epidemiologia CN 1A
C5: 1B | H5: Epidemiologia CN 1B
C6: 2A | T6: Epidemiologia CN 2A | AC6: Angielski LE 2
C7: 2B | T7: Epidemiologia CN 2B
C8: 3A | N8: Epidemiologia CN 3A
C9: 3B | N9: Epidemiologia CN 3B
C10: 4A
C11: 4B
C12: 5A
C13: 5B
C14: 6A | H14: Angielski LE 6 | O14: Psychologia lek. SE 6
C15: 6B
C16: 7A
C17: 7B
C18: 8A | V18: Angielski LE 8
C19: 8B
C20: 9A
C21: 9B
C22: 10A
C23: 10B | AG23: Patofizjologia CN 10B
C24: 11A | O24: Angielski LE 11 | V24: Psychologia lek. SE 11
C25: 11B
C26: 12A | V26: Angielski LE 12 | AC26: Psychologia lek. SE 12
C27: 12B | AM27: Patofizjologia CN 12B
C28: 13A | H28: Patofizjologia CN 13A | O28: Angielski LE 13
C29: 13B | H29: Patofizjologia CN 13B
C30: 14A | H30: Patofizjologia CN 14A
C31: 14B | H31: Patofizjologia CN 14B
C32: 15A | O32: Patofizjologia CN 15A | V32: Angielski LE 15
C33: 15B | O33: Patofizjologia CN 15B
C34: 16A
C35: 16B
C36: 17A | H36: Angielski LE 17 | V36: Patofizjologia CN 17A
C37: 17B | AS37: Patofizjologia CN 17B
C38: 18A | AC38: Angielski LE 18
C39: 18B | V39: Patofizjologia CN 18B
D40: 7:00-8:00 | H40: 8:00-9:00 | L40: 9:00-10:00 | P40: 10:00-11:00 | T40: 11:00-12:00 | X40: 12:00-13:00 | AB40: 13:00-14:00 | AF40: 14:00-15:00 | AJ40: 15:00-16:00 | AN40: 16:00-17:00 | AR40: 17:00-18:00 | AV40: 18:00-19:00 | AZ40: 19:00-20:00 | BD40: 20:00-21:00
A41: =A4+1 -> 46406 | B41: Wtorek | C41: 1A
C42: 1B
C43: 2A
C44: 2B
C45: 3A | AG45: Psychologia lek. SE 3
C46: 3B
C47: 4A
C48: 4B
C49: 5A | L49: Psychologia lek. SE 5
C50: 5B
C51: 6A
C52: 6B
C53: 7A | I53: Psychologia lek. SE 7
C54: 7B
C55: 8A | H55: Epidemiologia CN 8A | O55: Psychologia lek. SE 8
C56: 8B | H56: Epidemiologia CN 8B
C57: 9A | N57: Epidemiologia CN 9A | U57: Psychologia lek. SE 9
C58: 9B | N58: Epidemiologia CN 9B
C59: 10A | T59: Epidemiologia CN 10A | AA59: Psychologia lek. SE 10
C60: 10B | T60: Epidemiologia CN 10B
C61: 11A | Z61: Epidemiologia CN 11A
C62: 11B | Z62: Epidemiologia CN 11B
C63: 12A
C64: 12B | AF64: Fizjologia CN 12B
C65: 13A | S65: Psychologia lek. SE 13
C66: 13B
C67: 14A | O67: Angielski LE 14 | Z67: Psychologia lek. SE 14
C68: 14B
C69: 15A
C70: 15B
C71: 16A | AN71: Patofizjologia CN 16A
C72: 16B | AN72: Patofizjologia CN 16B
C73: 17A
C74: 17B
C75: 18A | AF75: Fizjologia CN 18A | AS75: Patofizjologia CN 18A
C76: 18B | AF76: Fizjologia CN 18B
D77: 7:00-8:00 | H77: 8:00-9:00 | L77: 9:00-10:00 | P77: 10:00-11:00 | T77: 11:00-12:00 | X77: 12:00-13:00 | AB77: 13:00-14:00 | AF77: 14:00-15:00 | AJ77: 15:00-16:00 | AN77: 16:00-17:00 | AR77: 17:00-18:00 | AV77: 18:00-19:00 | AZ77: 19:00-20:00 | BD77: 20:00-21:00
A78: =A4+2 -> 46407 | B78: Środa | C78: 1A | L78: Psychologia lek. SE 1 | Z78: Angielski LE 1
C79: 1B
C80: 2A | R80: Psychologia lek. SE 2
C81: 2B
C82: 3A | X82: Psychologia lek. SE 3
C83: 3B
C84: 4A | S84: Angielski LE 4 | AD84: Psychologia lek. SE 4
C85: 4B
C86: 5A
C87: 5B
C88: 6A | T88: Epidemiologia CN 6A
C89: 6B | T89: Epidemiologia CN 6B
C90: 7A | S90: Angielski LE 7 | Z90: Epidemiologia CN 7A
C91: 7B | Z91: Epidemiologia CN 7B
C92: 8A
C93: 8B
C94: 9A | AJ94: Psychologia lek. SE 9
C95: 9B
C96: 10A
C97: 10B
C98: 11A
C99: 11B
C100: 12A
...

Sheet 16
D1: 7:00-8:00 | H1: 8:00-9:00 | L1: 9:00-10:00 | P1: 10:00-11:00 | T1: 11:00-12:00 | X1: 12:00-13:00 | AB1: 13:00-14:00 | AF1: 14:00-15:00 | AJ1: 15:00-16:00 | AN1: 16:00-17:00 | AR1: 17:00-18:00 | AV1: 18:00-19:00 | AZ1: 19:00-20:00 | BD1: 20:00-21:00
C2: grupa
D3: 7:00-8:00 | H3: 8:00-9:00 | L3: 9:00-10:00 | P3: 10:00-11:00 | T3: 11:00-12:00 | X3: 12:00-13:00 | AB3: 13:00-14:00 | AF3: 14:00-15:00 | AJ3: 15:00-16:00 | AN3: 16:00-17:00 | AR3: 17:00-18:00 | AV3: 18:00-19:00 | AZ3: 19:00-20:00 | BD3: 20:00-21:00
A4: ='15'!A4:A39+7 -> 46412 | B4: poniedziałek | C4: 1A | H4: Epidemiologia SE 1
C5: 1B
C6: 2A | T6: Epidemiologia SE 2 | AC6: Angielski LE 2
C7: 2B
C8: 3A | N8: Epidemiologia SE 3
C9: 3B
C10: 4A
C11: 4B
C12: 5A
C13: 5B
C14: 6A | H14: Angielski LE 6 | O14: Psychologia lek. SE 6
C15: 6B
C16: 7A
C17: 7B
C18: 8A | V18: Angielski LE 8
C19: 8B
C20: 9A
C21: 9B
C22: 10A
C23: 10B | AG23: Patofizjologia CN 10B
C24: 11A | O24: Angielski LE 11 | V24: Psychologia lek. SE 11
C25: 11B
C26: 12A | V26: Angielski LE 12 | AC26: Psychologia lek. SE 12
C27: 12B | AM27: Patofizjologia CN 12B
C28: 13A | H28: Patofizjologia CN 13A | O28: Angielski LE 13
C29: 13B | H29: Patofizjologia CN 13B
C30: 14A | H30: Patofizjologia CN 14A
C31: 14B | H31: Patofizjologia CN 14B
C32: 15A | O32: Patofizjologia CN 15A | V32: Angielski LE 15
C33: 15B | O33: Patofizjologia CN 15B
C34: 16A
C35: 16B
C36: 17A | H36: Angielski LE 17 | V36: Patofizjologia CN 17A
C37: 17B | AS37: Patofizjologia CN 17B
C38: 18A | AC38: Angielski LE 18
C39: 18B | V39: Patofizjologia CN 18B
D40: 7:00-8:00 | H40: 8:00-9:00 | L40: 9:00-10:00 | P40: 10:00-11:00 | T40: 11:00-12:00 | X40: 12:00-13:00 | AB40: 13:00-14:00 | AF40: 14:00-15:00 | AJ40: 15:00-16:00 | AN40: 16:00-17:00 | AR40: 17:00-18:00 | AV40: 18:00-19:00 | AZ40: 19:00-20:00 | BD40: 20:00-21:00
A41: =A4+1 -> 46413 | B41: Wtorek | C41: 1A
C42: 1B
C43: 2A
C44: 2B
C45: 3A
C46: 3B
C47: 4A | AG47: Psychologia lek. SE 4
C48: 4B
C49: 5A | L49: Psychologia lek. SE 5
C50: 5B
C51: 6A
C52: 6B
C53: 7A | I53: Psychologia lek. SE 7
C54: 7B
C55: 8A | H55: Epidemiologia SE 8 | O55: Psychologia lek. SE 8
C56: 8B
C57: 9A | N57: Epidemiologia SE 9 | U57: Psychologia lek. SE 9
C58: 9B
C59: 10A | T59: Epidemiologia SE 10 | AA59: Psychologia lek. SE 10
C60: 10B
C61: 11A | Z61: Epidemiologia SE 11
C62: 11B
C63: 12A
C64: 12B
C65: 13A | S65: Psychologia lek. SE 13
C66: 13B
C67: 14A | O67: Angielski LE 14 | Z67: Psychologia lek. SE 14
C68: 14B
C69: 15A
C70: 15B
C71: 16A | AN71: Patofizjologia CN 16A
C72: 16B | AN72: Patofizjologia CN 16B
C73: 17A
C74: 17B
C75: 18A | AS75: Patofizjologia CN 18A
C76: 18B
D77: 7:00-8:00 | H77: 8:00-9:00 | L77: 9:00-10:00 | P77: 10:00-11:00 | T77: 11:00-12:00 | X77: 12:00-13:00 | AB77: 13:00-14:00 | AF77: 14:00-15:00 | AJ77: 15:00-16:00 | AN77: 16:00-17:00 | AR77: 17:00-18:00 | AV77: 18:00-19:00 | AZ77: 19:00-20:00 | BD77: 20:00-21:00
A78: =A4+2 -> 46414 | B78: Środa | C78: 1A | L78: Psychologia lek. SE 1 | Z78: Angielski LE 1
C79: 1B
C80: 2A | R80: Psychologia lek. SE 2
C81: 2B
C82: 3A | X82: Psychologia lek. SE 3
C83: 3B
C84: 4A | S84: Angielski LE 4 | AD84: Psychologia lek. SE 4
C85: 4B
C86: 5A
C87: 5B
C88: 6A | T88: Epidemiologia SE 6
C89: 6B
C90: 7A | S90: Angielski LE 7 | Z90: Epidemiologia SE 7
C91: 7B
C92: 8A
C93: 8B
C94: 9A
C95: 9B
C96: 10A | AJ96: Psychologia lek. SE 10
C97: 10B
C98: 11A
C99: 11B
C100: 12A
...

Sheet 17
D1: 7:00-8:00 | H1: 8:00-9:00 | L1: 9:00-10:00 | P1: 10:00-11:00 | T1: 11:00-12:00 | X1: 12:00-13:00 | AB1: 13:00-14:00 | AF1: 14:00-15:00 | AJ1: 15:00-16:00 | AN1: 16:00-17:00 | AR1: 17:00-18:00 | AV1: 18:00-19:00 | AZ1: 19:00-20:00 | BD1: 20:00-21:00
C2: grupa
D3: 7:00-8:00 | H3: 8:00-9:00 | L3: 9:00-10:00 | P3: 10:00-11:00 | T3: 11:00-12:00 | X3: 12:00-13:00 | AB3: 13:00-14:00 | AF3: 14:00-15:00 | AJ3: 15:00-16:00 | AN3: 16:00-17:00 | AR3: 17:00-18:00 | AV3: 18:00-19:00 | AZ3: 19:00-20:00 | BD3: 20:00-21:00
A4: ='16'!A4:A39+7 -> 46419 | B4: poniedziałek | C4: 1A
C5: 1B
C6: 2A
C7: 2B
C8: 3A
C9: 3B
C10: 4A
C11: 4B
C12: 5A | L12: Psychologia lek. SE 5
C13: 5B
C14: 6A
C15: 6B
C16: 7A | I16: Psychologia lek. SE 7
C17: 7B
C18: 8A | H18: Epidemiologia CN 8A | O18: Psychologia lek. SE 8
C19: 8B | H19: Epidemiologia CN 8B
C20: 9A | N20: Epidemiologia CN 9A | U20: Psychologia lek. SE 9
C21: 9B | N21: Epidemiologia CN 9B
C22: 10A | T22: Epidemiologia CN 10A | AA22: Psychologia lek. SE 10
C23: 10B | T23: Epidemiologia CN 10B
C24: 11A | Z24: Epidemiologia CN 11A
C25: 11B | Z25: Epidemiologia CN 11B
C26: 12A
C27: 12B
C28: 13A | S28: Psychologia lek. SE 13
C29: 13B
C30: 14A | O30: Angielski LE 14 | Z30: Psychologia lek. SE 14
C31: 14B
C32: 15A
C33: 15B
C34: 16A
C35: 16B
C36: 17A
C37: 17B
C38: 18A
C39: 18B
D40: 7:00-8:00 | H40: 8:00-9:00 | L40: 9:00-10:00 | P40: 10:00-11:00 | T40: 11:00-12:00 | X40: 12:00-13:00 | AB40: 13:00-14:00 | AF40: 14:00-15:00 | AJ40: 15:00-16:00 | AN40: 16:00-17:00 | AR40: 17:00-18:00 | AV40: 18:00-19:00 | AZ40: 19:00-20:00 | BD40: 20:00-21:00
A41: =A4+1 -> 46420 | B41: Wtorek | C41: 1A
C42: 1B
C43: 2A
C44: 2B
C45: 3A
C46: 3B
C47: 4A
C48: 4B
C49: 5A
C50: 5B
C51: 6A
C52: 6B
C53: 7A
... C76: 18B
D77: 7:00-8:00 | H77: 8:00-9:00 | L77: 9:00-10:00 | P77: 10:00-11:00 | T77: 11:00-12:00 | X77: 12:00-13:00 | AB77: 13:00-14:00 | AF77: 14:00-15:00 | AJ77: 15:00-16:00 | AN77: 16:00-17:00 | AR77: 17:00-18:00 | AV77: 18:00-19:00 | AZ77: 19:00-20:00 | BD77: 20:00-21:00
A78: =A4+2 -> 46421 | B78: Środa | C78: 1A
C79: 1B
C80: 2A
C81: 2B
C82: 3A
C83: 3B
C84: 4A
C85: 4B
C86: 5A
C87: 5B
C88: 6A
C89: 6B
C90: 7A
... C113: 18B
D114: 7:00-8:00 | H114: 8:00-9:00 | L114: 9:00-10:00 | P114: 10:00-11:00 | T114: 11:00-12:00 | X114: 12:00-13:00 | AB114: 13:00-14:00 | AF114: 14:00-15:00 | AJ114: 15:00-16:00 | AN114: 16:00-17:00 | AR114: 17:00-18:00 | AV114: 18:00-19:00 | AZ114: 19:00-20:00 | BD114: 20:00-21:00
A115: =A4+3 -> 46422 | B115: czwartek | C115: 1A
C116: 1B
C117: 2A
C118: 2B
C119: 3A
C120: 3B
C121: 4A
C122: 4B
C123: 5A
C124: 5B
C125: 6A
C126: 6B
C127: 7A
... C150: 18B
D151: 7:00-8:00 | H151: 8:00-9:00 | L151: 9:00-10:00 | P151: 10:00-11:00 | T151: 11:00-12:00 | X151: 12:00-13:00 | AB151: 13:00-14:00 | AF151: 14:00-15:00 | AJ151: 15:00-16:00 | AN151: 16:00-17:00 | AR151: 17:00-18:00 | AV151: 18:00-19:00 | AZ151: 19:00-20:00 | BD151: 20:00-21:00
A152: =A4+4 -> 46423 | B152: piątek | C152: 1A
C153: 1B
C154: 2A
C155: 2B
C156: 3A
C157: 3B
C158: 4A
C159: 4B
C160: 5A
C161: 5B
C162: 6A
C163: 6B
C164: 7A
... C187: 18B
D188: 7:00-8:00 | H188: 8:00-9:00 | L188: 9:00-10:00 | P188: 10:00-11:00 | T188: 11:00-12:00 | X188: 12:00-13:00 | AB188: 13:00-14:00 | AF188: 14:00-15:00 | AJ188: 15:00-16:00 | AN188: 16:00-17:00 | AR188: 17:00-18:00 | AV188: 18:00-19:00 | AZ188: 19:00-20:00 | BD188: 20:00-21:00
