Workbook

Sheet 1
D1: 7:00-8:00 | H1: 8:00-9:00 | L1: 9:00-10:00 | P1: 10:00-11:00 | T1: 11:00-12:00 | X1: 12:00-13:00 | AB1: 13:00-14:00 | AF1: 14:00-15:00 | AJ1: 15:00-16:00 | AN1: 16:00-17:00 | AR1: 17:00-18:00 | AV1: 18:00-19:00 | AZ1: 19:00-20:00 | BD1: 20:00-21:00
C2: grupa
D3: 7:00-8:00 | H3: 8:00-9:00 | L3: 9:00-10:00 | P3: 10:00-11:00 | T3: 11:00-12:00 | X3: 12:00-13:00 | AB3: 13:00-14:00 | AF3: 14:00-15:00 | AJ3: 15:00-16:00 | AN3: 16:00-17:00 | AR3: 17:00-18:00 | AV3: 18:00-19:00 | AZ3: 19:00-20:00 | BD3: 20:00-21:00
A4: 46293 | B4: poniedziałek | C4: 1A
C5: 1B
C6: 2A
C7: 2B
C8: 3A
C9: 3B
C10: 4A
C11: 4B
C12: 5A
C13: 5B
C14: 6A
C15: 6B
C16: 7A
... C39: 18B
D40: 7:00-8:00 | H40: 8:00-9:00 | L40: 9:00-10:00 | P40: 10:00-11:00 | T40: 11:00-12:00 | X40: 12:00-13:00 | AB40: 13:00-14:00 | AF40: 14:00-15:00 | AJ40: 15:00-16:00 | AN40: 16:00-17:00 | AR40: 17:00-18:00 | AV40: 18:00-19:00 | AZ40: 19:00-20:00 | BD40: 20:00-21:00
A41: =A4+1 -> 46294 | B41: Wtorek | C41: 1A
C42: 1B
C43: 2A
C44: 2B
C45: 3A
C46: 3B
C47: 4A
C48: 4B
C49: 5A
C50: 5B
C51: 6A
C52: 6B
C53: 7A
... C76: 18B
D77: 7:00-8:00 | H77: 8:00-9:00 | L77: 9:00-10:00 | P77: 10:00-11:00 | T77: 11:00-12:00 | X77: 12:00-13:00 | AB77: 13:00-14:00 | AF77: 14:00-15:00 | AJ77: 15:00-16:00 | AN77: 16:00-17:00 | AR77: 17:00-18:00 | AV77: 18:00-19:00 | AZ77: 19:00-20:00 | BD77: 20:00-21:00
A78: =A4+2 -> 46295 | B78: Środa | C78: 1A
C79: 1B
C80: 2A
C81: 2B
C82: 3A
C83: 3B
C84: 4A
...

Sheet 2
D1: 7:00-8:00 | H1: 8:00-9:00 | L1: 9:00-10:00 | P1: 10:00-11:00 | T1: 11:00-12:00 | X1: 12:00-13:00 | AB1: 13:00-14:00 | AF1: 14:00-15:00 | AJ1: 15:00-16:00 | AN1: 16:00-17:00 | AR1: 17:00-18:00 | AV1: 18:00-19:00 | AZ1: 19:00-20:00 | BD1: 20:00-21:00
C2: grupa
D3: 7:00-8:00 | H3: 8:00-9:00 | L3: 9:00-10:00 | P3: 10:00-11:00 | T3: 11:00-12:00 | X3: 12:00-13:00 | AB3: 13:00-14:00 | AF3: 14:00-15:00 | AJ3: 15:00-16:00 | AN3: 16:00-17:00 | AR3: 17:00-18:00 | AV3: 18:00-19:00 | AZ3: 19:00-20:00 | BD3: 20:00-21:00
A4: ='1'!A4:A39+7 -> 46300 | B4: poniedziałek | C4: 1A | H4: Epidemiologia CN 1A
C5: 1B | H5: Epidemiologia CN 1B
C6: 2A | T6: Epidemiologia CN 2A | AC6: Angielski LE 2
C7: 2B | T7: Epidemiologia CN 2B
C8: 3A | N8: Epidemiologia CN 3A
C9: 3B | N9: Epidemiologia CN 3B
C10: 4A
C11: 4B
C12: 5A | S12: Socjologia SE 5
C13: 5B
C14: 6A | H14: Angielski LE 6 | O14: Psychologia lek. SE 6
C15: 6B
C16: 7A | H16: Fizjologia CN 7A | Z16: Socjologia SE 7
C17: 7B | H17: Fizjologia CN 7B
C18: 8A | H18: Fizjologia CN 8A | V18: Angielski LE 8
C19: 8B | H19: Fizjologia CN 8B
C20: 9A | T20: Fizjologia CN 9A | AG20: Socjologia SE 9
C21: 9B | T21: Fizjologia CN 9B
C22: 10A | T22: Fizjologia CN 10A
C23: 10B | T23: Fizjologia CN 10B
C24: 11A | O24: Angielski LE 11 | V24: Psychologia lek. SE 11
C25: 11B
C26: 12A | L26: Socjologia SE 12 | V26: Angielski LE 12 | AC26: Psychologia lek. SE 12
C27: 12B
C28: 13A | O28: Angielski LE 13
C29: 13B
C30: 14A | O30: Socjologia SE 14
C31: 14B
C32: 15A | H32: Socjologia SE 15 | V32: Angielski LE 15 | AF32: Fizjologia CN 15A
C33: 15B | AF33: Fizjologia CN 15B
C34: 16A | V34: Socjologia SE 16 | AF34: Fizjologia CN 16A
C35: 16B | AF35: Fizjologia CN 16B
C36: 17A | H36: Angielski LE 17 | AC36: Socjologia SE 17
C37: 17B
C38: 18A | AC38: Angielski LE 18
C39: 18B
D40: 7:00-8:00 | H40: 8:00-9:00 | L40: 9:00-10:00 | P40: 10:00-11:00 | T40: 11:00-12:00 | X40: 12:00-13:00 | AB40: 13:00-14:00 | AF40: 14:00-15:00 | AJ40: 15:00-16:00 | AN40: 16:00-17:00 | AR40: 17:00-18:00 | AV40: 18:00-19:00 | AZ40: 19:00-20:00 | BD40: 20:00-21:00
...

Sheet 3
D1: 7:00-8:00 | H1: 8:00-9:00 | L1: 9:00-10:00 | P1: 10:00-11:00 | T1: 11:00-12:00 | X1: 12:00-13:00 | AB1: 13:00-14:00 | AF1: 14:00-15:00 | AJ1: 15:00-16:00 | AN1: 16:00-17:00 | AR1: 17:00-18:00 | AV1: 18:00-19:00 | AZ1: 19:00-20:00 | BD1: 20:00-21:00
C2: grupa
D3: 7:00-8:00 | H3: 8:00-9:00 | L3: 9:00-10:00 | P3: 10:00-11:00 | T3: 11:00-12:00 | X3: 12:00-13:00 | AB3: 13:00-14:00 | AF3: 14:00-15:00 | AJ3: 15:00-16:00 | AN3: 16:00-17:00 | AR3: 17:00-18:00 | AV3: 18:00-19:00 | AZ3: 19:00-20:00 | BD3: 20:00-21:00
A4: ='2'!A4:A39+7 -> 46307 | B4: poniedziałek | C4: 1A | H4: Epidemiologia CN 1A
C5: 1B | H5: Epidemiologia CN 1B
C6: 2A | T6: Epidemiologia CN 2A | AC6: Angielski LE 2
C7: 2B | T7: Epidemiologia CN 2B
C8: 3A | N8: Epidemiologia CN 3A
C9: 3B | N9: Epidemiologia CN 3B
C10: 4A
C11: 4B
C12: 5A | S12: Socjologia SE 5
C13: 5B
C14: 6A | H14: Angielski LE 6 | O14: Psychologia lek. SE 6
C15: 6B
C16: 7A | H16: Fizjologia CN 7A | Z16: Socjologia SE 7
C17: 7B | H17: Fizjologia CN 7B
C18: 8A | H18: Fizjologia CN 8A | V18: Angielski LE 8
C19: 8B | H19: Fizjologia CN 8B
C20: 9A | T20: Fizjologia CN 9A | AG20: Socjologia SE 9
C21: 9B | T21: Fizjologia CN 9B
C22: 10A | T22: Fizjologia CN 10A
C23: 10B | T23: Fizjologia CN 10B
C24: 11A | O24: Angielski LE 11 | V24: Psychologia lek. SE 11
C25: 11B
C26: 12A | L26: Socjologia SE 12 | V26: Angielski LE 12 | AC26: Psychologia lek. SE 12
C27: 12B
C28: 13A | O28: Angielski LE 13
C29: 13B
C30: 14A | O30: Socjologia SE 14
C31: 14B
C32: 15A | H32: Socjologia SE 15 | V32: Angielski LE 15 | AF32: Fizjologia CN 15A
C33: 15B | AF33: Fizjologia CN 15B
C34: 16A | V34: Socjologia SE 16 | AF34: Fizjologia CN 16A
C35: 16B | AF35: Fizjologia CN 16B
C36: 17A | H36: Angielski LE 17 | AC36: Socjologia SE 17
C37: 17B
C38: 18A | AC38: Angielski LE 18
C39: 18B
D40: 7:00-8:00 | H40: 8:00-9:00 | L40: 9:00-10:00 | P40: 10:00-11:00 | T40: 11:00-12:00 | X40: 12:00-13:00 | AB40: 13:00-14:00 | AF40: 14:00-15:00 | AJ40: 15:00-16:00 | AN40: 16:00-17:00 | AR40: 17:00-18:00 | AV40: 18:00-19:00 | AZ40: 19:00-20:00 | BD40: 20:00-21:00
...

Sheet 4
D1: 7:00-8:00 | H1: 8:00-9:00 | L1: 9:00-10:00 | P1: 10:00-11:00 | T1: 11:00-12:00 | X1: 12:00-13:00 | AB1: 13:00-14:00 | AF1: 14:00-15:00 | AJ1: 15:00-16:00 | AN1: 16:00-17:00 | AR1: 17:00-18:00 | AV1: 18:00-19:00 | AZ1: 19:00-20:00 | BD1: 20:00-21:00
C2: grupa
D3: 7:00-8:00 | H3: 8:00-9:00 | L3: 9:00-10:00 | P3: 10:00-11:00 | T3: 11:00-12:00 | X3: 12:00-13:00 | AB3: 13:00-14:00 | AF3: 14:00-15:00 | AJ3: 15:00-16:00 | AN3: 16:00-17:00 | AR3: 17:00-18:00 | AV3: 18:00-19:00 | AZ3: 19:00-20:00 | BD3: 20:00-21:00
A4: ='3'!A4:A39+7 -> 46314 | B4: poniedziałek | C4: 1A | H4: Epidemiologia CN 1A
C5: 1B | H5: Epidemiologia CN 1B
C6: 2A | T6: Epidemiologia CN 2A | AC6: Angielski LE 2
C7: 2B | T7: Epidemiologia CN 2B
C8: 3A | N8: Epidemiologia CN 3A
C9: 3B | N9: Epidemiologia CN 3B
C10: 4A
C11: 4B
C12: 5A | S12: Socjologia SE 5
C13: 5B
C14: 6A | H14: Angielski LE 6 | O14: Psychologia lek. SE 6
C15: 6B
C16: 7A | H16: Fizjologia CN 7A | Z16: Socjologia SE 7
C17: 7B | H17: Fizjologia CN 7B
C18: 8A | H18: Fizjologia CN 8A | V18: Angielski LE 8
C19: 8B | H19: Fizjologia CN 8B
C20: 9A | T20: Fizjologia CN 9A | AG20: Socjologia SE 9
C21: 9B | T21: Fizjologia CN 9B
C22: 10A | T22: Fizjologia CN 10A
C23: 10B | T23: Fizjologia CN 10B
C24: 11A | O24: Angielski LE 11 | V24: Psychologia lek. SE 11
C25: 11B
C26: 12A | L26: Socjologia SE 12 | V26: Angielski LE 12 | AC26: Psychologia lek. SE 12
C27: 12B
C28: 13A | O28: Angielski LE 13
C29: 13B
C30: 14A | O30: Socjologia SE 14
C31: 14B
C32: 15A | H32: Socjologia SE 15 | V32: Angielski LE 15 | AF32: Fizjologia CN 15A
C33: 15B | AF33: Fizjologia CN 15B
C34: 16A | V34: Socjologia SE 16 | AF34: Fizjologia CN 16A
C35: 16B | AF35: Fizjologia CN 16B
C36: 17A | H36: Angielski LE 17 | AC36: Socjologia SE 17
C37: 17B
C38: 18A | AC38: Angielski LE 18
C39: 18B
D40: 7:00-8:00 | H40: 8:00-9:00 | L40: 9:00-10:00 | P40: 10:00-11:00 | T40: 11:00-12:00 | X40: 12:00-13:00 | AB40: 13:00-14:00 | AF40: 14:00-15:00 | AJ40: 15:00-16:00 | AN40: 16:00-17:00 | AR40: 17:00-18:00 | AV40: 18:00-19:00 | AZ40: 19:00-20:00 | BD40: 20:00-21:00
...

Sheet 5
D1: 7:00-8:00 | H1: 8:00-9:00 | L1: 9:00-10:00 | P1: 10:00-11:00 | T1: 11:00-12:00 | X1: 12:00-13:00 | AB1: 13:00-14:00 | AF1: 14:00-15:00 | AJ1: 15:00-16:00 | AN1: 16:00-17:00 | AR1: 17:00-18:00 | AV1: 18:00-19:00 | AZ1: 19:00-20:00 | BD1: 20:00-21:00
C2: grupa
D3: 7:00-8:00 | H3: 8:00-9:00 | L3: 9:00-10:00 | P3: 10:00-11:00 | T3: 11:00-12:00 | X3: 12:00-13:00 | AB3: 13:00-14:00 | AF3: 14:00-15:00 | AJ3: 15:00-16:00 | AN3: 16:00-17:00 | AR3: 17:00-18:00 | AV3: 18:00-19:00 | AZ3: 19:00-20:00 | BD3: 20:00-21:00
A4: ='4'!A4:A39+7 -> 46321 | B4: poniedziałek | C4: 1A | H4: Epidemiologia CN 1A
C5: 1B | H5: Epidemiologia CN 1B
C6: 2A | T6: Epidemiologia CN 2A | AC6: Angielski LE 2
C7: 2B | T7: Epidemiologia CN 2B
C8: 3A | N8: Epidemiologia CN 3A
C9: 3B | N9: Epidemiologia CN 3B
C10: 4A
C11: 4B
C12: 5A | S12: Socjologia SE 5
C13: 5B
C14: 6A | H14: Angielski LE 6 | O14: Psychologia lek. SE 6
C15: 6B
C16: 7A | H16: Fizjologia CN 7A | Z16: Socjologia SE 7
C17: 7B | H17: Fizjologia CN 7B
C18: 8A | H18: Fizjologia CN 8A | V18: Angielski LE 8
C19: 8B | H19: Fizjologia CN 8B
C20: 9A | T20: Fizjologia CN 9A | AG20: Socjologia SE 9
C21: 9B | T21: Fizjologia CN 9B
C22: 10A | T22: Fizjologia CN 10A
C23: 10B | T23: Fizjologia CN 10B
C24: 11A | O24: Angielski LE 11 | V24: Psychologia lek. SE 11
C25: 11B
C26: 12A | L26: Socjologia SE 12 | V26: Angielski LE 12 | AC26: Psychologia lek. SE 12
C27: 12B
C28: 13A | O28: Angielski LE 13
C29: 13B
C30: 14A | O30: Socjologia SE 14
C31: 14B
C32: 15A | H32: Socjologia SE 15 | V32: Angielski LE 15 | AF32: Fizjologia CN 15A
C33: 15B | AF33: Fizjologia CN 15B
C34: 16A | V34: Socjologia SE 16 | AF34: Fizjologia CN 16A
C35: 16B | AF35: Fizjologia CN 16B
C36: 17A | H36: Angielski LE 17 | AC36: Socjologia SE 17
C37: 17B
C38: 18A | AC38: Angielski LE 18
C39: 18B
D40: 7:00-8:00 | H40: 8:00-9:00 | L40: 9:00-10:00 | P40: 10:00-11:00 | T40: 11:00-12:00 | X40: 12:00-13:00 | AB40: 13:00-14:00 | AF40: 14:00-15:00 | AJ40: 15:00-16:00 | AN40: 16:00-17:00 | AR40: 17:00-18:00 | AV40: 18:00-19:00 | AZ40: 19:00-20:00 | BD40: 20:00-21:00
...

Sheet 6
D1: 7:00-8:00 | H1: 8:00-9:00 | L1: 9:00-10:00 | P1: 10:00-11:00 | T1: 11:00-12:00 | X1: 12:00-13:00 | AB1: 13:00-14:00 | AF1: 14:00-15:00 | AJ1: 15:00-16:00 | AN1: 16:00-17:00 | AR1: 17:00-18:00 | AV1: 18:00-19:00 | AZ1: 19:00-20:00 | BD1: 20:00-21:00
C2: grupa
D3: 7:00-8:00 | H3: 8:00-9:00 | L3: 9:00-10:00 | P3: 10:00-11:00 | T3: 11:00-12:00 | X3: 12:00-13:00 | AB3: 13:00-14:00 | AF3: 14:00-15:00 | AJ3: 15:00-16:00 | AN3: 16:00-17:00 | AR3: 17:00-18:00 | AV3: 18:00-19:00 | AZ3: 19:00-20:00 | BD3: 20:00-21:00
A4: ='5'!A4:A39+7 -> 46328 | B4: poniedziałek | C4: 1A | H4: Epidemiologia CN 1A
C5: 1B | H5: Epidemiologia CN 1B
C6: 2A | T6: Epidemiologia CN 2A | AC6: Angielski LE 2
C7: 2B | T7: Epidemiologia CN 2B
C8: 3A | N8: Epidemiologia CN 3A
C9: 3B | N9: Epidemiologia CN 3B
C10: 4A
C11: 4B
C12: 5A | S12: Socjologia SE 5
C13: 5B
C14: 6A | H14: Angielski LE 6
C15: 6B
C16: 7A | H16: Fizjologia CN 7A | Z16: Socjologia SE 7
C17: 7B | H17: Fizjologia CN 7B
C18: 8A | H18: Fizjologia CN 8A | V18: Angielski LE 8
C19: 8B | H19: Fizjologia CN 8B
C20: 9A | T20: Fizjologia CN 9A | AG20: Socjologia SE 9
C21: 9B | T21: Fizjologia CN 9B
C22: 10A | T22: Fizjologia CN 10A
C23: 10B | T23: Fizjologia CN 10B | AG23: Patofizjologia CN 10B
C24: 11A | O24: Angielski LE 11
C25: 11B
C26: 12A | L26: Socjologia SE 12 | V26: Angielski LE 12
C27: 12B | AM27: Patofizjologia CN 12B
C28: 13A | H28: Patofizjologia CN 13A | O28: Angielski LE 13
C29: 13B | H29: Patofizjologia CN 13B
C30: 14A | H30: Patofizjologia CN 14A | O30: Socjologia SE 14
C31: 14B | H31: Patofizjologia CN 14B
C32: 15A | H32: Socjologia SE 15 | O32: Patofizjologia CN 15A | V32: Angielski LE 15 | AF32: Fizjologia CN 15A
C33: 15B | O33: Patofizjologia CN 15B | AF33: Fizjologia CN 15B
C34: 16A | V34: Socjologia SE 16 | AF34: Fizjologia CN 16A
C35: 16B | AF35: Fizjologia CN 16B
C36: 17A | H36: Angielski LE 17 | V36: Patofizjologia CN 17A | AC36: Socjologia SE 17
C37: 17B | AS37: Patofizjologia CN 17B
C38: 18A | AC38: Angielski LE 18
C39: 18B | V39: Patofizjologia CN 18B
D40: 7:00-8:00 | H40: 8:00-9:00 | L40: 9:00-10:00 | P40: 10:00-11:00 | T40: 11:00-12:00 | X40: 12:00-13:00 | AB40: 13:00-14:00 | AF40: 14:00-15:00 | AJ40: 15:00-16:00 | AN40: 16:00-17:00 | AR40: 17:00-18:00 | AV40: 18:00-19:00 | AZ40: 19:00-20:00 | BD40: 20:00-21:00
...

Sheet 7
D1: 7:00-8:00 | H1: 8:00-9:00 | L1: 9:00-10:00 | P1: 10:00-11:00 | T1: 11:00-12:00 | X1: 12:00-13:00 | AB1: 13:00-14:00 | AF1: 14:00-15:00 | AJ1: 15:00-16:00 | AN1: 16:00-17:00 | AR1: 17:00-18:00 | AV1: 18:00-19:00 | AZ1: 19:00-20:00 | BD1: 20:00-21:00
C2: grupa
D3: 7:00-8:00 | H3: 8:00-9:00 | L3: 9:00-10:00 | P3: 10:00-11:00 | T3: 11:00-12:00 | X3: 12:00-13:00 | AB3: 13:00-14:00 | AF3: 14:00-15:00 | AJ3: 15:00-16:00 | AN3: 16:00-17:00 | AR3: 17:00-18:00 | AV3: 18:00-19:00 | AZ3: 19:00-20:00 | BD3: 20:00-21:00
A4: ='6'!A4:A39+7 -> 46335 | B4: poniedziałek | C4: 1A | H4: Epidemiologia SE 1
C5: 1B
C6: 2A | T6: Epidemiologia SE 2 | AC6: Angielski LE 2
C7: 2B
C8: 3A | N8: Epidemiologia SE 3
C9: 3B
C10: 4A
C11: 4B
C12: 5A | S12: Socjologia SE 5
C13: 5B
C14: 6A | H14: Angielski LE 6 | O14: Psychologia lek. SE 6
C15: 6B
C16: 7A | H16: Fizjologia CN 7A | Z16: Socjologia SE 7
C17: 7B | H17: Fizjologia CN 7B
C18: 8A | H18: Fizjologia CN 8A | V18: Angielski LE 8
C19: 8B | H19: Fizjologia CN 8B
C20: 9A | T20: Fizjologia CN 9A | AG20: Socjologia SE 9
C21: 9B | T21: Fizjologia CN 9B
C22: 10A | T22: Fizjologia CN 10A
C23: 10B | T23: Fizjologia CN 10B | AG23: Patofizjologia CN 10B
C24: 11A | O24: Angielski LE 11 | V24: Psychologia lek. SE 11
C25: 11B
C26: 12A | L26: Socjologia SE 12 | V26: Angielski LE 12 | AC26: Psychologia lek. SE 12
C27: 12B | AM27: Patofizjologia CN 12B
C28: 13A | H28: Patofizjologia CN 13A | O28: Angielski LE 13
C29: 13B | H29: Patofizjologia CN 13B
C30: 14A | H30: Patofizjologia CN 14A | O30: Socjologia SE 14
C31: 14B | H31: Patofizjologia CN 14B
C32: 15A | H32: Socjologia SE 15 | O32: Patofizjologia CN 15A | V32: Angielski LE 15 | AF32: Fizjologia CN 15A
C33: 15B | O33: Patofizjologia CN 15B | AF33: Fizjologia CN 15B
C34: 16A | V34: Socjologia SE 16 | AF34: Fizjologia CN 16A
C35: 16B | AF35: Fizjologia CN 16B
C36: 17A | H36: Angielski LE 17 | V36: Patofizjologia CN 17A | AC36: Socjologia SE 17
C37: 17B | AS37: Patofizjologia CN 17B
C38: 18A | AC38: Angielski LE 18
C39: 18B | V39: Patofizjologia CN 18B
D40: 7:00-8:00 | H40: 8:00-9:00 | L40: 9:00-10:00 | P40: 10:00-11:00 | T40: 11:00-12:00 | X40: 12:00-13:00 | AB40: 13:00-14:00 | AF40: 14:00-15:00 | AJ40: 15:00-16:00 | AN40: 16:00-17:00 | AR40: 17:00-18:00 | AV40: 18:00-19:00 | AZ40: 19:00-20:00 | BD40: 20:00-21:00
...

Sheet 8
D1: 7:00-8:00 | H1: 8:00-9:00 | L1: 9:00-10:00 | P1: 10:00-11:00 | T1: 11:00-12:00 | X1: 12:00-13:00 | AB1: 13:00-14:00 | AF1: 14:00-15:00 | AJ1: 15:00-16:00 | AN1: 16:00-17:00 | AR1: 17:00-18:00 | AV1: 18:00-19:00 | AZ1: 19:00-20:00 | BD1: 20:00-21:00
C2: grupa
D3: 7:00-8:00 | H3: 8:00-9:00 | L3: 9:00-10:00 | P3: 10:00-11:00 | T3: 11:00-12:00 | X3: 12:00-13:00 | AB3: 13:00-14:00 | AF3: 14:00-15:00 | AJ3: 15:00-16:00 | AN3: 16:00-17:00 | AR3: 17:00-18:00 | AV3: 18:00-19:00 | AZ3: 19:00-20:00 | BD3: 20:00-21:00
A4: ='7'!A4:A39+7 -> 46342 | B4: poniedziałek | C4: 1A | H4: Epidemiologia CN 1A
C5: 1B | H5: Epidemiologia CN 1B
C6: 2A | T6: Epidemiologia CN 2A | AC6: Angielski LE 2
C7: 2B | T7: Epidemiologia CN 2B
C8: 3A | N8: Epidemiologia CN 3A
C9: 3B | N9: Epidemiologia CN 3B
C10: 4A
C11: 4B
C12: 5A | S12: Socjologia SE 5
C13: 5B
C14: 6A | H14: Angielski LE 6 | O14: Psychologia lek. SE 6
C15: 6B
C16: 7A | H16: Fizjologia CN 7A | Z16: Socjologia SE 7
C17: 7B | H17: Fizjologia CN 7B
C18: 8A | H18: Fizjologia CN 8A | V18: Angielski LE 8
C19: 8B | H19: Fizjologia CN 8B
C20: 9A | T20: Fizjologia CN 9A | AG20: Socjologia SE 9
C21: 9B | T21: Fizjologia CN 9B
C22: 10A | T22: Fizjologia CN 10A
C23: 10B | T23: Fizjologia CN 10B | AG23: Patofizjologia CN 10B
C24: 11A | O24: Angielski LE 11 | V24: Psychologia lek. SE 11
C25: 11B
C26: 12A | L26: Socjologia SE 12 | V26: Angielski LE 12 | AC26: Psychologia lek. SE 12
C27: 12B | AM27: Patofizjologia CN 12B
C28: 13A | H28: Patofizjologia CN 13A | O28: Angielski LE 13
C29: 13B | H29: Patofizjologia CN 13B
C30: 14A | H30: Patofizjologia CN 14A | O30: Socjologia SE 14
C31: 14B | H31: Patofizjologia CN 14B
C32: 15A | H32: Socjologia SE 15 | O32: Patofizjologia CN 15A | V32: Angielski LE 15 | AF32: Fizjologia CN 15A
C33: 15B | O33: Patofizjologia CN 15B | AF33: Fizjologia CN 15B
C34: 16A | V34: Socjologia SE 16 | AF34: Fizjologia CN 16A
C35: 16B | AF35: Fizjologia CN 16B
C36: 17A | H36: Angielski LE 17 | V36: Patofizjologia CN 17A | AC36: Socjologia SE 17
C37: 17B | AS37: Patofizjologia CN 17B
C38: 18A | AC38: Angielski LE 18
C39: 18B | V39: Patofizjologia CN 18B
D40: 7:00-8:00 | H40: 8:00-9:00 | L40: 9:00-10:00 | P40: 10:00-11:00 | T40: 11:00-12:00 | X40: 12:00-13:00 | AB40: 13:00-14:00 | AF40: 14:00-15:00 | AJ40: 15:00-16:00 | AN40: 16:00-17:00 | AR40: 17:00-18:00 | AV40: 18:00-19:00 | AZ40: 19:00-20:00 | BD40: 20:00-21:00
...

Sheet 9
D1: 7:00-8:00 | H1: 8:00-9:00 | L1: 9:00-10:00 | P1: 10:00-11:00 | T1: 11:00-12:00 | X1: 12:00-13:00 | AB1: 13:00-14:00 | AF1: 14:00-15:00 | AJ1: 15:00-16:00 | AN1: 16:00-17:00 | AR1: 17:00-18:00 | AV1: 18:00-19:00 | AZ1: 19:00-20:00 | BD1: 20:00-21:00
C2: grupa
D3: 7:00-8:00 | H3: 8:00-9:00 | L3: 9:00-10:00 | P3: 10:00-11:00 | T3: 11:00-12:00 | X3: 12:00-13:00 | AB3: 13:00-14:00 | AF3: 14:00-15:00 | AJ3: 15:00-16:00 | AN3: 16:00-17:00 | AR3: 17:00-18:00 | AV3: 18:00-19:00 | AZ3: 19:00-20:00 | BD3: 20:00-21:00
A4: ='8'!A4:A39+7 -> 46349 | B4: poniedziałek | C4: 1A | H4: Epidemiologia CN 1A
C5: 1B | H5: Epidemiologia CN 1B
C6: 2A | T6: Epidemiologia CN 2A | AC6: Angielski LE 2
C7: 2B | T7: Epidemiologia CN 2B
C8: 3A | N8: Epidemiologia CN 3A
C9: 3B | N9: Epidemiologia CN 3B
C10: 4A
C11: 4B
C12: 5A | S12: Socjologia SE 5
C13: 5B
C14: 6A | H14: Angielski LE 6 | O14: Psychologia lek. SE 6
C15: 6B
C16: 7A | H16: Fizjologia CN 7A | Z16: Socjologia SE 7
C17: 7B | H17: Fizjologia CN 7B
C18: 8A | H18: Fizjologia CN 8A | V18: Angielski LE 8
C19: 8B | H19: Fizjologia CN 8B
C20: 9A | T20: Fizjologia CN 9A | AG20: Socjologia SE 9
C21: 9B | T21: Fizjologia CN 9B
C22: 10A | T22: Fizjologia CN 10A
C23: 10B | T23: Fizjologia CN 10B | AG23: Patofizjologia CN 10B
C24: 11A | O24: Angielski LE 11 | V24: Psychologia lek. SE 11
C25: 11B
C26: 12A | L26: Socjologia SE 12 | V26: Angielski LE 12 | AC26: Psychologia lek. SE 12
C27: 12B | AM27: Patofizjologia CN 12B
C28: 13A | H28: Patofizjologia CN 13A | O28: Angielski LE 13
C29: 13B | H29: Patofizjologia CN 13B
C30: 14A | H30: Patofizjologia CN 14A | O30: Socjologia SE 14
C31: 14B | H31: Patofizjologia CN 14B
C32: 15A | H32: Socjologia SE 15 | O32: Patofizjologia CN 15A | V32: Angielski LE 15 | AF32: Fizjologia CN 15A
C33: 15B | O33: Patofizjologia CN 15B | AF33: Fizjologia CN 15B
C34: 16A | V34: Socjologia SE 16 | AF34: Fizjologia CN 16A
C35: 16B | AF35: Fizjologia CN 16B
C36: 17A | H36: Angielski LE 17 | V36: Patofizjologia CN 17A | AC36: Socjologia SE 17
C37: 17B | AS37: Patofizjologia CN 17B
C38: 18A | AC38: Angielski LE 18
C39: 18B | V39: Patofizjologia CN 18B
D40: 7:00-8:00 | H40: 8:00-9:00 | L40: 9:00-10:00 | P40: 10:00-11:00 | T40: 11:00-12:00 | X40: 12:00-13:00 | AB40: 13:00-14:00 | AF40: 14:00-15:00 | AJ40: 15:00-16:00 | AN40: 16:00-17:00 | AR40: 17:00-18:00 | AV40: 18:00-19:00 | AZ40: 19:00-20:00 | BD40: 20:00-21:00
...

Sheet 10
D1: 7:00-8:00 | H1: 8:00-9:00 | L1: 9:00-10:00 | P1: 10:00-11:00 | T1: 11:00-12:00 | X1: 12:00-13:00 | AB1: 13:00-14:00 | AF1: 14:00-15:00 | AJ1: 15:00-16:00 | AN1: 16:00-17:00 | AR1: 17:00-18:00 | AV1: 18:00-19:00 | AZ1: 19:00-20:00 | BD1: 20:00-21:00
C2: grupa
D3: 7:00-8:00 | H3: 8:00-9:00 | L3: 9:00-10:00 | P3: 10:00-11:00 | T3: 11:00-12:00 | X3: 12:00-13:00 | AB3: 13:00-14:00 | AF3: 14:00-15:00 | AJ3: 15:00-16:00 | AN3: 16:00-17:00 | AR3: 17:00-18:00 | AV3: 18:00-19:00 | AZ3: 19:00-20:00 | BD3: 20:00-21:00
A4: ='9'!A4:A39+7 -> 46356 | B4: poniedziałek | C4: 1A | H4: Epidemiologia CN 1A
C5: 1B | H5: Epidemiologia CN 1B
C6: 2A | T6: Epidemiologia CN 2A | AC6: Angielski LE 2
C7: 2B | T7: Epidemiologia CN 2B
C8: 3A | N8: Epidemiologia CN 3A
C9: 3B | N9: Epidemiologia CN 3B
C10: 4A
C11: 4B
C12: 5A | S12: Socjologia SE 5
C13: 5B
C14: 6A | H14: Angielski LE 6 | O14: Psychologia lek. SE 6
C15: 6B
C16: 7A | H16: Fizjologia CN 7A | Z16: Socjologia SE 7
C17: 7B | H17: Fizjologia CN 7B
C18: 8A | H18: Fizjologia CN 8A | V18: Angielski LE 8
C19: 8B | H19: Fizjologia CN 8B
C20: 9A | T20: Fizjologia CN 9A | AG20: Socjologia SE 9
C21: 9B | T21: Fizjologia CN 9B
C22: 10A | T22: Fizjologia CN 10A
C23: 10B | T23: Fizjologia CN 10B | AG23: Patofizjologia CN 10B
C24: 11A | O24: Angielski LE 11 | V24: Psychologia lek. SE 11
C25: 11B
C26: 12A | L26: Socjologia SE 12 | V26: Angielski LE 12 | AC26: Psychologia lek. SE 12
C27: 12B | AM27: Patofizjologia CN 12B
C28: 13A | H28: Patofizjologia CN 13A | O28: Angielski LE 13
C29: 13B | H29: Patofizjologia CN 13B
C30: 14A | H30: Patofizjologia CN 14A | O30: Socjologia SE 14
C31: 14B | H31: Patofizjologia CN 14B
C32: 15A | H32: Socjologia SE 15 | O32: Patofizjologia CN 15A | V32: Angielski LE 15 | AF32: Fizjologia CN 15A
C33: 15B | O33: Patofizjologia CN 15B | AF33: Fizjologia CN 15B
C34: 16A | V34: Socjologia SE 16 | AF34: Fizjologia CN 16A
C35: 16B | AF35: Fizjologia CN 16B
C36: 17A | H36: Angielski LE 17 | V36: Patofizjologia CN 17A | AC36: Socjologia SE 17
C37: 17B | AS37: Patofizjologia CN 17B
C38: 18A | AC38: Angielski LE 18
C39: 18B | V39: Patofizjologia CN 18B
D40: 7:00-8:00 | H40: 8:00-9:00 | L40: 9:00-10:00 | P40: 10:00-11:00 | T40: 11:00-12:00 | X40: 12:00-13:00 | AB40: 13:00-14:00 | AF40: 14:00-15:00 | AJ40: 15:00-16:00 | AN40: 16:00-17:00 | AR40: 17:00-18:00 | AV40: 18:00-19:00 | AZ40: 19:00-20:00 | BD40: 20:00-21:00
...

Sheet 11
D1: 7:00-8:00 | H1: 8:00-9:00 | L1: 9:00-10:00 | P1: 10:00-11:00 | T1: 11:00-12:00 | X1: 12:00-13:00 | AB1: 13:00-14:00 | AF1: 14:00-15:00 | AJ1: 15:00-16:00 | AN1: 16:00-17:00 | AR1: 17:00-18:00 | AV1: 18:00-19:00 | AZ1: 19:00-20:00 | BD1: 20:00-21:00
C2: grupa
D3: 7:00-8:00 | H3: 8:00-9:00 | L3: 9:00-10:00 | P3: 10:00-11:00 | T3: 11:00-12:00 | X3: 12:00-13:00 | AB3: 13:00-14:00 | AF3: 14:00-15:00 | AJ3: 15:00-16:00 | AN3: 16:00-17:00 | AR3: 17:00-18:00 | AV3: 18:00-19:00 | AZ3: 19:00-20:00 | BD3: 20:00-21:00
A4: ='10'!A4:A39+7 -> 46363 | B4: poniedziałek | C4: 1A | H4: Epidemiologia CN 1A
C5: 1B | H5: Epidemiologia CN 1B
C6: 2A | T6: Epidemiologia CN 2A | AC6: Angielski LE 2
C7: 2B | T7: Epidemiologia CN 2B
C8: 3A | N8: Epidemiologia CN 3A
C9: 3B | N9: Epidemiologia CN 3B
C10: 4A
C11: 4B
C12: 5A | S12: Socjologia SE 5
C13: 5B
C14: 6A | H14: Angielski LE 6 | O14: Psychologia lek. SE 6
C15: 6B
C16: 7A | H16: Fizjologia CN 7A | Z16: Socjologia SE 7
C17: 7B | H17: Fizjologia CN 7B
C18: 8A | H18: Fizjologia CN 8A | V18: Angielski LE 8
C19: 8B | H19: Fizjologia CN 8B
C20: 9A | T20: Fizjologia CN 9A | AG20: Socjologia SE 9
C21: 9B | T21: Fizjologia CN 9B
C22: 10A | T22: Fizjologia CN 10A
C23: 10B | T23: Fizjologia CN 10B | AG23: Patofizjologia CN 10B
C24: 11A | O24: Angielski LE 11 | V24: Psychologia lek. SE 11
C25: 11B
C26: 12A | L26: Socjologia SE 12 | V26: Angielski LE 12 | AC26: Psychologia lek. SE 12
C27: 12B | AM27: Patofizjologia CN 12B
C28: 13A | H28: Patofizjologia CN 13A | O28: Angielski LE 13
C29: 13B | H29: Patofizjologia CN 13B
C30: 14A | H30: Patofizjologia CN 14A | O30: Socjologia SE 14
C31: 14B | H31: Patofizjologia CN 14B
C32: 15A | H32: Socjologia SE 15 | O32: Patofizjologia CN 15A | V32: Angielski LE 15 | AF32: Fizjologia CN 15A
C33: 15B | O33: Patofizjologia CN 15B | AF33: Fizjologia CN 15B
C34: 16A | V34: Socjologia SE 16 | AF34: Fizjologia CN 16A
C35: 16B | AF35: Fizjologia CN 16B
C36: 17A | H36: Angielski LE 17 | V36: Patofizjologia CN 17A | AC36: Socjologia SE 17
C37: 17B | AS37: Patofizjologia CN 17B
C38: 18A | AC38: Angielski LE 18
C39: 18B | V39: Patofizjologia CN 18B
D40: 7:00-8:00 | H40: 8:00-9:00 | L40: 9:00-10:00 | P40: 10:00-11:00 | T40: 11:00-12:00 | X40: 12:00-13:00 | AB40: 13:00-14:00 | AF40: 14:00-15:00 | AJ40: 15:00-16:00 | AN40: 16:00-17:00 | AR40: 17:00-18:00 | AV40: 18:00-19:00 | AZ40: 19:00-20:00 | BD40: 20:00-21:00
...

Sheet 12
D1: 7:00-8:00 | H1: 8:00-9:00 | L1: 9:00-10:00 | P1: 10:00-11:00 | T1: 11:00-12:00 | X1: 12:00-13:00 | AB1: 13:00-14:00 | AF1: 14:00-15:00 | AJ1: 15:00-16:00 | AN1: 16:00-17:00 | AR1: 17:00-18:00 | AV1: 18:00-19:00 | AZ1: 19:00-20:00 | BD1: 20:00-21:00
C2: grupa
D3: 7:00-8:00 | H3: 8:00-9:00 | L3: 9:00-10:00 | P3: 10:00-11:00 | T3: 11:00-12:00 | X3: 12:00-13:00 | AB3: 13:00-14:00 | AF3: 14:00-15:00 | AJ3: 15:00-16:00 | AN3: 16:00-17:00 | AR3: 17:00-18:00 | AV3: 18:00-19:00 | AZ3: 19:00-20:00 | BD3: 20:00-21:00
A4: ='11'!A4:A39+7 -> 46370 | B4: poniedziałek | C4: 1A | H4: Epidemiologia SE 1
C5: 1B
C6: 2A | T6: Epidemiologia SE 2 | AC6: Angielski LE 2
C7: 2B
C8: 3A | N8: Epidemiologia SE 3
C9: 3B
C10: 4A
C11: 4B
C12: 5A
C13: 5B
C14: 6A | H14: Angielski LE 6 | O14: Psychologia lek. SE 6
C15: 6B
C16: 7A | H16: Fizjologia CN 7A
C17: 7B | H17: Fizjologia CN 7B
C18: 8A | H18: Fizjologia CN 8A | V18: Angielski LE 8
C19: 8B | H19: Fizjologia CN 8B
C20: 9A | T20: Fizjologia CN 9A
C21: 9B | T21: Fizjologia CN 9B
C22: 10A | T22: Fizjologia CN 10A
C23: 10B | T23: Fizjologia CN 10B | AG23: Patofizjologia CN 10B
C24: 11A | O24: Angielski LE 11 | V24: Psychologia lek. SE 11
C25: 11B
C26: 12A | V26: Angielski LE 12 | AC26: Psychologia lek. SE 12
C27: 12B | AM27: Patofizjologia CN 12B
C28: 13A | H28: Patofizjologia CN 13A | O28: Angielski LE 13
C29: 13B | H29: Patofizjologia CN 13B
C30: 14A | H30: Patofizjologia CN 14A
C31: 14B | H31: Patofizjologia CN 14B
C32: 15A | O32: Patofizjologia CN 15A | V32: Angielski LE 15 | AF32: Fizjologia CN 15A
C33: 15B | O33: Patofizjologia CN 15B | AF33: Fizjologia CN 15B
C34: 16A | AF34: Fizjologia CN 16A
C35: 16B | AF35: Fizjologia CN 16B
C36: 17A | H36: Angielski LE 17 | V36: Patofizjologia CN 17A
C37: 17B | AS37: Patofizjologia CN 17B
C38: 18A | AC38: Angielski LE 18
C39: 18B | V39: Patofizjologia CN 18B
D40: 7:00-8:00 | H40: 8:00-9:00 | L40: 9:00-10:00 | P40: 10:00-11:00 | T40: 11:00-12:00 | X40: 12:00-13:00 | AB40: 13:00-14:00 | AF40: 14:00-15:00 | AJ40: 15:00-16:00 | AN40: 16:00-17:00 | AR40: 17:00-18:00 | AV40: 18:00-19:00 | AZ40: 19:00-20:00 | BD40: 20:00-21:00
...

Sheet 13
D1: 7:00-8:00 | H1: 8:00-9:00 | L1: 9:00-10:00 | P1: 10:00-11:00 | T1: 11:00-12:00 | X1: 12:00-13:00 | AB1: 13:00-14:00 | AF1: 14:00-15:00 | AJ1: 15:00-16:00 | AN1: 16:00-17:00 | AR1: 17:00-18:00 | AV1: 18:00-19:00 | AZ1: 19:00-20:00 | BD1: 20:00-21:00
C2: grupa
D3: 7:00-8:00 | H3: 8:00-9:00 | L3: 9:00-10:00 | P3: 10:00-11:00 | T3: 11:00-12:00 | X3: 12:00-13:00 | AB3: 13:00-14:00 | AF3: 14:00-15:00 | AJ3: 15:00-16:00 | AN3: 16:00-17:00 | AR3: 17:00-18:00 | AV3: 18:00-19:00 | AZ3: 19:00-20:00 | BD3: 20:00-21:00
A4: ='12'!A4:A39+21 -> 46391 | B4: poniedziałek | C4: 1A | H4: Epidemiologia SE 1
C5: 1B
C6: 2A | T6: Epidemiologia SE 2 | AC6: Angielski LE 2
C7: 2B
C8: 3A | N8: Epidemiologia SE 3
C9: 3B
C10: 4A
C11: 4B
C12: 5A
C13: 5B
C14: 6A | H14: Angielski LE 6 | O14: Psychologia lek. SE 6
C15: 6B
C16: 7A | H16: Fizjologia CN 7A
C17: 7B | H17: Fizjologia CN 7B
C18: 8A | H18: Fizjologia CN 8A | V18: Angielski LE 8
C19: 8B | H19: Fizjologia CN 8B
C20: 9A | T20: Fizjologia CN 9A
C21: 9B | T21: Fizjologia CN 9B
C22: 10A | T22: Fizjologia CN 10A
C23: 10B | T23: Fizjologia CN 10B | AG23: Patofizjologia CN 10B
C24: 11A | O24: Angielski LE 11 | V24: Psychologia lek. SE 11
C25: 11B
C26: 12A | V26: Angielski LE 12 | AC26: Psychologia lek. SE 12
C27: 12B | AM27: Patofizjologia CN 12B
C28: 13A | H28: Patofizjologia CN 13A | O28: Angielski LE 13
C29: 13B | H29: Patofizjologia CN 13B
C30: 14A | H30: Patofizjologia CN 14A
C31: 14B | H31: Patofizjologia CN 14B
C32: 15A | O32: Patofizjologia CN 15A | V32: Angielski LE 15 | AF32: Fizjologia CN 15A
C33: 15B | O33: Patofizjologia CN 15B | AF33: Fizjologia CN 15B
C34: 16A | AF34: Fizjologia CN 16A
C35: 16B | AF35: Fizjologia CN 16B
C36: 17A | H36: Angielski LE 17 | V36: Patofizjologia CN 17A
C37: 17B | AS37: Patofizjologia CN 17B
C38: 18A | AC38: Angielski LE 18
C39: 18B | V39: Patofizjologia CN 18B
D40: 7:00-8:00 | H40: 8:00-9:00 | L40: 9:00-10:00 | P40: 10:00-11:00 | T40: 11:00-12:00 | X40: 12:00-13:00 | AB40: 13:00-14:00 | AF40: 14:00-15:00 | AJ40: 15:00-16:00 | AN40: 16:00-17:00 | AR40: 17:00-18:00 | AV40: 18:00-19:00 | AZ40: 19:00-20:00 | BD40: 20:00-21:00
...

Sheet 14
D1: 7:00-8:00 | H1: 8:00-9:00 | L1: 9:00-10:00 | P1: 10:00-11:00 | T1: 11:00-12:00 | X1: 12:00-13:00 | AB1: 13:00-14:00 | AF1: 14:00-15:00 | AJ1: 15:00-16:00 | AN1: 16:00-17:00 | AR1: 17:00-18:00 | AV1: 18:00-19:00 | AZ1: 19:00-20:00 | BD1: 20:00-21:00
C2: grupa
D3: 7:00-8:00 | H3: 8:00-9:00 | L3: 9:00-10:00 | P3: 10:00-11:00 | T3: 11:00-12:00 | X3: 12:00-13:00 | AB3: 13:00-14:00 | AF3: 14:00-15:00 | AJ3: 15:00-16:00 | AN3: 16:00-17:00 | AR3: 17:00-18:00 | AV3: 18:00-19:00 | AZ3: 19:00-20:00 | BD3: 20:00-21:00
A4: ='13'!A4:A39+7 -> 46398 | B4: poniedziałek | C4: 1A | H4: Epidemiologia SE 1
C5: 1B
C6: 2A | T6: Epidemiologia SE 2 | AC6: Angielski LE 2
C7: 2B
C8: 3A | N8: Epidemiologia SE 3
C9: 3B
C10: 4A
C11: 4B
C12: 5A
C13: 5B
C14: 6A | H14: Angielski LE 6 | O14: Psychologia lek. SE 6
C15: 6B
C16: 7A | H16: Fizjologia CN 7A
C17: 7B | H17: Fizjologia CN 7B
C18: 8A | H18: Fizjologia CN 8A | V18: Angielski LE 8
C19: 8B | H19: Fizjologia CN 8B
C20: 9A | T20: Fizjologia CN 9A
C21: 9B | T21: Fizjologia CN 9B
C22: 10A | T22: Fizjologia CN 10A
C23: 10B | T23: Fizjologia CN 10B | AG23: Patofizjologia CN 10B
C24: 11A | O24: Angielski LE 11 | V24: Psychologia lek. SE 11
C25: 11B
C26: 12A | V26: Angielski LE 12 | AC26: Psychologia lek. SE 12
C27: 12B | AM27: Patofizjologia CN 12B
C28: 13A | H28: Patofizjologia CN 13A | O28: Angielski LE 13
C29: 13B | H29: Patofizjologia CN 13B
C30: 14A | H30: Patofizjologia CN 14A
C31: 14B | H31: Patofizjologia CN 14B
C32: 15A | O32: Patofizjologia CN 15A | V32: Angielski LE 15 | AF32: Fizjologia CN 15A
C33: 15B | O33: Patofizjologia CN 15B | AF33: Fizjologia CN 15B
C34: 16A | AF34: Fizjologia CN 16A
C35: 16B | AF35: Fizjologia CN 16B
C36: 17A | H36: Angielski LE 17 | V36: Patofizjologia CN 17A
C37: 17B | AS37: Patofizjologia CN 17B
C38: 18A | AC38: Angielski LE 18
C39: 18B | V39: Patofizjologia CN 18B
D40: 7:00-8:00 | H40: 8:00-9:00 | L40: 9:00-10:00 | P40: 10:00-11:00 | T40: 11:00-12:00 | X40: 12:00-13:00 | AB40: 13:00-14:00 | AF40: 14:00-15:00 | AJ40: 15:00-16:00 | AN40: 16:00-17:00 | AR40: 17:00-18:00 | AV40: 18:00-19:00 | AZ40: 19:00-20:00 | BD40: 20:00-21:00
...

Sheet 15
D1: 7:00-8:00 | H1: 8:00-9:00 | L1: 9:00-10:00 | P1: 10:00-11:00 | T1: 11:00-12:00 | X1: 12:00-13:00 | AB1: 13:00-14:00 | AF1: 14:00-15:00 | AJ1: 15:00-16:00 | AN1: 16:00-17:00 | AR1: 17:00-18:00 | AV1: 18:00-19:00 | AZ1: 19:00-20:00 | BD1: 20:00-21:00
C2: grupa
D3: 7:00-8:00 | H3: 8:00-9:00 | L3: 9:00-10:00 | P3: 10:00-11:00 | T3: 11:00-12:00 | X3: 12:00-13:00 | AB3: 13:00-14:00 | AF3: 14:00-15:00 | AJ3: 15:00-16:00 | AN3: 16:00-17:00 | AR3: 17:00-18:00 | AV3: 18:00-19:00 | AZ3: 19:00-20:00 | BD3: 20:00-21:00
A4: ='14'!A4:A39+7 -> 46405 | B4: poniedziałek | C4: 1A | H4: Epidemiologia CN 1A
C5: 1B | H5: Epidemiologia CN 1B
C6: 2A | T6: Epidemiologia CN 2A | AC6: Angielski LE 2
C7: 2B | T7: Epidemiologia CN 2B
C8: 3A | N8: Epidemiologia CN 3A
C9: 3B | N9: Epidemiologia CN 3B
C10: 4A
C11: 4B
C12: 5A
C13: 5B
C14: 6A | H14: Angielski LE 6 | O14: Psychologia lek. SE 6
C15: 6B
C16: 7A
C17: 7B
C18: 8A | V18: Angielski LE 8
C19: 8B
C20: 9A
C21: 9B
C22: 10A
C23: 10B | AG23: Patofizjologia CN 10B
C24: 11A | O24: Angielski LE 11 | V24: Psychologia lek. SE 11
C25: 11B
C26: 12A | V26: Angielski LE 12 | AC26: Psychologia lek. SE 12
C27: 12B | AM27: Patofizjologia CN 12B
C28: 13A | H28: Patofizjologia CN 13A | O28: Angielski LE 13
C29: 13B | H29: Patofizjologia CN 13B
C30: 14A | H30: Patofizjologia CN 14A
C31: 14B | H31: Patofizjologia CN 14B
C32: 15A | O32: Patofizjologia CN 15A | V32: Angielski LE 15
C33: 15B | O33: Patofizjologia CN 15B
C34: 16A
C35: 16B
C36: 17A | H36: Angielski LE 17 | V36: Patofizjologia CN 17A
C37: 17B | AS37: Patofizjologia CN 17B
C38: 18A | AC38: Angielski LE 18
C39: 18B | V39: Patofizjologia CN 18B
D40: 7:00-8:00 | H40: 8:00-9:00 | L40: 9:00-10:00 | P40: 10:00-11:00 | T40: 11:00-12:00 | X40: 12:00-13:00 | AB40: 13:00-14:00 | AF40: 14:00-15:00 | AJ40: 15:00-16:00 | AN40: 16:00-17:00 | AR40: 17:00-18:00 | AV40: 18:00-19:00 | AZ40: 19:00-20:00 | BD40: 20:00-21:00
...

Sheet 16
D1: 7:00-8:00 | H1: 8:00-9:00 | L1: 9:00-10:00 | P1: 10:00-11:00 | T1: 11:00-12:00 | X1: 12:00-13:00 | AB1: 13:00-14:00 | AF1: 14:00-15:00 | AJ1: 15:00-16:00 | AN1: 16:00-17:00 | AR1: 17:00-18:00 | AV1: 18:00-19:00 | AZ1: 19:00-20:00 | BD1: 20:00-21:00
C2: grupa
D3: 7:00-8:00 | H3: 8:00-9:00 | L3: 9:00-10:00 | P3: 10:00-11:00 | T3: 11:00-12:00 | X3: 12:00-13:00 | AB3: 13:00-14:00 | AF3: 14:00-15:00 | AJ3: 15:00-16:00 | AN3: 16:00-17:00 | AR3: 17:00-18:00 | AV3: 18:00-19:00 | AZ3: 19:00-20:00 | BD3: 20:00-21:00
A4: ='15'!A4:A39+7 -> 46412 | B4: poniedziałek | C4: 1A | H4: Epidemiologia SE 1
C5: 1B
C6: 2A | T6: Epidemiologia SE 2 | AC6: Angielski LE 2
C7: 2B
C8: 3A | N8: Epidemiologia SE 3
C9: 3B
C10: 4A
C11: 4B
C12: 5A
C13: 5B
C14: 6A | H14: Angielski LE 6 | O14: Psychologia lek. SE 6
C15: 6B
C16: 7A
C17: 7B
C18: 8A | V18: Angielski LE 8
C19: 8B
C20: 9A
C21: 9B
C22: 10A
C23: 10B | AG23: Patofizjologia CN 10B
C24: 11A | O24: Angielski LE 11 | V24: Psychologia lek. SE 11
C25: 11B
C26: 12A | V26: Angielski LE 12 | AC26: Psychologia lek. SE 12
C27: 12B | AM27: Patofizjologia CN 12B
C28: 13A | H28: Patofizjologia CN 13A | O28: Angielski LE 13
C29: 13B | H29: Patofizjologia CN 13B
C30: 14A | H30: Patofizjologia CN 14A
C31: 14B | H31: Patofizjologia CN 14B
C32: 15A | O32: Patofizjologia CN 15A | V32: Angielski LE 15
C33: 15B | O33: Patofizjologia CN 15B
C34: 16A
C35: 16B
C36: 17A | H36: Angielski LE 17 | V36: Patofizjologia CN 17A
C37: 17B | AS37: Patofizjologia CN 17B
C38: 18A | AC38: Angielski LE 18
C39: 18B | V39: Patofizjologia CN 18B
D40: 7:00-8:00 | H40: 8:00-9:00 | L40: 9:00-10:00 | P40: 10:00-11:00 | T40: 11:00-12:00 | X40: 12:00-13:00 | AB40: 13:00-14:00 | AF40: 14:00-15:00 | AJ40: 15:00-16:00 | AN40: 16:00-17:00 | AR40: 17:00-18:00 | AV40: 18:00-19:00 | AZ40: 19:00-20:00 | BD40: 20:00-21:00
...

Sheet 17
D1: 7:00-8:00 | H1: 8:00-9:00 | L1: 9:00-10:00 | P1: 10:00-11:00 | T1: 11:00-12:00 | X1: 12:00-13:00 | AB1: 13:00-14:00 | AF1: 14:00-15:00 | AJ1: 15:00-16:00 | AN1: 16:00-17:00 | AR1: 17:00-18:00 | AV1: 18:00-19:00 | AZ1: 19:00-20:00 | BD1: 20:00-21:00
C2: grupa
D3: 7:00-8:00 | H3: 8:00-9:00 | L3: 9:00-10:00 | P3: 10:00-11:00 | T3: 11:00-12:00 | X3: 12:00-13:00 | AB3: 13:00-14:00 | AF3: 14:00-15:00 | AJ3: 15:00-16:00 | AN3: 16:00-17:00 | AR3: 17:00-18:00 | AV3: 18:00-19:00 | AZ3: 19:00-20:00 | BD3: 20:00-21:00
A4: ='16'!A4:A39+7 -> 46419 | B4: poniedziałek | C4: 1A
C5: 1B
C6: 2A
C7: 2B
C8: 3A
C9: 3B
C10: 4A
C11: 4B
C12: 5A | L12: Psychologia lek. SE 5
C13: 5B
C14: 6A
C15: 6B
C16: 7A | I16: Psychologia lek. SE 7
C17: 7B
C18: 8A | H18: Epidemiologia CN 8A | O18: Psychologia lek. SE 8
C19: 8B | H19: Epidemiologia CN 8B
C20: 9A | N20: Epidemiologia CN 9A | U20: Psychologia lek. SE 9
C21: 9B | N21: Epidemiologia CN 9B
C22: 10A | T22: Epidemiologia CN 10A | AA22: Psychologia lek. SE 10
C23: 10B | T23: Epidemiologia CN 10B
C24: 11A | Z24: Epidemiologia CN 11A
C25: 11B | Z25: Epidemiologia CN 11B
C26: 12A
C27: 12B
C28: 13A | S28: Psychologia lek. SE 13
C29: 13B
C30: 14A | O30: Angielski LE 14 | Z30: Psychologia lek. SE 14
C31: 14B
C32: 15A
C33: 15B
C34: 16A
C35: 16B
C36: 17A
C37: 17B
C38: 18A
C39: 18B
D40: 7:00-8:00 | H40: 8:00-9:00 | L40: 9:00-10:00 | P40: 10:00-11:00 | T40: 11:00-12:00 | X40: 12:00-13:00 | AB40: 13:00-14:00 | AF40: 14:00-15:00 | AJ40: 15:00-16:00 | AN40: 16:00-17:00 | AR40: 17:00-18:00 | AV40: 18:00-19:00 | AZ40: 19:00-20:00 | BD40: 20:00-21:00
...
