Workbook

Sheet Arkusz1
B4: jednostka | C4: kierunek | D4: nazwa_przedmiotu | E4: lgr_WY | F4: lgr_SE | G4: lgr_CS | H4: lgr_CK
B5: Instytut Chorób Serca | C5: Lekarski | D5: Propedeutyka chorób wewnętrznych | E5: 0 | F5: 0 | G5: 4 | H5: 4
B6: Katedra i Klinika Alergologii i Chorób Wewnętrznych | C6: Lekarski | D6: Propedeutyka chorób wewnętrznych | E6: 1 | F6: 5 | G6: 20 | H6: 20 | I6: =H6+H7 -> 58
B7: Katedra i Klinika Alergologii i Chorób Wewnętrznych | C7: Lekarski | D7: Propedeutyka chorób wewnętrznych | E7: 1 | F7: 13 | G7: 37 | H7: 38
B8: Katedra i Klinika Reumatologii i Chorób Wewnętrznych | C8: Lekarski | D8: Propedeutyka chorób wewnętrznych | E8: 0 | F8: 0 | G8: 10 | H8: 10
B9: Katedra i Klinika Alergologii i Chorób Wewnętrznych | C9: Lekarski-English Division | D9: Propedeutyka chorób wewnętrznych | E9: 1 | F9: 5 | G9: 20 | H9: 20
E10: 3 | F10: 23 | G10: 91 | H10: 91
E12: pon. | F12: wt. | G12: śr. | H12: czw. | I12: pt.
E13: 5 | F13: 6 | G13: 6 | H13: 6 | I13: 5
E14: 5 | F14: 6 | G14: 6 | H14: 6 | I14: 6 | K14: =SUM(E13:I14) -> 57
E15: 2 | F15: 2 | G15: 2 | H15: 2 | I15: 2
E16: 2 | F16: 2 | G16: 2 | H16: 2 | I16: 2
B20: jednostka | C20: liczba grup CS | D20: liczba grup CK | E20: nazwa grupa CS | F20: nazwa grupa CK
B21: I Katedra i Klinika Pediatrii, Alergologii i Kardiologii | C21: 2 | D21: 3 | E21: CS_2AB | F21: CK_2ABC
B22: II Katedra i Klinika Pediatrii, Gastroenterologii i Żywienia | C22: 6 | D22: 12 | E22: CS_1AB, CS_3AB, CS_6AB | F22: CK_1ABCD, CK_3ABCD, CK_6ABCD
B23: III Katedra i Klinika Pediatrii, Immunologii i Reumatologii Wieku Rozwojowego | C23: 10 | D23: 20 | E23: CS_4AB, CS_5AB, CS_10AB, CS_17AB, CS_18AB | F23: CK_4ABCD, CK_5ABCD, CK_10ABCD, CK_17ABCD, CK_18ABCD
B24: Katedra i Klinika Nefrologii Pediatrycznej | C24: 4 | D24: 8 | E24: CS_7AB, CS_11AB, | F24: CK_7ABCD, CK_11ABCD
B25: Katedra i Klinika Pediatrii, Endokrynologii, Diabetologii i Chorób Metabolicznych | C25: 14 | D25: 18 | E25: CS_8AB, CS_9AB, CS_12AB, CS_13AB, CS_14AB, CS_15AB, CS_16AB | F25: CK_8ABCD, CK_9ABCD, CK_13ABCD, CK_14ABCD, CK_15AB
B26: Katedra i Klinika Transplantacji Szpiku, Onkologii i Hematologii Dziecięcej | C26: 0 | D26: 10 | F26: CK_12ABCD, CK_16ABCD, CK_15CD
B28: Jednostka | C28: kierunek | D28: tryb | E28: liczba grup CK/CS | F28: nazwa grup
B29: Instytut Chorób Serca | C29: Lekarski | D29: stacjonarne | E29: 4 | F29: 8ABCD
B30: Katedra i Klinika Alergologii i Chorób Wewnętrznych | C30: Lekarski | D30: niestacjonarne | E30: 20 | F30: 14ABCD, 15ABCD, 16ABCD, 17ABCD, 18ABCD
B31: Katedra i Klinika Alergologii i Chorób Wewnętrznych | C31: Lekarski | D31: stacjonarne | E31: 37 | F31: 1ABCD, 2ABC, 3ABCD, 4ABCD, 7AD, 9ABCD, 10ABCD, 11ABCD, 12ABCD, 13ABCD
B32: Katedra i Klinika Reumatologii i Chorób Wewnętrznych | C32: Lekarski | D32: stacjonarne | E32: 10 | F32: 5ABCD, 6ABCD, 7BC

Sheet 1
D1: 7:00-8:00 | H1: 8:00-9:00 | L1: 9:00-10:00 | P1: 10:00-11:00 | T1: 11:00-12:00 | X1: 12:00-13:00 | AB1: 13:00-14:00 | AF1: 14:00-15:00 | AJ1: 15:00-16:00 | AN1: 16:00-17:00 | AR1: 17:00-18:00 | AV1: 18:00-19:00 | AZ1: 19:00-20:00
C2: grupa
D3: 7:00-8:00 | H3: 8:00-9:00 | L3: 9:00-10:00 | P3: 10:00-11:00 | T3: 11:00-12:00 | X3: 12:00-13:00 | AB3: 13:00-14:00 | AF3: 14:00-15:00 | AJ3: 15:00-16:00 | AN3: 16:00-17:00 | AR3: 17:00-18:00 | AV3: 18:00-19:00 | AZ3: 19:00-20:00
A4: 46293 | B4: poniedziałek | C4: 1A
C5: 1B
C6: 2A
C7: 2B
C8: 3A
C9: 3B
C10: 4A
C11: 4B
C12: 5A
C13: 5B
C14: 6A
C15: 6B
C16: 7A
... C39: 18B
D40: 7:00-8:00 | H40: 8:00-9:00 | L40: 9:00-10:00 | P40: 10:00-11:00 | T40: 11:00-12:00 | X40: 12:00-13:00 | AB40: 13:00-14:00 | AF40: 14:00-15:00 | AJ40: 15:00-16:00 | AN40: 16:00-17:00 | AR40: 17:00-18:00 | AV40: 18:00-19:00 | AZ40: 19:00-20:00
A41: =A4+1 -> 46294 | B41: Wtorek | C41: 1A
C42: 1B
C43: 2A
C44: 2B
C45: 3A
C46: 3B
C47: 4A
C48: 4B
C49: 5A
C50: 5B
C51: 6A
C52: 6B
C53: 7A
... C76: 18B
D77: 7:00-8:00 | H77: 8:00-9:00 | L77: 9:00-10:00 | P77: 10:00-11:00 | T77: 11:00-12:00 | X77: 12:00-13:00 | AB77: 13:00-14:00 | AF77: 14:00-15:00 | AJ77: 15:00-16:00 | AN77: 16:00-17:00 | AR77: 17:00-18:00 | AV77: 18:00-19:00 | AZ77: 19:00-20:00
A78: =A4+2 -> 46295 | B78: Środa | C78: 1A
C79: 1B
C80: 2A
C81: 2B
C82: 3A
C83: 3B
C84: 4A
...

Sheet 2
D1: 7:00-8:00 | H1: 8:00-9:00 | L1: 9:00-10:00 | P1: 10:00-11:00 | T1: 11:00-12:00 | X1: 12:00-13:00 | AB1: 13:00-14:00 | AF1: 14:00-15:00 | AJ1: 15:00-16:00 | AN1: 16:00-17:00 | AR1: 17:00-18:00 | AV1: 18:00-19:00 | AZ1: 19:00-20:00
C2: grupa
D3: 7:00-8:00 | H3: 8:00-9:00 | L3: 9:00-10:00 | P3: 10:00-11:00 | T3: 11:00-12:00 | X3: 12:00-13:00 | AB3: 13:00-14:00 | AF3: 14:00-15:00 | AJ3: 15:00-16:00 | AN3: 16:00-17:00 | AR3: 17:00-18:00 | AV3: 18:00-19:00 | AZ3: 19:00-20:15
A4: ='1'!A4:A39+7 -> 46300 | B4: poniedziałek | C4: 1A | I4: Patomorfologia SE 1 | BB4: Propedeutyka chorób wew. wykład WY1
C5: 1B
C6: 2A | I6: Patomorfologia SE 2
C7: 2B
C8: 3A | I8: Patomorfologia SE 3
C9: 3B
C10: 4A | J10: Mikrobiologia CL 9, 10 = CN 4A, 4B | V10: K | W10: Propedeutyka pediatrii CK 4A, CK 4B
C11: 4B | V11: K | W11: Propedeutyka pediatrii CK 4C, CK 4D
C12: 5A | R12: Propedeutyka chirurgii SE 5 | U12: Propedeutyka chirurgii CS 5A,5B | AL12: Farmakologia i toksykologia CN 5A
C13: 5B | AL13: Farmakologia i toksykologia CN 5B
C14: 6A | Z14: Mikrobiologia CL 15, 16 = CN 6A, 6B | AL14: Farmakologia i toksykologia CN 6A
C15: 6B | AL15: Farmakologia i toksykologia CN 6B
C16: 7A | P16: Mikrobiologia CL 17, 18 = CN 7A, 7B | AB16: Farmakologia i toksykologia CN 7A
C17: 7B | AB17: Farmakologia i toksykologia CN 7B
C18: 8A | AB18: Farmakologia i toksykologia CN 8A
C19: 8B | AB19: Farmakologia i toksykologia CN 8B
C20: 9A | R20: Farmakologia i toksykologia CN 9A
C21: 9B | R21: Farmakologia i toksykologia CN 9B
C22: 10A | R22: Farmakologia i toksykologia CN 10A
C23: 10B | R23: Farmakologia i toksykologia CN 10B
C24: 11A | J24: Prop. Inter. CK 11A | Q24: Prop. Inter. CK 11B
C25: 11B
C26: 12A | L26: Propedeutyka stomatologii SE 12
C27: 12B
C28: 13A
C29: 13B
C30: 14A | T30: Propedeutyka stomatologii SE 14
C31: 14B
C32: 15A | I32: G | J32: Propedeutyka pediatrii CK 15A, CK 15B
C33: 15B | S33: G | T33: Propedeutyka pediatrii CK 15C, CK 15D
C34: 16A | O34: Prop. Inter. CK 16A | V34: Prop. Inter. CK 16B
C35: 16B | V35: Prop. Inter. CK 16C, CK 16D
C36: 17A | O36: Prop. Inter. CK 17B | AN36: Mikrobiologia CL 45, 46, 47, 48 = CN 17A, 17B, 18A, 18B
C37: 17B | O37: Prop. Inter. CK 17C, CK 17D
C38: 18A | H38: Prop. Inter. CK 18A, CK 18B | O38: B | P38: Propedeutyka pediatrii CK 18A, CK 18B
C39: 18B | H39: Prop. Inter. CK 18C, CK 18D
D40: 7:00-8:00 | H40: 8:00-9:00 | L40: 9:00-10:00 | P40: 10:00-11:00 | T40: 11:00-12:00 | X40: 12:00-13:00 | AB40: 13:00-14:00 | AF40: 14:00-15:00 | AJ40: 15:00-16:00 | AN40: 16:00-17:00 | AR40: 17:00-18:00 | AV40: 18:00-19:00 | AZ40: 19:00-20:00
...

Sheet 3
D1: 7:00-8:00 | H1: 8:00-9:00 | L1: 9:00-10:00 | P1: 10:00-11:00 | T1: 11:00-12:00 | X1: 12:00-13:00 | AB1: 13:00-14:00 | AF1: 14:00-15:00 | AJ1: 15:00-16:00 | AN1: 16:00-17:00 | AR1: 17:00-18:00 | AV1: 18:00-19:00 | AZ1: 19:00-20:00
C2: grupa
D3: 7:00-8:00 | H3: 8:00-9:00 | L3: 9:00-10:00 | P3: 10:00-11:00 | T3: 11:00-12:00 | X3: 12:00-13:00 | AB3: 13:00-14:00 | AF3: 14:00-15:00 | AJ3: 15:00-16:00 | AN3: 16:00-17:00 | AR3: 17:00-18:00 | AV3: 18:00-19:00 | AZ3: 19:00-20:15
A4: ='2'!A4:A39+7 -> 46307 | B4: poniedziałek | C4: 1A | I4: Patomorfologia SE 1 | BB4: Propedeutyka chorób wew. wykład WY1
C5: 1B
C6: 2A | I6: Patomorfologia SE 2
C7: 2B
C8: 3A | I8: Patomorfologia SE 3
C9: 3B
C10: 4A | J10: Mikrobiologia CL 9, 10 = CN 4A, 4B | V10: K | W10: Propedeutyka pediatrii CK 4A, CK 4B
C11: 4B | V11: K | W11: Propedeutyka pediatrii CK 4C, CK 4D
C12: 5A | V12: Propedeutyka chirurgii SE 5 | AB12: Propedeutyka chirurgii CS 5A,5B | AL12: Farmakologia i toksykologia CN 5A
C13: 5B | AL13: Farmakologia i toksykologia CN 5B
C14: 6A | Z14: Mikrobiologia CL 15, 16 = CN 6A, 6B | AL14: Farmakologia i toksykologia CN 6A
C15: 6B | AL15: Farmakologia i toksykologia CN 6B
C16: 7A | P16: Mikrobiologia CL 17, 18 = CN 7A, 7B | AB16: Farmakologia i toksykologia CN 7A
C17: 7B | AB17: Farmakologia i toksykologia CN 7B
C18: 8A | AB18: Farmakologia i toksykologia CN 8A
C19: 8B | AB19: Farmakologia i toksykologia CN 8B
C20: 9A | R20: Farmakologia i toksykologia CN 9A
C21: 9B | R21: Farmakologia i toksykologia CN 9B
C22: 10A | R22: Farmakologia i toksykologia CN 10A
C23: 10B | R23: Farmakologia i toksykologia CN 10B
C24: 11A | J24: Prop. Inter. CK 11A | Q24: Prop. Inter. CK 11B
C25: 11B
C26: 12A | J26: Propedeutyka stomatologii SE 12
C27: 12B
C28: 13A
C29: 13B
C30: 14A | T30: Propedeutyka stomatologii SE 14
C31: 14B
C32: 15A | I32: CSM | J32: Propedeutyka pediatrii CK 15A, CK 15B
C33: 15B | S33: CSM | T33: Propedeutyka pediatrii CK 15C, CK 15D
C34: 16A | O34: Prop. Inter. CK 16A | V34: Prop. Inter. CK 16B
C35: 16B | V35: Prop. Inter. CK 16C, CK 16D
C36: 17A | O36: Prop. Inter. CK 17B | AN36: Mikrobiologia CL 45, 46, 47, 48 = CN 17A, 17B, 18A, 18B
C37: 17B | O37: Prop. Inter. CK 17C, CK 17D
C38: 18A | H38: Prop. Inter. CK 18A, CK 18B | O38: B | P38: Propedeutyka pediatrii CK 18A, CK 18B
C39: 18B | H39: Prop. Inter. CK 18C, CK 18D
D40: 7:00-8:00 | H40: 8:00-9:00 | L40: 9:00-10:00 | P40: 10:00-11:00 | T40: 11:00-12:00 | X40: 12:00-13:00 | AB40: 13:00-14:00 | AF40: 14:00-15:00 | AJ40: 15:00-16:00 | AN40: 16:00-17:00 | AR40: 17:00-18:00 | AV40: 18:00-19:00 | AZ40: 19:00-20:15
...

Sheet 4
D1: 7:00-8:00 | H1: 8:00-9:00 | L1: 9:00-10:00 | P1: 10:00-11:00 | T1: 11:00-12:00 | X1: 12:00-13:00 | AB1: 13:00-14:00 | AF1: 14:00-15:00 | AJ1: 15:00-16:00 | AN1: 16:00-17:00 | AR1: 17:00-18:00 | AV1: 18:00-19:00 | AZ1: 19:00-20:00
C2: grupa
D3: 7:00-8:00 | H3: 8:00-9:00 | L3: 9:00-10:00 | P3: 10:00-11:00 | T3: 11:00-12:00 | X3: 12:00-13:00 | AB3: 13:00-14:00 | AF3: 14:00-15:00 | AJ3: 15:00-16:00 | AN3: 16:00-17:00 | AR3: 17:00-18:00 | AV3: 18:00-19:00 | AZ3: 19:00-20:15
A4: ='3'!A4:A39+7 -> 46314 | B4: poniedziałek | C4: 1A | I4: Patomorfologia SE 1 | BB4: Propedeutyka chorób wew. wykład WY1
C5: 1B
C6: 2A | I6: Patomorfologia SE 2
C7: 2B
C8: 3A | I8: Patomorfologia SE 3
C9: 3B
C10: 4A | J10: Mikrobiologia CL 9, 10 = CN 4A, 4B | V10: K | W10: Propedeutyka pediatrii CK 4A, CK 4B
C11: 4B | V11: K | W11: Propedeutyka pediatrii CK 4C, CK 4D
C12: 5A | AL12: Farmakologia i toksykologia CN 5A
C13: 5B | AL13: Farmakologia i toksykologia CN 5B
C14: 6A | Z14: Mikrobiologia CL 15, 16 = CN 6A, 6B | AL14: Farmakologia i toksykologia CN 6A
C15: 6B | AL15: Farmakologia i toksykologia CN 6B
C16: 7A | P16: Mikrobiologia CL 17, 18 = CN 7A, 7B | AB16: Farmakologia i toksykologia CN 7A
C17: 7B | AB17: Farmakologia i toksykologia CN 7B
C18: 8A | AB18: Farmakologia i toksykologia CN 8A
C19: 8B | AB19: Farmakologia i toksykologia CN 8B
C20: 9A | R20: Farmakologia i toksykologia CN 9A
C21: 9B | R21: Farmakologia i toksykologia CN 9B
C22: 10A | R22: Farmakologia i toksykologia CN 10A
C23: 10B | R23: Farmakologia i toksykologia CN 10B
C24: 11A | J24: Prop. Inter. CK 11A | Q24: Prop. Inter. CK 11B
C25: 11B
C26: 12A | H26: Propedeutyka stomatologii CN 12A, 12B
C27: 12B
C28: 13A
C29: 13B
C30: 14A | T30: Propedeutyka stomatologii CN 14A, 14B
C31: 14B
C32: 15A | I32: G | J32: Propedeutyka pediatrii CK 15A, CK 15B
C33: 15B | S33: G | T33: Propedeutyka pediatrii CK 15C, CK 15D
C34: 16A | O34: Prop. Inter. CK 16A | V34: Prop. Inter. CK 16B
C35: 16B | V35: Prop. Inter. CK 16C, CK 16D
C36: 17A | O36: Prop. Inter. CK 17B | AN36: Mikrobiologia CL 45, 46, 47, 48 = CN 17A, 17B, 18A, 18B
C37: 17B | O37: Prop. Inter. CK 17C, CK 17D
C38: 18A | H38: Prop. Inter. CK 18A, CK 18B | O38: B | P38: Propedeutyka pediatrii CK 18A, CK 18B
C39: 18B | H39: Prop. Inter. CK 18C, CK 18D
D40: 7:00-8:00 | H40: 8:00-9:00 | L40: 9:00-10:00 | P40: 10:00-11:00 | T40: 11:00-12:00 | X40: 12:00-13:00 | AB40: 13:00-14:00 | AF40: 14:00-15:00 | AJ40: 15:00-16:00 | AN40: 16:00-17:00 | AR40: 17:00-18:00 | AV40: 18:00-19:00 | AZ40: 19:00-20:15
...

Sheet 5
D1: 7:00-8:00 | H1: 8:00-9:00 | L1: 9:00-10:00 | P1: 10:00-11:00 | T1: 11:00-12:00 | X1: 12:00-13:00 | AB1: 13:00-14:00 | AF1: 14:00-15:00 | AJ1: 15:00-16:00 | AN1: 16:00-17:00 | AR1: 17:00-18:00 | AV1: 18:00-19:00 | AZ1: 19:00-20:00
C2: grupa
D3: 7:00-8:00 | H3: 8:00-9:00 | L3: 9:00-10:00 | P3: 10:00-11:00 | T3: 11:00-12:00 | X3: 12:00-13:00 | AB3: 13:00-14:00 | AF3: 14:00-15:00 | AJ3: 15:00-16:00 | AN3: 16:00-17:00 | AR3: 17:00-18:00 | AV3: 18:00-19:00 | AZ3: 19:00-20:15
A4: ='4'!A4:A39+7 -> 46321 | B4: poniedziałek | C4: 1A | I4: Patomorfologia SE 1 | BB4: Propedeutyka chorób wew. wykład WY1
C5: 1B
C6: 2A | I6: Patomorfologia SE 2
C7: 2B
C8: 3A | I8: Patomorfologia SE 3 | X8: Propedeutyka chirurgii SE 3 | AA8: Propedeutyka chirurgii CS 3A,3B
C9: 3B
C10: 4A | J10: Mikrobiologia CL 9, 10 = CN 4A, 4B | V10: CSM | W10: Propedeutyka pediatrii CK 4A, CK 4B
C11: 4B | V11: CSM | W11: Propedeutyka pediatrii CK 4C, CK 4D
C12: 5A | AL12: Farmakologia i toksykologia CN 5A
C13: 5B | AL13: Farmakologia i toksykologia CN 5B
C14: 6A | H14: Propedeutyka chirurgii SE 6 | K14: Propedeutyka chirurgii CS 6A,6B | Z14: Mikrobiologia CL 15, 16 = CN 6A, 6B | AL14: Farmakologia i toksykologia CN 6A
C15: 6B | AL15: Farmakologia i toksykologia CN 6B
C16: 7A | P16: Mikrobiologia CL 17, 18 = CN 7A, 7B | AB16: Farmakologia i toksykologia CN 7A
C17: 7B | AB17: Farmakologia i toksykologia CN 7B
C18: 8A | AB18: Farmakologia i toksykologia CN 8A
C19: 8B | AB19: Farmakologia i toksykologia CN 8B
C20: 9A | R20: Farmakologia i toksykologia CN 9A
C21: 9B | R21: Farmakologia i toksykologia CN 9B
C22: 10A | R22: Farmakologia i toksykologia CN 10A
C23: 10B | R23: Farmakologia i toksykologia CN 10B
C24: 11A | J24: Prop. Inter. CK 11A | Q24: Prop. Inter. CK 11B
C25: 11B
C26: 12A | J26: Propedeutyka stomatologii CN 12A, 12B
C27: 12B
C28: 13A
C29: 13B
C30: 14A | T30: Propedeutyka stomatologii CN 14A, 14B
C31: 14B
C32: 15A | I32: G | J32: Propedeutyka pediatrii CK 15A, CK 15B
C33: 15B | S33: G | T33: Propedeutyka pediatrii CK 15C, CK 15D
C34: 16A | O34: Prop. Inter. CK 16A | V34: Prop. Inter. CK 16B
C35: 16B | V35: Prop. Inter. CK 16C, CK 16D
C36: 17A | O36: Prop. Inter. CK 17B | AN36: Mikrobiologia CL 45, 46, 47, 48 = CN 17A, 17B, 18A, 18B
C37: 17B | O37: Prop. Inter. CK 17C, CK 17D
C38: 18A | H38: Prop. Inter. CK 18A, CK 18B | O38: B | P38: Propedeutyka pediatrii CK 18A, CK 18B
C39: 18B | H39: Prop. Inter. CK 18C, CK 18D
D40: 7:00-8:00 | H40: 8:00-9:00 | L40: 9:00-10:00 | P40: 10:00-11:00 | T40: 11:00-12:00 | X40: 12:00-13:00 | AB40: 13:00-14:00 | AF40: 14:00-15:00 | AJ40: 15:00-16:00 | AN40: 16:00-17:00 | AR40: 17:00-18:00 | AV40: 18:00-19:00 | AZ40: 19:00-20:15
...

Sheet 6
D1: 7:00-8:00 | H1: 8:00-9:00 | L1: 9:00-10:00 | P1: 10:00-11:00 | T1: 11:00-12:00 | X1: 12:00-13:00 | AB1: 13:00-14:00 | AF1: 14:00-15:00 | AJ1: 15:00-16:00 | AN1: 16:00-17:00 | AR1: 17:00-18:00 | AV1: 18:00-19:00 | AZ1: 19:00-20:00
C2: grupa
D3: 7:00-8:00 | H3: 8:00-9:00 | L3: 9:00-10:00 | P3: 10:00-11:00 | T3: 11:00-12:00 | X3: 12:00-13:00 | AB3: 13:00-14:00 | AF3: 14:00-15:00 | AJ3: 15:00-16:00 | AN3: 16:00-17:00 | AR3: 17:00-18:00 | AV3: 18:00-19:00 | AZ3: 19:00-20:15
A4: ='5'!A4:A39+7 -> 46328 | B4: poniedziałek | C4: 1A | I4: Patomorfologia SE 1 | BB4: Propedeutyka chorób wew. wykład WY1
C5: 1B
C6: 2A | I6: Patomorfologia SE 2
C7: 2B
C8: 3A | I8: Patomorfologia SE 3 | X8: Propedeutyka chirurgii SE 3 | AD8: Propedeutyka chirurgii CS 3A,3B
C9: 3B
C10: 4A | J10: Mikrobiologia CL 9, 10 = CN 4A, 4B | V10: K | W10: Propedeutyka pediatrii CK 4A, CK 4B
C11: 4B | V11: K | W11: Propedeutyka pediatrii CK 4C, CK 4D
C12: 5A | AL12: Farmakologia i toksykologia CN 5A
C13: 5B | AL13: Farmakologia i toksykologia CN 5B
C14: 6A | H14: Propedeutyka chirurgii SE 6 | N14: Propedeutyka chirurgii CS 6A,6B | Z14: Mikrobiologia CL 15, 16 = CN 6A, 6B | AL14: Farmakologia i toksykologia CN 6A
C15: 6B | AL15: Farmakologia i toksykologia CN 6B
C16: 7A | P16: Mikrobiologia CL 17, 18 = CN 7A, 7B | AB16: Farmakologia i toksykologia CN 7A
C17: 7B | AB17: Farmakologia i toksykologia CN 7B
C18: 8A | AB18: Farmakologia i toksykologia CN 8A
C19: 8B | AB19: Farmakologia i toksykologia CN 8B
C20: 9A | R20: Farmakologia i toksykologia CN 9A
C21: 9B | R21: Farmakologia i toksykologia CN 9B
C22: 10A | R22: Farmakologia i toksykologia CN 10A
C23: 10B | R23: Farmakologia i toksykologia CN 10B
C24: 11A | J24: Prop. Inter. CK 11A | Q24: Prop. Inter. CK 11B
C25: 11B
C26: 12A | J26: Propedeutyka stomatologii CN 12A, 12B
C27: 12B
C28: 13A
C29: 13B
C30: 14A | T30: Propedeutyka stomatologii CN 14A, 14B
C31: 14B
C32: 15A | I32: G | J32: Propedeutyka pediatrii CK 15A, CK 15B
C33: 15B | S33: G | T33: Propedeutyka pediatrii CK 15C, CK 15D
C34: 16A | O34: Prop. Inter. CK 16A | V34: Prop. Inter. CK 16B
C35: 16B | V35: Prop. Inter. CK 16C, CK 16D
C36: 17A | O36: Prop. Inter. CK 17B | AN36: Mikrobiologia CL 45, 46, 47, 48 = CN 17A, 17B, 18A, 18B
C37: 17B | O37: Prop. Inter. CK 17C, CK 17D
C38: 18A | H38: Prop. Inter. CK 18A, CK 18B | O38: B | P38: Propedeutyka pediatrii CK 18A, CK 18B
C39: 18B | H39: Prop. Inter. CK 18C, CK 18D
D40: 7:00-8:00 | H40: 8:00-9:00 | L40: 9:00-10:00 | P40: 10:00-11:00 | T40: 11:00-12:00 | X40: 12:00-13:00 | AB40: 13:00-14:00 | AF40: 14:00-15:00 | AJ40: 15:00-16:00 | AN40: 16:00-17:00 | AR40: 17:00-18:00 | AV40: 18:00-19:00 | AZ40: 19:00-20:15
...

Sheet 7
D1: 7:00-8:00 | H1: 8:00-9:00 | L1: 9:00-10:00 | P1: 10:00-11:00 | T1: 11:00-12:00 | X1: 12:00-13:00 | AB1: 13:00-14:00 | AF1: 14:00-15:00 | AJ1: 15:00-16:00 | AN1: 16:00-17:00 | AR1: 17:00-18:00 | AV1: 18:00-19:00 | AZ1: 19:00-20:00
C2: grupa
D3: 7:00-8:00 | H3: 8:00-9:00 | L3: 9:00-10:00 | P3: 10:00-11:00 | T3: 11:00-12:00 | X3: 12:00-13:00 | AB3: 13:00-14:00 | AF3: 14:00-15:00 | AJ3: 15:00-16:00 | AN3: 16:00-17:00 | AR3: 17:00-18:00 | AV3: 18:00-19:00 | AZ3: 19:00-20:15
A4: ='6'!A4:A39+7 -> 46335 | B4: poniedziałek | C4: 1A | I4: Patomorfologia SE 1 | BB4: Propedeutyka chorób wew. wykład WY1
C5: 1B
C6: 2A | I6: Patomorfologia SE 2
C7: 2B
C8: 3A | I8: Patomorfologia SE 3 | X8: Propedeutyka chirurgii SE 3 | AD8: Propedeutyka chirurgii CS 3A,3B
C9: 3B
C10: 4A | V10: K | W10: Propedeutyka pediatrii CK 4A, CK 4B
C11: 4B | V11: K | W11: Propedeutyka pediatrii CK 4C, CK 4D
C12: 5A | AL12: Farmakologia i toksykologia CN 5A
C13: 5B | AL13: Farmakologia i toksykologia CN 5B
C14: 6A | AL14: Farmakologia i toksykologia CN 6A
C15: 6B | AL15: Farmakologia i toksykologia CN 6B
C16: 7A | AB16: Farmakologia i toksykologia CN 7A
C17: 7B | AB17: Farmakologia i toksykologia CN 7B
C18: 8A | AB18: Farmakologia i toksykologia CN 8A
C19: 8B | AB19: Farmakologia i toksykologia CN 8B
C20: 9A | R20: Farmakologia i toksykologia CN 9A
C21: 9B | R21: Farmakologia i toksykologia CN 9B
C22: 10A | R22: Farmakologia i toksykologia CN 10A
C23: 10B | R23: Farmakologia i toksykologia CN 10B
C24: 11A | J24: Prop. Inter. CK 11A | Q24: Prop. Inter. CK 11B
C25: 11B
C26: 12A
C27: 12B
C28: 13A
C29: 13B
C30: 14A
C31: 14B
C32: 15A | I32: G | J32: Propedeutyka pediatrii CK 15A, CK 15B
C33: 15B | S33: G | T33: Propedeutyka pediatrii CK 15C, CK 15D
C34: 16A | O34: Prop. Inter. CK 16A | V34: Prop. Inter. CK 16B
C35: 16B | V35: Prop. Inter. CK 16C, CK 16D
C36: 17A | O36: Prop. Inter. CK 17B
C37: 17B | O37: Prop. Inter. CK 17C, CK 17D
C38: 18A | H38: Prop. Inter. CK 18A, CK 18B | O38: B | P38: Propedeutyka pediatrii CK 18A, CK 18B
C39: 18B | H39: Prop. Inter. CK 18C, CK 18D
D40: 7:00-8:00 | H40: 8:00-9:00 | L40: 9:00-10:00 | P40: 10:00-11:00 | T40: 11:00-12:00 | X40: 12:00-13:00 | AB40: 13:00-14:00 | AF40: 14:00-15:00 | AJ40: 15:00-16:00 | AN40: 16:00-17:00 | AR40: 17:00-18:00 | AV40: 18:00-19:00 | AZ40: 19:00-20:15
...

Sheet 8
D1: 7:00-8:00 | H1: 8:00-9:00 | L1: 9:00-10:00 | P1: 10:00-11:00 | T1: 11:00-12:00 | X1: 12:00-13:00 | AB1: 13:00-14:00 | AF1: 14:00-15:00 | AJ1: 15:00-16:00 | AN1: 16:00-17:00 | AR1: 17:00-18:00 | AV1: 18:00-19:00 | AZ1: 19:00-20:00
C2: grupa
D3: 7:00-8:00 | H3: 8:00-9:00 | L3: 9:00-10:00 | P3: 10:00-11:00 | T3: 11:00-12:00 | X3: 12:00-13:00 | AB3: 13:00-14:00 | AF3: 14:00-15:00 | AJ3: 15:00-16:00 | AN3: 16:00-17:00 | AR3: 17:00-18:00 | AV3: 18:00-19:00 | AZ3: 19:00-20:15
A4: ='7'!A4:A39+7 -> 46342 | B4: poniedziałek | C4: 1A | I4: Patomorfologia SE 1 | BB4: Propedeutyka chorób wew. wykład WY1
C5: 1B
C6: 2A | I6: Patomorfologia SE 2
C7: 2B
C8: 3A | I8: Patomorfologia SE 3
C9: 3B
C10: 4A | J10: Mikrobiologia CL 9, 10 = CN 4A, 4B | V10: K | W10: Propedeutyka pediatrii CK 4A, CK 4B
C11: 4B | V11: K | W11: Propedeutyka pediatrii CK 4C, CK 4D
C12: 5A | AL12: Farmakologia i toksykologia CN 5A
C13: 5B | AL13: Farmakologia i toksykologia CN 5B
C14: 6A | Z14: Mikrobiologia CL 15, 16 = CN 6A, 6B | AL14: Farmakologia i toksykologia CN 6A
C15: 6B | AL15: Farmakologia i toksykologia CN 6B
C16: 7A | P16: Mikrobiologia CL 17, 18 = CN 7A, 7B | AB16: Farmakologia i toksykologia CN 7A
C17: 7B | AB17: Farmakologia i toksykologia CN 7B
C18: 8A | AB18: Farmakologia i toksykologia CN 8A
C19: 8B | AB19: Farmakologia i toksykologia CN 8B
C20: 9A | R20: Farmakologia i toksykologia CN 9A
C21: 9B | R21: Farmakologia i toksykologia CN 9B
C22: 10A | R22: Farmakologia i toksykologia CN 10A
C23: 10B | R23: Farmakologia i toksykologia CN 10B
C24: 11A | J24: Prop. Inter. CK 11A | Q24: Prop. Inter. CK 11B
C25: 11B
C26: 12A | R26: Propedeutyka chirurgii SE 12 | U26: Propedeutyka chirurgii CS 12A,12B
C27: 12B
C28: 13A
C29: 13B
C30: 14A
C31: 14B
C32: 15A | I32: G | J32: Propedeutyka pediatrii CK 15A, CK 15B
C33: 15B | S33: G | T33: Propedeutyka pediatrii CK 15C, CK 15D
C34: 16A | O34: Prop. Inter. CK 16A | V34: Prop. Inter. CK 16B
C35: 16B | V35: Prop. Inter. CK 16C, CK 16D
C36: 17A | O36: Prop. Inter. CK 17B | AN36: Mikrobiologia CL 45, 46, 47, 48 = CN 17A, 17B, 18A, 18B
C37: 17B | O37: Prop. Inter. CK 17C, CK 17D
C38: 18A | H38: Prop. Inter. CK 18A, CK 18B
C39: 18B | H39: Prop. Inter. CK 18C, CK 18D
D40: 7:00-8:00 | H40: 8:00-9:00 | L40: 9:00-10:00 | P40: 10:00-11:00 | T40: 11:00-12:00 | X40: 12:00-13:00 | AB40: 13:00-14:00 | AF40: 14:00-15:00 | AJ40: 15:00-16:00 | AN40: 16:00-17:00 | AR40: 17:00-18:00 | AV40: 18:00-19:00 | AZ40: 19:00-20:15
...

Sheet 9
D1: 7:00-8:00 | H1: 8:00-9:00 | L1: 9:00-10:00 | P1: 10:00-11:00 | T1: 11:00-12:00 | X1: 12:00-13:00 | AB1: 13:00-14:00 | AF1: 14:00-15:00 | AJ1: 15:00-16:00 | AN1: 16:00-17:00 | AR1: 17:00-18:00 | AV1: 18:00-19:00 | AZ1: 19:00-20:00
C2: grupa
D3: 7:00-8:00 | H3: 8:00-9:00 | L3: 9:00-10:00 | P3: 10:00-11:00 | T3: 11:00-12:00 | X3: 12:00-13:00 | AB3: 13:00-14:00 | AF3: 14:00-15:00 | AJ3: 15:00-16:00 | AN3: 16:00-17:00 | AR3: 17:00-18:00 | AV3: 18:00-19:00 | AZ3: 19:00-20:15
A4: ='8'!A4:A39+7 -> 46349 | B4: poniedziałek | C4: 1A | I4: Patomorfologia SE 1 | BB4: Propedeutyka chorób wew. wykład WY1
C5: 1B
C6: 2A | I6: Patomorfologia SE 2
C7: 2B
C8: 3A | I8: Patomorfologia SE 3
C9: 3B
C10: 4A | J10: Mikrobiologia CL 9, 10 = CN 4A, 4B | V10: K | W10: Propedeutyka pediatrii CK 4A, CK 4B
C11: 4B | V11: K | W11: Propedeutyka pediatrii CK 4C, CK 4D
C12: 5A | AL12: Farmakologia i toksykologia CN 5A
C13: 5B | AL13: Farmakologia i toksykologia CN 5B
C14: 6A | Z14: Mikrobiologia CL 15, 16 = CN 6A, 6B | AL14: Farmakologia i toksykologia CN 6A
C15: 6B | AL15: Farmakologia i toksykologia CN 6B
C16: 7A | P16: Mikrobiologia CL 17, 18 = CN 7A, 7B | AB16: Farmakologia i toksykologia CN 7A
C17: 7B | AB17: Farmakologia i toksykologia CN 7B
C18: 8A | AB18: Farmakologia i toksykologia CN 8A
C19: 8B | AB19: Farmakologia i toksykologia CN 8B
C20: 9A | R20: Farmakologia i toksykologia CN 9A
C21: 9B | R21: Farmakologia i toksykologia CN 9B
C22: 10A | R22: Farmakologia i toksykologia CN 10A
C23: 10B | R23: Farmakologia i toksykologia CN 10B
C24: 11A | J24: Prop. Inter. CK 11A | Q24: Prop. Inter. CK 11B
C25: 11B
C26: 12A
C27: 12B
C28: 13A
C29: 13B
C30: 14A
C31: 14B
C32: 15A | I32: G | J32: Propedeutyka pediatrii CK 15A, CK 15B
C33: 15B | S33: G | T33: Propedeutyka pediatrii CK 15C, CK 15D
C34: 16A | O34: Prop. Inter. CK 16A | V34: Prop. Inter. CK 16B
C35: 16B | V35: Prop. Inter. CK 16C, CK 16D
C36: 17A | O36: Prop. Inter. CK 17B | AN36: Mikrobiologia CL 45, 46, 47, 48 = CN 17A, 17B, 18A, 18B
C37: 17B | O37: Prop. Inter. CK 17C, CK 17D
C38: 18A | H38: Prop. Inter. CK 18A, CK 18B | O38: B | P38: Propedeutyka pediatrii CK 18A, CK 18B
C39: 18B | H39: Prop. Inter. CK 18C, CK 18D
D40: 7:00-8:00 | H40: 8:00-9:00 | L40: 9:00-10:00 | P40: 10:00-11:00 | T40: 11:00-12:00 | X40: 12:00-13:00 | AB40: 13:00-14:00 | AF40: 14:00-15:00 | AJ40: 15:00-16:00 | AN40: 16:00-17:00 | AR40: 17:00-18:00 | AV40: 18:00-19:00 | AZ40: 19:00-20:15
...

Sheet 10
D1: 7:00-8:00 | H1: 8:00-9:00 | L1: 9:00-10:00 | P1: 10:00-11:00 | T1: 11:00-12:00 | X1: 12:00-13:00 | AB1: 13:00-14:00 | AF1: 14:00-15:00 | AJ1: 15:00-16:00 | AN1: 16:00-17:00 | AR1: 17:00-18:00 | AV1: 18:00-19:00 | AZ1: 19:00-20:00
C2: grupa
D3: 7:00-8:00 | H3: 8:00-9:00 | L3: 9:00-10:00 | P3: 10:00-11:00 | T3: 11:00-12:00 | X3: 12:00-13:00 | AB3: 13:00-14:00 | AF3: 14:00-15:00 | AJ3: 15:00-16:00 | AN3: 16:00-17:00 | AR3: 17:00-18:00 | AV3: 18:00-19:00 | AZ3: 19:00-20:15
A4: ='9'!A4:A39+7 -> 46356 | B4: poniedziałek | C4: 1A | I4: Patomorfologia SE 1 | BB4: Propedeutyka chorób wew. wykład WY1
C5: 1B
C6: 2A | I6: Patomorfologia SE 2
C7: 2B
C8: 3A | I8: Patomorfologia SE 3
C9: 3B
C10: 4A | J10: Mikrobiologia CL 9, 10 = CN 4A, 4B | V10: K | W10: Propedeutyka pediatrii CK 4A, CK 4B
C11: 4B | V11: K | W11: Propedeutyka pediatrii CK 4C, CK 4D
C12: 5A | AL12: Farmakologia i toksykologia CN 5A
C13: 5B | AL13: Farmakologia i toksykologia CN 5B
C14: 6A | Z14: Mikrobiologia CL 15, 16 = CN 6A, 6B | AL14: Farmakologia i toksykologia CN 6A
C15: 6B | AL15: Farmakologia i toksykologia CN 6B
C16: 7A | P16: Mikrobiologia CL 17, 18 = CN 7A, 7B | AB16: Farmakologia i toksykologia CN 7A
C17: 7B | AB17: Farmakologia i toksykologia CN 7B
C18: 8A | AB18: Farmakologia i toksykologia CN 8A
C19: 8B | AB19: Farmakologia i toksykologia CN 8B
C20: 9A | R20: Farmakologia i toksykologia CN 9A
C21: 9B | R21: Farmakologia i toksykologia CN 9B
C22: 10A | R22: Farmakologia i toksykologia CN 10A
C23: 10B | R23: Farmakologia i toksykologia CN 10B
C24: 11A | J24: Prop. Inter. CK 11A | Q24: Prop. Inter. CK 11B
C25: 11B
C26: 12A | R26: Propedeutyka chirurgii SE 12 | X26: Propedeutyka chirurgii CS 12A,12B
C27: 12B
C28: 13A
C29: 13B
C30: 14A
C31: 14B
C32: 15A | I32: G | J32: Propedeutyka pediatrii CK 15A, CK 15B
C33: 15B | S33: G | T33: Propedeutyka pediatrii CK 15C, CK 15D
C34: 16A | O34: Prop. Inter. CK 16A | V34: Prop. Inter. CK 16B
C35: 16B | V35: Prop. Inter. CK 16C, CK 16D
C36: 17A | O36: Prop. Inter. CK 17B | AN36: Mikrobiologia CL 45, 46, 47, 48 = CN 17A, 17B, 18A, 18B
C37: 17B | O37: Prop. Inter. CK 17C, CK 17D
C38: 18A | H38: Prop. Inter. CK 18A, CK 18B | O38: B | P38: Propedeutyka pediatrii CK 18A, CK 18B
C39: 18B | H39: Prop. Inter. CK 18C, CK 18D
D40: 7:00-8:00 | H40: 8:00-9:00 | L40: 9:00-10:00 | P40: 10:00-11:00 | T40: 11:00-12:00 | X40: 12:00-13:00 | AB40: 13:00-14:00 | AF40: 14:00-15:00 | AJ40: 15:00-16:00 | AN40: 16:00-17:00 | AR40: 17:00-18:00 | AV40: 18:00-19:00 | AZ40: 19:00-20:15
...

Sheet 11
D1: 7:00-8:00 | H1: 8:00-9:00 | L1: 9:00-10:00 | P1: 10:00-11:00 | T1: 11:00-12:00 | X1: 12:00-13:00 | AB1: 13:00-14:00 | AF1: 14:00-15:00 | AJ1: 15:00-16:00 | AN1: 16:00-17:00 | AR1: 17:00-18:00 | AV1: 18:00-19:00 | AZ1: 19:00-20:00
C2: grupa
D3: 7:00-8:00 | H3: 8:00-9:00 | L3: 9:00-10:00 | P3: 10:00-11:00 | T3: 11:00-12:00 | X3: 12:00-13:00 | AB3: 13:00-14:00 | AF3: 14:00-15:00 | AJ3: 15:00-16:00 | AN3: 16:00-17:00 | AR3: 17:00-18:00 | AV3: 18:00-19:00 | AZ3: 19:00-20:15
A4: ='10'!A4:A39+7 -> 46363 | B4: poniedziałek | C4: 1A | I4: Patomorfologia SE 1 | BB4: Propedeutyka chorób wew. wykład WY1
C5: 1B
C6: 2A | I6: Patomorfologia SE 2
C7: 2B
C8: 3A | I8: Patomorfologia SE 3
C9: 3B
C10: 4A | J10: Mikrobiologia CL 9, 10 = CN 4A, 4B | V10: K | W10: Propedeutyka pediatrii CK 4A, CK 4B
C11: 4B | V11: K | W11: Propedeutyka pediatrii CK 4C, CK 4D
C12: 5A | AL12: Farmakologia i toksykologia CN 5A
C13: 5B | AL13: Farmakologia i toksykologia CN 5B
C14: 6A | Z14: Mikrobiologia CL 15, 16 = CN 6A, 6B | AL14: Farmakologia i toksykologia CN 6A
C15: 6B | AL15: Farmakologia i toksykologia CN 6B
C16: 7A | P16: Mikrobiologia CL 17, 18 = CN 7A, 7B | AB16: Farmakologia i toksykologia CN 7A
C17: 7B | AB17: Farmakologia i toksykologia CN 7B
C18: 8A | AB18: Farmakologia i toksykologia CN 8A
C19: 8B | AB19: Farmakologia i toksykologia CN 8B
C20: 9A | R20: Farmakologia i toksykologia CN 9A
C21: 9B | R21: Farmakologia i toksykologia CN 9B
C22: 10A | R22: Farmakologia i toksykologia CN 10A
C23: 10B | R23: Farmakologia i toksykologia CN 10B
C24: 11A | J24: Prop. Inter. CK 11A | Q24: Prop. Inter. CK 11B
C25: 11B
C26: 12A
C27: 12B
C28: 13A
C29: 13B
C30: 14A
C31: 14B
C32: 15A | I32: G | J32: Propedeutyka pediatrii CK 15A, CK 15B
C33: 15B | S33: G | T33: Propedeutyka pediatrii CK 15C, CK 15D
C34: 16A | O34: Prop. Inter. CK 16A | V34: Prop. Inter. CK 16B
C35: 16B | V35: Prop. Inter. CK 16C, CK 16D
C36: 17A | O36: Prop. Inter. CK 17B | AN36: Mikrobiologia CL 45, 46, 47, 48 = CN 17A, 17B, 18A, 18B
C37: 17B | O37: Prop. Inter. CK 17C, CK 17D
C38: 18A | H38: Prop. Inter. CK 18A, CK 18B | O38: B | P38: Propedeutyka pediatrii CK 18A, CK 18B
C39: 18B | H39: Prop. Inter. CK 18C, CK 18D
D40: 7:00-8:00 | H40: 8:00-9:00 | L40: 9:00-10:00 | P40: 10:00-11:00 | T40: 11:00-12:00 | X40: 12:00-13:00 | AB40: 13:00-14:00 | AF40: 14:00-15:00 | AJ40: 15:00-16:00 | AN40: 16:00-17:00 | AR40: 17:00-18:00 | AV40: 18:00-19:00 | AZ40: 19:00-20:15
...

Sheet 12
D1: 7:00-8:00 | H1: 8:00-9:00 | L1: 9:00-10:00 | P1: 10:00-11:00 | T1: 11:00-12:00 | X1: 12:00-13:00 | AB1: 13:00-14:00 | AF1: 14:00-15:00 | AJ1: 15:00-16:00 | AN1: 16:00-17:00 | AR1: 17:00-18:00 | AV1: 18:00-19:00 | AZ1: 19:00-20:00
C2: grupa
D3: 7:00-8:00 | H3: 8:00-9:00 | L3: 9:00-10:00 | P3: 10:00-11:00 | T3: 11:00-12:00 | X3: 12:00-13:00 | AB3: 13:00-14:00 | AF3: 14:00-15:00 | AJ3: 15:00-16:00 | AN3: 16:00-17:00 | AR3: 17:00-18:00 | AV3: 18:00-19:00 | AZ3: 19:00-20:15
A4: ='11'!A4:A39+7 -> 46370 | B4: poniedziałek | C4: 1A | I4: Patomorfologia SE 1 | BB4: Propedeutyka chorób wew. wykład WY1
C5: 1B
C6: 2A | I6: Patomorfologia SE 2
C7: 2B
C8: 3A | I8: Patomorfologia SE 3
C9: 3B
C10: 4A | J10: Mikrobiologia CL 9, 10 = CN 4A, 4B | T10: Propedeutyka stomatologii SE 4
C11: 4B
C12: 5A | AL12: Farmakologia i toksykologia CN 5A
C13: 5B | AL13: Farmakologia i toksykologia CN 5B
C14: 6A | Z14: Mikrobiologia CL 15, 16 = CN 6A, 6B | AL14: Farmakologia i toksykologia CN 6A
C15: 6B | AL15: Farmakologia i toksykologia CN 6B
C16: 7A | P16: Mikrobiologia CL 17, 18 = CN 7A, 7B | AB16: Farmakologia i toksykologia CN 7A
C17: 7B | AB17: Farmakologia i toksykologia CN 7B
C18: 8A | AB18: Farmakologia i toksykologia CN 8A
C19: 8B | AB19: Farmakologia i toksykologia CN 8B
C20: 9A | R20: Farmakologia i toksykologia CN 9A
C21: 9B | R21: Farmakologia i toksykologia CN 9B
C22: 10A | R22: Farmakologia i toksykologia CN 10A
C23: 10B | R23: Farmakologia i toksykologia CN 10B
C24: 11A | J24: Prop. Inter. CK 11A | Q24: Prop. Inter. CK 11B | AA24: Propedeutyka stomatologii SE 11
C25: 11B
C26: 12A
C27: 12B
C28: 13A
C29: 13B
C30: 14A | H30: Propedeutyka chirurgii SE 14 | K30: Propedeutyka chirurgii CS 14A,14B
C31: 14B
C32: 15A
C33: 15B
C34: 16A | O34: Prop. Inter. CK 16A | V34: Prop. Inter. CK 16B
C35: 16B | V35: Prop. Inter. CK 16C, CK 16D
C36: 17A | O36: Prop. Inter. CK 17B | AN36: Mikrobiologia CL 45, 46, 47, 48 = CN 17A, 17B, 18A, 18B
C37: 17B | O37: Prop. Inter. CK 17C, CK 17D
C38: 18A | H38: Prop. Inter. CK 18A, CK 18B
C39: 18B | H39: Prop. Inter. CK 18C, CK 18D
D40: 7:00-8:00 | H40: 8:00-9:00 | L40: 9:00-10:00 | P40: 10:00-11:00 | T40: 11:00-12:00 | X40: 12:00-13:00 | AB40: 13:00-14:00 | AF40: 14:00-15:00 | AJ40: 15:00-16:00 | AN40: 16:00-17:00 | AR40: 17:00-18:00 | AV40: 18:00-19:00 | AZ40: 19:00-20:15
...

Sheet 13
D1: 7:00-8:00 | H1: 8:00-9:00 | L1: 9:00-10:00 | P1: 10:00-11:00 | T1: 11:00-12:00 | X1: 12:00-13:00 | AB1: 13:00-14:00 | AF1: 14:00-15:00 | AJ1: 15:00-16:00 | AN1: 16:00-17:00 | AR1: 17:00-18:00 | AV1: 18:00-19:00 | AZ1: 19:00-20:00
C2: grupa
D3: 7:00-8:00 | H3: 8:00-9:00 | L3: 9:00-10:00 | P3: 10:00-11:00 | T3: 11:00-12:00 | X3: 12:00-13:00 | AB3: 13:00-14:00 | AF3: 14:00-15:00 | AJ3: 15:00-16:00 | AN3: 16:00-17:00 | AR3: 17:00-18:00 | AV3: 18:00-19:00 | AZ3: 19:00-20:15
A4: ='12'!A4:A39+21 -> 46391 | B4: poniedziałek | C4: 1A | I4: Patomorfologia SE 1 | BB4: Propedeutyka chorób wew. wykład WY1
C5: 1B
C6: 2A | I6: Patomorfologia SE 2
C7: 2B
C8: 3A | I8: Patomorfologia SE 3
C9: 3B
C10: 4A | T10: Propedeutyka stomatologii SE 4
C11: 4B
C12: 5A | AL12: Farmakologia i toksykologia CN 5A
C13: 5B | AL13: Farmakologia i toksykologia CN 5B
C14: 6A | AL14: Farmakologia i toksykologia CN 6A
C15: 6B | AL15: Farmakologia i toksykologia CN 6B
C16: 7A | AB16: Farmakologia i toksykologia CN 7A
C17: 7B | AB17: Farmakologia i toksykologia CN 7B
C18: 8A | AB18: Farmakologia i toksykologia CN 8A
C19: 8B | AB19: Farmakologia i toksykologia CN 8B
C20: 9A | R20: Farmakologia i toksykologia CN 9A
C21: 9B | R21: Farmakologia i toksykologia CN 9B
C22: 10A | R22: Farmakologia i toksykologia CN 10A
C23: 10B | R23: Farmakologia i toksykologia CN 10B
C24: 11A | J24: Propedeutyka stomatologii SE 11
C25: 11B
C26: 12A | J26: Prop. Inter.SE 12
C27: 12B
C28: 13A
C29: 13B
C30: 14A | T30: Prop. Inter.SE 14
C31: 14B
C32: 15A | T32: Prop. Inter.SE 15
C33: 15B
C34: 16A | AB34: Propedeutyka chirurgii SE 16 | AH34: Propedeutyka chirurgii CS 16A,16B
C35: 16B
C36: 17A
C37: 17B
C38: 18A
C39: 18B
D40: 7:00-8:00 | H40: 8:00-9:00 | L40: 9:00-10:00 | P40: 10:00-11:00 | T40: 11:00-12:00 | X40: 12:00-13:00 | AB40: 13:00-14:00 | AF40: 14:00-15:00 | AJ40: 15:00-16:00 | AN40: 16:00-17:00 | AR40: 17:00-18:00 | AV40: 18:00-19:00 | AZ40: 19:00-20:15
...

Sheet 14
D1: 7:00-8:00 | H1: 8:00-9:00 | L1: 9:00-10:00 | P1: 10:00-11:00 | T1: 11:00-12:00 | X1: 12:00-13:00 | AB1: 13:00-14:00 | AF1: 14:00-15:00 | AJ1: 15:00-16:00 | AN1: 16:00-17:00 | AR1: 17:00-18:00 | AV1: 18:00-19:00 | AZ1: 19:00-20:00
C2: grupa
D3: 7:00-8:00 | H3: 8:00-9:00 | L3: 9:00-10:00 | P3: 10:00-11:00 | T3: 11:00-12:00 | X3: 12:00-13:00 | AB3: 13:00-14:00 | AF3: 14:00-15:00 | AJ3: 15:00-16:00 | AN3: 16:00-17:00 | AR3: 17:00-18:00 | AV3: 18:00-19:00 | AZ3: 19:00-20:00
A4: ='13'!A4:A39+7 -> 46398 | B4: poniedziałek | C4: 1A | I4: Patomorfologia SE 1
C5: 1B
C6: 2A | I6: Patomorfologia SE 2
C7: 2B
C8: 3A | I8: Patomorfologia SE 3
C9: 3B
C10: 4A | T10: Propedeutyka stomatologii CN 4A, 4B
C11: 4B
C12: 5A | AL12: Farmakologia i toksykologia CN 5A
C13: 5B | AL13: Farmakologia i toksykologia CN 5B
C14: 6A | AL14: Farmakologia i toksykologia CN 6A
C15: 6B | AL15: Farmakologia i toksykologia CN 6B
C16: 7A | AB16: Farmakologia i toksykologia CN 7A
C17: 7B | AB17: Farmakologia i toksykologia CN 7B
C18: 8A | AB18: Farmakologia i toksykologia CN 8A
C19: 8B | AB19: Farmakologia i toksykologia CN 8B
C20: 9A | R20: Farmakologia i toksykologia CN 9A | AG20: Propedeutyka pediatrii SE 9
C21: 9B | R21: Farmakologia i toksykologia CN 9B
C22: 10A | R22: Farmakologia i toksykologia CN 10A
C23: 10B | R23: Farmakologia i toksykologia CN 10B
C24: 11A | H24: Propedeutyka stomatologii CN 11A, 11B
C25: 11B
C26: 12A | J26: Prop. Inter.SE 12
C27: 12B
C28: 13A
C29: 13B
C30: 14A | T30: Prop. Inter.SE 14
C31: 14B
C32: 15A | T32: Prop. Inter.SE 15
C33: 15B
C34: 16A
C35: 16B
C36: 17A
C37: 17B
C38: 18A
C39: 18B
D40: 7:00-8:00 | H40: 8:00-9:00 | L40: 9:00-10:00 | P40: 10:00-11:00 | T40: 11:00-12:00 | X40: 12:00-13:00 | AB40: 13:00-14:00 | AF40: 14:00-15:00 | AJ40: 15:00-16:00 | AN40: 16:00-17:00 | AR40: 17:00-18:00 | AV40: 18:00-19:00 | AZ40: 19:00-20:00
...

Sheet 15
D1: 7:00-8:00 | H1: 8:00-9:00 | L1: 9:00-10:00 | P1: 10:00-11:00 | T1: 11:00-12:00 | X1: 12:00-13:00 | AB1: 13:00-14:00 | AF1: 14:00-15:00 | AJ1: 15:00-16:00 | AN1: 16:00-17:00 | AR1: 17:00-18:00 | AV1: 18:00-19:00 | AZ1: 19:00-20:00
C2: grupa
D3: 7:00-8:00 | H3: 8:00-9:00 | L3: 9:00-10:00 | P3: 10:00-11:00 | T3: 11:00-12:00 | X3: 12:00-13:00 | AB3: 13:00-14:00 | AF3: 14:00-15:00 | AJ3: 15:00-16:00 | AN3: 16:00-17:00 | AR3: 17:00-18:00 | AV3: 18:00-19:00 | AZ3: 19:00-20:00
A4: ='14'!A4:A39+7 -> 46405 | B4: poniedziałek | C4: 1A | I4: Patomorfologia SE 1
C5: 1B
C6: 2A | I6: Patomorfologia SE 2
C7: 2B
C8: 3A | I8: Patomorfologia SE 3
C9: 3B
C10: 4A | T10: Propedeutyka stomatologii CN 4A, 4B
C11: 4B
C12: 5A | AL12: Farmakologia i toksykologia CN 5A
C13: 5B | AL13: Farmakologia i toksykologia CN 5B
C14: 6A | AL14: Farmakologia i toksykologia CN 6A
C15: 6B | AL15: Farmakologia i toksykologia CN 6B
C16: 7A | AB16: Farmakologia i toksykologia CN 7A
C17: 7B | AB17: Farmakologia i toksykologia CN 7B
C18: 8A | AB18: Farmakologia i toksykologia CN 8A
C19: 8B | AB19: Farmakologia i toksykologia CN 8B
C20: 9A | R20: Farmakologia i toksykologia CN 9A
C21: 9B | R21: Farmakologia i toksykologia CN 9B
C22: 10A | R22: Farmakologia i toksykologia CN 10A
C23: 10B | R23: Farmakologia i toksykologia CN 10B
C24: 11A | J24: Propedeutyka stomatologii CN 11A, 11B
C25: 11B
C26: 12A
C27: 12B
C28: 13A
C29: 13B
C30: 14A | X30: Propedeutyka chirurgii SE 14 | AD30: Propedeutyka chirurgii CS 14A,14B
C31: 14B
C32: 15A | T32: Propedeutyka pediatrii SE 15
C33: 15B
C34: 16A | AG34: Propedeutyka pediatrii SE 16
C35: 16B
C36: 17A
C37: 17B
C38: 18A
C39: 18B
D40: 7:00-8:00 | H40: 8:00-9:00 | L40: 9:00-10:00 | P40: 10:00-11:00 | T40: 11:00-12:00 | X40: 12:00-13:00 | AB40: 13:00-14:00 | AF40: 14:00-15:00 | AJ40: 15:00-16:00 | AN40: 16:00-17:00 | AR40: 17:00-18:00 | AV40: 18:00-19:00 | AZ40: 19:00-20:00
...

Sheet 16
D1: 7:00-8:00 | H1: 8:00-9:00 | L1: 9:00-10:00 | P1: 10:00-11:00 | T1: 11:00-12:00 | X1: 12:00-13:00 | AB1: 13:00-14:00 | AF1: 14:00-15:00 | AJ1: 15:00-16:00 | AN1: 16:00-17:00 | AR1: 17:00-18:00 | AV1: 18:00-19:00 | AZ1: 19:00-20:00
C2: grupa
D3: 7:00-8:00 | H3: 8:00-9:00 | L3: 9:00-10:00 | P3: 10:00-11:00 | T3: 11:00-12:00 | X3: 12:00-13:00 | AB3: 13:00-14:00 | AF3: 14:00-15:00 | AJ3: 15:00-16:00 | AN3: 16:00-17:00 | AR3: 17:00-18:00 | AV3: 18:00-19:00 | AZ3: 19:00-20:00
A4: ='15'!A4:A39+7 -> 46412 | B4: poniedziałek | C4: 1A
C5: 1B
C6: 2A
C7: 2B
C8: 3A
C9: 3B
C10: 4A | T10: Propedeutyka stomatologii CN 4A, 4B
C11: 4B
C12: 5A | AL12: Farmakologia i toksykologia CN 5A
C13: 5B | AL13: Farmakologia i toksykologia CN 5B
C14: 6A | AL14: Farmakologia i toksykologia CN 6A
C15: 6B | AL15: Farmakologia i toksykologia CN 6B
C16: 7A | AB16: Farmakologia i toksykologia CN 7A
C17: 7B | AB17: Farmakologia i toksykologia CN 7B
C18: 8A | AB18: Farmakologia i toksykologia CN 8A
C19: 8B | AB19: Farmakologia i toksykologia CN 8B
C20: 9A | R20: Farmakologia i toksykologia CN 9A
C21: 9B | R21: Farmakologia i toksykologia CN 9B
C22: 10A | R22: Farmakologia i toksykologia CN 10A | AG22: Propedeutyka pediatrii SE 10
C23: 10B | R23: Farmakologia i toksykologia CN 10B
C24: 11A | J24: Propedeutyka stomatologii CN 11A, 11B
C25: 11B
C26: 12A
C27: 12B
C28: 13A
C29: 13B
C30: 14A | R30: Propedeutyka chirurgii SE 14 | X30: Propedeutyka chirurgii CS 14A,14B
C31: 14B
C32: 15A
C33: 15B
C34: 16A
C35: 16B
C36: 17A
C37: 17B
C38: 18A
C39: 18B
D40: 7:00-8:00 | H40: 8:00-9:00 | L40: 9:00-10:00 | P40: 10:00-11:00 | T40: 11:00-12:00 | X40: 12:00-13:00 | AB40: 13:00-14:00 | AF40: 14:00-15:00 | AJ40: 15:00-16:00 | AN40: 16:00-17:00 | AR40: 17:00-18:00 | AV40: 18:00-19:00 | AZ40: 19:00-20:00
...

Sheet 17
D1: 7:00-8:00 | H1: 8:00-9:00 | L1: 9:00-10:00 | P1: 10:00-11:00 | T1: 11:00-12:00 | X1: 12:00-13:00 | AB1: 13:00-14:00 | AF1: 14:00-15:00 | AJ1: 15:00-16:00 | AN1: 16:00-17:00 | AR1: 17:00-18:00 | AV1: 18:00-19:00 | AZ1: 19:00-20:00
C2: grupa
D3: 7:00-8:00 | H3: 8:00-9:00 | L3: 9:00-10:00 | P3: 10:00-11:00 | T3: 11:00-12:00 | X3: 12:00-13:00 | AB3: 13:00-14:00 | AF3: 14:00-15:00 | AJ3: 15:00-16:00 | AN3: 16:00-17:00 | AR3: 17:00-18:00 | AV3: 18:00-19:00 | AZ3: 19:00-20:00
A4: ='16'!A4:A39+7 -> 46419 | B4: poniedziałek (zajęcia z wtorku) | C4: 1A | AB4: Farmakologia i toksykologia CN 1A
C5: 1B | AB5: Farmakologia i toksykologia CN 1B
C6: 2A | AB6: Farmakologia i toksykologia CN 2A
C7: 2B | AB7: Farmakologia i toksykologia CN 2B
C8: 3A | AL8: Farmakologia i toksykologia CN 3A
C9: 3B | AL9: Farmakologia i toksykologia CN 3B
C10: 4A | AL10: Farmakologia i toksykologia CN 4A
C11: 4B | AL11: Farmakologia i toksykologia CN 4B
C12: 5A
C13: 5B
C14: 6A
C15: 6B
C16: 7A
C17: 7B
C18: 8A
C19: 8B
C20: 9A
C21: 9B
C22: 10A
C23: 10B
... C35: 16B
C36: 17A | H36: Farmakologia i toksykologia CN 17A
C37: 17B | H37: Farmakologia i toksykologia CN 17B
C38: 18A | H38: Farmakologia i toksykologia CN 18A
C39: 18B | H39: Farmakologia i toksykologia CN 18B
D40: 7:00-8:00 | H40: 8:00-9:00 | L40: 9:00-10:00 | P40: 10:00-11:00 | T40: 11:00-12:00 | X40: 12:00-13:00 | AB40: 13:00-14:00 | AF40: 14:00-15:00 | AJ40: 15:00-16:00 | AN40: 16:00-17:00 | AR40: 17:00-18:00 | AV40: 18:00-19:00 | AZ40: 19:00-20:00
A41: =A4+1 -> 46420 | B41: Wtorek | C41: 1A
C42: 1B
C43: 2A
C44: 2B
C45: 3A
C46: 3B
C47: 4A
C48: 4B
C49: 5A
C50: 5B
C51: 6A
...
