Workbook

Sheet Arkusz1
B4: jednostka | C4: kierunek | D4: nazwa_przedmiotu | E4: lgr_WY | F4: lgr_SE | G4: lgr_CS | H4: lgr_CK
B5: Instytut Chorób Serca | C5: Lekarski | D5: Propedeutyka chorób wewnętrznych | E5: 0 | F5: 0 | G5: 4 | H5: 4
B6: Katedra i Klinika Alergologii i Chorób Wewnętrznych | C6: Lekarski | D6: Propedeutyka chorób wewnętrznych | E6: 1 | F6: 5 | G6: 20 | H6: 20 | I6: =H6+H7 -> 58
B7: Katedra i Klinika Alergologii i Chorób Wewnętrznych | C7: Lekarski | D7: Propedeutyka chorób wewnętrznych | E7: 1 | F7: 13 | G7: 37 | H7: 38
B8: Katedra i Klinika Reumatologii i Chorób Wewnętrznych | C8: Lekarski | D8: Propedeutyka chorób wewnętrznych | E8: 0 | F8: 0 | G8: 10 | H8: 10
B9: Katedra i Klinika Alergologii i Chorób Wewnętrznych | C9: Lekarski-English Division | D9: Propedeutyka chorób wewnętrznych | E9: 1 | F9: 5 | G9: 20 | H9: 20
E10: 3 | F10: 23 | G10: 91 | H10: 91
E12: pon. | F12: wt. | G12: śr. | H12: czw. | I12: pt.
E13: 5 | F13: 6 | G13: 6 | H13: 6 | I13: 5
E14: 5 | F14: 6 | G14: 6 | H14: 6 | I14: 6 | K14: =SUM(E13:I14) -> 57
E15: 2 | F15: 2 | G15: 2 | H15: 2 | I15: 2
E16: 2 | F16: 2 | G16: 2 | H16: 2 | I16: 2
B20: jednostka | C20: liczba grup CS | D20: liczba grup CK | E20: nazwa grupa CS | F20: nazwa grupa CK
B21: I Katedra i Klinika Pediatrii, Alergologii i Kardiologii | C21: 2 | D21: 3 | E21: CS_2AB | F21: CK_2ABC
B22: II Katedra i Klinika Pediatrii, Gastroenterologii i Żywienia | C22: 6 | D22: 12 | E22: CS_1AB, CS_3AB, CS_6AB | F22: CK_1ABCD, CK_3ABCD, CK_6ABCD
B23: III Katedra i Klinika Pediatrii, Immunologii i Reumatologii Wieku Rozwojowego | C23: 10 | D23: 20 | E23: CS_4AB, CS_5AB, CS_10AB, CS_17AB, CS_18AB | F23: CK_4ABCD, CK_5ABCD, CK_10ABCD, CK_17ABCD, CK_18ABCD
B24: Katedra i Klinika Nefrologii Pediatrycznej | C24: 4 | D24: 8 | E24: CS_7AB, CS_11AB, | F24: CK_7ABCD, CK_11ABCD
B25: Katedra i Klinika Pediatrii, Endokrynologii, Diabetologii i Chorób Metabolicznych | C25: 14 | D25: 18 | E25: CS_8AB, CS_9AB, CS_12AB, CS_13AB, CS_14AB, CS_15AB, CS_16AB | F25: CK_8ABCD, CK_9ABCD, CK_13ABCD, CK_14ABCD, CK_15AB
B26: Katedra i Klinika Transplantacji Szpiku, Onkologii i Hematologii Dziecięcej | C26: 0 | D26: 10 | F26: CK_12ABCD, CK_16ABCD, CK_15CD
B28: Jednostka | C28: kierunek | D28: tryb | E28: liczba grup CK/CS | F28: nazwa grup
B29: Instytut Chorób Serca | C29: Lekarski | D29: stacjonarne | E29: 4 | F29: 8ABCD
B30: Katedra i Klinika Alergologii i Chorób Wewnętrznych | C30: Lekarski | D30: niestacjonarne | E30: 20 | F30: 14ABCD, 15ABCD, 16ABCD, 17ABCD, 18ABCD
B31: Katedra i Klinika Alergologii i Chorób Wewnętrznych | C31: Lekarski | D31: stacjonarne | E31: 37 | F31: 1ABCD, 2ABC, 3ABCD, 4ABCD, 7AD, 9ABCD, 10ABCD, 11ABCD, 12ABCD, 13ABCD
B32: Katedra i Klinika Reumatologii i Chorób Wewnętrznych | C32: Lekarski | D32: stacjonarne | E32: 10 | F32: 5ABCD, 6ABCD, 7BC

Sheet 1
D1: 7:00-8:00 | H1: 8:00-9:00 | L1: 9:00-10:00 | P1: 10:00-11:00 | T1: 11:00-12:00 | X1: 12:00-13:00 | AB1: 13:00-14:00 | AF1: 14:00-15:00 | AJ1: 15:00-16:00 | AN1: 16:00-17:00 | AR1: 17:00-18:00 | AV1: 18:00-19:00 | AZ1: 19:00-20:00
C2: grupa
D3: 7:00-8:00 | H3: 8:00-9:00 | L3: 9:00-10:00 | P3: 10:00-11:00 | T3: 11:00-12:00 | X3: 12:00-13:00 | AB3: 13:00-14:00 | AF3: 14:00-15:00 | AJ3: 15:00-16:00 | AN3: 16:00-17:00 | AR3: 17:00-18:00 | AV3: 18:00-19:00 | AZ3: 19:00-20:00
A4: 46293 | B4: poniedziałek | C4: 1A
C5: 1B
C6: 2A
C7: 2B
C8: 3A
C9: 3B
C10: 4A
C11: 4B
C12: 5A
C13: 5B
C14: 6A
C15: 6B
C16: 7A
... C39: 18B
D40: 7:00-8:00 | H40: 8:00-9:00 | L40: 9:00-10:00 | P40: 10:00-11:00 | T40: 11:00-12:00 | X40: 12:00-13:00 | AB40: 13:00-14:00 | AF40: 14:00-15:00 | AJ40: 15:00-16:00 | AN40: 16:00-17:00 | AR40: 17:00-18:00 | AV40: 18:00-19:00 | AZ40: 19:00-20:00
A41: =A4+1 -> 46294 | B41: Wtorek | C41: 1A
C42: 1B
C43: 2A
C44: 2B
C45: 3A
C46: 3B
C47: 4A
C48: 4B
C49: 5A
C50: 5B
C51: 6A
C52: 6B
C53: 7A
... C76: 18B
D77: 7:00-8:00 | H77: 8:00-9:00 | L77: 9:00-10:00 | P77: 10:00-11:00 | T77: 11:00-12:00 | X77: 12:00-13:00 | AB77: 13:00-14:00 | AF77: 14:00-15:00 | AJ77: 15:00-16:00 | AN77: 16:00-17:00 | AR77: 17:00-18:00 | AV77: 18:00-19:00 | AZ77: 19:00-20:00
A78: =A4+2 -> 46295 | B78: Środa | C78: 1A
C79: 1B
C80: 2A
C81: 2B
C82: 3A
C83: 3B
C84: 4A
C85: 4B
C86: 5A
C87: 5B
C88: 6A
C89: 6B
C90: 7A
... C113: 18B
D114: 7:00-8:00 | H114: 8:00-9:00 | L114: 9:00-10:00 | P114: 10:00-11:00 | T114: 11:00-12:00 | X114: 12:00-13:00 | AB114: 13:00-14:00 | AF114: 14:00-15:00 | AJ114: 15:00-16:00 | AN114: 16:00-17:00 | AR114: 17:00-18:00 | AV114: 18:00-19:00 | AZ114: 19:00-20:00
A115: =A4+3 -> 46296 | B115: czwartek | C115: 1A | T115: Propedeutyka stomatologii SE 1 | AO115: Farmakologia i toksykologia wykład WY1 | AV115: Mikrobiologia wykład WY1
C116: 1B | H116: Prop. Inter. CK 1C, CK 1D
C117: 2A | X117: Propedeutyka chirurgii SE 2 | AA117: Propedeutyka chirurgii CS 2A,2B
C118: 2B
C119: 3A
C120: 3B
C121: 4A
C122: 4B | O122: Prop. Inter. CK 4C, CK 4D
C123: 5A | H123: Prop. Inter. CK 5A, CK 5B
C124: 5B | H124: Prop. Inter. CK 5C, CK 5D
C125: 6A | O125: Prop. Inter. CK 6A, CK 6B
C126: 6B | O126: Prop. Inter. CK 6C, CK 6D
C127: 7A | L127: Propedeutyka stomatologii SE 7 | V127: Prop. Inter. CK 7A, CK 7B
C128: 7B | V128: Prop. Inter. CK 7C, CK 7D
C129: 8A | W129: B | X129: Propedeutyka pediatrii CK 8A, CK 8B
C130: 8B | W130: B | X130: Propedeutyka pediatrii CK 8C, CK 8D
C131: 9A
C132: 9B | I132: G | J132: Propedeutyka pediatrii CK 9D
C133: 10A
C134: 10B | J134: B | K134: Propedeutyka pediatrii CK 10C, CK 10D
C135: 11A | I135: G | J135: Propedeutyka pediatrii CK 11A, CK 11B
C136: 11B | S136: G | T136: Propedeutyka pediatrii CK 11C, CK 11D
C137: 12A
C138: 12B
C139: 13A
C140: 13B
C141: 14A | I141: Patomorfologia SE 14 | AD141: Mikrobiologia wykład WY2 | AO141: Patomorfologia wykład WY 2 | AV141: Farmakologia i toksykologia wykład WY2
C142: 14B
C143: 15A | I143: Patomorfologia SE 15
C144: 15B
C145: 16A
C146: 16B
C147: 17A | H147: Farmakologia i toksykologia CN 17A
C148: 17B | H148: Farmakologia i toksykologia CN 17B
C149: 18A | H149: Farmakologia i toksykologia CN 18A
C150: 18B | H150: Farmakologia i toksykologia CN 18B
D151: 7:00-8:00 | H151: 8:00-9:00 | L151: 9:00-10:00 | P151: 10:00-11:00 | T151: 11:00-12:00 | X151: 12:00-13:00 | AB151: 13:00-14:00 | AF151: 14:00-15:00 | AJ151: 15:00-16:00 | AN151: 16:00-17:00 | AR151: 17:00-18:00 | AV151: 18:00-19:00 | AZ151: 19:00-20:00
A152: =A4+4 -> 46297 | B152: piątek | C152: 1A | T152: Mikrobiologia CL 1, 3, 4 = CN 1A, 1B, 2A | AV152: Mikrobiologia wykład WY1
C153: 1B
C154: 2A
C155: 2B
C156: 3A
C157: 3B
C158: 4A | O158: Prop. Inter. CK 4A | V158: Prop. Inter. CK 4B
C159: 4B | J159: Mikrobiologia CL 11, 12, 13, 14 = CN 4B, 5A, 5B, 6A
C160: 5A
C161: 5B
C162: 6A
C163: 6B
C164: 7A | I164: K | J164: Propedeutyka pediatrii CK 7A, CK 7B
C165: 7B | I165: K | J165: Propedeutyka pediatrii CK 7C, CK 7D | AD165: Mikrobiologia CL 19, 20, 21, 22 = CN 7B, 8A, 8B, 9A
C166: 8A
...

Sheet 2
D1: 7:00-8:00 | H1: 8:00-9:00 | L1: 9:00-10:00 | P1: 10:00-11:00 | T1: 11:00-12:00 | X1: 12:00-13:00 | AB1: 13:00-14:00 | AF1: 14:00-15:00 | AJ1: 15:00-16:00 | AN1: 16:00-17:00 | AR1: 17:00-18:00 | AV1: 18:00-19:00 | AZ1: 19:00-20:00
C2: grupa
D3: 7:00-8:00 | H3: 8:00-9:00 | L3: 9:00-10:00 | P3: 10:00-11:00 | T3: 11:00-12:00 | X3: 12:00-13:00 | AB3: 13:00-14:00 | AF3: 14:00-15:00 | AJ3: 15:00-16:00 | AN3: 16:00-17:00 | AR3: 17:00-18:00 | AV3: 18:00-19:00 | AZ3: 19:00-20:15
A4: ='1'!A4:A39+7 -> 46300 | B4: poniedziałek | C4: 1A | I4: Patomorfologia SE 1 | BB4: Propedeutyka chorób wew. wykład WY1
C5: 1B
C6: 2A | I6: Patomorfologia SE 2
C7: 2B
C8: 3A | I8: Patomorfologia SE 3
C9: 3B
C10: 4A | J10: Mikrobiologia CL 9, 10 = CN 4A, 4B | V10: K | W10: Propedeutyka pediatrii CK 4A, CK 4B
C11: 4B | V11: K | W11: Propedeutyka pediatrii CK 4C, CK 4D
C12: 5A | R12: Propedeutyka chirurgii SE 5 | U12: Propedeutyka chirurgii CS 5A,5B | AL12: Farmakologia i toksykologia CN 5A
C13: 5B | AL13: Farmakologia i toksykologia CN 5B
C14: 6A | Z14: Mikrobiologia CL 15, 16 = CN 6A, 6B | AL14: Farmakologia i toksykologia CN 6A
C15: 6B | AL15: Farmakologia i toksykologia CN 6B
C16: 7A | P16: Mikrobiologia CL 17, 18 = CN 7A, 7B | AB16: Farmakologia i toksykologia CN 7A
C17: 7B | AB17: Farmakologia i toksykologia CN 7B
C18: 8A | AB18: Farmakologia i toksykologia CN 8A
C19: 8B | AB19: Farmakologia i toksykologia CN 8B
C20: 9A | R20: Farmakologia i toksykologia CN 9A
C21: 9B | R21: Farmakologia i toksykologia CN 9B
C22: 10A | R22: Farmakologia i toksykologia CN 10A
C23: 10B | R23: Farmakologia i toksykologia CN 10B
C24: 11A | J24: Prop. Inter. CK 11A | Q24: Prop. Inter. CK 11B
C25: 11B
C26: 12A | L26: Propedeutyka stomatologii SE 12
C27: 12B
C28: 13A
C29: 13B
C30: 14A | T30: Propedeutyka stomatologii SE 14
C31: 14B
C32: 15A | I32: G | J32: Propedeutyka pediatrii CK 15A, CK 15B
C33: 15B | S33: G | T33: Propedeutyka pediatrii CK 15C, CK 15D
C34: 16A | O34: Prop. Inter. CK 16A | V34: Prop. Inter. CK 16B
C35: 16B | V35: Prop. Inter. CK 16C, CK 16D
C36: 17A | O36: Prop. Inter. CK 17B | AN36: Mikrobiologia CL 45, 46, 47, 48 = CN 17A, 17B, 18A, 18B
C37: 17B | O37: Prop. Inter. CK 17C, CK 17D
C38: 18A | H38: Prop. Inter. CK 18A, CK 18B | O38: B | P38: Propedeutyka pediatrii CK 18A, CK 18B
C39: 18B | H39: Prop. Inter. CK 18C, CK 18D
D40: 7:00-8:00 | H40: 8:00-9:00 | L40: 9:00-10:00 | P40: 10:00-11:00 | T40: 11:00-12:00 | X40: 12:00-13:00 | AB40: 13:00-14:00 | AF40: 14:00-15:00 | AJ40: 15:00-16:00 | AN40: 16:00-17:00 | AR40: 17:00-18:00 | AV40: 18:00-19:00 | AZ40: 19:00-20:00
A41: =A4+1 -> 46301 | B41: Wtorek | C41: 1A
C42: 1B
C43: 2A
C44: 2B
C45: 3A
C46: 3B
C47: 4A
C48: 4B
C49: 5A
C50: 5B
C51: 6A
C52: 6B
C53: 7A
... C76: 18B
D77: 7:00-8:00 | H77: 8:00-9:00 | L77: 9:00-10:00 | P77: 10:00-11:00 | T77: 11:00-12:00 | X77: 12:00-13:00 | AB77: 13:00-14:00 | AF77: 14:00-15:00 | AJ77: 15:00-16:00 | AN77: 16:00-17:00 | AR77: 17:00-18:00 | AV77: 18:00-19:00 | AZ77: 19:00-20:00
A78: =A4+2 -> 46302 | B78: Środa | C78: 1A | I78: K | J78: Propedeutyka pediatrii CK 1A, CK 1B | AB78: Mikrobiologia CL 2 = CN 1A, 1B | AV78: Patomorfologia wykład WY 1
C79: 1B | I79: K | J79: Propedeutyka pediatrii CK 1C, CK 1D
C80: 2A | S80: K | T80: Propedeutyka pediatrii CK 2A, CK 2B
C81: 2B | S81: K | T81: Propedeutyka pediatrii CK 2C, CK 2D
C82: 3A | S82: K | T82: Propedeutyka pediatrii CK 3A, CK 3B
C83: 3B | S83: K | T83: Propedeutyka pediatrii CK 3C, CK 3D
C84: 4A | I84: Patomorfologia SE 4 | X84: Propedeutyka chirurgii SE 4 | AA84: Propedeutyka chirurgii CS 4A,4B
C85: 4B
C86: 5A | I86: Patomorfologia SE 5
C87: 5B
C88: 6A | I88: Patomorfologia SE 6
C89: 6B
C90: 7A | V90: Patomorfologia SE 7
C91: 7B
C92: 8A | H92: Prop. Inter. CK 8A, CK 8B | V92: Patomorfologia SE 8
C93: 8B
C94: 9A | V94: Patomorfologia SE 9
C95: 9B
C96: 10A | J96: B | K96: Propedeutyka pediatrii CK 10A, CK 10B
C97: 10B | H97: Mikrobiologia CL 27 = CN 10B, 11A
C98: 11A | AB98: Farmakologia i toksykologia CN 11A
C99: 11B | J99: Prop. Inter. CK 11C | Q99: Prop. Inter. CK 11D | AB99: Farmakologia i toksykologia CN 11B | AL99: Mikrobiologia CL 29, 30, 31, 32 = CN 11B, 12A, 12B
C100: 12A | H100: Prop. Inter. CK 12A, CK 12B | AB100: Farmakologia i toksykologia CN 12A
C101: 12B | H101: Prop. Inter. CK 12C, CK 12D | AB101: Farmakologia i toksykologia CN 12B
C102: 13A
C103: 13B
C104: 14A | O104: Prop. Inter. CK 14A, CK 14B | AB104: Mikrobiologia CL 36 = CN 14A | AL104: Farmakologia i toksykologia CN 14A | AV104: Mikrobiologia wykład WY2
C105: 14B | O105: Prop. Inter. CK 14C, CK 14D | AL105: Farmakologia i toksykologia CN 14B
C106: 15A | L106: Propedeutyka stomatologii SE 15 | V106: Prop. Inter. CK 15A, CK 15B
C107: 15B | V107: Prop. Inter. CK 15C, CK 15D
C108: 16A | I108: G | J108: Propedeutyka pediatrii CK 16A, CK 16B
C109: 16B | S109: G | T109: Propedeutyka pediatrii CK 16C, CK 16D
C110: 17A | I110: B | J110: Propedeutyka pediatrii CK 17B
C111: 17B | S111: B | T111: Propedeutyka pediatrii CK 17C, CK 17D
C112: 18A | T112: Propedeutyka stomatologii SE 18
C113: 18B
D114: 7:00-8:00 | H114: 8:00-9:00 | L114: 9:00-10:00 | P114: 10:00-11:00 | T114: 11:00-12:00 | X114: 12:00-13:00 | AB114: 13:00-14:00 | AF114: 14:00-15:00 | AJ114: 15:00-16:00 | AN114: 16:00-17:00 | AR114: 17:00-18:00 | AV114: 18:00-19:00 | AZ114: 19:00-20:00
A115: =A4+3 -> 46303 | B115: czwartek | C115: 1A | T115: Propedeutyka stomatologii SE 1 | AO115: Farmakologia i toksykologia wykład WY1 | AV115: Mikrobiologia wykład WY1
C116: 1B | H116: Prop. Inter. CK 1C, CK 1D
C117: 2A
C118: 2B | H118: Mikrobiologia CL 5, 6, 7, 8 = CN 2B, 3A, 3B
C119: 3A
C120: 3B
C121: 4A
C122: 4B | O122: Prop. Inter. CK 4C, CK 4D
...

Sheet 3
D1: 7:00-8:00 | H1: 8:00-9:00 | L1: 9:00-10:00 | P1: 10:00-11:00 | T1: 11:00-12:00 | X1: 12:00-13:00 | AB1: 13:00-14:00 | AF1: 14:00-15:00 | AJ1: 15:00-16:00 | AN1: 16:00-17:00 | AR1: 17:00-18:00 | AV1: 18:00-19:00 | AZ1: 19:00-20:00
C2: grupa
D3: 7:00-8:00 | H3: 8:00-9:00 | L3: 9:00-10:00 | P3: 10:00-11:00 | T3: 11:00-12:00 | X3: 12:00-13:00 | AB3: 13:00-14:00 | AF3: 14:00-15:00 | AJ3: 15:00-16:00 | AN3: 16:00-17:00 | AR3: 17:00-18:00 | AV3: 18:00-19:00 | AZ3: 19:00-20:15
A4: ='2'!A4:A39+7 -> 46307 | B4: poniedziałek | C4: 1A | I4: Patomorfologia SE 1 | BB4: Propedeutyka chorób wew. wykład WY1
C5: 1B
C6: 2A | I6: Patomorfologia SE 2
C7: 2B
C8: 3A | I8: Patomorfologia SE 3
C9: 3B
C10: 4A | J10: Mikrobiologia CL 9, 10 = CN 4A, 4B | V10: K | W10: Propedeutyka pediatrii CK 4A, CK 4B
C11: 4B | V11: K | W11: Propedeutyka pediatrii CK 4C, CK 4D
C12: 5A | V12: Propedeutyka chirurgii SE 5 | AB12: Propedeutyka chirurgii CS 5A,5B | AL12: Farmakologia i toksykologia CN 5A
C13: 5B | AL13: Farmakologia i toksykologia CN 5B
C14: 6A | Z14: Mikrobiologia CL 15, 16 = CN 6A, 6B | AL14: Farmakologia i toksykologia CN 6A
C15: 6B | AL15: Farmakologia i toksykologia CN 6B
C16: 7A | P16: Mikrobiologia CL 17, 18 = CN 7A, 7B | AB16: Farmakologia i toksykologia CN 7A
C17: 7B | AB17: Farmakologia i toksykologia CN 7B
C18: 8A | AB18: Farmakologia i toksykologia CN 8A
C19: 8B | AB19: Farmakologia i toksykologia CN 8B
C20: 9A | R20: Farmakologia i toksykologia CN 9A
C21: 9B | R21: Farmakologia i toksykologia CN 9B
C22: 10A | R22: Farmakologia i toksykologia CN 10A
C23: 10B | R23: Farmakologia i toksykologia CN 10B
C24: 11A | J24: Prop. Inter. CK 11A | Q24: Prop. Inter. CK 11B
C25: 11B
C26: 12A | J26: Propedeutyka stomatologii SE 12
C27: 12B
C28: 13A
C29: 13B
C30: 14A | T30: Propedeutyka stomatologii SE 14
C31: 14B
C32: 15A | I32: CSM | J32: Propedeutyka pediatrii CK 15A, CK 15B
C33: 15B | S33: CSM | T33: Propedeutyka pediatrii CK 15C, CK 15D
C34: 16A | O34: Prop. Inter. CK 16A | V34: Prop. Inter. CK 16B
C35: 16B | V35: Prop. Inter. CK 16C, CK 16D
C36: 17A | O36: Prop. Inter. CK 17B | AN36: Mikrobiologia CL 45, 46, 47, 48 = CN 17A, 17B, 18A, 18B
C37: 17B | O37: Prop. Inter. CK 17C, CK 17D
C38: 18A | H38: Prop. Inter. CK 18A, CK 18B | O38: B | P38: Propedeutyka pediatrii CK 18A, CK 18B
C39: 18B | H39: Prop. Inter. CK 18C, CK 18D
D40: 7:00-8:00 | H40: 8:00-9:00 | L40: 9:00-10:00 | P40: 10:00-11:00 | T40: 11:00-12:00 | X40: 12:00-13:00 | AB40: 13:00-14:00 | AF40: 14:00-15:00 | AJ40: 15:00-16:00 | AN40: 16:00-17:00 | AR40: 17:00-18:00 | AV40: 18:00-19:00 | AZ40: 19:00-20:15
A41: =A4+1 -> 46308 | B41: Wtorek | C41: 1A | H41: Prop. Inter. CK 1A, CK 1B | AB41: Farmakologia i toksykologia CN 1A | AL41: Mikrobiologia CL 1, 3, 4 = CN 1A, 1B, 2A | AV41: Propedeutyka pediatrii wykład WY 1
C42: 1B | AB42: Farmakologia i toksykologia CN 1B
C43: 2A | O43: Prop. Inter. CK 2A, CK 2B | AB43: Farmakologia i toksykologia CN 2A
C44: 2B | O44: Prop. Inter. CK 2C, CK 2D | AB44: Farmakologia i toksykologia CN 2B
C45: 3A | L45: Propedeutyka stomatologii SE 3 | V45: Prop. Inter. CK 3A, CK 3B | AL45: Farmakologia i toksykologia CN 3A
C46: 3B | V46: Prop. Inter. CK 3C, CK 3D | AL46: Farmakologia i toksykologia CN 3B
C47: 4A | AL47: Farmakologia i toksykologia CN 4A
C48: 4B | H48: Mikrobiologia CL 11, 12, 13, 14 = CN 4B, 5A, 5B, 6A | AL48: Farmakologia i toksykologia CN 4B
C49: 5A | V49: K | W49: Propedeutyka pediatrii CK 5A, CK 5B
C50: 5B | V50: K | W50: Propedeutyka pediatrii CK 5C, CK 5D
C51: 6A | S51: K | T51: Propedeutyka pediatrii CK 6A, CK 6B
C52: 6B | S52: K | T52: Propedeutyka pediatrii CK 6C, CK 6D
C53: 7A
C54: 7B | R54: Mikrobiologia CL 19, 20, 21, 22 = CN 7B, 8A, 8B, 9A
C55: 8A
C56: 8B
C57: 9A | AB57: Mikrobiologia CL 23, 24, 25, 26 = CN 9A, 9B, 10A, 10B
C58: 9B | I58: G | J58: Propedeutyka pediatrii CK 9C
C59: 10A | I59: Patomorfologia SE 10
C60: 10B
C61: 11A | I61: Patomorfologia SE 11 | X61: Propedeutyka chirurgii SE 11 | AA61: Propedeutyka chirurgii CS 11A,11B
C62: 11B
C63: 12A | I63: Patomorfologia SE 12
C64: 12B
C65: 13A
C66: 13B
C67: 14A | I67: CSM | J67: Propedeutyka pediatrii CK 14A, CK 14B | AN67: Propedeutyka pediatrii wykład WY 2 | BB67: Propedeutyka chorób wew. wykład WY2
C68: 14B | S68: CSM | T68: Propedeutyka pediatrii CK 14C, CK 14D
C69: 15A | H69: Farmakologia i toksykologia CN 15A
C70: 15B | H70: Farmakologia i toksykologia CN 15B
C71: 16A | H71: Farmakologia i toksykologia CN 16A
C72: 16B | H72: Farmakologia i toksykologia CN 16B
C73: 17A | T73: Propedeutyka stomatologii SE 17
C74: 17B
C75: 18A
C76: 18B | J76: B | K76: Propedeutyka pediatrii CK 18C, CK 18D
D77: 7:00-8:00 | H77: 8:00-9:00 | L77: 9:00-10:00 | P77: 10:00-11:00 | T77: 11:00-12:00 | X77: 12:00-13:00 | AB77: 13:00-14:00 | AF77: 14:00-15:00 | AJ77: 15:00-16:00 | AN77: 16:00-17:00 | AR77: 17:00-18:00 | AV77: 18:00-19:00 | AZ77: 19:00-20:15
A78: =A4+2 -> 46309 | B78: Środa | C78: 1A | AB78: Mikrobiologia CL 2 = CN 1A, 1B | AV78: Patomorfologia wykład WY 1
C79: 1B
C80: 2A
C81: 2B
C82: 3A | S82: K | T82: Propedeutyka pediatrii CK 3A, CK 3B
C83: 3B | S83: K | T83: Propedeutyka pediatrii CK 3C, CK 3D
C84: 4A | I84: Patomorfologia SE 4 | V84: Propedeutyka chirurgii SE 4 | AB84: Propedeutyka chirurgii CS 4A,4B
C85: 4B
C86: 5A | I86: Patomorfologia SE 5
C87: 5B
C88: 6A | I88: Patomorfologia SE 6
C89: 6B
C90: 7A | V90: Patomorfologia SE 7
C91: 7B
C92: 8A | H92: Prop. Inter. CK 8A, CK 8B | V92: Patomorfologia SE 8
C93: 8B
C94: 9A | V94: Patomorfologia SE 9
C95: 9B
C96: 10A | J96: B | K96: Propedeutyka pediatrii CK 10A, CK 10B
C97: 10B | H97: Mikrobiologia CL 27 = CN 10B, 11A
C98: 11A | AB98: Farmakologia i toksykologia CN 11A
C99: 11B | J99: Prop. Inter. CK 11C | Q99: Prop. Inter. CK 11D | AB99: Farmakologia i toksykologia CN 11B | AL99: Mikrobiologia CL 29, 30, 31, 32 = CN 11B, 12A, 12B
C100: 12A | H100: Prop. Inter. CK 12A, CK 12B | AB100: Farmakologia i toksykologia CN 12A
...

Sheet 4
D1: 7:00-8:00 | H1: 8:00-9:00 | L1: 9:00-10:00 | P1: 10:00-11:00 | T1: 11:00-12:00 | X1: 12:00-13:00 | AB1: 13:00-14:00 | AF1: 14:00-15:00 | AJ1: 15:00-16:00 | AN1: 16:00-17:00 | AR1: 17:00-18:00 | AV1: 18:00-19:00 | AZ1: 19:00-20:00
C2: grupa
D3: 7:00-8:00 | H3: 8:00-9:00 | L3: 9:00-10:00 | P3: 10:00-11:00 | T3: 11:00-12:00 | X3: 12:00-13:00 | AB3: 13:00-14:00 | AF3: 14:00-15:00 | AJ3: 15:00-16:00 | AN3: 16:00-17:00 | AR3: 17:00-18:00 | AV3: 18:00-19:00 | AZ3: 19:00-20:15
A4: ='3'!A4:A39+7 -> 46314 | B4: poniedziałek | C4: 1A | I4: Patomorfologia SE 1 | BB4: Propedeutyka chorób wew. wykład WY1
C5: 1B
C6: 2A | I6: Patomorfologia SE 2
C7: 2B
C8: 3A | I8: Patomorfologia SE 3
C9: 3B
C10: 4A | J10: Mikrobiologia CL 9, 10 = CN 4A, 4B | V10: K | W10: Propedeutyka pediatrii CK 4A, CK 4B
C11: 4B | V11: K | W11: Propedeutyka pediatrii CK 4C, CK 4D
C12: 5A | AL12: Farmakologia i toksykologia CN 5A
C13: 5B | AL13: Farmakologia i toksykologia CN 5B
C14: 6A | Z14: Mikrobiologia CL 15, 16 = CN 6A, 6B | AL14: Farmakologia i toksykologia CN 6A
C15: 6B | AL15: Farmakologia i toksykologia CN 6B
C16: 7A | P16: Mikrobiologia CL 17, 18 = CN 7A, 7B | AB16: Farmakologia i toksykologia CN 7A
C17: 7B | AB17: Farmakologia i toksykologia CN 7B
C18: 8A | AB18: Farmakologia i toksykologia CN 8A
C19: 8B | AB19: Farmakologia i toksykologia CN 8B
C20: 9A | R20: Farmakologia i toksykologia CN 9A
C21: 9B | R21: Farmakologia i toksykologia CN 9B
C22: 10A | R22: Farmakologia i toksykologia CN 10A
C23: 10B | R23: Farmakologia i toksykologia CN 10B
C24: 11A | J24: Prop. Inter. CK 11A | Q24: Prop. Inter. CK 11B
C25: 11B
C26: 12A | H26: Propedeutyka stomatologii CN 12A, 12B
C27: 12B
C28: 13A
C29: 13B
C30: 14A | T30: Propedeutyka stomatologii CN 14A, 14B
C31: 14B
C32: 15A | I32: G | J32: Propedeutyka pediatrii CK 15A, CK 15B
C33: 15B | S33: G | T33: Propedeutyka pediatrii CK 15C, CK 15D
C34: 16A | O34: Prop. Inter. CK 16A | V34: Prop. Inter. CK 16B
C35: 16B | V35: Prop. Inter. CK 16C, CK 16D
C36: 17A | O36: Prop. Inter. CK 17B | AN36: Mikrobiologia CL 45, 46, 47, 48 = CN 17A, 17B, 18A, 18B
C37: 17B | O37: Prop. Inter. CK 17C, CK 17D
C38: 18A | H38: Prop. Inter. CK 18A, CK 18B | O38: B | P38: Propedeutyka pediatrii CK 18A, CK 18B
C39: 18B | H39: Prop. Inter. CK 18C, CK 18D
D40: 7:00-8:00 | H40: 8:00-9:00 | L40: 9:00-10:00 | P40: 10:00-11:00 | T40: 11:00-12:00 | X40: 12:00-13:00 | AB40: 13:00-14:00 | AF40: 14:00-15:00 | AJ40: 15:00-16:00 | AN40: 16:00-17:00 | AR40: 17:00-18:00 | AV40: 18:00-19:00 | AZ40: 19:00-20:15
A41: =A4+1 -> 46315 | B41: Wtorek | C41: 1A | H41: Prop. Inter. CK 1A, CK 1B | AB41: Farmakologia i toksykologia CN 1A | AL41: Mikrobiologia CL 1, 3, 4 = CN 1A, 1B, 2A | AV41: Propedeutyka pediatrii wykład WY 1
C42: 1B | AB42: Farmakologia i toksykologia CN 1B
C43: 2A | O43: Prop. Inter. CK 2A, CK 2B | AB43: Farmakologia i toksykologia CN 2A
C44: 2B | O44: Prop. Inter. CK 2C, CK 2D | AB44: Farmakologia i toksykologia CN 2B
C45: 3A | J45: Propedeutyka stomatologii SE 3 | V45: Prop. Inter. CK 3A, CK 3B | AL45: Farmakologia i toksykologia CN 3A
C46: 3B | V46: Prop. Inter. CK 3C, CK 3D | AL46: Farmakologia i toksykologia CN 3B
C47: 4A | AL47: Farmakologia i toksykologia CN 4A
C48: 4B | H48: Mikrobiologia CL 11, 12, 13, 14 = CN 4B, 5A, 5B, 6A | AL48: Farmakologia i toksykologia CN 4B
C49: 5A | V49: K | W49: Propedeutyka pediatrii CK 5A, CK 5B
C50: 5B | V50: K | W50: Propedeutyka pediatrii CK 5C, CK 5D
C51: 6A | S51: K | T51: Propedeutyka pediatrii CK 6A, CK 6B
C52: 6B | S52: K | T52: Propedeutyka pediatrii CK 6C, CK 6D
C53: 7A
C54: 7B | R54: Mikrobiologia CL 19, 20, 21, 22 = CN 7B, 8A, 8B, 9A
C55: 8A
C56: 8B
C57: 9A | AB57: Mikrobiologia CL 23, 24, 25, 26 = CN 9A, 9B, 10A, 10B
C58: 9B | I58: CSM | J58: Propedeutyka pediatrii CK 9C, CK 9D
C59: 10A | I59: Patomorfologia SE 10
C60: 10B
C61: 11A | I61: Patomorfologia SE 11 | V61: Propedeutyka chirurgii SE 11 | AB61: Propedeutyka chirurgii CS 11A,11B
C62: 11B
C63: 12A | I63: Patomorfologia SE 12
C64: 12B
C65: 13A
C66: 13B
C67: 14A | I67: G | J67: Propedeutyka pediatrii CK 14A, CK 14B | AN67: Propedeutyka pediatrii wykład WY 2 | BB67: Propedeutyka chorób wew. wykład WY2
C68: 14B | S68: G | T68: Propedeutyka pediatrii CK 14C, CK 14D
C69: 15A | H69: Farmakologia i toksykologia CN 15A
C70: 15B | H70: Farmakologia i toksykologia CN 15B
C71: 16A | H71: Farmakologia i toksykologia CN 16A
C72: 16B | H72: Farmakologia i toksykologia CN 16B
C73: 17A | T73: Propedeutyka stomatologii SE 17
C74: 17B
C75: 18A
C76: 18B | J76: B | K76: Propedeutyka pediatrii CK 18C, CK 18D
D77: 7:00-8:00 | H77: 8:00-9:00 | L77: 9:00-10:00 | P77: 10:00-11:00 | T77: 11:00-12:00 | X77: 12:00-13:00 | AB77: 13:00-14:00 | AF77: 14:00-15:00 | AJ77: 15:00-16:00 | AN77: 16:00-17:00 | AR77: 17:00-18:00 | AV77: 18:00-19:00 | AZ77: 19:00-20:15
A78: =A4+2 -> 46316 | B78: Środa | C78: 1A | I78: K | J78: Propedeutyka pediatrii CK 1A, CK 1B | AB78: Mikrobiologia CL 2 = CN 1A, 1B | AV78: Patomorfologia wykład WY 1
C79: 1B | I79: K | J79: Propedeutyka pediatrii CK 1C, CK 1D
C80: 2A | S80: K | T80: Propedeutyka pediatrii CK 2A, CK 2B
C81: 2B | S81: K | T81: Propedeutyka pediatrii CK 2C, CK 2D
C82: 3A | S82: K | T82: Propedeutyka pediatrii CK 3A, CK 3B
C83: 3B | S83: K | T83: Propedeutyka pediatrii CK 3C, CK 3D
C84: 4A | I84: Patomorfologia SE 4 | V84: Propedeutyka chirurgii SE 4 | AB84: Propedeutyka chirurgii CS 4A,4B
C85: 4B
C86: 5A | I86: Patomorfologia SE 5
C87: 5B
C88: 6A | I88: Patomorfologia SE 6
C89: 6B
C90: 7A | V90: Patomorfologia SE 7
C91: 7B
C92: 8A | H92: Prop. Inter. CK 8A, CK 8B | V92: Patomorfologia SE 8
C93: 8B
C94: 9A | V94: Patomorfologia SE 9
C95: 9B
C96: 10A | J96: B | K96: Propedeutyka pediatrii CK 10A, CK 10B
C97: 10B | H97: Mikrobiologia CL 27 = CN 10B, 11A
C98: 11A | AB98: Farmakologia i toksykologia CN 11A
C99: 11B | J99: Prop. Inter. CK 11C | Q99: Prop. Inter. CK 11D | AB99: Farmakologia i toksykologia CN 11B | AL99: Mikrobiologia CL 29, 30, 31, 32 = CN 11B, 12A, 12B
C100: 12A | H100: Prop. Inter. CK 12A, CK 12B | AB100: Farmakologia i toksykologia CN 12A
...

Sheet 5
D1: 7:00-8:00 | H1: 8:00-9:00 | L1: 9:00-10:00 | P1: 10:00-11:00 | T1: 11:00-12:00 | X1: 12:00-13:00 | AB1: 13:00-14:00 | AF1: 14:00-15:00 | AJ1: 15:00-16:00 | AN1: 16:00-17:00 | AR1: 17:00-18:00 | AV1: 18:00-19:00 | AZ1: 19:00-20:00
C2: grupa
D3: 7:00-8:00 | H3: 8:00-9:00 | L3: 9:00-10:00 | P3: 10:00-11:00 | T3: 11:00-12:00 | X3: 12:00-13:00 | AB3: 13:00-14:00 | AF3: 14:00-15:00 | AJ3: 15:00-16:00 | AN3: 16:00-17:00 | AR3: 17:00-18:00 | AV3: 18:00-19:00 | AZ3: 19:00-20:15
A4: ='4'!A4:A39+7 -> 46321 | B4: poniedziałek | C4: 1A | I4: Patomorfologia SE 1 | BB4: Propedeutyka chorób wew. wykład WY1
C5: 1B
C6: 2A | I6: Patomorfologia SE 2
C7: 2B
C8: 3A | I8: Patomorfologia SE 3 | X8: Propedeutyka chirurgii SE 3 | AA8: Propedeutyka chirurgii CS 3A,3B
C9: 3B
C10: 4A | J10: Mikrobiologia CL 9, 10 = CN 4A, 4B | V10: CSM | W10: Propedeutyka pediatrii CK 4A, CK 4B
C11: 4B | V11: CSM | W11: Propedeutyka pediatrii CK 4C, CK 4D
C12: 5A | AL12: Farmakologia i toksykologia CN 5A
C13: 5B | AL13: Farmakologia i toksykologia CN 5B
C14: 6A | H14: Propedeutyka chirurgii SE 6 | K14: Propedeutyka chirurgii CS 6A,6B | Z14: Mikrobiologia CL 15, 16 = CN 6A, 6B | AL14: Farmakologia i toksykologia CN 6A
C15: 6B | AL15: Farmakologia i toksykologia CN 6B
C16: 7A | P16: Mikrobiologia CL 17, 18 = CN 7A, 7B | AB16: Farmakologia i toksykologia CN 7A
C17: 7B | AB17: Farmakologia i toksykologia CN 7B
C18: 8A | AB18: Farmakologia i toksykologia CN 8A
C19: 8B | AB19: Farmakologia i toksykologia CN 8B
C20: 9A | R20: Farmakologia i toksykologia CN 9A
C21: 9B | R21: Farmakologia i toksykologia CN 9B
C22: 10A | R22: Farmakologia i toksykologia CN 10A
C23: 10B | R23: Farmakologia i toksykologia CN 10B
C24: 11A | J24: Prop. Inter. CK 11A | Q24: Prop. Inter. CK 11B
C25: 11B
C26: 12A | J26: Propedeutyka stomatologii CN 12A, 12B
C27: 12B
C28: 13A
C29: 13B
C30: 14A | T30: Propedeutyka stomatologii CN 14A, 14B
C31: 14B
C32: 15A | I32: G | J32: Propedeutyka pediatrii CK 15A, CK 15B
C33: 15B | S33: G | T33: Propedeutyka pediatrii CK 15C, CK 15D
C34: 16A | O34: Prop. Inter. CK 16A | V34: Prop. Inter. CK 16B
C35: 16B | V35: Prop. Inter. CK 16C, CK 16D
C36: 17A | O36: Prop. Inter. CK 17B | AN36: Mikrobiologia CL 45, 46, 47, 48 = CN 17A, 17B, 18A, 18B
C37: 17B | O37: Prop. Inter. CK 17C, CK 17D
C38: 18A | H38: Prop. Inter. CK 18A, CK 18B | O38: B | P38: Propedeutyka pediatrii CK 18A, CK 18B
C39: 18B | H39: Prop. Inter. CK 18C, CK 18D
D40: 7:00-8:00 | H40: 8:00-9:00 | L40: 9:00-10:00 | P40: 10:00-11:00 | T40: 11:00-12:00 | X40: 12:00-13:00 | AB40: 13:00-14:00 | AF40: 14:00-15:00 | AJ40: 15:00-16:00 | AN40: 16:00-17:00 | AR40: 17:00-18:00 | AV40: 18:00-19:00 | AZ40: 19:00-20:15
A41: =A4+1 -> 46322 | B41: Wtorek | C41: 1A | H41: Prop. Inter. CK 1A, CK 1B | AB41: Farmakologia i toksykologia CN 1A | AL41: Mikrobiologia CL 1, 3, 4 = CN 1A, 1B, 2A | AV41: Propedeutyka pediatrii wykład WY 1
C42: 1B | AB42: Farmakologia i toksykologia CN 1B
C43: 2A | O43: Prop. Inter. CK 2A, CK 2B | AB43: Farmakologia i toksykologia CN 2A
C44: 2B | O44: Prop. Inter. CK 2C, CK 2D | AB44: Farmakologia i toksykologia CN 2B
C45: 3A | H45: Propedeutyka stomatologii CN 3A, CN 3B | V45: Prop. Inter. CK 3A, CK 3B | AL45: Farmakologia i toksykologia CN 3A
C46: 3B | V46: Prop. Inter. CK 3C, CK 3D | AL46: Farmakologia i toksykologia CN 3B
C47: 4A | AL47: Farmakologia i toksykologia CN 4A
C48: 4B | H48: Mikrobiologia CL 11, 12, 13, 14 = CN 4B, 5A, 5B, 6A | AL48: Farmakologia i toksykologia CN 4B
C49: 5A | V49: CSM | W49: Propedeutyka pediatrii CK 5A, CK 5B
C50: 5B | V50: CSM | W50: Propedeutyka pediatrii CK 5C, CK 5D
C51: 6A | S51: K | T51: Propedeutyka pediatrii CK 6A, CK 6B
C52: 6B | S52: K | T52: Propedeutyka pediatrii CK 6C, CK 6D
C53: 7A
C54: 7B | R54: Mikrobiologia CL 19, 20, 21, 22 = CN 7B, 8A, 8B, 9A
C55: 8A
C56: 8B
C57: 9A | AB57: Mikrobiologia CL 23, 24, 25, 26 = CN 9A, 9B, 10A, 10B
C58: 9B | I58: G | J58: Propedeutyka pediatrii CK 9C
C59: 10A | I59: Patomorfologia SE 10
C60: 10B
C61: 11A | I61: Patomorfologia SE 11 | V61: Propedeutyka chirurgii SE 11 | AB61: Propedeutyka chirurgii CS 11A,11B
C62: 11B
C63: 12A | I63: Patomorfologia SE 12
C64: 12B
C65: 13A
C66: 13B
C67: 14A | I67: G | J67: Propedeutyka pediatrii CK 14A, CK 14B | AN67: Propedeutyka pediatrii wykład WY 2 | BB67: Propedeutyka chorób wew. wykład WY2
C68: 14B | S68: G | T68: Propedeutyka pediatrii CK 14C, CK 14D
C69: 15A | H69: Farmakologia i toksykologia CN 15A
C70: 15B | H70: Farmakologia i toksykologia CN 15B
C71: 16A | H71: Farmakologia i toksykologia CN 16A
C72: 16B | H72: Farmakologia i toksykologia CN 16B
C73: 17A | T73: Propedeutyka stomatologii CN 17A, CN 17B
C74: 17B
C75: 18A
C76: 18B | J76: B | K76: Propedeutyka pediatrii CK 18C, CK 18D
D77: 7:00-8:00 | H77: 8:00-9:00 | L77: 9:00-10:00 | P77: 10:00-11:00 | T77: 11:00-12:00 | X77: 12:00-13:00 | AB77: 13:00-14:00 | AF77: 14:00-15:00 | AJ77: 15:00-16:00 | AN77: 16:00-17:00 | AR77: 17:00-18:00 | AV77: 18:00-19:00 | AZ77: 19:00-20:15
A78: =A4+2 -> 46323 | B78: Środa | C78: 1A | I78: CSM | J78: Propedeutyka pediatrii CK 1A, CK 1B | AB78: Mikrobiologia CL 2 = CN 1A, 1B | AV78: Patomorfologia wykład WY 1
C79: 1B | I79: CSM | J79: Propedeutyka pediatrii CK 1C, CK 1D
C80: 2A | S80: CSM | T80: Propedeutyka pediatrii CK 2A, CK 2B
C81: 2B | S81: CSM | T81: Propedeutyka pediatrii CK 2C, CK 2D
C82: 3A | S82: K | T82: Propedeutyka pediatrii CK 3A, CK 3B
C83: 3B | S83: K | T83: Propedeutyka pediatrii CK 3C, CK 3D
C84: 4A | I84: Patomorfologia SE 4
C85: 4B
C86: 5A | I86: Patomorfologia SE 5
C87: 5B
C88: 6A | I88: Patomorfologia SE 6
C89: 6B
C90: 7A | V90: Patomorfologia SE 7
C91: 7B
C92: 8A | H92: Prop. Inter. CK 8A, CK 8B | V92: Patomorfologia SE 8
C93: 8B
C94: 9A | V94: Patomorfologia SE 9
C95: 9B
C96: 10A | J96: B | K96: Propedeutyka pediatrii CK 10A, CK 10B
C97: 10B | H97: Mikrobiologia CL 27 = CN 10B, 11A
C98: 11A | AB98: Farmakologia i toksykologia CN 11A
C99: 11B | J99: Prop. Inter. CK 11C | Q99: Prop. Inter. CK 11D | AB99: Farmakologia i toksykologia CN 11B | AL99: Mikrobiologia CL 29, 30, 31, 32 = CN 11B, 12A, 12B
C100: 12A | H100: Prop. Inter. CK 12A, CK 12B | AB100: Farmakologia i toksykologia CN 12A
...

Sheet 6
D1: 7:00-8:00 | H1: 8:00-9:00 | L1: 9:00-10:00 | P1: 10:00-11:00 | T1: 11:00-12:00 | X1: 12:00-13:00 | AB1: 13:00-14:00 | AF1: 14:00-15:00 | AJ1: 15:00-16:00 | AN1: 16:00-17:00 | AR1: 17:00-18:00 | AV1: 18:00-19:00 | AZ1: 19:00-20:00
C2: grupa
D3: 7:00-8:00 | H3: 8:00-9:00 | L3: 9:00-10:00 | P3: 10:00-11:00 | T3: 11:00-12:00 | X3: 12:00-13:00 | AB3: 13:00-14:00 | AF3: 14:00-15:00 | AJ3: 15:00-16:00 | AN3: 16:00-17:00 | AR3: 17:00-18:00 | AV3: 18:00-19:00 | AZ3: 19:00-20:15
A4: ='5'!A4:A39+7 -> 46328 | B4: poniedziałek | C4: 1A | I4: Patomorfologia SE 1 | BB4: Propedeutyka chorób wew. wykład WY1
C5: 1B
C6: 2A | I6: Patomorfologia SE 2
C7: 2B
C8: 3A | I8: Patomorfologia SE 3 | X8: Propedeutyka chirurgii SE 3 | AD8: Propedeutyka chirurgii CS 3A,3B
C9: 3B
C10: 4A | J10: Mikrobiologia CL 9, 10 = CN 4A, 4B | V10: K | W10: Propedeutyka pediatrii CK 4A, CK 4B
C11: 4B | V11: K | W11: Propedeutyka pediatrii CK 4C, CK 4D
C12: 5A | AL12: Farmakologia i toksykologia CN 5A
C13: 5B | AL13: Farmakologia i toksykologia CN 5B
C14: 6A | H14: Propedeutyka chirurgii SE 6 | N14: Propedeutyka chirurgii CS 6A,6B | Z14: Mikrobiologia CL 15, 16 = CN 6A, 6B | AL14: Farmakologia i toksykologia CN 6A
C15: 6B | AL15: Farmakologia i toksykologia CN 6B
C16: 7A | P16: Mikrobiologia CL 17, 18 = CN 7A, 7B | AB16: Farmakologia i toksykologia CN 7A
C17: 7B | AB17: Farmakologia i toksykologia CN 7B
C18: 8A | AB18: Farmakologia i toksykologia CN 8A
C19: 8B | AB19: Farmakologia i toksykologia CN 8B
C20: 9A | R20: Farmakologia i toksykologia CN 9A
C21: 9B | R21: Farmakologia i toksykologia CN 9B
C22: 10A | R22: Farmakologia i toksykologia CN 10A
C23: 10B | R23: Farmakologia i toksykologia CN 10B
C24: 11A | J24: Prop. Inter. CK 11A | Q24: Prop. Inter. CK 11B
C25: 11B
C26: 12A | J26: Propedeutyka stomatologii CN 12A, 12B
C27: 12B
C28: 13A
C29: 13B
C30: 14A | T30: Propedeutyka stomatologii CN 14A, 14B
C31: 14B
C32: 15A | I32: G | J32: Propedeutyka pediatrii CK 15A, CK 15B
C33: 15B | S33: G | T33: Propedeutyka pediatrii CK 15C, CK 15D
C34: 16A | O34: Prop. Inter. CK 16A | V34: Prop. Inter. CK 16B
C35: 16B | V35: Prop. Inter. CK 16C, CK 16D
C36: 17A | O36: Prop. Inter. CK 17B | AN36: Mikrobiologia CL 45, 46, 47, 48 = CN 17A, 17B, 18A, 18B
C37: 17B | O37: Prop. Inter. CK 17C, CK 17D
C38: 18A | H38: Prop. Inter. CK 18A, CK 18B | O38: B | P38: Propedeutyka pediatrii CK 18A, CK 18B
C39: 18B | H39: Prop. Inter. CK 18C, CK 18D
D40: 7:00-8:00 | H40: 8:00-9:00 | L40: 9:00-10:00 | P40: 10:00-11:00 | T40: 11:00-12:00 | X40: 12:00-13:00 | AB40: 13:00-14:00 | AF40: 14:00-15:00 | AJ40: 15:00-16:00 | AN40: 16:00-17:00 | AR40: 17:00-18:00 | AV40: 18:00-19:00 | AZ40: 19:00-20:15
A41: =A4+1 -> 46329 | B41: Wtorek | C41: 1A | H41: Prop. Inter. CK 1A, CK 1B | AB41: Farmakologia i toksykologia CN 1A | AL41: Mikrobiologia CL 1, 3, 4 = CN 1A, 1B, 2A | AV41: Propedeutyka pediatrii wykład WY 1
C42: 1B | AB42: Farmakologia i toksykologia CN 1B
C43: 2A | O43: Prop. Inter. CK 2A, CK 2B | AB43: Farmakologia i toksykologia CN 2A
C44: 2B | O44: Prop. Inter. CK 2C, CK 2D | AB44: Farmakologia i toksykologia CN 2B
C45: 3A | J45: Propedeutyka stomatologii CN 3A, 3B | V45: Prop. Inter. CK 3A, CK 3B | AL45: Farmakologia i toksykologia CN 3A
C46: 3B | V46: Prop. Inter. CK 3C, CK 3D | AL46: Farmakologia i toksykologia CN 3B
C47: 4A | AL47: Farmakologia i toksykologia CN 4A
C48: 4B | H48: Mikrobiologia CL 11, 12, 13, 14 = CN 4B, 5A, 5B, 6A | AL48: Farmakologia i toksykologia CN 4B
C49: 5A | V49: K | W49: Propedeutyka pediatrii CK 5A, CK 5B
C50: 5B | V50: K | W50: Propedeutyka pediatrii CK 5C, CK 5D
C51: 6A | S51: CSM | T51: Propedeutyka pediatrii CK 6A, CK 6B
C52: 6B | S52: CSM | T52: Propedeutyka pediatrii CK 6C, CK 6D
C53: 7A
C54: 7B | R54: Mikrobiologia CL 19, 20, 21, 22 = CN 7B, 8A, 8B, 9A
C55: 8A
C56: 8B
C57: 9A | AB57: Mikrobiologia CL 23, 24, 25, 26 = CN 9A, 9B, 10A, 10B
C58: 9B | I58: G | J58: Propedeutyka pediatrii CK 9C
C59: 10A | I59: Patomorfologia SE 10
C60: 10B
C61: 11A | I61: Patomorfologia SE 11
C62: 11B
C63: 12A | I63: Patomorfologia SE 12
C64: 12B
C65: 13A
C66: 13B
C67: 14A | I67: G | J67: Propedeutyka pediatrii CK 14A, CK 14B | AN67: Propedeutyka pediatrii wykład WY 2 | BB67: Propedeutyka chorób wew. wykład WY2
C68: 14B | S68: G | T68: Propedeutyka pediatrii CK 14C, CK 14D
C69: 15A | H69: Farmakologia i toksykologia CN 15A
C70: 15B | H70: Farmakologia i toksykologia CN 15B
C71: 16A | H71: Farmakologia i toksykologia CN 16A
C72: 16B | H72: Farmakologia i toksykologia CN 16B
C73: 17A | T73: Propedeutyka stomatologii CN 17A, 17B
C74: 17B
C75: 18A
C76: 18B | J76: B | K76: Propedeutyka pediatrii CK 18C, CK 18D
D77: 7:00-8:00 | H77: 8:00-9:00 | L77: 9:00-10:00 | P77: 10:00-11:00 | T77: 11:00-12:00 | X77: 12:00-13:00 | AB77: 13:00-14:00 | AF77: 14:00-15:00 | AJ77: 15:00-16:00 | AN77: 16:00-17:00 | AR77: 17:00-18:00 | AV77: 18:00-19:00 | AZ77: 19:00-20:15
A78: =A4+2 -> 46330 | B78: Środa | C78: 1A | I78: K | J78: Propedeutyka pediatrii CK 1A, CK 1B | AB78: Mikrobiologia CL 2 = CN 1A, 1B | AV78: Patomorfologia wykład WY 1
C79: 1B | I79: K | J79: Propedeutyka pediatrii CK 1C, CK 1D
C80: 2A | S80: K | T80: Propedeutyka pediatrii CK 2A, CK 2B
C81: 2B | S81: K | T81: Propedeutyka pediatrii CK 2C, CK 2D
C82: 3A | S82: CSM | T82: Propedeutyka pediatrii CK 3A, CK 3B
C83: 3B | S83: CSM | T83: Propedeutyka pediatrii CK 3C, CK 3D
C84: 4A | I84: Patomorfologia SE 4
C85: 4B
C86: 5A | I86: Patomorfologia SE 5
C87: 5B
C88: 6A | I88: Patomorfologia SE 6
C89: 6B
C90: 7A | V90: Patomorfologia SE 7
C91: 7B
C92: 8A | H92: Prop. Inter. CK 8A, CK 8B | V92: Patomorfologia SE 8
C93: 8B
C94: 9A | V94: Patomorfologia SE 9
C95: 9B
C96: 10A | J96: B | K96: Propedeutyka pediatrii CK 10A, CK 10B
C97: 10B | H97: Mikrobiologia CL 27 = CN 10B, 11A
C98: 11A | AB98: Farmakologia i toksykologia CN 11A
C99: 11B | J99: Prop. Inter. CK 11C | Q99: Prop. Inter. CK 11D | AB99: Farmakologia i toksykologia CN 11B | AL99: Mikrobiologia CL 29, 30, 31, 32 = CN 11B, 12A, 12B
C100: 12A | H100: Prop. Inter. CK 12A, CK 12B | AB100: Farmakologia i toksykologia CN 12A
...

Sheet 7
D1: 7:00-8:00 | H1: 8:00-9:00 | L1: 9:00-10:00 | P1: 10:00-11:00 | T1: 11:00-12:00 | X1: 12:00-13:00 | AB1: 13:00-14:00 | AF1: 14:00-15:00 | AJ1: 15:00-16:00 | AN1: 16:00-17:00 | AR1: 17:00-18:00 | AV1: 18:00-19:00 | AZ1: 19:00-20:00
C2: grupa
D3: 7:00-8:00 | H3: 8:00-9:00 | L3: 9:00-10:00 | P3: 10:00-11:00 | T3: 11:00-12:00 | X3: 12:00-13:00 | AB3: 13:00-14:00 | AF3: 14:00-15:00 | AJ3: 15:00-16:00 | AN3: 16:00-17:00 | AR3: 17:00-18:00 | AV3: 18:00-19:00 | AZ3: 19:00-20:15
A4: ='6'!A4:A39+7 -> 46335 | B4: poniedziałek | C4: 1A | I4: Patomorfologia SE 1 | BB4: Propedeutyka chorób wew. wykład WY1
C5: 1B
C6: 2A | I6: Patomorfologia SE 2
C7: 2B
C8: 3A | I8: Patomorfologia SE 3 | X8: Propedeutyka chirurgii SE 3 | AD8: Propedeutyka chirurgii CS 3A,3B
C9: 3B
C10: 4A | V10: K | W10: Propedeutyka pediatrii CK 4A, CK 4B
C11: 4B | V11: K | W11: Propedeutyka pediatrii CK 4C, CK 4D
C12: 5A | AL12: Farmakologia i toksykologia CN 5A
C13: 5B | AL13: Farmakologia i toksykologia CN 5B
C14: 6A | AL14: Farmakologia i toksykologia CN 6A
C15: 6B | AL15: Farmakologia i toksykologia CN 6B
C16: 7A | AB16: Farmakologia i toksykologia CN 7A
C17: 7B | AB17: Farmakologia i toksykologia CN 7B
C18: 8A | AB18: Farmakologia i toksykologia CN 8A
C19: 8B | AB19: Farmakologia i toksykologia CN 8B
C20: 9A | R20: Farmakologia i toksykologia CN 9A
C21: 9B | R21: Farmakologia i toksykologia CN 9B
C22: 10A | R22: Farmakologia i toksykologia CN 10A
C23: 10B | R23: Farmakologia i toksykologia CN 10B
C24: 11A | J24: Prop. Inter. CK 11A | Q24: Prop. Inter. CK 11B
C25: 11B
C26: 12A
C27: 12B
C28: 13A
C29: 13B
C30: 14A
C31: 14B
C32: 15A | I32: G | J32: Propedeutyka pediatrii CK 15A, CK 15B
C33: 15B | S33: G | T33: Propedeutyka pediatrii CK 15C, CK 15D
C34: 16A | O34: Prop. Inter. CK 16A | V34: Prop. Inter. CK 16B
C35: 16B | V35: Prop. Inter. CK 16C, CK 16D
C36: 17A | O36: Prop. Inter. CK 17B
C37: 17B | O37: Prop. Inter. CK 17C, CK 17D
C38: 18A | H38: Prop. Inter. CK 18A, CK 18B | O38: B | P38: Propedeutyka pediatrii CK 18A, CK 18B
C39: 18B | H39: Prop. Inter. CK 18C, CK 18D
D40: 7:00-8:00 | H40: 8:00-9:00 | L40: 9:00-10:00 | P40: 10:00-11:00 | T40: 11:00-12:00 | X40: 12:00-13:00 | AB40: 13:00-14:00 | AF40: 14:00-15:00 | AJ40: 15:00-16:00 | AN40: 16:00-17:00 | AR40: 17:00-18:00 | AV40: 18:00-19:00 | AZ40: 19:00-20:15
A41: =A4+1 -> 46336 | B41: Wtorek | C41: 1A | H41: Prop. Inter. CK 1A, CK 1B | AB41: Farmakologia i toksykologia CN 1A | AV41: Propedeutyka pediatrii wykład WY 1
C42: 1B | AB42: Farmakologia i toksykologia CN 1B
C43: 2A | O43: Prop. Inter. CK 2A, CK 2B | AB43: Farmakologia i toksykologia CN 2A
C44: 2B | O44: Prop. Inter. CK 2C, CK 2D | AB44: Farmakologia i toksykologia CN 2B
C45: 3A | J45: Propedeutyka stomatologii CN 3A, 3B | V45: Prop. Inter. CK 3A, CK 3B | AL45: Farmakologia i toksykologia CN 3A
C46: 3B | V46: Prop. Inter. CK 3C, CK 3D | AL46: Farmakologia i toksykologia CN 3B
C47: 4A | AL47: Farmakologia i toksykologia CN 4A
C48: 4B | AL48: Farmakologia i toksykologia CN 4B
C49: 5A | V49: K | W49: Propedeutyka pediatrii CK 5A, CK 5B
C50: 5B | V50: K | W50: Propedeutyka pediatrii CK 5C, CK 5D
C51: 6A | S51: K | T51: Propedeutyka pediatrii CK 6A, CK 6B
C52: 6B | S52: K | T52: Propedeutyka pediatrii CK 6C, CK 6D
C53: 7A
C54: 7B
C55: 8A
C56: 8B
C57: 9A | X57: Propedeutyka chirurgii SE 9 | AD57: Propedeutyka chirurgii CS 9A,9B
C58: 9B | I58: G | J58: Propedeutyka pediatrii CK 9C
C59: 10A | I59: Patomorfologia SE 10
C60: 10B
C61: 11A | I61: Patomorfologia SE 11
C62: 11B
C63: 12A | I63: Patomorfologia SE 12
C64: 12B
C65: 13A
C66: 13B
C67: 14A | I67: G | J67: Propedeutyka pediatrii CK 14A, CK 14B | AN67: Propedeutyka pediatrii wykład WY 2 | BB67: Propedeutyka chorób wew. wykład WY2
C68: 14B | S68: G | T68: Propedeutyka pediatrii CK 14C, CK 14D
C69: 15A | H69: Farmakologia i toksykologia CN 15A
C70: 15B | H70: Farmakologia i toksykologia CN 15B
C71: 16A | H71: Farmakologia i toksykologia CN 16A
C72: 16B | H72: Farmakologia i toksykologia CN 16B
C73: 17A | T73: Propedeutyka stomatologii CN 17A, 17B
C74: 17B
C75: 18A
C76: 18B | J76: B | K76: Propedeutyka pediatrii CK 18C, CK 18D
D77: 7:00-8:00 | H77: 8:00-9:00 | L77: 9:00-10:00 | P77: 10:00-11:00 | T77: 11:00-12:00 | X77: 12:00-13:00 | AB77: 13:00-14:00 | AF77: 14:00-15:00 | AJ77: 15:00-16:00 | AN77: 16:00-17:00 | AR77: 17:00-18:00 | AV77: 18:00-19:00 | AZ77: 19:00-20:15
A78: =A4+2 -> 46337 | B78: Środa | C78: 1A
C79: 1B
C80: 2A
C81: 2B
C82: 3A
C83: 3B
C84: 4A
C85: 4B
C86: 5A
C87: 5B
C88: 6A
C89: 6B
C90: 7A
... C113: 18B
D114: 7:00-8:00 | H114: 8:00-9:00 | L114: 9:00-10:00 | P114: 10:00-11:00 | T114: 11:00-12:00 | X114: 12:00-13:00 | AB114: 13:00-14:00 | AF114: 14:00-15:00 | AJ114: 15:00-16:00 | AN114: 16:00-17:00 | AR114: 17:00-18:00 | AV114: 18:00-19:00 | AZ114: 19:00-20:00
A115: =A4+3 -> 46338 | B115: czwartek (zajęcia z środy) | C115: 1A | I115: K | J115: Propedeutyka pediatrii CK 1A, CK 1B | AV115: Patomorfologia wykład WY 1
C116: 1B | I116: K | J116: Propedeutyka pediatrii CK 1C, CK 1D
C117: 2A | S117: K | T117: Propedeutyka pediatrii CK 2A, CK 2B
C118: 2B | S118: K | T118: Propedeutyka pediatrii CK 2C, CK 2D
C119: 3A
C120: 3B
C121: 4A | I121: Patomorfologia SE 4
C122: 4B
...

Sheet 8
D1: 7:00-8:00 | H1: 8:00-9:00 | L1: 9:00-10:00 | P1: 10:00-11:00 | T1: 11:00-12:00 | X1: 12:00-13:00 | AB1: 13:00-14:00 | AF1: 14:00-15:00 | AJ1: 15:00-16:00 | AN1: 16:00-17:00 | AR1: 17:00-18:00 | AV1: 18:00-19:00 | AZ1: 19:00-20:00
C2: grupa
D3: 7:00-8:00 | H3: 8:00-9:00 | L3: 9:00-10:00 | P3: 10:00-11:00 | T3: 11:00-12:00 | X3: 12:00-13:00 | AB3: 13:00-14:00 | AF3: 14:00-15:00 | AJ3: 15:00-16:00 | AN3: 16:00-17:00 | AR3: 17:00-18:00 | AV3: 18:00-19:00 | AZ3: 19:00-20:15
A4: ='7'!A4:A39+7 -> 46342 | B4: poniedziałek | C4: 1A | I4: Patomorfologia SE 1 | BB4: Propedeutyka chorób wew. wykład WY1
C5: 1B
C6: 2A | I6: Patomorfologia SE 2
C7: 2B
C8: 3A | I8: Patomorfologia SE 3
C9: 3B
C10: 4A | J10: Mikrobiologia CL 9, 10 = CN 4A, 4B | V10: K | W10: Propedeutyka pediatrii CK 4A, CK 4B
C11: 4B | V11: K | W11: Propedeutyka pediatrii CK 4C, CK 4D
C12: 5A | AL12: Farmakologia i toksykologia CN 5A
C13: 5B | AL13: Farmakologia i toksykologia CN 5B
C14: 6A | Z14: Mikrobiologia CL 15, 16 = CN 6A, 6B | AL14: Farmakologia i toksykologia CN 6A
C15: 6B | AL15: Farmakologia i toksykologia CN 6B
C16: 7A | P16: Mikrobiologia CL 17, 18 = CN 7A, 7B | AB16: Farmakologia i toksykologia CN 7A
C17: 7B | AB17: Farmakologia i toksykologia CN 7B
C18: 8A | AB18: Farmakologia i toksykologia CN 8A
C19: 8B | AB19: Farmakologia i toksykologia CN 8B
C20: 9A | R20: Farmakologia i toksykologia CN 9A
C21: 9B | R21: Farmakologia i toksykologia CN 9B
C22: 10A | R22: Farmakologia i toksykologia CN 10A
C23: 10B | R23: Farmakologia i toksykologia CN 10B
C24: 11A | J24: Prop. Inter. CK 11A | Q24: Prop. Inter. CK 11B
C25: 11B
C26: 12A | R26: Propedeutyka chirurgii SE 12 | U26: Propedeutyka chirurgii CS 12A,12B
C27: 12B
C28: 13A
C29: 13B
C30: 14A
C31: 14B
C32: 15A | I32: G | J32: Propedeutyka pediatrii CK 15A, CK 15B
C33: 15B | S33: G | T33: Propedeutyka pediatrii CK 15C, CK 15D
C34: 16A | O34: Prop. Inter. CK 16A | V34: Prop. Inter. CK 16B
C35: 16B | V35: Prop. Inter. CK 16C, CK 16D
C36: 17A | O36: Prop. Inter. CK 17B | AN36: Mikrobiologia CL 45, 46, 47, 48 = CN 17A, 17B, 18A, 18B
C37: 17B | O37: Prop. Inter. CK 17C, CK 17D
C38: 18A | H38: Prop. Inter. CK 18A, CK 18B
C39: 18B | H39: Prop. Inter. CK 18C, CK 18D
D40: 7:00-8:00 | H40: 8:00-9:00 | L40: 9:00-10:00 | P40: 10:00-11:00 | T40: 11:00-12:00 | X40: 12:00-13:00 | AB40: 13:00-14:00 | AF40: 14:00-15:00 | AJ40: 15:00-16:00 | AN40: 16:00-17:00 | AR40: 17:00-18:00 | AV40: 18:00-19:00 | AZ40: 19:00-20:15
A41: =A4+1 -> 46343 | B41: Wtorek | C41: 1A | H41: Prop. Inter. CK 1A, CK 1B | AB41: Farmakologia i toksykologia CN 1A | AL41: Mikrobiologia CL 1, 3, 4 = CN 1A, 1B, 2A | AV41: Propedeutyka pediatrii wykład WY 1
C42: 1B | AB42: Farmakologia i toksykologia CN 1B
C43: 2A | O43: Prop. Inter. CK 2A, CK 2B | AB43: Farmakologia i toksykologia CN 2A
C44: 2B | O44: Prop. Inter. CK 2C, CK 2D | AB44: Farmakologia i toksykologia CN 2B
C45: 3A | V45: Prop. Inter. CK 3A, CK 3B | AL45: Farmakologia i toksykologia CN 3A
C46: 3B | V46: Prop. Inter. CK 3C, CK 3D | AL46: Farmakologia i toksykologia CN 3B
C47: 4A | AL47: Farmakologia i toksykologia CN 4A
C48: 4B | H48: Mikrobiologia CL 11, 12, 13, 14 = CN 4B, 5A, 5B, 6A | AL48: Farmakologia i toksykologia CN 4B
C49: 5A | V49: K | W49: Propedeutyka pediatrii CK 5A, CK 5B
C50: 5B | V50: K | W50: Propedeutyka pediatrii CK 5C, CK 5D
C51: 6A | S51: K | T51: Propedeutyka pediatrii CK 6A, CK 6B
C52: 6B | S52: K | T52: Propedeutyka pediatrii CK 6C, CK 6D
C53: 7A
C54: 7B | R54: Mikrobiologia CL 19, 20, 21, 22 = CN 7B, 8A, 8B, 9A
C55: 8A
C56: 8B
C57: 9A | AB57: Mikrobiologia CL 23, 24, 25, 26 = CN 9A, 9B, 10A, 10B
C58: 9B | I58: G | J58: Propedeutyka pediatrii CK 9C
C59: 10A | I59: Patomorfologia SE 10
C60: 10B
C61: 11A | I61: Patomorfologia SE 11
C62: 11B
C63: 12A | I63: Patomorfologia SE 12
C64: 12B
C65: 13A
C66: 13B
C67: 14A | I67: G | J67: Propedeutyka pediatrii CK 14A, CK 14B | AN67: Propedeutyka pediatrii wykład WY 2 | BB67: Propedeutyka chorób wew. wykład WY2
C68: 14B | S68: G | T68: Propedeutyka pediatrii CK 14C, CK 14D
C69: 15A | H69: Farmakologia i toksykologia CN 15A
C70: 15B | H70: Farmakologia i toksykologia CN 15B
C71: 16A | H71: Farmakologia i toksykologia CN 16A
C72: 16B | H72: Farmakologia i toksykologia CN 16B
C73: 17A
C74: 17B
C75: 18A | I75: CSM | J75: Propedeutyka pediatrii CK 18A, CK 18B
C76: 18B | S76: CSM | T76: Propedeutyka pediatrii CK 18C, CK 18D
D77: 7:00-8:00 | H77: 8:00-9:00 | L77: 9:00-10:00 | P77: 10:00-11:00 | T77: 11:00-12:00 | X77: 12:00-13:00 | AB77: 13:00-14:00 | AF77: 14:00-15:00 | AJ77: 15:00-16:00 | AN77: 16:00-17:00 | AR77: 17:00-18:00 | AV77: 18:00-19:00 | AZ77: 19:00-20:15
A78: =A4+2 -> 46344 | B78: Środa | C78: 1A | I78: K | J78: Propedeutyka pediatrii CK 1A, CK 1B | AB78: Mikrobiologia CL 2 = CN 1A, 1B | AV78: Patomorfologia wykład WY 1
C79: 1B | I79: K | J79: Propedeutyka pediatrii CK 1C, CK 1D
C80: 2A | S80: K | T80: Propedeutyka pediatrii CK 2A, CK 2B
C81: 2B | S81: K | T81: Propedeutyka pediatrii CK 2C, CK 2D
C82: 3A | S82: K | T82: Propedeutyka pediatrii CK 3A, CK 3B
C83: 3B | S83: K | T83: Propedeutyka pediatrii CK 3C, CK 3D
C84: 4A | I84: Patomorfologia SE 4
C85: 4B
C86: 5A | I86: Patomorfologia SE 5
C87: 5B
C88: 6A | I88: Patomorfologia SE 6 | V88: Propedeutyka chirurgii SE 6 | AB88: Propedeutyka chirurgii CS 6A,6B
C89: 6B
C90: 7A | V90: Patomorfologia SE 7
C91: 7B
C92: 8A | H92: Prop. Inter. CK 8A, CK 8B | V92: Patomorfologia SE 8
C93: 8B
C94: 9A | V94: Patomorfologia SE 9
C95: 9B
C96: 10A | I96: CSM | J96: Propedeutyka pediatrii CK 10A, CK 10B
C97: 10B | H97: Mikrobiologia CL 27 = CN 10B, 11A | S97: CSM | T97: Propedeutyka pediatrii CK 10C, CK 10D
C98: 11A | AB98: Farmakologia i toksykologia CN 11A
C99: 11B | J99: Prop. Inter. CK 11C | Q99: Prop. Inter. CK 11D | AB99: Farmakologia i toksykologia CN 11B | AL99: Mikrobiologia CL 29, 30, 31, 32 = CN 11B, 12A, 12B
C100: 12A | H100: Prop. Inter. CK 12A, CK 12B | AB100: Farmakologia i toksykologia CN 12A
...

Sheet 9
D1: 7:00-8:00 | H1: 8:00-9:00 | L1: 9:00-10:00 | P1: 10:00-11:00 | T1: 11:00-12:00 | X1: 12:00-13:00 | AB1: 13:00-14:00 | AF1: 14:00-15:00 | AJ1: 15:00-16:00 | AN1: 16:00-17:00 | AR1: 17:00-18:00 | AV1: 18:00-19:00 | AZ1: 19:00-20:00
C2: grupa
D3: 7:00-8:00 | H3: 8:00-9:00 | L3: 9:00-10:00 | P3: 10:00-11:00 | T3: 11:00-12:00 | X3: 12:00-13:00 | AB3: 13:00-14:00 | AF3: 14:00-15:00 | AJ3: 15:00-16:00 | AN3: 16:00-17:00 | AR3: 17:00-18:00 | AV3: 18:00-19:00 | AZ3: 19:00-20:15
A4: ='8'!A4:A39+7 -> 46349 | B4: poniedziałek | C4: 1A | I4: Patomorfologia SE 1 | BB4: Propedeutyka chorób wew. wykład WY1
C5: 1B
C6: 2A | I6: Patomorfologia SE 2
C7: 2B
C8: 3A | I8: Patomorfologia SE 3
C9: 3B
C10: 4A | J10: Mikrobiologia CL 9, 10 = CN 4A, 4B | V10: K | W10: Propedeutyka pediatrii CK 4A, CK 4B
C11: 4B | V11: K | W11: Propedeutyka pediatrii CK 4C, CK 4D
C12: 5A | AL12: Farmakologia i toksykologia CN 5A
C13: 5B | AL13: Farmakologia i toksykologia CN 5B
C14: 6A | Z14: Mikrobiologia CL 15, 16 = CN 6A, 6B | AL14: Farmakologia i toksykologia CN 6A
C15: 6B | AL15: Farmakologia i toksykologia CN 6B
C16: 7A | P16: Mikrobiologia CL 17, 18 = CN 7A, 7B | AB16: Farmakologia i toksykologia CN 7A
C17: 7B | AB17: Farmakologia i toksykologia CN 7B
C18: 8A | AB18: Farmakologia i toksykologia CN 8A
C19: 8B | AB19: Farmakologia i toksykologia CN 8B
C20: 9A | R20: Farmakologia i toksykologia CN 9A
C21: 9B | R21: Farmakologia i toksykologia CN 9B
C22: 10A | R22: Farmakologia i toksykologia CN 10A
C23: 10B | R23: Farmakologia i toksykologia CN 10B
C24: 11A | J24: Prop. Inter. CK 11A | Q24: Prop. Inter. CK 11B
C25: 11B
C26: 12A
C27: 12B
C28: 13A
C29: 13B
C30: 14A
C31: 14B
C32: 15A | I32: G | J32: Propedeutyka pediatrii CK 15A, CK 15B
C33: 15B | S33: G | T33: Propedeutyka pediatrii CK 15C, CK 15D
C34: 16A | O34: Prop. Inter. CK 16A | V34: Prop. Inter. CK 16B
C35: 16B | V35: Prop. Inter. CK 16C, CK 16D
C36: 17A | O36: Prop. Inter. CK 17B | AN36: Mikrobiologia CL 45, 46, 47, 48 = CN 17A, 17B, 18A, 18B
C37: 17B | O37: Prop. Inter. CK 17C, CK 17D
C38: 18A | H38: Prop. Inter. CK 18A, CK 18B | O38: B | P38: Propedeutyka pediatrii CK 18A, CK 18B
C39: 18B | H39: Prop. Inter. CK 18C, CK 18D
D40: 7:00-8:00 | H40: 8:00-9:00 | L40: 9:00-10:00 | P40: 10:00-11:00 | T40: 11:00-12:00 | X40: 12:00-13:00 | AB40: 13:00-14:00 | AF40: 14:00-15:00 | AJ40: 15:00-16:00 | AN40: 16:00-17:00 | AR40: 17:00-18:00 | AV40: 18:00-19:00 | AZ40: 19:00-20:15
A41: =A4+1 -> 46350 | B41: Wtorek | C41: 1A | H41: Prop. Inter. CK 1A, CK 1B | AB41: Farmakologia i toksykologia CN 1A | AL41: Mikrobiologia CL 1, 3, 4 = CN 1A, 1B, 2A
C42: 1B | AB42: Farmakologia i toksykologia CN 1B
C43: 2A | O43: Prop. Inter. CK 2A, CK 2B | AB43: Farmakologia i toksykologia CN 2A
C44: 2B | O44: Prop. Inter. CK 2C, CK 2D | AB44: Farmakologia i toksykologia CN 2B
C45: 3A | V45: Prop. Inter. CK 3A, CK 3B | AL45: Farmakologia i toksykologia CN 3A
C46: 3B | V46: Prop. Inter. CK 3C, CK 3D | AL46: Farmakologia i toksykologia CN 3B
C47: 4A | AL47: Farmakologia i toksykologia CN 4A
C48: 4B | H48: Mikrobiologia CL 11, 12, 13, 14 = CN 4B, 5A, 5B, 6A | AL48: Farmakologia i toksykologia CN 4B
C49: 5A | V49: K | W49: Propedeutyka pediatrii CK 5A, CK 5B
C50: 5B | V50: K | W50: Propedeutyka pediatrii CK 5C, CK 5D
C51: 6A | S51: K | T51: Propedeutyka pediatrii CK 6A, CK 6B
C52: 6B | S52: K | T52: Propedeutyka pediatrii CK 6C, CK 6D
C53: 7A
C54: 7B | R54: Mikrobiologia CL 19, 20, 21, 22 = CN 7B, 8A, 8B, 9A
C55: 8A
C56: 8B
C57: 9A | AB57: Mikrobiologia CL 23, 24, 25, 26 = CN 9A, 9B, 10A, 10B
C58: 9B | I58: G | J58: Propedeutyka pediatrii CK 9C
C59: 10A | I59: Patomorfologia SE 10
C60: 10B
C61: 11A | I61: Patomorfologia SE 11
C62: 11B
C63: 12A | I63: Patomorfologia SE 12
C64: 12B
C65: 13A
C66: 13B
C67: 14A | I67: G | J67: Propedeutyka pediatrii CK 14A, CK 14B | BB67: Propedeutyka chorób wew. wykład WY2
C68: 14B | S68: G | T68: Propedeutyka pediatrii CK 14C, CK 14D
C69: 15A | H69: Farmakologia i toksykologia CN 15A
C70: 15B | H70: Farmakologia i toksykologia CN 15B
C71: 16A | H71: Farmakologia i toksykologia CN 16A
C72: 16B | H72: Farmakologia i toksykologia CN 16B
C73: 17A
C74: 17B
C75: 18A
C76: 18B | J76: B | K76: Propedeutyka pediatrii CK 18C, CK 18D
D77: 7:00-8:00 | H77: 8:00-9:00 | L77: 9:00-10:00 | P77: 10:00-11:00 | T77: 11:00-12:00 | X77: 12:00-13:00 | AB77: 13:00-14:00 | AF77: 14:00-15:00 | AJ77: 15:00-16:00 | AN77: 16:00-17:00 | AR77: 17:00-18:00 | AV77: 18:00-19:00 | AZ77: 19:00-20:15
A78: =A4+2 -> 46351 | B78: Środa | C78: 1A | I78: K | J78: Propedeutyka pediatrii CK 1A, CK 1B | AB78: Mikrobiologia CL 2 = CN 1A, 1B | AV78: Patomorfologia wykład WY 1
C79: 1B | I79: K | J79: Propedeutyka pediatrii CK 1C, CK 1D
C80: 2A | S80: K | T80: Propedeutyka pediatrii CK 2A, CK 2B
C81: 2B | S81: K | T81: Propedeutyka pediatrii CK 2C, CK 2D
C82: 3A | S82: K | T82: Propedeutyka pediatrii CK 3A, CK 3B
C83: 3B | S83: K | T83: Propedeutyka pediatrii CK 3C, CK 3D
C84: 4A | I84: Patomorfologia SE 4
C85: 4B
C86: 5A | I86: Patomorfologia SE 5
C87: 5B
C88: 6A | I88: Patomorfologia SE 6
C89: 6B
C90: 7A | V90: Patomorfologia SE 7
C91: 7B
C92: 8A | H92: Prop. Inter. CK 8A, CK 8B | V92: Patomorfologia SE 8
C93: 8B
C94: 9A | V94: Patomorfologia SE 9
C95: 9B
C96: 10A | J96: B | K96: Propedeutyka pediatrii CK 10A, CK 10B
C97: 10B | H97: Mikrobiologia CL 27 = CN 10B, 11A
C98: 11A | AB98: Farmakologia i toksykologia CN 11A
C99: 11B | J99: Prop. Inter. CK 11C | Q99: Prop. Inter. CK 11D | AB99: Farmakologia i toksykologia CN 11B | AL99: Mikrobiologia CL 29, 30, 31, 32 = CN 11B, 12A, 12B
C100: 12A | H100: Prop. Inter. CK 12A, CK 12B | AB100: Farmakologia i toksykologia CN 12A
...

Sheet 10
D1: 7:00-8:00 | H1: 8:00-9:00 | L1: 9:00-10:00 | P1: 10:00-11:00 | T1: 11:00-12:00 | X1: 12:00-13:00 | AB1: 13:00-14:00 | AF1: 14:00-15:00 | AJ1: 15:00-16:00 | AN1: 16:00-17:00 | AR1: 17:00-18:00 | AV1: 18:00-19:00 | AZ1: 19:00-20:00
C2: grupa
D3: 7:00-8:00 | H3: 8:00-9:00 | L3: 9:00-10:00 | P3: 10:00-11:00 | T3: 11:00-12:00 | X3: 12:00-13:00 | AB3: 13:00-14:00 | AF3: 14:00-15:00 | AJ3: 15:00-16:00 | AN3: 16:00-17:00 | AR3: 17:00-18:00 | AV3: 18:00-19:00 | AZ3: 19:00-20:15
A4: ='9'!A4:A39+7 -> 46356 | B4: poniedziałek | C4: 1A | I4: Patomorfologia SE 1 | BB4: Propedeutyka chorób wew. wykład WY1
C5: 1B
C6: 2A | I6: Patomorfologia SE 2
C7: 2B
C8: 3A | I8: Patomorfologia SE 3
C9: 3B
C10: 4A | J10: Mikrobiologia CL 9, 10 = CN 4A, 4B | V10: K | W10: Propedeutyka pediatrii CK 4A, CK 4B
C11: 4B | V11: K | W11: Propedeutyka pediatrii CK 4C, CK 4D
C12: 5A | AL12: Farmakologia i toksykologia CN 5A
C13: 5B | AL13: Farmakologia i toksykologia CN 5B
C14: 6A | Z14: Mikrobiologia CL 15, 16 = CN 6A, 6B | AL14: Farmakologia i toksykologia CN 6A
C15: 6B | AL15: Farmakologia i toksykologia CN 6B
C16: 7A | P16: Mikrobiologia CL 17, 18 = CN 7A, 7B | AB16: Farmakologia i toksykologia CN 7A
C17: 7B | AB17: Farmakologia i toksykologia CN 7B
C18: 8A | AB18: Farmakologia i toksykologia CN 8A
C19: 8B | AB19: Farmakologia i toksykologia CN 8B
C20: 9A | R20: Farmakologia i toksykologia CN 9A
C21: 9B | R21: Farmakologia i toksykologia CN 9B
C22: 10A | R22: Farmakologia i toksykologia CN 10A
C23: 10B | R23: Farmakologia i toksykologia CN 10B
C24: 11A | J24: Prop. Inter. CK 11A | Q24: Prop. Inter. CK 11B
C25: 11B
C26: 12A | R26: Propedeutyka chirurgii SE 12 | X26: Propedeutyka chirurgii CS 12A,12B
C27: 12B
C28: 13A
C29: 13B
C30: 14A
C31: 14B
C32: 15A | I32: G | J32: Propedeutyka pediatrii CK 15A, CK 15B
C33: 15B | S33: G | T33: Propedeutyka pediatrii CK 15C, CK 15D
C34: 16A | O34: Prop. Inter. CK 16A | V34: Prop. Inter. CK 16B
C35: 16B | V35: Prop. Inter. CK 16C, CK 16D
C36: 17A | O36: Prop. Inter. CK 17B | AN36: Mikrobiologia CL 45, 46, 47, 48 = CN 17A, 17B, 18A, 18B
C37: 17B | O37: Prop. Inter. CK 17C, CK 17D
C38: 18A | H38: Prop. Inter. CK 18A, CK 18B | O38: B | P38: Propedeutyka pediatrii CK 18A, CK 18B
C39: 18B | H39: Prop. Inter. CK 18C, CK 18D
D40: 7:00-8:00 | H40: 8:00-9:00 | L40: 9:00-10:00 | P40: 10:00-11:00 | T40: 11:00-12:00 | X40: 12:00-13:00 | AB40: 13:00-14:00 | AF40: 14:00-15:00 | AJ40: 15:00-16:00 | AN40: 16:00-17:00 | AR40: 17:00-18:00 | AV40: 18:00-19:00 | AZ40: 19:00-20:15
A41: =A4+1 -> 46357 | B41: Wtorek | C41: 1A | H41: Prop. Inter. CK 1A, CK 1B | AB41: Farmakologia i toksykologia CN 1A | AL41: Mikrobiologia CL 1, 3, 4 = CN 1A, 1B, 2A
C42: 1B | AB42: Farmakologia i toksykologia CN 1B
C43: 2A | O43: Prop. Inter. CK 2A, CK 2B | AB43: Farmakologia i toksykologia CN 2A
C44: 2B | O44: Prop. Inter. CK 2C, CK 2D | AB44: Farmakologia i toksykologia CN 2B
C45: 3A | V45: Prop. Inter. CK 3A, CK 3B | AL45: Farmakologia i toksykologia CN 3A
C46: 3B | V46: Prop. Inter. CK 3C, CK 3D | AL46: Farmakologia i toksykologia CN 3B
C47: 4A | AL47: Farmakologia i toksykologia CN 4A
C48: 4B | H48: Mikrobiologia CL 11, 12, 13, 14 = CN 4B, 5A, 5B, 6A | AL48: Farmakologia i toksykologia CN 4B
C49: 5A | V49: K | W49: Propedeutyka pediatrii CK 5A, CK 5B
C50: 5B | V50: K | W50: Propedeutyka pediatrii CK 5C, CK 5D
C51: 6A | S51: K | T51: Propedeutyka pediatrii CK 6A, CK 6B
C52: 6B | S52: K | T52: Propedeutyka pediatrii CK 6C, CK 6D
C53: 7A
C54: 7B | R54: Mikrobiologia CL 19, 20, 21, 22 = CN 7B, 8A, 8B, 9A
C55: 8A
C56: 8B
C57: 9A | AB57: Mikrobiologia CL 23, 24, 25, 26 = CN 9A, 9B, 10A, 10B
C58: 9B | I58: G | J58: Propedeutyka pediatrii CK 9C
C59: 10A | I59: Patomorfologia SE 10
C60: 10B
C61: 11A | I61: Patomorfologia SE 11
C62: 11B
C63: 12A | I63: Patomorfologia SE 12
C64: 12B
C65: 13A
C66: 13B
C67: 14A | I67: G | J67: Propedeutyka pediatrii CK 14A, CK 14B | BB67: Propedeutyka chorób wew. wykład WY2
C68: 14B | S68: G | T68: Propedeutyka pediatrii CK 14C, CK 14D
C69: 15A | H69: Farmakologia i toksykologia CN 15A
C70: 15B | H70: Farmakologia i toksykologia CN 15B
C71: 16A | H71: Farmakologia i toksykologia CN 16A
C72: 16B | H72: Farmakologia i toksykologia CN 16B
C73: 17A
C74: 17B
C75: 18A
C76: 18B | J76: B | K76: Propedeutyka pediatrii CK 18C, CK 18D
D77: 7:00-8:00 | H77: 8:00-9:00 | L77: 9:00-10:00 | P77: 10:00-11:00 | T77: 11:00-12:00 | X77: 12:00-13:00 | AB77: 13:00-14:00 | AF77: 14:00-15:00 | AJ77: 15:00-16:00 | AN77: 16:00-17:00 | AR77: 17:00-18:00 | AV77: 18:00-19:00 | AZ77: 19:00-20:15
A78: =A4+2 -> 46358 | B78: Środa | C78: 1A | I78: K | J78: Propedeutyka pediatrii CK 1A, CK 1B | AB78: Mikrobiologia CL 2 = CN 1A, 1B | AV78: Patomorfologia wykład WY 1
C79: 1B | I79: K | J79: Propedeutyka pediatrii CK 1C, CK 1D
C80: 2A | S80: K | T80: Propedeutyka pediatrii CK 2A, CK 2B
C81: 2B | S81: K | T81: Propedeutyka pediatrii CK 2C, CK 2D
C82: 3A | S82: K | T82: Propedeutyka pediatrii CK 3A, CK 3B
C83: 3B | S83: K | T83: Propedeutyka pediatrii CK 3C, CK 3D
C84: 4A | I84: Patomorfologia SE 4
C85: 4B
C86: 5A | I86: Patomorfologia SE 5
C87: 5B
C88: 6A | I88: Patomorfologia SE 6
C89: 6B
C90: 7A | V90: Patomorfologia SE 7
C91: 7B
C92: 8A | H92: Prop. Inter. CK 8A, CK 8B | V92: Patomorfologia SE 8
C93: 8B
C94: 9A | V94: Patomorfologia SE 9
C95: 9B
C96: 10A | J96: B | K96: Propedeutyka pediatrii CK 10A, CK 10B | X96: Propedeutyka chirurgii SE 10 | AD96: Propedeutyka chirurgii CS 10A,10B
C97: 10B | H97: Mikrobiologia CL 27 = CN 10B, 11A
C98: 11A | AB98: Farmakologia i toksykologia CN 11A
C99: 11B | J99: Prop. Inter. CK 11C | Q99: Prop. Inter. CK 11D | AB99: Farmakologia i toksykologia CN 11B | AL99: Mikrobiologia CL 29, 30, 31, 32 = CN 11B, 12A, 12B
C100: 12A | H100: Prop. Inter. CK 12A, CK 12B | AB100: Farmakologia i toksykologia CN 12A
...

Sheet 11
D1: 7:00-8:00 | H1: 8:00-9:00 | L1: 9:00-10:00 | P1: 10:00-11:00 | T1: 11:00-12:00 | X1: 12:00-13:00 | AB1: 13:00-14:00 | AF1: 14:00-15:00 | AJ1: 15:00-16:00 | AN1: 16:00-17:00 | AR1: 17:00-18:00 | AV1: 18:00-19:00 | AZ1: 19:00-20:00
C2: grupa
D3: 7:00-8:00 | H3: 8:00-9:00 | L3: 9:00-10:00 | P3: 10:00-11:00 | T3: 11:00-12:00 | X3: 12:00-13:00 | AB3: 13:00-14:00 | AF3: 14:00-15:00 | AJ3: 15:00-16:00 | AN3: 16:00-17:00 | AR3: 17:00-18:00 | AV3: 18:00-19:00 | AZ3: 19:00-20:15
A4: ='10'!A4:A39+7 -> 46363 | B4: poniedziałek | C4: 1A | I4: Patomorfologia SE 1 | BB4: Propedeutyka chorób wew. wykład WY1
C5: 1B
C6: 2A | I6: Patomorfologia SE 2
C7: 2B
C8: 3A | I8: Patomorfologia SE 3
C9: 3B
C10: 4A | J10: Mikrobiologia CL 9, 10 = CN 4A, 4B | V10: K | W10: Propedeutyka pediatrii CK 4A, CK 4B
C11: 4B | V11: K | W11: Propedeutyka pediatrii CK 4C, CK 4D
C12: 5A | AL12: Farmakologia i toksykologia CN 5A
C13: 5B | AL13: Farmakologia i toksykologia CN 5B
C14: 6A | Z14: Mikrobiologia CL 15, 16 = CN 6A, 6B | AL14: Farmakologia i toksykologia CN 6A
C15: 6B | AL15: Farmakologia i toksykologia CN 6B
C16: 7A | P16: Mikrobiologia CL 17, 18 = CN 7A, 7B | AB16: Farmakologia i toksykologia CN 7A
C17: 7B | AB17: Farmakologia i toksykologia CN 7B
C18: 8A | AB18: Farmakologia i toksykologia CN 8A
C19: 8B | AB19: Farmakologia i toksykologia CN 8B
C20: 9A | R20: Farmakologia i toksykologia CN 9A
C21: 9B | R21: Farmakologia i toksykologia CN 9B
C22: 10A | R22: Farmakologia i toksykologia CN 10A
C23: 10B | R23: Farmakologia i toksykologia CN 10B
C24: 11A | J24: Prop. Inter. CK 11A | Q24: Prop. Inter. CK 11B
C25: 11B
C26: 12A
C27: 12B
C28: 13A
C29: 13B
C30: 14A
C31: 14B
C32: 15A | I32: G | J32: Propedeutyka pediatrii CK 15A, CK 15B
C33: 15B | S33: G | T33: Propedeutyka pediatrii CK 15C, CK 15D
C34: 16A | O34: Prop. Inter. CK 16A | V34: Prop. Inter. CK 16B
C35: 16B | V35: Prop. Inter. CK 16C, CK 16D
C36: 17A | O36: Prop. Inter. CK 17B | AN36: Mikrobiologia CL 45, 46, 47, 48 = CN 17A, 17B, 18A, 18B
C37: 17B | O37: Prop. Inter. CK 17C, CK 17D
C38: 18A | H38: Prop. Inter. CK 18A, CK 18B | O38: B | P38: Propedeutyka pediatrii CK 18A, CK 18B
C39: 18B | H39: Prop. Inter. CK 18C, CK 18D
D40: 7:00-8:00 | H40: 8:00-9:00 | L40: 9:00-10:00 | P40: 10:00-11:00 | T40: 11:00-12:00 | X40: 12:00-13:00 | AB40: 13:00-14:00 | AF40: 14:00-15:00 | AJ40: 15:00-16:00 | AN40: 16:00-17:00 | AR40: 17:00-18:00 | AV40: 18:00-19:00 | AZ40: 19:00-20:15
A41: =A4+1 -> 46364 | B41: Wtorek | C41: 1A | H41: Prop. Inter. CK 1A, CK 1B | AB41: Farmakologia i toksykologia CN 1A | AL41: Mikrobiologia CL 1, 3, 4 = CN 1A, 1B, 2A
C42: 1B | AB42: Farmakologia i toksykologia CN 1B
C43: 2A | O43: Prop. Inter. CK 2A, CK 2B | AB43: Farmakologia i toksykologia CN 2A
C44: 2B | O44: Prop. Inter. CK 2C, CK 2D | AB44: Farmakologia i toksykologia CN 2B
C45: 3A | V45: Prop. Inter. CK 3A, CK 3B | AL45: Farmakologia i toksykologia CN 3A
C46: 3B | V46: Prop. Inter. CK 3C, CK 3D | AL46: Farmakologia i toksykologia CN 3B
C47: 4A | AL47: Farmakologia i toksykologia CN 4A
C48: 4B | H48: Mikrobiologia CL 11, 12, 13, 14 = CN 4A, 4B, 5A, 5B, 6A | AL48: Farmakologia i toksykologia CN 4B
C49: 5A | V49: K | W49: Propedeutyka pediatrii CK 5A, CK 5B
C50: 5B | V50: K | W50: Propedeutyka pediatrii CK 5C, CK 5D
C51: 6A | S51: K | T51: Propedeutyka pediatrii CK 6A, CK 6B
C52: 6B | S52: K | T52: Propedeutyka pediatrii CK 6C, CK 6D
C53: 7A
C54: 7B | R54: Mikrobiologia CL 19, 20, 21, 22 = CN 7B, 8A, 8B, 9A
C55: 8A
C56: 8B
C57: 9A | AB57: Mikrobiologia CL 23, 24, 25, 26 = CN 9A, 9B, 10A, 10B
C58: 9B | I58: G | J58: Propedeutyka pediatrii CK 9C
C59: 10A | I59: Patomorfologia SE 10
C60: 10B
C61: 11A | I61: Patomorfologia SE 11
C62: 11B
C63: 12A | I63: Patomorfologia SE 12
C64: 12B
C65: 13A
C66: 13B
C67: 14A | I67: G | J67: Propedeutyka pediatrii CK 14A, CK 14B | BB67: Propedeutyka chorób wew. wykład WY2
C68: 14B | S68: G | T68: Propedeutyka pediatrii CK 14C, CK 14D
C69: 15A | H69: Farmakologia i toksykologia CN 15A
C70: 15B | H70: Farmakologia i toksykologia CN 15B
C71: 16A | H71: Farmakologia i toksykologia CN 16A
C72: 16B | H72: Farmakologia i toksykologia CN 16B
C73: 17A
C74: 17B
C75: 18A
C76: 18B | J76: B | K76: Propedeutyka pediatrii CK 18C, CK 18D
D77: 7:00-8:00 | H77: 8:00-9:00 | L77: 9:00-10:00 | P77: 10:00-11:00 | T77: 11:00-12:00 | X77: 12:00-13:00 | AB77: 13:00-14:00 | AF77: 14:00-15:00 | AJ77: 15:00-16:00 | AN77: 16:00-17:00 | AR77: 17:00-18:00 | AV77: 18:00-19:00 | AZ77: 19:00-20:15
A78: =A4+2 -> 46365 | B78: Środa | C78: 1A | I78: K | J78: Propedeutyka pediatrii CK 1A, CK 1B | AB78: Mikrobiologia CL 2 = CN 1A, 1B | AV78: Patomorfologia wykład WY 1
C79: 1B | I79: K | J79: Propedeutyka pediatrii CK 1C, CK 1D
C80: 2A | S80: K | T80: Propedeutyka pediatrii CK 2A, CK 2B
C81: 2B | S81: K | T81: Propedeutyka pediatrii CK 2C, CK 2D
C82: 3A | S82: K | T82: Propedeutyka pediatrii CK 3A, CK 3B
C83: 3B | S83: K | T83: Propedeutyka pediatrii CK 3C, CK 3D
C84: 4A | I84: Patomorfologia SE 4
C85: 4B
C86: 5A | I86: Patomorfologia SE 5
C87: 5B
C88: 6A | I88: Patomorfologia SE 6
C89: 6B
C90: 7A | V90: Patomorfologia SE 7
C91: 7B
C92: 8A | H92: Prop. Inter. CK 8A, CK 8B | V92: Patomorfologia SE 8
C93: 8B
C94: 9A | V94: Patomorfologia SE 9
C95: 9B
C96: 10A | J96: B | K96: Propedeutyka pediatrii CK 10A, CK 10B
C97: 10B | H97: Mikrobiologia CL 27 = CN 10B, 11A
C98: 11A | AB98: Farmakologia i toksykologia CN 11A
C99: 11B | J99: Prop. Inter. CK 11C | Q99: Prop. Inter. CK 11D | AB99: Farmakologia i toksykologia CN 11B | AL99: Mikrobiologia CL 29, 30, 31, 32 = CN 11B, 12A, 12B
C100: 12A | H100: Prop. Inter. CK 12A, CK 12B | AB100: Farmakologia i toksykologia CN 12A
...

Sheet 12
D1: 7:00-8:00 | H1: 8:00-9:00 | L1: 9:00-10:00 | P1: 10:00-11:00 | T1: 11:00-12:00 | X1: 12:00-13:00 | AB1: 13:00-14:00 | AF1: 14:00-15:00 | AJ1: 15:00-16:00 | AN1: 16:00-17:00 | AR1: 17:00-18:00 | AV1: 18:00-19:00 | AZ1: 19:00-20:00
C2: grupa
D3: 7:00-8:00 | H3: 8:00-9:00 | L3: 9:00-10:00 | P3: 10:00-11:00 | T3: 11:00-12:00 | X3: 12:00-13:00 | AB3: 13:00-14:00 | AF3: 14:00-15:00 | AJ3: 15:00-16:00 | AN3: 16:00-17:00 | AR3: 17:00-18:00 | AV3: 18:00-19:00 | AZ3: 19:00-20:15
A4: ='11'!A4:A39+7 -> 46370 | B4: poniedziałek | C4: 1A | I4: Patomorfologia SE 1 | BB4: Propedeutyka chorób wew. wykład WY1
C5: 1B
C6: 2A | I6: Patomorfologia SE 2
C7: 2B
C8: 3A | I8: Patomorfologia SE 3
C9: 3B
C10: 4A | J10: Mikrobiologia CL 9, 10 = CN 4A, 4B | T10: Propedeutyka stomatologii SE 4
C11: 4B
C12: 5A | AL12: Farmakologia i toksykologia CN 5A
C13: 5B | AL13: Farmakologia i toksykologia CN 5B
C14: 6A | Z14: Mikrobiologia CL 15, 16 = CN 6A, 6B | AL14: Farmakologia i toksykologia CN 6A
C15: 6B | AL15: Farmakologia i toksykologia CN 6B
C16: 7A | P16: Mikrobiologia CL 17, 18 = CN 7A, 7B | AB16: Farmakologia i toksykologia CN 7A
C17: 7B | AB17: Farmakologia i toksykologia CN 7B
C18: 8A | AB18: Farmakologia i toksykologia CN 8A
C19: 8B | AB19: Farmakologia i toksykologia CN 8B
C20: 9A | R20: Farmakologia i toksykologia CN 9A
C21: 9B | R21: Farmakologia i toksykologia CN 9B
C22: 10A | R22: Farmakologia i toksykologia CN 10A
C23: 10B | R23: Farmakologia i toksykologia CN 10B
C24: 11A | J24: Prop. Inter. CK 11A | Q24: Prop. Inter. CK 11B | AA24: Propedeutyka stomatologii SE 11
C25: 11B
C26: 12A
C27: 12B
C28: 13A
C29: 13B
C30: 14A | H30: Propedeutyka chirurgii SE 14 | K30: Propedeutyka chirurgii CS 14A,14B
C31: 14B
C32: 15A
C33: 15B
C34: 16A | O34: Prop. Inter. CK 16A | V34: Prop. Inter. CK 16B
C35: 16B | V35: Prop. Inter. CK 16C, CK 16D
C36: 17A | O36: Prop. Inter. CK 17B | AN36: Mikrobiologia CL 45, 46, 47, 48 = CN 17A, 17B, 18A, 18B
C37: 17B | O37: Prop. Inter. CK 17C, CK 17D
C38: 18A | H38: Prop. Inter. CK 18A, CK 18B
C39: 18B | H39: Prop. Inter. CK 18C, CK 18D
D40: 7:00-8:00 | H40: 8:00-9:00 | L40: 9:00-10:00 | P40: 10:00-11:00 | T40: 11:00-12:00 | X40: 12:00-13:00 | AB40: 13:00-14:00 | AF40: 14:00-15:00 | AJ40: 15:00-16:00 | AN40: 16:00-17:00 | AR40: 17:00-18:00 | AV40: 18:00-19:00 | AZ40: 19:00-20:15
A41: =A4+1 -> 46371 | B41: Wtorek | C41: 1A | H41: Prop. Inter. CK 1A, CK 1B | AB41: Farmakologia i toksykologia CN 1A | AL41: Mikrobiologia CL 1, 3, 4 = CN 1A, 1B, 2A
C42: 1B | AB42: Farmakologia i toksykologia CN 1B
C43: 2A | O43: Prop. Inter. CK 2A, CK 2B | AB43: Farmakologia i toksykologia CN 2A
C44: 2B | O44: Prop. Inter. CK 2C, CK 2D | AB44: Farmakologia i toksykologia CN 2B
C45: 3A | V45: Prop. Inter. CK 3A, CK 3B | AL45: Farmakologia i toksykologia CN 3A
C46: 3B | V46: Prop. Inter. CK 3C, CK 3D | AL46: Farmakologia i toksykologia CN 3B
C47: 4A | AL47: Farmakologia i toksykologia CN 4A
C48: 4B | H48: Mikrobiologia CL 11, 12, 13, 14 = CN 4A, 4B, 5A, 5B, 6A | AL48: Farmakologia i toksykologia CN 4B
C49: 5A | V49: K | W49: Propedeutyka pediatrii CK 5A, CK 5B
C50: 5B | V50: K | W50: Propedeutyka pediatrii CK 5C, CK 5D
C51: 6A | S51: K | T51: Propedeutyka pediatrii CK 6A, CK 6B
C52: 6B | S52: K | T52: Propedeutyka pediatrii CK 6C, CK 6D
C53: 7A
C54: 7B | R54: Mikrobiologia CL 19, 20, 21, 22 = CN 7B, 8A, 8B, 9A
C55: 8A
C56: 8B
C57: 9A | AB57: Mikrobiologia CL 23, 24, 25, 26 = CN 9A, 9B, 10A, 10B
C58: 9B | I58: G | J58: Propedeutyka pediatrii CK 9C
C59: 10A | I59: Patomorfologia SE 10
C60: 10B
C61: 11A | I61: Patomorfologia SE 11
C62: 11B
C63: 12A | I63: Patomorfologia SE 12
C64: 12B
C65: 13A
C66: 13B
C67: 14A | I67: G | J67: Propedeutyka pediatrii CK 14A, CK 14B | BB67: Propedeutyka chorób wew. wykład WY2
C68: 14B | S68: G | T68: Propedeutyka pediatrii CK 14C, CK 14D
C69: 15A | H69: Farmakologia i toksykologia CN 15A
C70: 15B | H70: Farmakologia i toksykologia CN 15B
C71: 16A | H71: Farmakologia i toksykologia CN 16A
C72: 16B | H72: Farmakologia i toksykologia CN 16B
C73: 17A
C74: 17B
C75: 18A
C76: 18B | J76: B | K76: Propedeutyka pediatrii CK 18C, CK 18D
D77: 7:00-8:00 | H77: 8:00-9:00 | L77: 9:00-10:00 | P77: 10:00-11:00 | T77: 11:00-12:00 | X77: 12:00-13:00 | AB77: 13:00-14:00 | AF77: 14:00-15:00 | AJ77: 15:00-16:00 | AN77: 16:00-17:00 | AR77: 17:00-18:00 | AV77: 18:00-19:00 | AZ77: 19:00-20:15
A78: =A4+2 -> 46372 | B78: Środa | C78: 1A | I78: K | J78: Propedeutyka pediatrii CK 1A, CK 1B | AB78: Mikrobiologia CL 2 = CN 1A, 1B | AV78: Patomorfologia wykład WY 1
C79: 1B | I79: K | J79: Propedeutyka pediatrii CK 1C, CK 1D
C80: 2A | S80: K | T80: Propedeutyka pediatrii CK 2A, CK 2B
C81: 2B | S81: K | T81: Propedeutyka pediatrii CK 2C, CK 2D
C82: 3A | S82: K | T82: Propedeutyka pediatrii CK 3A, CK 3B
C83: 3B | S83: K | T83: Propedeutyka pediatrii CK 3C, CK 3D
C84: 4A | I84: Patomorfologia SE 4
C85: 4B
C86: 5A | I86: Patomorfologia SE 5
C87: 5B
C88: 6A | I88: Patomorfologia SE 6
C89: 6B
C90: 7A | V90: Patomorfologia SE 7
C91: 7B
C92: 8A | H92: Prop. Inter. CK 8A, CK 8B | V92: Patomorfologia SE 8
C93: 8B
C94: 9A | L94: Propedeutyka stomatologii SE 9 | V94: Patomorfologia SE 9
C95: 9B
C96: 10A | T96: Propedeutyka stomatologii SE 10
C97: 10B | H97: Mikrobiologia CL 27 = CN 10B, 11A
C98: 11A | AB98: Farmakologia i toksykologia CN 11A
C99: 11B | J99: Prop. Inter. CK 11C | Q99: Prop. Inter. CK 11D | AB99: Farmakologia i toksykologia CN 11B | AL99: Mikrobiologia CL 29, 30, 31, 32 = CN 11B, 12A, 12B
C100: 12A | H100: Prop. Inter. CK 12A, CK 12B | AB100: Farmakologia i toksykologia CN 12A
...

Sheet 13
D1: 7:00-8:00 | H1: 8:00-9:00 | L1: 9:00-10:00 | P1: 10:00-11:00 | T1: 11:00-12:00 | X1: 12:00-13:00 | AB1: 13:00-14:00 | AF1: 14:00-15:00 | AJ1: 15:00-16:00 | AN1: 16:00-17:00 | AR1: 17:00-18:00 | AV1: 18:00-19:00 | AZ1: 19:00-20:00
C2: grupa
D3: 7:00-8:00 | H3: 8:00-9:00 | L3: 9:00-10:00 | P3: 10:00-11:00 | T3: 11:00-12:00 | X3: 12:00-13:00 | AB3: 13:00-14:00 | AF3: 14:00-15:00 | AJ3: 15:00-16:00 | AN3: 16:00-17:00 | AR3: 17:00-18:00 | AV3: 18:00-19:00 | AZ3: 19:00-20:15
A4: ='12'!A4:A39+21 -> 46391 | B4: poniedziałek | C4: 1A | I4: Patomorfologia SE 1 | BB4: Propedeutyka chorób wew. wykład WY1
C5: 1B
C6: 2A | I6: Patomorfologia SE 2
C7: 2B
C8: 3A | I8: Patomorfologia SE 3
C9: 3B
C10: 4A | T10: Propedeutyka stomatologii SE 4
C11: 4B
C12: 5A | AL12: Farmakologia i toksykologia CN 5A
C13: 5B | AL13: Farmakologia i toksykologia CN 5B
C14: 6A | AL14: Farmakologia i toksykologia CN 6A
C15: 6B | AL15: Farmakologia i toksykologia CN 6B
C16: 7A | AB16: Farmakologia i toksykologia CN 7A
C17: 7B | AB17: Farmakologia i toksykologia CN 7B
C18: 8A | AB18: Farmakologia i toksykologia CN 8A
C19: 8B | AB19: Farmakologia i toksykologia CN 8B
C20: 9A | R20: Farmakologia i toksykologia CN 9A
C21: 9B | R21: Farmakologia i toksykologia CN 9B
C22: 10A | R22: Farmakologia i toksykologia CN 10A
C23: 10B | R23: Farmakologia i toksykologia CN 10B
C24: 11A | J24: Propedeutyka stomatologii SE 11
C25: 11B
C26: 12A | J26: Prop. Inter.SE 12
C27: 12B
C28: 13A
C29: 13B
C30: 14A | T30: Prop. Inter.SE 14
C31: 14B
C32: 15A | T32: Prop. Inter.SE 15
C33: 15B
C34: 16A | AB34: Propedeutyka chirurgii SE 16 | AH34: Propedeutyka chirurgii CS 16A,16B
C35: 16B
C36: 17A
C37: 17B
C38: 18A
C39: 18B
D40: 7:00-8:00 | H40: 8:00-9:00 | L40: 9:00-10:00 | P40: 10:00-11:00 | T40: 11:00-12:00 | X40: 12:00-13:00 | AB40: 13:00-14:00 | AF40: 14:00-15:00 | AJ40: 15:00-16:00 | AN40: 16:00-17:00 | AR40: 17:00-18:00 | AV40: 18:00-19:00 | AZ40: 19:00-20:15
A41: =A4+1 -> 46392 | B41: Wtorek | C41: 1A | H41: Prop. Inter. CK 1A, CK 1B | AB41: Farmakologia i toksykologia CN 1A
C42: 1B | AB42: Farmakologia i toksykologia CN 1B
C43: 2A | O43: Prop. Inter. CK 2A, CK 2B | AB43: Farmakologia i toksykologia CN 2A
C44: 2B | O44: Prop. Inter. CK 2C, CK 2D | AB44: Farmakologia i toksykologia CN 2B
C45: 3A | V45: Prop. Inter. CK 3A, CK 3B | AL45: Farmakologia i toksykologia CN 3A
C46: 3B | V46: Prop. Inter. CK 3C, CK 3D | AL46: Farmakologia i toksykologia CN 3B
C47: 4A | AL47: Farmakologia i toksykologia CN 4A
C48: 4B | AL48: Farmakologia i toksykologia CN 4B
C49: 5A
C50: 5B
C51: 6A
C52: 6B
C53: 7A | AD53: Propedeutyka chirurgii SE 7 | AJ53: Propedeutyka chirurgii CS 7A,7B
C54: 7B
C55: 8A
C56: 8B
C57: 9A | J57: Propedeutyka stomatologii SE 9
C58: 9B
C59: 10A | I59: Patomorfologia SE 10
C60: 10B
C61: 11A | I61: Patomorfologia SE 11
C62: 11B
C63: 12A | I63: Patomorfologia SE 12
C64: 12B
C65: 13A
C66: 13B
C67: 14A | BB67: Propedeutyka chorób wew. wykład WY2
C68: 14B
C69: 15A | H69: Farmakologia i toksykologia CN 15A
C70: 15B | H70: Farmakologia i toksykologia CN 15B
C71: 16A | H71: Farmakologia i toksykologia CN 16A
C72: 16B | H72: Farmakologia i toksykologia CN 16B
C73: 17A
C74: 17B
C75: 18A
C76: 18B
D77: 7:00-8:00 | H77: 8:00-9:00 | L77: 9:00-10:00 | P77: 10:00-11:00 | T77: 11:00-12:00 | X77: 12:00-13:00 | AB77: 13:00-14:00 | AF77: 14:00-15:00 | AJ77: 15:00-16:00 | AN77: 16:00-17:00 | AR77: 17:00-18:00 | AV77: 18:00-19:00 | AZ77: 19:00-20:15
A78: =A4+2 -> 46393 | B78: Środa | C78: 1A
C79: 1B
C80: 2A
C81: 2B
C82: 3A
C83: 3B
C84: 4A
C85: 4B
C86: 5A
C87: 5B
C88: 6A
C89: 6B
C90: 7A
... C113: 18B
D114: 7:00-8:00 | H114: 8:00-9:00 | L114: 9:00-10:00 | P114: 10:00-11:00 | T114: 11:00-12:00 | X114: 12:00-13:00 | AB114: 13:00-14:00 | AF114: 14:00-15:00 | AJ114: 15:00-16:00 | AN114: 16:00-17:00 | AR114: 17:00-18:00 | AV114: 18:00-19:00 | AZ114: 19:00-20:00
A115: =A4+3 -> 46394 | B115: czwartek | C115: 1A | AO115: Farmakologia i toksykologia wykład WY1
C116: 1B
C117: 2A
C118: 2B
C119: 3A
C120: 3B
C121: 4A
C122: 4B
...

Sheet 14
D1: 7:00-8:00 | H1: 8:00-9:00 | L1: 9:00-10:00 | P1: 10:00-11:00 | T1: 11:00-12:00 | X1: 12:00-13:00 | AB1: 13:00-14:00 | AF1: 14:00-15:00 | AJ1: 15:00-16:00 | AN1: 16:00-17:00 | AR1: 17:00-18:00 | AV1: 18:00-19:00 | AZ1: 19:00-20:00
C2: grupa
D3: 7:00-8:00 | H3: 8:00-9:00 | L3: 9:00-10:00 | P3: 10:00-11:00 | T3: 11:00-12:00 | X3: 12:00-13:00 | AB3: 13:00-14:00 | AF3: 14:00-15:00 | AJ3: 15:00-16:00 | AN3: 16:00-17:00 | AR3: 17:00-18:00 | AV3: 18:00-19:00 | AZ3: 19:00-20:00
A4: ='13'!A4:A39+7 -> 46398 | B4: poniedziałek | C4: 1A | I4: Patomorfologia SE 1
C5: 1B
C6: 2A | I6: Patomorfologia SE 2
C7: 2B
C8: 3A | I8: Patomorfologia SE 3
C9: 3B
C10: 4A | T10: Propedeutyka stomatologii CN 4A, 4B
C11: 4B
C12: 5A | AL12: Farmakologia i toksykologia CN 5A
C13: 5B | AL13: Farmakologia i toksykologia CN 5B
C14: 6A | AL14: Farmakologia i toksykologia CN 6A
C15: 6B | AL15: Farmakologia i toksykologia CN 6B
C16: 7A | AB16: Farmakologia i toksykologia CN 7A
C17: 7B | AB17: Farmakologia i toksykologia CN 7B
C18: 8A | AB18: Farmakologia i toksykologia CN 8A
C19: 8B | AB19: Farmakologia i toksykologia CN 8B
C20: 9A | R20: Farmakologia i toksykologia CN 9A | AG20: Propedeutyka pediatrii SE 9
C21: 9B | R21: Farmakologia i toksykologia CN 9B
C22: 10A | R22: Farmakologia i toksykologia CN 10A
C23: 10B | R23: Farmakologia i toksykologia CN 10B
C24: 11A | H24: Propedeutyka stomatologii CN 11A, 11B
C25: 11B
C26: 12A | J26: Prop. Inter.SE 12
C27: 12B
C28: 13A
C29: 13B
C30: 14A | T30: Prop. Inter.SE 14
C31: 14B
C32: 15A | T32: Prop. Inter.SE 15
C33: 15B
C34: 16A
C35: 16B
C36: 17A
C37: 17B
C38: 18A
C39: 18B
D40: 7:00-8:00 | H40: 8:00-9:00 | L40: 9:00-10:00 | P40: 10:00-11:00 | T40: 11:00-12:00 | X40: 12:00-13:00 | AB40: 13:00-14:00 | AF40: 14:00-15:00 | AJ40: 15:00-16:00 | AN40: 16:00-17:00 | AR40: 17:00-18:00 | AV40: 18:00-19:00 | AZ40: 19:00-20:00
A41: =A4+1 -> 46399 | B41: Wtorek | C41: 1A | AB41: Farmakologia i toksykologia CN 1A
C42: 1B | AB42: Farmakologia i toksykologia CN 1B
C43: 2A | AB43: Farmakologia i toksykologia CN 2A
C44: 2B | AB44: Farmakologia i toksykologia CN 2B
C45: 3A | AL45: Farmakologia i toksykologia CN 3A
C46: 3B | AL46: Farmakologia i toksykologia CN 3B
C47: 4A | T47: Prop. Inter.SE 4 | AL47: Farmakologia i toksykologia CN 4A
C48: 4B | AL48: Farmakologia i toksykologia CN 4B
C49: 5A | T49: Prop. Inter.SE 5
C50: 5B
C51: 6A | J51: Prop. Inter.SE 6
C52: 6B
C53: 7A | J53: Prop. Inter.SE 7
C54: 7B
C55: 8A | P55: Propedeutyka chirurgii SE 8 | S55: Propedeutyka chirurgii CS 8A,8B
C56: 8B
C57: 9A | H57: Propedeutyka stomatologii CN 9A, 9B
C58: 9B
C59: 10A | I59: Patomorfologia SE 10
C60: 10B
C61: 11A | I61: Patomorfologia SE 11
C62: 11B
C63: 12A | I63: Patomorfologia SE 12
C64: 12B
C65: 13A
C66: 13B
C67: 14A | AG67: Propedeutyka pediatrii SE 14 | BB67: Propedeutyka chorób wew. wykład WY2
C68: 14B
C69: 15A | H69: Farmakologia i toksykologia CN 15A
C70: 15B | H70: Farmakologia i toksykologia CN 15B
C71: 16A | H71: Farmakologia i toksykologia CN 16A
C72: 16B | H72: Farmakologia i toksykologia CN 16B
C73: 17A
C74: 17B
C75: 18A
C76: 18B
D77: 7:00-8:00 | H77: 8:00-9:00 | L77: 9:00-10:00 | P77: 10:00-11:00 | T77: 11:00-12:00 | X77: 12:00-13:00 | AB77: 13:00-14:00 | AF77: 14:00-15:00 | AJ77: 15:00-16:00 | AN77: 16:00-17:00 | AR77: 17:00-18:00 | AV77: 18:00-19:00 | AZ77: 19:00-20:15
A78: =A4+2 -> 46400 | B78: Środa | C78: 1A | AV78: Patomorfologia wykład WY 1
C79: 1B
C80: 2A
C81: 2B
C82: 3A | T82: Propedeutyka pediatrii SE 3
C83: 3B
C84: 4A | I84: Patomorfologia SE 4 | AG84: Propedeutyka pediatrii SE 4
C85: 4B
C86: 5A | I86: Patomorfologia SE 5
C87: 5B
C88: 6A | I88: Patomorfologia SE 6
C89: 6B
C90: 7A | V90: Patomorfologia SE 7
C91: 7B
C92: 8A | V92: Patomorfologia SE 8
C93: 8B
C94: 9A | V94: Patomorfologia SE 9
C95: 9B
C96: 10A | T96: Propedeutyka stomatologii CN 10A, 10B
C97: 10B
C98: 11A | AB98: Farmakologia i toksykologia CN 11A
C99: 11B | AB99: Farmakologia i toksykologia CN 11B
C100: 12A | AB100: Farmakologia i toksykologia CN 12A
...

Sheet 15
D1: 7:00-8:00 | H1: 8:00-9:00 | L1: 9:00-10:00 | P1: 10:00-11:00 | T1: 11:00-12:00 | X1: 12:00-13:00 | AB1: 13:00-14:00 | AF1: 14:00-15:00 | AJ1: 15:00-16:00 | AN1: 16:00-17:00 | AR1: 17:00-18:00 | AV1: 18:00-19:00 | AZ1: 19:00-20:00
C2: grupa
D3: 7:00-8:00 | H3: 8:00-9:00 | L3: 9:00-10:00 | P3: 10:00-11:00 | T3: 11:00-12:00 | X3: 12:00-13:00 | AB3: 13:00-14:00 | AF3: 14:00-15:00 | AJ3: 15:00-16:00 | AN3: 16:00-17:00 | AR3: 17:00-18:00 | AV3: 18:00-19:00 | AZ3: 19:00-20:00
A4: ='14'!A4:A39+7 -> 46405 | B4: poniedziałek | C4: 1A | I4: Patomorfologia SE 1
C5: 1B
C6: 2A | I6: Patomorfologia SE 2
C7: 2B
C8: 3A | I8: Patomorfologia SE 3
C9: 3B
C10: 4A | T10: Propedeutyka stomatologii CN 4A, 4B
C11: 4B
C12: 5A | AL12: Farmakologia i toksykologia CN 5A
C13: 5B | AL13: Farmakologia i toksykologia CN 5B
C14: 6A | AL14: Farmakologia i toksykologia CN 6A
C15: 6B | AL15: Farmakologia i toksykologia CN 6B
C16: 7A | AB16: Farmakologia i toksykologia CN 7A
C17: 7B | AB17: Farmakologia i toksykologia CN 7B
C18: 8A | AB18: Farmakologia i toksykologia CN 8A
C19: 8B | AB19: Farmakologia i toksykologia CN 8B
C20: 9A | R20: Farmakologia i toksykologia CN 9A
C21: 9B | R21: Farmakologia i toksykologia CN 9B
C22: 10A | R22: Farmakologia i toksykologia CN 10A
C23: 10B | R23: Farmakologia i toksykologia CN 10B
C24: 11A | J24: Propedeutyka stomatologii CN 11A, 11B
C25: 11B
C26: 12A
C27: 12B
C28: 13A
C29: 13B
C30: 14A | X30: Propedeutyka chirurgii SE 14 | AD30: Propedeutyka chirurgii CS 14A,14B
C31: 14B
C32: 15A | T32: Propedeutyka pediatrii SE 15
C33: 15B
C34: 16A | AG34: Propedeutyka pediatrii SE 16
C35: 16B
C36: 17A
C37: 17B
C38: 18A
C39: 18B
D40: 7:00-8:00 | H40: 8:00-9:00 | L40: 9:00-10:00 | P40: 10:00-11:00 | T40: 11:00-12:00 | X40: 12:00-13:00 | AB40: 13:00-14:00 | AF40: 14:00-15:00 | AJ40: 15:00-16:00 | AN40: 16:00-17:00 | AR40: 17:00-18:00 | AV40: 18:00-19:00 | AZ40: 19:00-20:00
A41: =A4+1 -> 46406 | B41: Wtorek | C41: 1A | AB41: Farmakologia i toksykologia CN 1A
C42: 1B | AB42: Farmakologia i toksykologia CN 1B
C43: 2A | AB43: Farmakologia i toksykologia CN 2A
C44: 2B | AB44: Farmakologia i toksykologia CN 2B
C45: 3A | AL45: Farmakologia i toksykologia CN 3A
C46: 3B | AL46: Farmakologia i toksykologia CN 3B
C47: 4A | T47: Prop. Inter.SE 4 | AL47: Farmakologia i toksykologia CN 4A
C48: 4B | AL48: Farmakologia i toksykologia CN 4B
C49: 5A | T49: Prop. Inter.SE 5
C50: 5B
C51: 6A | J51: Prop. Inter.SE 6
C52: 6B
C53: 7A | J53: Prop. Inter.SE 7
C54: 7B
C55: 8A
C56: 8B
C57: 9A | J57: Propedeutyka stomatologii CN 9A, 9B
C58: 9B
C59: 10A | I59: Patomorfologia SE 10
C60: 10B
C61: 11A | I61: Patomorfologia SE 11
C62: 11B
C63: 12A | I63: Patomorfologia SE 12
C64: 12B
C65: 13A
C66: 13B
C67: 14A
C68: 14B
C69: 15A | H69: Farmakologia i toksykologia CN 15A | R69: Propedeutyka chirurgii SE 15 | X69: Propedeutyka chirurgii CS 15A,15B
C70: 15B | H70: Farmakologia i toksykologia CN 15B
C71: 16A | H71: Farmakologia i toksykologia CN 16A
C72: 16B | H72: Farmakologia i toksykologia CN 16B
C73: 17A | T73: Propedeutyka pediatrii SE 17
C74: 17B
C75: 18A | AG75: Propedeutyka pediatrii SE 18
C76: 18B
D77: 7:00-8:00 | H77: 8:00-9:00 | L77: 9:00-10:00 | P77: 10:00-11:00 | T77: 11:00-12:00 | X77: 12:00-13:00 | AB77: 13:00-14:00 | AF77: 14:00-15:00 | AJ77: 15:00-16:00 | AN77: 16:00-17:00 | AR77: 17:00-18:00 | AV77: 18:00-19:00 | AZ77: 19:00-20:00
A78: =A4+2 -> 46407 | B78: Środa | C78: 1A | T78: Propedeutyka pediatrii SE 1 | AV78: Patomorfologia wykład WY 1
C79: 1B
C80: 2A | AG80: Propedeutyka pediatrii SE 2
C81: 2B
C82: 3A
C83: 3B
C84: 4A | I84: Patomorfologia SE 4
C85: 4B
C86: 5A | I86: Patomorfologia SE 5
C87: 5B
C88: 6A | I88: Patomorfologia SE 6
C89: 6B
C90: 7A | V90: Patomorfologia SE 7
C91: 7B
C92: 8A | V92: Patomorfologia SE 8
C93: 8B
C94: 9A | V94: Patomorfologia SE 9
C95: 9B
C96: 10A | T96: Propedeutyka stomatologii CN 10A, 10B
C97: 10B
C98: 11A | AB98: Farmakologia i toksykologia CN 11A
C99: 11B | AB99: Farmakologia i toksykologia CN 11B
C100: 12A | AB100: Farmakologia i toksykologia CN 12A
...

Sheet 16
D1: 7:00-8:00 | H1: 8:00-9:00 | L1: 9:00-10:00 | P1: 10:00-11:00 | T1: 11:00-12:00 | X1: 12:00-13:00 | AB1: 13:00-14:00 | AF1: 14:00-15:00 | AJ1: 15:00-16:00 | AN1: 16:00-17:00 | AR1: 17:00-18:00 | AV1: 18:00-19:00 | AZ1: 19:00-20:00
C2: grupa
D3: 7:00-8:00 | H3: 8:00-9:00 | L3: 9:00-10:00 | P3: 10:00-11:00 | T3: 11:00-12:00 | X3: 12:00-13:00 | AB3: 13:00-14:00 | AF3: 14:00-15:00 | AJ3: 15:00-16:00 | AN3: 16:00-17:00 | AR3: 17:00-18:00 | AV3: 18:00-19:00 | AZ3: 19:00-20:00
A4: ='15'!A4:A39+7 -> 46412 | B4: poniedziałek | C4: 1A
C5: 1B
C6: 2A
C7: 2B
C8: 3A
C9: 3B
C10: 4A | T10: Propedeutyka stomatologii CN 4A, 4B
C11: 4B
C12: 5A | AL12: Farmakologia i toksykologia CN 5A
C13: 5B | AL13: Farmakologia i toksykologia CN 5B
C14: 6A | AL14: Farmakologia i toksykologia CN 6A
C15: 6B | AL15: Farmakologia i toksykologia CN 6B
C16: 7A | AB16: Farmakologia i toksykologia CN 7A
C17: 7B | AB17: Farmakologia i toksykologia CN 7B
C18: 8A | AB18: Farmakologia i toksykologia CN 8A
C19: 8B | AB19: Farmakologia i toksykologia CN 8B
C20: 9A | R20: Farmakologia i toksykologia CN 9A
C21: 9B | R21: Farmakologia i toksykologia CN 9B
C22: 10A | R22: Farmakologia i toksykologia CN 10A | AG22: Propedeutyka pediatrii SE 10
C23: 10B | R23: Farmakologia i toksykologia CN 10B
C24: 11A | J24: Propedeutyka stomatologii CN 11A, 11B
C25: 11B
C26: 12A
C27: 12B
C28: 13A
C29: 13B
C30: 14A | R30: Propedeutyka chirurgii SE 14 | X30: Propedeutyka chirurgii CS 14A,14B
C31: 14B
C32: 15A
C33: 15B
C34: 16A
C35: 16B
C36: 17A
C37: 17B
C38: 18A
C39: 18B
D40: 7:00-8:00 | H40: 8:00-9:00 | L40: 9:00-10:00 | P40: 10:00-11:00 | T40: 11:00-12:00 | X40: 12:00-13:00 | AB40: 13:00-14:00 | AF40: 14:00-15:00 | AJ40: 15:00-16:00 | AN40: 16:00-17:00 | AR40: 17:00-18:00 | AV40: 18:00-19:00 | AZ40: 19:00-20:00
A41: =A4+1 -> 46413 | B41: Wtorek | C41: 1A | AB41: Farmakologia i toksykologia CN 1A
C42: 1B | AB42: Farmakologia i toksykologia CN 1B
C43: 2A | AB43: Farmakologia i toksykologia CN 2A
C44: 2B | AB44: Farmakologia i toksykologia CN 2B
C45: 3A | AL45: Farmakologia i toksykologia CN 3A
C46: 3B | AL46: Farmakologia i toksykologia CN 3B
C47: 4A | AL47: Farmakologia i toksykologia CN 4A
C48: 4B | AL48: Farmakologia i toksykologia CN 4B
C49: 5A
C50: 5B
C51: 6A
C52: 6B
C53: 7A | T53: Propedeutyka pediatrii SE 7
C54: 7B
C55: 8A | AG55: Propedeutyka pediatrii SE 8
C56: 8B
C57: 9A | J57: Propedeutyka stomatologii CN 9A, 9B
C58: 9B
C59: 10A | I59: Patomorfologia SE 10
C60: 10B
C61: 11A | I61: Patomorfologia SE 11
C62: 11B
C63: 12A | I63: Patomorfologia SE 12
C64: 12B
C65: 13A
C66: 13B
C67: 14A
C68: 14B
C69: 15A | H69: Farmakologia i toksykologia CN 15A
C70: 15B | H70: Farmakologia i toksykologia CN 15B
C71: 16A | H71: Farmakologia i toksykologia CN 16A
C72: 16B | H72: Farmakologia i toksykologia CN 16B
C73: 17A
C74: 17B
C75: 18A
C76: 18B
D77: 7:00-8:00 | H77: 8:00-9:00 | L77: 9:00-10:00 | P77: 10:00-11:00 | T77: 11:00-12:00 | X77: 12:00-13:00 | AB77: 13:00-14:00 | AF77: 14:00-15:00 | AJ77: 15:00-16:00 | AN77: 16:00-17:00 | AR77: 17:00-18:00 | AV77: 18:00-19:00 | AZ77: 19:00-20:00
A78: =A4+2 -> 46414 | B78: Środa | C78: 1A | AV78: Patomorfologia wykład WY 1
C79: 1B
C80: 2A
C81: 2B
C82: 3A
C83: 3B
C84: 4A
C85: 4B
C86: 5A
C87: 5B
C88: 6A
C89: 6B
C90: 7A
C91: 7B
C92: 8A | R92: Propedeutyka chirurgii SE 8 | X92: Propedeutyka chirurgii CS 8A,8B
C93: 8B
C94: 9A
C95: 9B
C96: 10A | T96: Propedeutyka stomatologii CN 10A, 10B
C97: 10B
C98: 11A | AB98: Farmakologia i toksykologia CN 11A
C99: 11B | AB99: Farmakologia i toksykologia CN 11B
C100: 12A | AB100: Farmakologia i toksykologia CN 12A
...

Sheet 17
D1: 7:00-8:00 | H1: 8:00-9:00 | L1: 9:00-10:00 | P1: 10:00-11:00 | T1: 11:00-12:00 | X1: 12:00-13:00 | AB1: 13:00-14:00 | AF1: 14:00-15:00 | AJ1: 15:00-16:00 | AN1: 16:00-17:00 | AR1: 17:00-18:00 | AV1: 18:00-19:00 | AZ1: 19:00-20:00
C2: grupa
D3: 7:00-8:00 | H3: 8:00-9:00 | L3: 9:00-10:00 | P3: 10:00-11:00 | T3: 11:00-12:00 | X3: 12:00-13:00 | AB3: 13:00-14:00 | AF3: 14:00-15:00 | AJ3: 15:00-16:00 | AN3: 16:00-17:00 | AR3: 17:00-18:00 | AV3: 18:00-19:00 | AZ3: 19:00-20:00
A4: ='16'!A4:A39+7 -> 46419 | B4: poniedziałek (zajęcia z wtorku) | C4: 1A | AB4: Farmakologia i toksykologia CN 1A
C5: 1B | AB5: Farmakologia i toksykologia CN 1B
C6: 2A | AB6: Farmakologia i toksykologia CN 2A
C7: 2B | AB7: Farmakologia i toksykologia CN 2B
C8: 3A | AL8: Farmakologia i toksykologia CN 3A
C9: 3B | AL9: Farmakologia i toksykologia CN 3B
C10: 4A | AL10: Farmakologia i toksykologia CN 4A
C11: 4B | AL11: Farmakologia i toksykologia CN 4B
C12: 5A
C13: 5B
C14: 6A
C15: 6B
C16: 7A
C17: 7B
C18: 8A
C19: 8B
C20: 9A
C21: 9B
C22: 10A
C23: 10B
... C35: 16B
C36: 17A | H36: Farmakologia i toksykologia CN 17A
C37: 17B | H37: Farmakologia i toksykologia CN 17B
C38: 18A | H38: Farmakologia i toksykologia CN 18A
C39: 18B | H39: Farmakologia i toksykologia CN 18B
D40: 7:00-8:00 | H40: 8:00-9:00 | L40: 9:00-10:00 | P40: 10:00-11:00 | T40: 11:00-12:00 | X40: 12:00-13:00 | AB40: 13:00-14:00 | AF40: 14:00-15:00 | AJ40: 15:00-16:00 | AN40: 16:00-17:00 | AR40: 17:00-18:00 | AV40: 18:00-19:00 | AZ40: 19:00-20:00
A41: =A4+1 -> 46420 | B41: Wtorek | C41: 1A
C42: 1B
C43: 2A
C44: 2B
C45: 3A
C46: 3B
C47: 4A
C48: 4B
C49: 5A
C50: 5B
C51: 6A
C52: 6B
C53: 7A
... C76: 18B
D77: 7:00-8:00 | H77: 8:00-9:00 | L77: 9:00-10:00 | P77: 10:00-11:00 | T77: 11:00-12:00 | X77: 12:00-13:00 | AB77: 13:00-14:00 | AF77: 14:00-15:00 | AJ77: 15:00-16:00 | AN77: 16:00-17:00 | AR77: 17:00-18:00 | AV77: 18:00-19:00 | AZ77: 19:00-20:00
A78: =A4+2 -> 46421 | B78: Środa | C78: 1A
C79: 1B
C80: 2A
C81: 2B
C82: 3A
C83: 3B
C84: 4A
C85: 4B
C86: 5A
C87: 5B
C88: 6A
C89: 6B
C90: 7A
... C113: 18B
D114: 7:00-8:00 | H114: 8:00-9:00 | L114: 9:00-10:00 | P114: 10:00-11:00 | T114: 11:00-12:00 | X114: 12:00-13:00 | AB114: 13:00-14:00 | AF114: 14:00-15:00 | AJ114: 15:00-16:00 | AN114: 16:00-17:00 | AR114: 17:00-18:00 | AV114: 18:00-19:00 | AZ114: 19:00-20:00
A115: =A4+3 -> 46422 | B115: czwartek | C115: 1A
C116: 1B
C117: 2A
C118: 2B
C119: 3A
C120: 3B
C121: 4A
C122: 4B
C123: 5A
C124: 5B
C125: 6A
C126: 6B
C127: 7A
... C150: 18B
D151: 7:00-8:00 | H151: 8:00-9:00 | L151: 9:00-10:00 | P151: 10:00-11:00 | T151: 11:00-12:00 | X151: 12:00-13:00 | AB151: 13:00-14:00 | AF151: 14:00-15:00 | AJ151: 15:00-16:00 | AN151: 16:00-17:00 | AR151: 17:00-18:00 | AV151: 18:00-19:00 | AZ151: 19:00-20:00
A152: =A4+4 -> 46423 | B152: piątek | C152: 1A
C153: 1B
C154: 2A
C155: 2B
C156: 3A
C157: 3B
C158: 4A
C159: 4B
C160: 5A
C161: 5B
C162: 6A
C163: 6B
C164: 7A
... C187: 18B
D188: 7:00-8:00 | H188: 8:00-9:00 | L188: 9:00-10:00 | P188: 10:00-11:00 | T188: 11:00-12:00 | X188: 12:00-13:00 | AB188: 13:00-14:00 | AF188: 14:00-15:00 | AJ188: 15:00-16:00 | AN188: 16:00-17:00 | AR188: 17:00-18:00 | AV188: 18:00-19:00 | AZ188: 19:00-20:00
