Workbook

Sheet Psychologia
F5: Wydział | G5: Wydział Nauk o Zdrowiu
F6: Kierunek | G6: Psychologia | AI6: Szczegółowy Program Studiów dla cyklu kształcenia rozpoczynającego się w roku akademickim: 20../20..
F7: Cykl kształcenia | G7: 2025/2026-2029/2030 | AJ7: uchwała Senatu nr…. z dnia …..202….
F8: Poziom kształcenia | G8: studia jednolite magisterskie | AR8: Uniwersytetu Medycznego we Wrocławiu
F9: Profil kształcenia | G9: praktyczny/ogólnoakademicki | AR9: z dnia …..20.. r.
F10: Forma studiów | G10: stacjonarne
F11: Liczba semestrów | G11: 10
F12: Łączna liczba godzin
F13: Łączna liczba ECTS | G13: 300
A15: Lp. | B15: Cykl kształcenia (nabór) | C15: Ścieżka** | D15: Rok studiów | E15: Rok akademicki | F15: Rodzaj zajęć*** (RPS, POW, PSW) | G15: Przedmiot (nazwa) | H15: Czy przedmiot humanistyczny lub społeczny | I15: Czy zajęcia kształtują umiejętności praktyczne | J15: łącznie dla przedmiotu | S15: semestr zimowy - I | AO15: semestr letni - II
J16: SUMA GODZIN PRZEDMIOTU | N16: SUMA PUNKTÓW ECTS ZA PRZEDMIOT | R16: forma zakończenia przedmiotu ***** | S16: forma zakończenia semestru ****** | T16: punkty ECTS w semestrze | U16: nakład pracy studenta (godz. dyd. + samodzielna praca) | V16: ogólna liczba godzin dydaktycznych | W16: liczba godzin z nauczycielem | X16: wykład (WY) | Z16: seminarium (SE) | AA16: ćwiczenia audytoryjne (CA) | AB16: ćwiczenia kierunkowe - niekliniczne (CN) | AC16: ćwiczenia w warunkach symulowanych (CS)******* | AF16: ćwiczenia laboratoryjne (CL) | AG16: ćwiczenia kliniczne (CK) | AH16: zajęcia praktyczne przy pacjencie (PP) | AI16: ćwiczenia specjalistyczne - magisterskie (CM) | AJ16: lektoraty (LE) | AK16: e-learning (EL) | AL16: zajęcia wychowania fizycznego (WF) | AM16: praktyka zawodowa (PZ) | AN16: samodzielna praca studenta | AO16: forma zakończenia semestru ****** | AP16: punkty ECTS w semestrze | AQ16: całkowity nakład pracy studenta | AR16: ogólna liczba godzin dydaktycznych | AS16: liczba godzin z nauczycielem | AT16: wykład (WY) | AV16: seminarium (SE) | AW16: ćwiczenia audytoryjne CA) | AX16: ćwiczenia kierunkowe - niekliniczne (CN) | AY16: ćwiczenia w warunkach symulowanych (CS)******* | BB16: ćwiczenia laboratoryjne (CL) | BC16: ćwiczenia kliniczne (CK) | BD16: zajęcia praktyczne przy pacjencie (PP) | BE16: ćwiczenia specjalistyczne - magisterskie (CM) | BF16: lektoraty (LE) | BG16: e-learning (EL) | BH16: zajęcia wychowania fizycznego (WF) | BI16: praktyka zawodowa (PZ) | BJ16: samodzielna praca studenta
J17: NAKŁAD PRACY STUDENTA (godz. dyd. + samodzielna praca) | K17: SAMODZIELNA PRACA STUDENTA | L17: GODZINY DYDAKTYCZNE | M17: GODZINY Z NAUCZYCIELEM | N17: Łącznie | O17: za zajęcia kształtujące umiejętności praktyczne jeżeli L="tak"(PP+PZ+CS+CL+CK+CN+CA) | P17: za zajęcia z wykorzystaniem met i technik na odl. | Q17: za zajęcia z bezpośrednim udziałem prowadzących | X17: łącznie | Y17: w tym on-line | AC17: CSM WW | AD17: CSM NW | AE17: CSP NW | AT17: łącznie | AU17: w tym on-line | AY17: CSM WW | AZ17: CSM NW | BA17: CSP NW
J18: 1 | K18: 2 | L18: 3 | M18: 4 | N18: 5 | O18: 7 | P18: 8 | Q18: 9 | R18: 10 | S18: 11 | T18: 12 | U18: 13 | V18: 14 | W18: 15 | X18: 16 | Y18: 17 | Z18: 18 | AA18: 19 | AB18: 20 | AC18: 21 | AD18: 22 | AE18: 23 | AF18: 24 | AG18: 25 | AH18: 26 | AI18: 27 | AJ18: 28 | AK18: 29 | AL18: 30 | AM18: 31 | AN18: 33 | AO18: 34 | AP18: 35 | AQ18: 36 | AR18: 37 | AS18: 38 | AT18: 39 | AU18: 40 | AV18: 41 | AW18: 42 | AX18: 43 | AY18: 44 | AZ18: 45 | BA18: 46 | BB18: 47 | BC18: 48 | BD18: 49 | BE18: 50 | BF18: 51 | BG18: 52 | BH18: 53 | BI18: 54 | BJ18: 56
A20: 1 | B20: 2026/2027 | D20: 1 | E20: 2026/2027 | F20: RPS | G20: Biologiczne uwarunkowania procesów psychicznych | I20: nie | J20: 100 | K20: 40 | L20: 60 | M20: 60 | N20: 4 | O20: 0 | P20: 1 | Q20: 2.4 | R20: egz | S20: zal/o | U20: 0 | V20: 0 | W20: 0 | AO20: zal/o | AP20: 4 | AQ20: 100 | AR20: 60 | AS20: 60 | AT20: 15 | AU20: 15 | AV20: 15 | BB20: 30 | BJ20: 40
A21: 2 | B21: 2026/2027 | D21: 1 | E21: 2026/2027 | F21: RPS | G21: Podejście evidence based w psychologii | I21: nie | J21: 25 | K21: 0 | L21: 25 | M21: 25 | N21: 1 | O21: 0 | P21: 0.6 | Q21: 1 | R21: zal/o | S21: zal/o | T21: 1 | U21: 25 | V21: 25 | W21: 25 | X21: 15 | Y21: 15 | Z21: 10 | AQ21: 0 | AR21: 0 | AS21: 0
A22: 3 | B22: 2026/2027 | D22: 1 | E22: 2026/2027 | F22: RPS | G22: Filozofia z logiką | H22: tak | I22: nie | J22: 125 | K22: 75 | L22: 50 | M22: 50 | N22: 5 | O22: 0 | P22: 3 | Q22: 2 | R22: egz | S22: zal/o | T22: 5 | U22: 125 | V22: 50 | W22: 50 | X22: 30 | Y22: 30 | AA22: 20 | AN22: 75 | AQ22: 0 | AR22: 0 | AS22: 0
A23: 4 | B23: 2026/2027 | D23: 1 | E23: 2026/2027 | F23: RPS | G23: Psychogenetyka | I23: nie | J23: 50 | K23: 15 | L23: 35 | M23: 35 | N23: 2 | O23: 0 | P23: 0.85714286 | Q23: 1.4 | R23: zal/o | S23: zal/o | U23: 0 | V23: 0 | W23: 0 | AO23: zal/o | AP23: 2 | AQ23: 50 | AR23: 35 | AS23: 35 | AT23: 15 | AU23: 15 | AX23: 20 | BJ23: 15
A24: 5 | B24: 2026/2027 | D24: 1 | E24: 2026/2027 | F24: RPS | G24: Kompetencje akademickie | I24: nie | J24: 28 | K24: 0 | L24: 28 | M24: 28 | N24: 0 | O24: 0 | P24: 0 | Q24: 0 | R24: zal | S24: zal | U24: 28 | V24: 28 | W24: 28 | AA24: 20 | AK24: 8 | AQ24: 0 | AR24: 0 | AS24: 0
A25: 6 | B25: 2026/2027 | D25: 1 | E25: 2026/2027 | F25: RPS | G25: Lektorat z języka angielskiego I | I25: nie | J25: 50 | K25: 20 | L25: 30 | M25: 30 | N25: 2 | O25: 0 | P25: 0 | Q25: 1.2 | R25: zal/o | S25: zal/o | T25: 2 | U25: 50 | V25: 30 | W25: 30 | AJ25: 30 | AN25: 20 | AQ25: 0 | AR25: 0 | AS25: 0
A26: 7 | B26: 2026/2027 | D26: 1 | E26: 2026/2027 | F26: RPS | G26: Lektorat z języka angielskiego II | I26: nie | J26: 50 | K26: 20 | L26: 30 | M26: 30 | N26: 2 | O26: 0 | P26: 0 | Q26: 1.2 | R26: zal/o | U26: 0 | V26: 0 | W26: 0 | AO26: zal/o | AP26: 2 | AQ26: 50 | AR26: 30 | AS26: 30 | BF26: 30 | BJ26: 20
A27: 8 | B27: 2026/2027 | D27: 1 | E27: 2026/2027 | F27: RPS | G27: Neurobiologia i mechanizmy zachowania | I27: nie | J27: 80 | K27: 60 | L27: 20 | M27: 20 | N27: 3 | O27: 0 | P27: 1.5 | Q27: 0.75 | R27: zal/o | S27: zal/o | U27: 0 | V27: 0 | W27: 0 | AO27: zal/o | AP27: 3 | AQ27: 80 | AR27: 20 | AS27: 20 | AT27: 10 | AU27: 10 | AW27: 10 | BJ27: 60
A28: 9 | B28: 2026/2027 | D28: 1 | E28: 2026/2027 | F28: RPS | G28: Podstawy neurofizjologii dla psychologów | I28: nie | J28: 100 | K28: 65 | L28: 35 | M28: 35 | N28: 4 | O28: 0 | P28: 1.1428571 | Q28: 1.4 | R28: egz | S28: zal/o | T28: 4 | U28: 100 | V28: 35 | W28: 35 | X28: 10 | Y28: 10 | AF28: 25 | AN28: 65 | AQ28: 0 | AR28: 0 | AS28: 0
A29: 10 | B29: 2026/2027 | D29: 1 | E29: 2026/2027 | F29: RPS | G29: Pierwsza pomoc medyczna | I29: nie | J29: 25 | K29: 10 | L29: 15 | M29: 15 | N29: 1 | O29: 0 | P29: 0.33333333 | Q29: 0.6 | R29: zal/o | U29: 0 | V29: 0 | W29: 0 | AO29: zal/o | AP29: 1 | AQ29: 25 | AR29: 15 | AS29: 15 | AT29: 5 | AU29: 5 | AZ29: 10 | BJ29: 10
A30: 11 | B30: 2026/2027 | D30: 1 | E30: 2026/2027 | F30: RPS | G30: Podstawy technologii informacyjnej | I30: nie | J30: 50 | K30: 20 | L30: 30 | M30: 30 | N30: 2 | O30: 0 | P30: 0 | Q30: 1.2 | R30: zal/o | S30: zal/o | U30: 0 | V30: 0 | W30: 0 | AO30: zal/o | AP30: 2 | AQ30: 50 | AR30: 30 | AS30: 30 | AX30: 30 | BJ30: 20
A31: 12 | B31: 2026/2027 | D31: 1 | E31: 2026/2027 | F31: POW | G31: Przedmiot fakultatywny 1: Rola organizacji pozarządowych w systemie ochrony zdrowia / Sport, umysł i granice ludzkich możliwości | I31: nie | J31: 50 | K31: 10 | L31: 40 | M31: 40 | N31: 2 | O31: 0 | P31: 0 | Q31: 1.6 | R31: zal/o | S31: zal/o | T31: 2 | U31: 50 | V31: 40 | W31: 40 | AA31: 40 | AN31: 10 | AQ31: 0 | AR31: 0 | AS31: 0
A32: 13 | B32: 2026/2027 | D32: 1 | E32: 2026/2027 | F32: POW | G32: Przedmiot fakultatywny 2: Społeczne przyczyny kryzysów psychicznych / Podstawy neurobiologii eksperymentalnej | I32: nie | J32: 50 | K32: 10 | L32: 40 | M32: 40 | N32: 2 | O32: 0 | P32: 0.5 | Q32: 1.6 | R32: zal/o | U32: 0 | V32: 0 | W32: 0 | AO32: zal/o | AP32: 2 | AQ32: 50 | AR32: 40 | AS32: 40 | AT32: 10 | AU32: 10 | AW32: 30 | BJ32: 10
A33: 14 | B33: 2026/2027 | D33: 1 | E33: 2026/2027 | F33: RPS | G33: Psychologia ogólna | I33: nie | J33: 125 | K33: 75 | L33: 50 | M33: 50 | N33: 5 | O33: 0 | P33: 3 | Q33: 2 | R33: egz | S33: zal/o | U33: 0 | V33: 0 | W33: 0 | AO33: zal/o | AP33: 5 | AQ33: 125 | AR33: 50 | AS33: 50 | AT33: 30 | AU33: 30 | AW33: 20 | BJ33: 75
A34: 15 | B34: 2026/2027 | D34: 1 | E34: 2026/2027 | F34: RPS | G34: Psychologia społeczna | I34: nie | J34: 125 | K34: 75 | L34: 50 | M34: 50 | N34: 5 | O34: 0 | P34: 3 | Q34: 2 | R34: egz | S34: zal/o | U34: 0 | V34: 0 | W34: 0 | AO34: zal/o | AP34: 5 | AQ34: 125 | AR34: 50 | AS34: 50 | AT34: 30 | AU34: 30 | AW34: 20 | BJ34: 75
A35: 16 | B35: 2026/2027 | D35: 1 | E35: 2026/2027 | F35: RPS | G35: Trening umiejętności interpersonalnych I | I35: tak | J35: 75 | K35: 30 | L35: 45 | M35: 45 | N35: 3 | O35: 3 | P35: 0 | Q35: 1.8 | R35: zal/o | S35: zal/o | T35: 3 | U35: 75 | V35: 45 | W35: 45 | AA35: 45 | AN35: 30 | AQ35: 0 | AR35: 0 | AS35: 0
A36: 17 | B36: 2026/2027 | D36: 1 | E36: 2026/2027 | F36: RPS | G36: Trening umiejętności interpersonalnych II | I36: tak | J36: 100 | K36: 35 | L36: 65 | M36: 65 | N36: 4 | O36: 4 | P36: 0 | Q36: 2.6 | R36: zal/o | U36: 0 | V36: 0 | W36: 0 | AO36: zal/o | AP36: 4 | AQ36: 100 | AR36: 65 | AS36: 65 | AW36: 65 | BJ36: 35
A37: 18 | B37: 2026/2027 | D37: 1 | E37: 2026/2027 | F37: RPS | G37: Wprowadzenie do neuroanatomii | I37: nie | J37: 125 | K37: 65 | L37: 60 | M37: 60 | N37: 5 | O37: 0 | P37: 1.6666667 | Q37: 2.4 | R37: zal/o | S37: zal/o | T37: 5 | U37: 125 | V37: 60 | W37: 60 | X37: 20 | Y37: 20 | AB37: 40 | AN37: 65 | AQ37: 0 | AR37: 0 | AS37: 0
A38: 19 | B38: 2026/2027 | D38: 1 | E38: 2026/2027 | F38: RPS | G38: Wprowadzenie do psychologii i historii myśli psychologicznej | I38: nie | J38: 100 | K38: 60 | L38: 40 | M38: 40 | N38: 4 | O38: 0 | P38: 3 | Q38: 1.6 | R38: egz | S38: zal/o | T38: 4 | U38: 100 | V38: 40 | W38: 40 | X38: 30 | Y38: 30 | AA38: 10 | AN38: 60 | AQ38: 0 | AR38: 0 | AS38: 0
A39: 20 | B39: 2026/2027 | D39: 1 | E39: 2026/2027 | F39: RPS | G39: Wprowadzenie do psychologii społecznej | I39: nie | J39: 100 | K39: 45 | L39: 55 | M39: 55 | N39: 4 | O39: 0 | P39: 2.1818182 | Q39: 2.2 | R39: egz | S39: zal/o | T39: 4 | U39: 100 | V39: 55 | W39: 55 | X39: 30 | Y39: 30 | AA39: 25 | AN39: 45 | AQ39: 0 | AR39: 0 | AS39: 0
A40: 21 | B40: 2026/2027 | D40: 1 | E40: 2026/2027 | F40: RPS | G40: Wychowanie fizyczne I | I40: nie | J40: 30 | K40: 0 | L40: 30 | M40: 30 | N40: 0 | O40: 0 | P40: 0 | Q40: 0 | R40: zal | S40: zal | T40: 0 | U40: 30 | V40: 30 | W40: 30 | AL40: 30 | AQ40: 0 | AR40: 0 | AS40: 0 | BJ40: 0
A41: 22 | B41: 2026/2027 | D41: 1 | E41: 2026/2027 | F41: RPS | G41: Wychowanie fizyczne II | I41: nie | J41: 30 | K41: 0 | L41: 30 | M41: 30 | N41: 0 | O41: 0 | P41: 0 | Q41: 0 | R41: zal | U41: 0 | V41: 0 | W41: 0 | AO41: zal | AQ41: 30 | AR41: 30 | AS41: 30 | BH41: 30 | BJ41: 0
G42: sumy dla 1 roku | H42: 1 | I42: 2 | J42: 1593 | K42: 730 | L42: 863 | M42: 863 | N42: 60 | O42: 7 | P42: 21.781818 | Q42: 30.95 | R42: 0 | S42: 0 | T42: 30 | U42: 808 | V42: 438 | W42: 438 | X42: 135 | Y42: 135 | Z42: 10 | AA42: 160 | AB42: 40 | AC42: 0 | AD42: 0 | AE42: 0 | AF42: 25 | AG42: 0 | AH42: 0 | AI42: 0 | AJ42: 30 | AK42: 8 | AL42: 30 | AM42: 0 | AN42: 370 | AO42: 0 | AP42: 30 | AQ42: 785 | AR42: 425 | AS42: 425 | AT42: 115 | AU42: 115 | AV42: 15 | AW42: 145 | AX42: 50 | AY42: 0 | AZ42: 10 | BA42: 0 | BB42: 30 | BC42: 0 | BD42: 0 | BE42: 0 | BF42: 30 | BG42: 0 | BH42: 30 | BI42: 0 | BJ42: 360
A43: 23 | B43: 2026/2027 | D43: 2 | E43: 2027/2028 | F43: RPS | G43: Etyka zawodu psychologa | I43: tak | J43: 100 | K43: 60 | L43: 40 | M43: 40 | N43: 4 | O43: 3.5 | P43: 0.5 | Q43: 1.6 | R43: egz | U43: 0 | V43: 0 | W43: 0 | AO43: zal/o | AP43: 4 | AQ43: 100 | AR43: 40 | AS43: 40 | AT43: 5 | AU43: 5 | AW43: 35 | BJ43: 60
A44: 24 | B44: 2026/2027 | D44: 2 | E44: 2027/2028 | F44: RPS | G44: Lektorat z języka angielskiego III | I44: nie | J44: 50 | K44: 20 | L44: 30 | M44: 30 | N44: 2 | O44: 0 | P44: 0 | Q44: 1.2 | R44: zal/o | S44: zal/o | T44: 2 | U44: 50 | V44: 30 | W44: 30 | AJ44: 30 | AN44: 20 | AQ44: 0 | AR44: 0 | AS44: 0
A45: 25 | B45: 2026/2027 | D45: 2 | E45: 2027/2028 | F45: RPS | G45: Lektorat z języka angielskiego IV | I45: nie | J45: 75 | K45: 45 | L45: 30 | M45: 30 | N45: 3 | O45: 0 | P45: 0 | Q45: 1.2 | R45: egz | U45: 0 | V45: 0 | W45: 0 | AO45: zal/o | AP45: 3 | AQ45: 75 | AR45: 30 | AS45: 30 | BF45: 30 | BJ45: 45
A46: 26 | B46: 2026/2027 | D46: 2 | E46: 2027/2028 | F46: RPS | G46: Metodologia badań psychologicznych I | I46: nie | J46: 100 | K46: 40 | L46: 60 | M46: 60 | N46: 4 | O46: 0 | P46: 2 | Q46: 2.4 | R46: egz | S46: zal/o | T46: 4 | U46: 100 | V46: 60 | W46: 60 | X46: 30 | Y46: 30 | AA46: 30 | AN46: 40 | AQ46: 0 | AR46: 0 | AS46: 0
A47: 27 | B47: 2026/2027 | D47: 2 | E47: 2027/2028 | F47: RPS | G47: Ochrona własności intelektualnej | I47: nie | J47: 25 | K47: 10 | L47: 15 | M47: 15 | N47: 1 | O47: 0 | P47: 0.66666667 | Q47: 0.4 | R47: zal/o | S47: zal/o | U47: 0 | V47: 0 | W47: 0 | AO47: zal/o | AP47: 1 | AQ47: 25 | AR47: 15 | AS47: 15 | AT47: 5 | AU47: 5 | AW47: 5 | BG47: 5 | BJ47: 10
A48: 28 | B48: 2026/2027 | D48: 2 | E48: 2027/2028 | F48: RPS | G48: Podstawy pomocy psychologicznej | I48: tak | J48: 100 | K48: 35 | L48: 65 | M48: 65 | N48: 4 | O48: 3.6923077 | P48: 0 | Q48: 2.6 | R48: zal/o | S48: zal/o | T48: 4 | U48: 100 | V48: 65 | W48: 65 | Z48: 5 | AA48: 60 | AN48: 35 | AQ48: 0 | AR48: 0 | AS48: 0
A49: 29 | B49: 2026/2027 | D49: 2 | E49: 2027/2028 | F49: RPS | G49: Praktyki zawodowe w zakresie pomocy psychologicznej | I49: tak | J49: 160 | K49: 0 | L49: 160 | M49: 160 | N49: 6 | O49: 6 | P49: 0 | Q49: 6 | R49: zal/o | S49: zal/o | T49: 6 | U49: 160 | V49: 160 | W49: 160 | AM49: 160 | AQ49: 0 | AR49: 0 | AS49: 0
A50: 30 | B50: 2026/2027 | D50: 2 | E50: 2027/2028 | F50: RPS | G50: Praktyki zawodowe w zakresie promocji i edukacji zdrowia | I50: tak | J50: 160 | K50: 0 | L50: 160 | M50: 160 | N50: 6 | O50: 6 | P50: 0 | Q50: 6 | R50: zal/o | U50: 0 | V50: 0 | W50: 0 | AO50: zal/o | AP50: 6 | AQ50: 160 | AR50: 160 | AS50: 160 | BI50: 160
A51: 31 | B51: 2026/2027 | D51: 2 | E51: 2027/2028 | F51: POW | G51: Przedmiot fakultatywny 3: Prowadzenie działalności / Kampanie społeczne | I51: nie | J51: 50 | K51: 10 | L51: 40 | M51: 40 | N51: 2 | O51: 0 | P51: 0 | Q51: 1.6 | R51: zal/o | S51: zal/o | T51: 2 | U51: 50 | V51: 40 | W51: 40 | AA51: 40 | AN51: 10 | AQ51: 0 | AR51: 0 | AS51: 0
A52: 32 | B52: 2026/2027 | D52: 2 | E52: 2027/2028 | F52: POW | G52: Przedmiot fakultatywny 4: Podstawy organizacji i zarządzania / Psychologia języka | I52: nie | J52: 50 | K52: 10 | L52: 40 | M52: 40 | N52: 2 | O52: 0 | P52: 0.75 | Q52: 1.6 | R52: zal/o | U52: 0 | V52: 0 | W52: 0 | AO52: zal/o | AP52: 2 | AQ52: 50 | AR52: 40 | AS52: 40 | AT52: 15 | AU52: 15 | AW52: 25 | BJ52: 10
A53: 33 | B53: 2026/2027 | D53: 2 | E53: 2027/2028 | F53: RPS | G53: Psychologia emocji i motywacji I | I53: nie | J53: 75 | K53: 15 | L53: 60 | M53: 60 | N53: 3 | O53: 0 | P53: 1.5 | Q53: 2.4 | R53: zal/o | S53: zal/o | T53: 3 | U53: 75 | V53: 60 | W53: 60 | X53: 30 | Y53: 30 | AA53: 30 | AN53: 15 | AQ53: 0 | AR53: 0 | AS53: 0
A54: 34 | B54: 2026/2027 | D54: 2 | E54: 2027/2028 | F54: RPS | G54: Psychologia emocji i motywacji II | I54: nie | J54: 75 | K54: 15 | L54: 60 | M54: 60 | N54: 3 | O54: 0 | P54: 1.5 | Q54: 2.4 | R54: egz | U54: 0 | V54: 0 | W54: 0 | AO54: zal/o | AP54: 3 | AQ54: 75 | AR54: 60 | AS54: 60 | AT54: 30 | AU54: 30 | AW54: 30 | BJ54: 15
A55: 35 | B55: 2026/2027 | D55: 2 | E55: 2027/2028 | F55: RPS | G55: Psychologia osobowości | I55: nie | J55: 125 | K55: 55 | L55: 70 | M55: 70 | N55: 5 | O55: 0 | P55: 2.1428571 | Q55: 2.8 | R55: egz | U55: 0 | V55: 0 | W55: 0 | AO55: zal/o | AP55: 5 | AQ55: 125 | AR55: 70 | AS55: 70 | AT55: 30 | AU55: 30 | AW55: 40 | BJ55: 55
A56: 36 | B56: 2026/2027 | D56: 2 | E56: 2027/2028 | F56: RPS | G56: Psychologia procesów poznawczych | I56: nie | J56: 100 | K56: 40 | L56: 60 | M56: 60 | N56: 4 | O56: 0 | P56: 2 | Q56: 2.4 | R56: egz | S56: zal/o | T56: 4 | U56: 100 | V56: 60 | W56: 60 | X56: 30 | Y56: 30 | AA56: 30 | AN56: 40 | AQ56: 0 | AR56: 0 | AS56: 0
A57: 37 | B57: 2026/2027 | D57: 2 | E57: 2027/2028 | F57: RPS | G57: Psychologia rozwoju człowieka | I57: nie | J57: 100 | K57: 50 | L57: 50 | M57: 50 | N57: 4 | O57: 0 | P57: 2.4 | Q57: 2 | R57: egz | U57: 0 | V57: 0 | W57: 0 | AO57: zal/o | AP57: 4 | AQ57: 100 | AR57: 50 | AS57: 50 | AT57: 30 | AU57: 30 | AW57: 20 | BJ57: 50
A58: 38 | B58: 2026/2027 | D58: 2 | E58: 2027/2028 | F58: RPS | G58: Psychologia różnic indywidualnych I | I58: nie | J58: 50 | K58: 0 | L58: 50 | M58: 50 | N58: 2 | O58: 0 | P58: 1 | Q58: 2 | R58: zal/o | S58: zal/o | T58: 2 | U58: 50 | V58: 50 | W58: 50 | X58: 25 | Y58: 25 | AA58: 25 | AQ58: 0 | AR58: 0 | AS58: 0
A59: 39 | B59: 2026/2027 | D59: 2 | E59: 2027/2028 | F59: RPS | G59: Psychologia różnic indywidualnych II | I59: nie | J59: 75 | K59: 25 | L59: 50 | M59: 50 | N59: 3 | O59: 0 | P59: 1.2 | Q59: 2 | R59: egz | U59: 0 | V59: 0 | W59: 0 | AO59: zal/o | AP59: 3 | AQ59: 75 | AR59: 50 | AS59: 50 | AT59: 20 | AU59: 20 | AW59: 30 | BJ59: 25
A60: 40 | B60: 2026/2027 | D60: 2 | E60: 2027/2028 | F60: RPS | G60: Socjologia | I60: nie | J60: 50 | K60: 20 | L60: 30 | M60: 30 | N60: 2 | O60: 0 | P60: 0.66666667 | Q60: 1.2 | R60: egz | S60: zal/o | T60: 2 | U60: 50 | V60: 30 | W60: 30 | X60: 10 | Y60: 10 | Z60: 20 | AN60: 20 | AQ60: 0 | AR60: 0 | AS60: 0
G61: sumy dla 2 roku | H61: 0 | I61: 4 | J61: 1520 | K61: 450 | L61: 1070 | M61: 1070 | N61: 60 | O61: 19.192308 | P61: 16.32619 | Q61: 41.8 | R61: 0 | S61: 0 | T61: 29 | U61: 735 | V61: 555 | W61: 555 | X61: 125 | Y61: 125 | Z61: 25 | AA61: 215 | AB61: 0 | AC61: 0 | AD61: 0 | AE61: 0 | AF61: 0 | AG61: 0 | AH61: 0 | AI61: 0 | AJ61: 30 | AK61: 0 | AL61: 0 | AM61: 160 | AN61: 180 | AO61: 0 | AP61: 31 | AQ61: 785 | AR61: 515 | AS61: 515 | AT61: 135 | AU61: 135 | AV61: 0 | AW61: 185 | AX61: 0 | AY61: 0 | AZ61: 0 | BA61: 0 | BB61: 0 | BC61: 0 | BD61: 0 | BE61: 0 | BF61: 30 | BG61: 5 | BH61: 0 | BI61: 160 | BJ61: 270
A62: 41 | B62: 2026/2027 | D62: 3 | E62: 2028/2029 | F62: RPS | G62: Metodologia badań psychologicznych II | I62: nie | J62: 75 | K62: 50 | L62: 25 | M62: 25 | N62: 3 | O62: 0 | P62: 1.8 | Q62: 1 | R62: egz | S62: zal/o | T62: 3 | U62: 75 | V62: 25 | W62: 25 | X62: 15 | Y62: 15 | AA62: 10 | AN62: 50 | AQ62: 0 | AR62: 0 | AS62: 0
A63: 42 | B63: 2026/2027 | D63: 3 | E63: 2028/2029 | F63: RPS | G63: Neuropsychologia | I63: tak | J63: 75 | K63: 15 | L63: 60 | M63: 60 | N63: 3 | O63: 2.5 | P63: 0.5 | Q63: 2.4 | R63: egz | S63: zal/o | T63: 3 | U63: 75 | V63: 60 | W63: 60 | X63: 10 | Y63: 10 | AA63: 50 | AN63: 15 | AQ63: 0 | AR63: 0 | AS63: 0
A64: 43 | B64: 2026/2027 | D64: 3 | E64: 2028/2029 | F64: RPS | G64: Podstawy neurologii | I64: tak | J64: 100 | K64: 55 | L64: 45 | M64: 45 | N64: 4 | O64: 3.5555556 | P64: 0.44444444 | Q64: 1.8 | R64: zal/o | U64: 0 | V64: 0 | W64: 0 | AO64: zal/o | AP64: 4 | AQ64: 100 | AR64: 45 | AS64: 45 | AT64: 5 | AU64: 5 | AW64: 10 | BC64: 30 | BJ64: 55
A65: 44 | B65: 2026/2027 | D65: 3 | E65: 2028/2029 | F65: RPS | G65: Praktyki zawodowe w zakresie psychologicznej diagnozy i terapii chorób somatycznych | I65: tak | J65: 160 | K65: 0 | L65: 160 | M65: 160 | N65: 6 | O65: 6 | P65: 0 | Q65: 6 | R65: zal/o | S65: zal/o | T65: 6 | U65: 160 | V65: 160 | W65: 160 | AM65: 160 | AQ65: 0 | AR65: 0 | AS65: 0
A66: 45 | B66: 2026/2027 | D66: 3 | E66: 2028/2029 | F66: RPS | G66: Praktyki zawodowe w zakresie klinicznej diagnozy psychologicznej dorosłych | I66: tak | J66: 160 | K66: 0 | L66: 160 | M66: 160 | N66: 6 | O66: 6 | P66: 0 | Q66: 6 | R66: zal/o | U66: 0 | V66: 0 | W66: 0 | AO66: zal/o | AP66: 6 | AQ66: 160 | AR66: 160 | AS66: 160 | BI66: 160
A67: 46 | B67: 2026/2027 | D67: 3 | E67: 2028/2029 | F67: POW | G67: Projekt badawczy grupowy- psychologia zdrowia / psychologia kliniczna | I67: tak | J67: 50 | K67: 40 | L67: 10 | M67: 10 | N67: 2 | O67: 2 | P67: 0 | Q67: 0.4 | R67: zal/o | U67: 0 | V67: 0 | W67: 0 | AO67: zal/o | AP67: 2 | AQ67: 50 | AR67: 10 | AS67: 10 | AX67: 10 | BJ67: 40
A68: 47 | B68: 2026/2027 | D68: 3 | E68: 2028/2029 | F68: POW | G68: Przedmiot fakultatywny 5: Zaburzenia neurorozwojowe / Psychologia kryminalna | I68: tak | J68: 50 | K68: 10 | L68: 40 | M68: 40 | N68: 2 | O68: 2 | P68: 0 | Q68: 1.6 | R68: zal/o | S68: zal/o | T68: 2 | U68: 50 | V68: 40 | W68: 40 | AA68: 40 | AN68: 10 | AQ68: 0 | AR68: 0 | AS68: 0
A69: 48 | B69: 2026/2027 | D69: 3 | E69: 2028/2029 | F69: POW | G69: Przedmiot fakultatywny 6: Podstawy uczenia maszynowego i sieci neuronowych / Psychologia człowieka w świecie AI | I69: nie | J69: 50 | K69: 10 | L69: 40 | M69: 40 | N69: 2 | O69: 0 | P69: 0.5 | Q69: 1.6 | R69: zal/o | U69: 0 | V69: 0 | W69: 0 | AO69: zal/o | AP69: 2 | AQ69: 50 | AR69: 40 | AS69: 40 | AT69: 10 | AU69: 10 | AW69: 30 | BJ69: 10
A70: 49 | B70: 2026/2027 | D70: 3 | E70: 2028/2029 | F70: RPS | G70: Psychologia kliniczna dorosłych | I70: tak | J70: 125 | K70: 50 | L70: 75 | M70: 75 | N70: 5 | O70: 4.3333333 | P70: 0.66666667 | Q70: 3 | R70: egz | U70: 0 | V70: 0 | W70: 0 | AO70: zal/o | AP70: 5 | AQ70: 125 | AR70: 75 | AS70: 75 | AT70: 10 | AU70: 10 | AW70: 15 | AX70: 50 | BJ70: 50
A71: 50 | B71: 2026/2027 | D71: 3 | E71: 2028/2029 | F71: RPS | G71: Psychologia kliniczna dzieci i młodzieży | I71: tak | J71: 125 | K71: 55 | L71: 70 | M71: 70 | N71: 5 | O71: 4.2857143 | P71: 0.71428571 | Q71: 2.8 | R71: egz | U71: 0 | V71: 0 | W71: 0 | AO71: zal/o | AP71: 5 | AQ71: 125 | AR71: 70 | AS71: 70 | AT71: 10 | AU71: 10 | AW71: 10 | AX71: 50 | BJ71: 55
A72: 51 | B72: 2026/2027 | D72: 3 | E72: 2028/2029 | F72: RPS | G72: Psychologia środowiska | I72: nie | J72: 25 | K72: 5 | L72: 20 | M72: 20 | N72: 1 | O72: 0 | P72: 0.5 | Q72: 0.8 | R72: zal/o | T72: 1 | U72: 25 | V72: 20 | W72: 20 | X72: 10 | Y72: 10 | AA72: 10 | AN72: 5 | AO72: zal/o | AQ72: 0 | AR72: 0 | AS72: 0
A73: 52 | B73: 2026/2027 | D73: 3 | E73: 2028/2029 | F73: RPS | G73: Psychologia zarządzania | I73: nie | J73: 25 | K73: 15 | L73: 10 | M73: 10 | N73: 1 | O73: 0 | P73: 1 | Q73: 0.4 | R73: zal/o | U73: 0 | V73: 0 | W73: 0 | AO73: zal/o | AP73: 1 | AQ73: 25 | AR73: 10 | AS73: 10 | AT73: 10 | AU73: 10 | BJ73: 15
A74: 53 | B74: 2026/2027 | D74: 3 | E74: 2028/2029 | F74: RPS | G74: Psychologia zdrowia | I74: tak | J74: 100 | K74: 30 | L74: 70 | M74: 70 | N74: 4 | O74: 3.4285714 | P74: 0.57142857 | Q74: 2.8 | R74: egz | S74: zal/o | T74: 4 | U74: 100 | V74: 70 | W74: 70 | X74: 10 | Y74: 10 | AA74: 60 | AN74: 30 | AQ74: 0 | AR74: 0 | AS74: 0
A75: 54 | B75: 2026/2027 | D75: 3 | E75: 2028/2029 | F75: RPS | G75: Psychometria | I75: tak | J75: 100 | K75: 30 | L75: 70 | M75: 70 | N75: 4 | O75: 3.4285714 | P75: 0.57142857 | Q75: 2.8 | R75: egz | U75: 0 | V75: 0 | W75: 0 | AO75: zal/o | AP75: 4 | AQ75: 100 | AR75: 70 | AS75: 70 | AT75: 10 | AU75: 10 | AW75: 60 | BJ75: 30
A76: 55 | B76: 2026/2027 | D76: 3 | E76: 2028/2029 | F76: RPS | G76: Psychopatologia | I76: tak | J76: 100 | K76: 25 | L76: 75 | M76: 75 | N76: 4 | O76: 3.4666667 | P76: 0.53333333 | Q76: 3 | R76: egz | S76: zal/o | T76: 4 | U76: 100 | V76: 75 | W76: 75 | X76: 10 | Y76: 10 | AA76: 65 | AN76: 25 | AQ76: 0 | AR76: 0 | AS76: 0
A77: 56 | B77: 2026/2027 | D77: 3 | E77: 2028/2029 | F77: RPS | G77: Statystyka I | I77: nie | J77: 38 | K77: 3 | L77: 35 | M77: 35 | N77: 1.5 | O77: 0 | P77: 0 | Q77: 1.3815789 | R77: zal/o | S77: zal/o | T77: 1.5 | U77: 38 | V77: 35 | W77: 35 | Z77: 5 | AB77: 30 | AN77: 3 | AQ77: 0 | AR77: 0 | AS77: 0
A78: 57 | B78: 2026/2027 | D78: 3 | E78: 2028/2029 | F78: RPS | G78: Statystyka II | I78: nie | J78: 37 | K78: 7 | L78: 30 | M78: 30 | N78: 1.5 | O78: 0 | P78: 0 | Q78: 1.2162162 | R78: zal/o | U78: 0 | V78: 0 | W78: 0 | AO78: zal/o | AP78: 1.5 | AQ78: 37 | AR78: 30 | AS78: 30 | AX78: 30 | BJ78: 7
A79: 58 | B79: 2026/2027 | D79: 3 | E79: 2028/2029 | F79: RPS | G79: Wprowadzenie do psychologii klinicznej | I79: tak | J79: 125 | K79: 55 | L79: 70 | M79: 70 | N79: 5 | O79: 4.2857143 | P79: 0.71428571 | Q79: 2.8 | R79: egz | S79: zal/o | T79: 5 | U79: 125 | V79: 70 | W79: 70 | X79: 10 | Y79: 10 | AA79: 60 | AN79: 55 | AQ79: 0 | AR79: 0 | AS79: 0
G80: sumy dla 3 roku | H80: 0 | I80: 12 | J80: 1520 | K80: 455 | L80: 1065 | M80: 1065 | N80: 60 | O80: 45.284127 | P80: 8.515873 | Q80: 41.797795 | R80: 0 | S80: 0 | T80: 29.5 | U80: 748 | V80: 555 | W80: 555 | X80: 65 | Y80: 65 | Z80: 5 | AA80: 295 | AB80: 30 | AC80: 0 | AD80: 0 | AE80: 0 | AF80: 0 | AG80: 0 | AH80: 0 | AI80: 0 | AJ80: 0 | AK80: 0 | AL80: 0 | AM80: 160 | AN80: 193 | AO80: 0 | AP80: 30.5 | AQ80: 772 | AR80: 510 | AS80: 510 | AT80: 55 | AU80: 55 | AV80: 0 | AW80: 125 | AX80: 140 | AY80: 0 | AZ80: 0 | BA80: 0 | BB80: 0 | BC80: 30 | BD80: 0 | BE80: 0 | BF80: 0 | BG80: 0 | BH80: 0 | BI80: 160 | BJ80: 262
A81: 59 | B81: 2026/2027 | D81: 4 | E81: 2029/2030 | F81: RPS | G81: Psychiatria | I81: tak | J81: 100 | K81: 25 | L81: 75 | M81: 75 | N81: 4 | O81: 3.4666667 | P81: 0.53333333 | Q81: 3 | R81: egz | U81: 0 | V81: 0 | W81: 0 | AO81: zal/o | AP81: 4 | AQ81: 100 | AR81: 75 | AS81: 75 | AT81: 10 | AU81: 10 | AW81: 20 | BC81: 45 | BJ81: 25
A82: 60 | B82: 2026/2027 | D82: 4 | E82: 2029/2030 | F82: RPS | G82: Psychofarmakologia | I82: nie | J82: 50 | K82: 30 | L82: 20 | M82: 20 | N82: 2 | O82: 0 | P82: 1 | Q82: 0.8 | R82: zal/o | S82: zal/o | T82: 2 | U82: 50 | V82: 20 | W82: 20 | X82: 10 | Y82: 10 | AA82: 10 | AN82: 30 | AQ82: 0 | AR82: 0 | AS82: 0
A83: 61 | B83: 2026/2027 | D83: 4 | E83: 2029/2030 | F83: POW | G83: Przedmiot fakultatywny 7: Trening komunikacji międzykulturowej / Psychoseksuologia (PK) / Terapia perfekcjonizmu w podejściu poznawczo – behawioralnym (PZ) | I83: tak | J83: 50 | K83: 10 | L83: 40 | M83: 40 | N83: 2 | O83: 2 | P83: 0 | Q83: 1.6 | R83: zal/o | S83: zal/o | T83: 2 | U83: 50 | V83: 40 | W83: 40 | AA83: 40 | AN83: 10 | AQ83: 0 | AR83: 0 | AS83: 0
A84: 62 | B84: 2026/2027 | D84: 4 | E84: 2029/2030 | F84: POW | G84: Przedmiot fakultatywny 8: Podstawy marketingu / Psychologia zwycięstwa | I84: nie | J84: 75 | K84: 15 | L84: 60 | M84: 60 | N84: 3 | O84: 0 | P84: 1 | Q84: 2.4 | R84: zal/o | S84: zal/o | T84: 3 | U84: 75 | V84: 60 | W84: 60 | X84: 20 | Y84: 20 | AA84: 40 | AN84: 15 | AQ84: 0 | AR84: 0 | AS84: 0
A85: 63 | B85: 2026/2027 | D85: 4 | E85: 2029/2030 | F85: POW | G85: Przedmiot fakultatywny 9: Podstawy psychoterapii zaburzeń odżywiania / Podstawy terapii DBT | I85: tak | J85: 100 | K85: 40 | L85: 60 | M85: 60 | N85: 4 | O85: 3.3333333 | P85: 0.66666667 | Q85: 2.4 | R85: zal/o | U85: 0 | V85: 0 | W85: 0 | AO85: zal/o | AP85: 4 | AQ85: 100 | AR85: 60 | AS85: 60 | AT85: 10 | AU85: 10 | AW85: 50 | BJ85: 40
A86: 64 | B86: 2026/2027 | D86: 4 | E86: 2029/2030 | F86: RPS | G86: Praktyki zawodowe w zakresie klinicznej diagnozy psychologicznej dzieci i młodzieży | I86: tak | J86: 160 | K86: 0 | L86: 160 | M86: 160 | N86: 6 | O86: 6 | P86: 0 | Q86: 6 | R86: zal/o | S86: zal/o | T86: 6 | U86: 160 | V86: 160 | W86: 160 | AM86: 160 | AQ86: 0 | AR86: 0 | AS86: 0
A87: 65 | B87: 2026/2027 | D87: 4 | E87: 2029/2030 | F87: RPS | G87: Praktyki zawodowe w zakresie neuropsychologii | I87: tak | J87: 160 | K87: 0 | L87: 160 | M87: 160 | N87: 6 | O87: 6 | P87: 0 | Q87: 6 | R87: zal/o | U87: 0 | V87: 0 | W87: 0 | AO87: zal/o | AP87: 6 | AQ87: 160 | AR87: 160 | AS87: 160 | BI87: 160
A88: 66 | B88: 2026/2027 | D88: 4 | E88: 2029/2030 | F88: PSW | G88: Seminarium magisterskie I | I88: nie | J88: 125 | K88: 95 | L88: 30 | M88: 30 | N88: 5 | O88: 0 | P88: 0 | Q88: 1.2 | R88: zal/o | S88: zal/o | T88: 5 | U88: 125 | V88: 30 | W88: 30 | Z88: 30 | AN88: 95 | AQ88: 0 | AR88: 0 | AS88: 0
A89: 67 | B89: 2026/2027 | D89: 4 | E89: 2029/2030 | F89: PSW | G89: Seminarium magisterskie II | I89: nie | J89: 125 | K89: 95 | L89: 30 | M89: 30 | N89: 5 | O89: 0 | P89: 0 | Q89: 1.2 | R89: zal/o | U89: 0 | V89: 0 | W89: 0 | AO89: zal/o | AP89: 5 | AQ89: 125 | AR89: 30 | AS89: 30 | AV89: 30 | BJ89: 95
A90: 68 | B90: 2026/2027 | C90: PK | D90: 4 | E90: 2029/2030 | F90: POW | G90: Diagnoza neuropsychologiczna | I90: tak | J90: 75 | K90: 15 | L90: 60 | M90: 60 | N90: 3 | O90: 2.5 | P90: 0.5 | Q90: 2.4 | R90: egz | S90: zal/o | T90: 3 | U90: 75 | V90: 60 | W90: 60 | X90: 10 | Y90: 10 | AB90: 20 | AG90: 30 | AN90: 15 | AQ90: 0 | AR90: 0 | AS90: 0
A91: 69 | B91: 2026/2027 | C91: PK | D91: 4 | E91: 2029/2030 | F91: POW | G91: Neuroobrazowanie w diagnozie psychologicznej | I91: tak | J91: 50 | K91: 15 | L91: 35 | M91: 35 | N91: 2 | O91: 1.4285714 | P91: 0 | Q91: 1.4 | R91: zal/o | S91: zal/o | T91: 2 | U91: 50 | V91: 35 | W91: 35 | Z91: 10 | AB91: 25 | AN91: 15 | AQ91: 0 | AR91: 0 | AS91: 0
A92: 70 | B92: 2026/2027 | C92: PK | D92: 4 | E92: 2029/2030 | F92: POW | G92: Podstawy psychologii sądowej | I92: tak | J92: 50 | K92: 5 | L92: 45 | M92: 45 | N92: 2 | O92: 1.3333333 | P92: 0.66666667 | Q92: 1.8 | R92: zal/o | U92: 0 | V92: 0 | W92: 0 | AO92: zal/o | AP92: 2 | AQ92: 50 | AR92: 45 | AS92: 45 | AT92: 15 | AU92: 15 | AW92: 30 | BJ92: 5
A93: 71 | B93: 2026/2027 | C93: PK | D93: 4 | E93: 2029/2030 | F93: POW | G93: Podstawy psychoterapii | I93: tak | J93: 75 | K93: 25 | L93: 50 | M93: 50 | N93: 3 | O93: 2.4 | P93: 0.6 | Q93: 2 | R93: egz | S93: zal/o | T93: 3 | U93: 75 | V93: 50 | W93: 50 | X93: 10 | Y93: 10 | AA93: 40 | AN93: 25 | AQ93: 0 | AR93: 0 | AS93: 0
A94: 72 | B94: 2026/2027 | C94: PK | D94: 4 | E94: 2029/2030 | F94: POW | G94: Psychologia uzależnień | I94: tak | J94: 75 | K94: 30 | L94: 45 | M94: 45 | N94: 3 | O94: 2.3333333 | P94: 0.66666667 | Q94: 1.8 | R94: egz | U94: 0 | V94: 0 | W94: 0 | AO94: zal/o | AP94: 3 | AQ94: 75 | AR94: 45 | AS94: 45 | AT94: 10 | AU94: 10 | AW94: 35 | BJ94: 30
A95: 73 | B95: 2026/2027 | C95: PK | D95: 4 | E95: 2029/2030 | F95: POW | G95: Psychologiczna diagnoza kliniczna dorosłych | I95: tak | J95: 150 | K95: 75 | L95: 75 | M95: 75 | N95: 6 | O95: 5.2 | P95: 0.8 | Q95: 3 | R95: egz | U95: 0 | V95: 0 | W95: 0 | AO95: zal/o | AP95: 6 | AQ95: 150 | AR95: 75 | AS95: 75 | AT95: 10 | AU95: 10 | AW95: 35 | BC95: 30 | BJ95: 75
A96: 74 | B96: 2026/2027 | C96: PK | D96: 4 | E96: 2029/2030 | F96: POW | G96: Psychologiczna diagnoza dzieci i młodzieży z elementami psychoterapii | I96: tak | J96: 100 | K96: 40 | L96: 60 | M96: 60 | N96: 4 | O96: 3.3333333 | P96: 0.66666667 | Q96: 2.4 | R96: egz | S96: zal/o | T96: 4 | U96: 100 | V96: 60 | W96: 60 | X96: 10 | Y96: 10 | AA96: 20 | AG96: 30 | AN96: 40 | AQ96: 0 | AR96: 0 | AS96: 0
A97: 75 | B97: 2026/2027 | C97: PZ | D97: 4 | E97: 2029/2030 | F97: POW | G97: Poradnictwo psychologiczne | I97: tak | J97: 50 | K97: 15 | L97: 35 | M97: 35 | N97: 2 | O97: 1.7142857 | P97: 0.28571429 | Q97: 1.4 | R97: zal/o | S97: zal/o | T97: 2 | U97: 50 | V97: 35 | W97: 35 | X97: 5 | Y97: 5 | AA97: 30 | AN97: 15 | AQ97: 0 | AR97: 0 | AS97: 0
A98: 76 | B98: 2026/2027 | C98: PZ | D98: 4 | E98: 2029/2030 | F98: POW | G98: Elementy psychologii edukacji | I98: tak | J98: 100 | K98: 50 | L98: 50 | M98: 50 | N98: 4 | O98: 2.8 | P98: 1.2 | Q98: 2 | R98: egz | U98: 0 | V98: 0 | W98: 0 | AO98: zal/o | AP98: 4 | AQ98: 100 | AR98: 50 | AS98: 50 | AT98: 15 | AU98: 15 | AW98: 35 | BJ98: 50
A99: 77 | B99: 2026/2027 | C99: PZ | D99: 4 | E99: 2029/2030 | F99: POW | G99: Psychologia kryzysu i stresu w praktyce pomocowej | I99: tak | J99: 75 | K99: 15 | L99: 60 | M99: 60 | N99: 3 | O99: 2.5 | P99: 0.5 | Q99: 2.4 | R99: egz | S99: zal/o | T99: 3 | U99: 75 | V99: 60 | W99: 60 | X99: 10 | Y99: 10 | AA99: 50 | AN99: 15 | AQ99: 0 | AR99: 0 | AS99: 0
A100: 78 | B100: 2026/2027 | C100: PZ | D100: 4 | E100: 2029/2030 | F100: POW | G100: Psychologia zaburzeń somatycznych | I100: tak | J100: 100 | K100: 30 | L100: 70 | M100: 70 | N100: 4 | O100: 3.4285714 | P100: 0.57142857 | Q100: 2.8 | R100: egz | S100: zal/o | T100: 4 | U100: 100 | V100: 70 | W100: 70 | X100: 10 | Y100: 10 | AA100: 10 | AG100: 50 | AN100: 30 | AQ100: 0 | AR100: 0 | AS100: 0
A101: 79 | B101: 2026/2027 | C101: PZ | D101: 4 | E101: 2029/2030 | F101: POW | G101: Projektowanie i prowadzenie szkoleń | I101: tak | J101: 75 | K101: 30 | L101: 45 | M101: 45 | N101: 3 | O101: 2.6666667 | P101: 0.33333333 | Q101: 1.8 | R101: zal/o | S101: zal/o | T101: 3 | U101: 75 | V101: 45 | W101: 45 | X101: 5 | Y101: 5 | AA101: 40 | AN101: 30 | AQ101: 0 | AR101: 0 | AS101: 0
A102: 80 | B102: 2026/2027 | C102: PZ | D102: 4 | E102: 2029/2030 | F102: POW | G102: Promocja zdrowia | I102: tak | J102: 75 | K102: 30 | L102: 45 | M102: 45 | N102: 3 | O102: 2.6666667 | P102: 0.33333333 | Q102: 1.8 | R102: egz | U102: 0 | V102: 0 | W102: 0 | AO102: zal/o | AP102: 3 | AQ102: 75 | AR102: 45 | AS102: 45 | AT102: 5 | AU102: 5 | AW102: 40 | BJ102: 30
A103: 81 | B103: 2026/2027 | C103: PZ | D103: 4 | E103: 2029/2030 | F103: POW | G103: Rehabilitacja psychologiczna | I103: tak | J103: 100 | K103: 30 | L103: 70 | M103: 70 | N103: 4 | O103: 3.4285714 | P103: 0.57142857 | Q103: 2.8 | R103: egz | U103: 0 | V103: 0 | W103: 0 | AO103: zal/o | AP103: 4 | AQ103: 100 | AR103: 70 | AS103: 70 | AT103: 10 | AU103: 10 | AW103: 30 | BC103: 30 | BJ103: 30
G104: sumy dla 4 roku | H104: 0 | I104: 19 | J104: 2095 | K104: 715 | L104: 1380 | M104: 1380 | N104: 83 | O104: 58.533333 | P104: 10.895238 | Q104: 54.4 | R104: 0 | S104: 0 | T104: 42 | U104: 1060 | V104: 725 | W104: 725 | X104: 90 | Y104: 90 | Z104: 40 | AA104: 280 | AB104: 45 | AC104: 0 | AD104: 0 | AE104: 0 | AF104: 0 | AG104: 110 | AH104: 0 | AI104: 0 | AJ104: 0 | AK104: 0 | AL104: 0 | AM104: 160 | AN104: 335 | AO104: 0 | AP104: 41 | AQ104: 1035 | AR104: 655 | AS104: 655 | AT104: 85 | AU104: 85 | AV104: 30 | AW104: 275 | AX104: 0 | AY104: 0 | AZ104: 0 | BA104: 0 | BB104: 0 | BC104: 105 | BD104: 0 | BE104: 0 | BF104: 0 | BG104: 0 | BH104: 0 | BI104: 160 | BJ104: 380
A105: 82 | B105: 2026/2027 | D105: 5 | E105: 2030/2031 | F105: RPS | G105: Interwencja kryzysowa | I105: tak | J105: 150 | K105: 80 | L105: 70 | M105: 70 | N105: 6 | O105: 5.1428571 | P105: 0.85714286 | Q105: 2.8 | R105: zal/o | S105: zal/o | T105: 6 | U105: 150 | V105: 70 | W105: 70 | X105: 10 | Y105: 10 | AA105: 60 | AN105: 80 | AQ105: 0 | AR105: 0 | AS105: 0
A106: 83 | B106: 2026/2027 | D106: 5 | E106: 2030/2031 | F106: POW | G106: Przedmiot fakultatywny 10: Zachowania suicydalne – diagnoza i terapia / PK: ADHD – diagnoza i terapia; PZ: Fizjoprofilaktyka | I106: tak | J106: 100 | K106: 40 | L106: 60 | M106: 60 | N106: 4 | O106: 3.3333333 | P106: 0.66666667 | Q106: 2.4 | R106: zal/o | U106: 0 | V106: 0 | W106: 0 | AO106: zal/o | AP106: 4 | AQ106: 100 | AR106: 60 | AS106: 60 | AT106: 10 | AU106: 10 | AW106: 50 | BJ106: 40
...

Sheet Arkusz3
A1: SUMA | D1: Biologiczne uwarunkowania procesów psychicznych | E1: Podejście evidence based w psychologii | F1: Filozofia z logiką | G1: Psychogenetyka | H1: Kompetencje akademickie | I1: Lektorat z języka angielskiego I | J1: Lektorat z języka angielskiego II | K1: Neurobiologia i mechanizmy zachowania | L1: Podstawy neurofizjologii dla psychologów | M1: Pierwsza pomoc medyczna | N1: Podstawy technologii informacyjnej | O1: Przedmiot fakultatywny 1: Komunikacja między ludzka / Sport umysł i granice ludzkich możliwości | P1: Przedmiot fakultatywny 2: Społeczne przyczyny kryzysów psychicznych/ Rola organizacji pozarządowych w systemie ochrony zdrowia | Q1: Psychologia ogólna | R1: Psychologia społeczna | S1: Szkolenie BHP i P.Poż. | T1: Trening umiejętności interpersonalnych | U1: Wprowadzenie do neuroanatomii | V1: Wprowadzenie do psychologii i historii myśli psychologicznej | W1: Wprowadzenie do psychologii społecznej | X1: Wychowanie fizyczne I | Y1: Wychowanie fizyczne II | Z1: sumy dla 1 roku | AA1: Etyka zawodu psychologa | AB1: Lektorat z języka angielskiego III | AC1: Lektorat z języka angielskiego IV | AD1: Metodologia badań psychologicznych I | AE1: Ochrona własności intelektualnej | AF1: Podstawy pomocy psychologicznej | AG1: Praktyki zawodowe w zakresie pomocy psychologicznej | AH1: Praktyki zawodowe w zakresie edukacji i promocji zdrowia | AI1: Przedmiot fakultatywny 3: Prowadzenie działalności/ Kampanie społeczne | AJ1: Przedmiot fakultatywny 4: Podstawy organizacji i zarządzania / Psychologia języka | AK1: Psychologia emocji i motywacji I | AL1: Psychologia emocji i motywacji II | AM1: Psychologia osobowości | AN1: Psychologia procesów poznawczych | AO1: Psychologia rozwoju człowieka | AP1: Psychologia różnic indywidualnych I | AQ1: Psychologia różnic indywidualnych II | AR1: Socjologia | AS1: sumy dla 2 roku | AT1: Metodologia badań psychologicznych II | AU1: Neuropsychologia | AV1: Podstawy neurologii | AW1: Praktyki zawodowe w zakresie psychologicznej diagnozy i terapii chorób somatycznych | AX1: Praktyki zawodowe w zakresie klinicznej diagnozy psychologicznej dorosłych | AY1: Projekt badawczy grupowy- psychologia zdrowia/ psychologia kliniczna | AZ1: Przedmiot fakultatywny 5: Zaburzenia neurorozwojowe / Psychologia kryminalna | BA1: Przedmiot fakultatywny 6: Podstawy uczenia maszynowego i sieci neuronowych/ Psychologia człowieka w świecie AI | BB1: Psychologia kliniczna dorosłych | BC1: Psychologia kliniczna dzieci i młodzieży | BD1: Psychologia środowiska | BE1: Psychologia zarządzania | BF1: Psychologia zdrowia | BG1: Psychometria | BH1: Psychopatologia | BI1: Statystyka I | BJ1: Statystyka II | BK1: Wprowadzenie do psychologii klinicznej | BL1: sumy dla 3 roku | BM1: Psychiatria | BN1: Psychofarmakologia | BO1: Przedmiot fakultatywny 7: Podstawy neurobiologii eksperymentalnej/Psychoseksuologia (PK) /Terapia perfekcjonizmu w podejściu poznawczo – behawioralnym (PZ) | BP1: Przedmiot fakultatywny 8: Podstawy terapii DBT/ Podstawy marketingu | BQ1: Przedmiot fakultatywny 9: Podstawy psychoterapii zaburzeń odżywiania/ Psychologia zwycięstwa | BR1: Praktyki zawodowe w zakresie klinicznej diagnozy psychologicznej dzieci i młodzieży | BS1: Praktyki zawodowe w zakresie neuropsychologii | BT1: Seminarium magisterskie I | BU1: Seminarium magisterskie II | BV1: Diagnoza neuropsychologiczna | BW1: Podstawy neuroobrazowania | BX1: Podstawy psychologii sądowej | BY1: Podstawy psychoterapii | BZ1: Psychologia uzależnień | CA1: Psychologiczna diagnoza kliniczna dorosłych | CB1: Psychologiczna diagnoza dzieci i młodzieży z elementami psychoterapii | CC1: Poradnictwo psychologiczne | CD1: Elementy psychologii edukacji | CE1: Psychologia kryzysu i stresu | CF1: Psychologia zaburzeń somatycznych | CG1: Projektowanie i prowadzenie szkoleń | CH1: Promocja zdrowia | CI1: Rehabilitacja psychologiczna | CJ1: sumy dla 4 roku | CK1: Interwencja kryzysowa | CL1: Przedmiot fakultatywny 10: Zachowania suicydalne – diagnoza i terapia/PK: ADHD- diagnoza i terapia; PZ: Fizjoprofilaktyka | CM1: Seksuologia | CN1: Seminarium magisterskie III | CO1: Seminarium magisterskie IV | CP1: Psychoanaliza i terapia psychodynamiczna | CQ1: Psychogeriatria | CR1: Psychologia rodziny | CS1: Psychoterapia humanistyczno-egzystencjalna | CT1: Psychoterapia poznawczo-behawioralna | CU1: Psychoterapia systemowa | CV1: Elementy psychologii pracy i organizacji | CW1: Psychodietetyka | CX1: Psychologia sportu | CY1: Psychoonkologia | CZ1: Psychoseksuologia | DA1: Zdrowie publiczne
A2: =SUM(D2:Y2,AA2:AR2,AT2:BK2,BM2:CI2,CK2:DA2) -> 17 | B2: Wiedza | C2: K_W01 | F2: 1 | Q2: 1 | R2: 1 | V2: 1 | W2: 1 | Z2: =SUM(D2:Y2) -> 5 | AK2: 1 | AL2: 1 | AM2: 1 | AN2: 1 | AP2: 1 | AQ2: 1 | AR2: 1 | AS2: =SUM(AA2:AR2) -> 7 | BK2: 1 | BL2: =SUM(AT2:BK2) -> 1 | CD2: 1 | CE2: 1 | CJ2: =SUM(BM2:CI2) -> 2 | CM2: 1 | CZ2: 1
A3: =SUM(D3:Y3,AA3:AR3,AT3:BK3,BM3:CI3,CK3:DA3) -> 13 | C3: K_W02 | Z3: =SUM(D3:Y3) -> 0 | AD3: 1 | AS3: =SUM(AA3:AR3) -> 1 | AT3: 1 | AU3: 1 | BG3: 1 | BL3: =SUM(AT3:BK3) -> 3 | BT3: 1 | BU3: 1 | BX3: 1 | CA3: 1 | CB3: 1 | CJ3: =SUM(BM3:CI3) -> 5 | CN3: 1 | CO3: 1 | CQ3: 1 | CR3: 1
A4: =SUM(D4:Y4,AA4:AR4,AT4:BK4,BM4:CI4,CK4:DA4) -> 15 | C4: K_W03 | Z4: =SUM(D4:Y4) -> 0 | AF4: 1 | AM4: 1 | AS4: =SUM(AA4:AR4) -> 2 | BL4: =SUM(AT4:BK4) -> 0 | BY4: 1 | BZ4: 1 | CC4: 1 | CI4: 1 | CJ4: =SUM(BM4:CI4) -> 4 | CK4: 1 | CP4: 1 | CR4: 1 | CS4: 1 | CT4: 1 | CU4: 1 | CW4: 1 | CX4: 1 | CY4: 1
A5: =SUM(D5:Y5,AA5:AR5,AT5:BK5,BM5:CI5,CK5:DA5) -> 11 | C5: K_W04 | E5: 1 | Z5: =SUM(D5:Y5) -> 1 | AD5: 1 | AO5: 1 | AS5: =SUM(AA5:AR5) -> 2 | AT5: 1 | AY5: 1 | BI5: 1 | BJ5: 1 | BL5: =SUM(AT5:BK5) -> 4 | BT5: 1 | BU5: 1 | CJ5: =SUM(BM5:CI5) -> 2 | CN5: 1 | CO5: 1
A6: =SUM(D6:Y6,AA6:AR6,AT6:BK6,BM6:CI6,CK6:DA6) -> 15 | C6: K_W05 | Z6: =SUM(D6:Y6) -> 0 | AL6: 1 | AM6: 1 | AN6: 1 | AQ6: 1 | AS6: =SUM(AA6:AR6) -> 4 | BD6: 1 | BF6: 1 | BL6: =SUM(AT6:BK6) -> 2 | CB6: 1 | CD6: 1 | CE6: 1 | CJ6: =SUM(BM6:CI6) -> 3 | CK6: 1 | CP6: 1 | CR6: 1 | CS6: 1 | CT6: 1 | CZ6: 1
A7: =SUM(D7:Y7,AA7:AR7,AT7:BK7,BM7:CI7,CK7:DA7) -> 9 | C7: K_W06 | G7: 1 | K7: 1 | L7: 1 | Z7: =SUM(D7:Y7) -> 3 | AS7: =SUM(AA7:AR7) -> 0 | BL7: =SUM(AT7:BK7) -> 0 | BN7: 1 | BW7: 1 | BX7: 1 | CF7: 1 | CJ7: =SUM(BM7:CI7) -> 4 | CM7: 1 | DA7: 1
A8: =SUM(D8:Y8,AA8:AR8,AT8:BK8,BM8:CI8,CK8:DA8) -> 12 | C8: K_W07 | E8: 1 | G8: 1 | Z8: =SUM(D8:Y8) -> 2 | AD8: 1 | AO8: 1 | AS8: =SUM(AA8:AR8) -> 2 | AT8: 1 | AY8: 1 | BI8: 1 | BJ8: 1 | BL8: =SUM(AT8:BK8) -> 4 | BT8: 1 | BU8: 1 | CJ8: =SUM(BM8:CI8) -> 2 | CN8: 1 | CO8: 1
A9: =SUM(D9:Y9,AA9:AR9,AT9:BK9,BM9:CI9,CK9:DA9) -> 18 | C9: K_W08 | D9: 1 | G9: 1 | K9: 1 | L9: 1 | U9: 1 | Z9: =SUM(D9:Y9) -> 5 | AO9: 1 | AS9: =SUM(AA9:AR9) -> 1 | AU9: 1 | AV9: 1 | BB9: 1 | BC9: 1 | BH9: 1 | BK9: 1 | BL9: =SUM(AT9:BK9) -> 6 | BM9: 1 | BN9: 1 | BV9: 1 | BW9: 1 | CF9: 1 | CI9: 1 | CJ9: =SUM(BM9:CI9) -> 6
A10: =SUM(D10:Y10,AA10:AR10,AT10:BK10,BM10:CI10,CK10:DA10) -> 15 | C10: K_W09 | Z10: =SUM(D10:Y10) -> 0 | AS10: =SUM(AA10:AR10) -> 0 | BB10: 1 | BC10: 1 | BH10: 1 | BK10: 1 | BL10: =SUM(AT10:BK10) -> 4 | BM10: 1 | BV10: 1 | BX10: 1 | CJ10: =SUM(BM10:CI10) -> 3 | CM10: 1 | CP10: 1 | CQ10: 1 | CS10: 1 | CT10: 1 | CU10: 1 | CY10: 1 | CZ10: 1
A11: =SUM(D11:Y11,AA11:AR11,AT11:BK11,BM11:CI11,CK11:DA11) -> 14 | C11: K_W10 | Z11: =SUM(D11:Y11) -> 0 | AS11: =SUM(AA11:AR11) -> 0 | BL11: =SUM(AT11:BK11) -> 0 | BZ11: 1 | CA11: 1 | CC11: 1 | CF11: 1 | CJ11: =SUM(BM11:CI11) -> 4 | CM11: 1 | CP11: 1 | CQ11: 1 | CR11: 1 | CS11: 1 | CT11: 1 | CU11: 1 | CW11: 1 | CX11: 1 | CZ11: 1
A12: =SUM(D12:Y12,AA12:AR12,AT12:BK12,BM12:CI12,CK12:DA12) -> 7 | C12: K_W11 | N12: 1 | Z12: =SUM(D12:Y12) -> 1 | AA12: 1 | AE12: 1 | AS12: =SUM(AA12:AR12) -> 2 | BE12: 1 | BL12: =SUM(AT12:BK12) -> 1 | BM12: 1 | CG12: 1 | CJ12: =SUM(BM12:CI12) -> 2 | CV12: 1
A13: =SUM(D13:Y13,AA13:AR13,AT13:BK13,BM13:CI13,CK13:DA13) -> 5 | C13: K_W12 | Z13: =SUM(D13:Y13) -> 0 | AS13: =SUM(AA13:AR13) -> 0 | BE13: 1 | BL13: =SUM(AT13:BK13) -> 1 | BM13: 1 | CG13: 1 | CJ13: =SUM(BM13:CI13) -> 2 | CV13: 1 | DA13: 1
A14: =SUM(D14:Y14,AA14:AR14,AT14:BK14,BM14:CI14,CK14:DA14) -> 13 | B14: Umiejętności | C14: K_U01 | Z14: =SUM(D14:Y14) -> 0 | AS14: =SUM(AA14:AR14) -> 0 | AU14: 1 | AW14: 1 | AX14: 1 | BB14: 1 | BC14: 1 | BG14: 1 | BH14: 1 | BK14: 1 | BL14: =SUM(AT14:BK14) -> 8 | BM14: 1 | BW14: 1 | CJ14: =SUM(BM14:CI14) -> 2 | CM14: 1 | CQ14: 1 | CZ14: 1
A15: =SUM(D15:Y15,AA15:AR15,AT15:BK15,BM15:CI15,CK15:DA15) -> 12 | C15: K_U02 | Z15: =SUM(D15:Y15) -> 0 | AS15: =SUM(AA15:AR15) -> 0 | AU15: 1 | AW15: 1 | AX15: 1 | BB15: 1 | BC15: 1 | BG15: 1 | BH15: 1 | BK15: 1 | BL15: =SUM(AT15:BK15) -> 8 | BM15: 1 | BV15: 1 | BX15: 1 | CF15: 1 | CJ15: =SUM(BM15:CI15) -> 4
A16: =SUM(D16:Y16,AA16:AR16,AT16:BK16,BM16:CI16,CK16:DA16) -> 19 | C16: K_U03 | F16: 1 | Q16: 1 | V16: 1 | Z16: =SUM(D16:Y16) -> 3 | AL16: 1 | AM16: 1 | AN16: 1 | AQ16: 1 | AS16: =SUM(AA16:AR16) -> 4 | AT16: 1 | AY16: 1 | BB16: 1 | BC16: 1 | BH16: 1 | BK16: 1 | BL16: =SUM(AT16:BK16) -> 6 | BV16: 1 | CA16: 1 | CB16: 1 | CF16: 1 | CJ16: =SUM(BM16:CI16) -> 4 | CN16: 1 | CO16: 1
A17: =SUM(D17:Y17,AA17:AR17,AT17:BK17,BM17:CI17,CK17:DA17) -> 15 | C17: K_U04 | Z17: =SUM(D17:Y17) -> 0 | AS17: =SUM(AA17:AR17) -> 0 | BB17: 1 | BC17: 1 | BD17: 1 | BH17: 1 | BL17: =SUM(AT17:BK17) -> 4 | BR17: 1 | BS17: 1 | BV17: 1 | BX17: 1 | BZ17: 1 | CA17: 1 | CB17: 1 | CJ17: =SUM(BM17:CI17) -> 7 | CK17: 1 | CM17: 1 | CR17: 1 | CZ17: 1
A18: =SUM(D18:Y18,AA18:AR18,AT18:BK18,BM18:CI18,CK18:DA18) -> 19 | C18: K_U05 | Z18: =SUM(D18:Y18) -> 0 | AF18: 1 | AG18: 1 | AH18: 1 | AS18: =SUM(AA18:AR18) -> 3 | BL18: =SUM(AT18:BK18) -> 0 | BY18: 1 | CC18: 1 | CD18: 1 | CF18: 1 | CI18: 1 | CJ18: =SUM(BM18:CI18) -> 5 | CK18: 1 | CM18: 1 | CP18: 1 | CQ18: 1 | CR18: 1 | CS18: 1 | CT18: 1 | CU18: 1 | CW18: 1 | CY18: 1 | CZ18: 1
A19: =SUM(D19:Y19,AA19:AR19,AT19:BK19,BM19:CI19,CK19:DA19) -> 17 | C19: K_U06 | Z19: =SUM(D19:Y19) -> 0 | AF19: 1 | AS19: =SUM(AA19:AR19) -> 1 | BF19: 1 | BL19: =SUM(AT19:BK19) -> 1 | BR19: 1 | BS19: 1 | BY19: 1 | BZ19: 1 | CC19: 1 | CI19: 1 | CJ19: =SUM(BM19:CI19) -> 6 | CK19: 1 | CM19: 1 | CP19: 1 | CR19: 1 | CS19: 1 | CT19: 1 | CU19: 1 | CW19: 1 | CY19: 1
A20: =SUM(D20:Y20,AA20:AR20,AT20:BK20,BM20:CI20,CK20:DA20) -> 17 | C20: K_U07 | Z20: =SUM(D20:Y20) -> 0 | AO20: 1 | AP20: 1 | AQ20: 1 | AS20: =SUM(AA20:AR20) -> 3 | BB20: 1 | BL20: =SUM(AT20:BK20) -> 1 | BR20: 1 | BS20: 1 | CC20: 1 | CD20: 1 | CI20: 1 | CJ20: =SUM(BM20:CI20) -> 5 | CP20: 1 | CR20: 1 | CS20: 1 | CT20: 1 | CU20: 1 | CW20: 1 | CX20: 1 | CY20: 1
A21: =SUM(D21:Y21,AA21:AR21,AT21:BK21,BM21:CI21,CK21:DA21) -> 15 | C21: K_U08 | Z21: =SUM(D21:Y21) -> 0 | AD21: 1 | AS21: =SUM(AA21:AR21) -> 1 | AX21: 1 | AY21: 1 | BI21: 1 | BJ21: 1 | BK21: 1 | BL21: =SUM(AT21:BK21) -> 5 | BR21: 1 | BS21: 1 | BU21: 1 | BV21: 1 | CA21: 1 | CB21: 1 | CI21: 1 | CJ21: =SUM(BM21:CI21) -> 7 | CN21: 1 | CO21: 1
A22: =SUM(D22:Y22,AA22:AR22,AT22:BK22,BM22:CI22,CK22:DA22) -> 18 | C22: K_U09 | R22: 1 | W22: 1 | Z22: =SUM(D22:Y22) -> 2 | AG22: 1 | AH22: 1 | AS22: =SUM(AA22:AR22) -> 2 | BE22: 1 | BL22: =SUM(AT22:BK22) -> 1 | BY22: 1 | CC22: 1 | CD22: 1 | CE22: 1 | CG22: 1 | CJ22: =SUM(BM22:CI22) -> 5 | CP22: 1 | CR22: 1 | CS22: 1 | CT22: 1 | CU22: 1 | CV22: 1 | CX22: 1 | CZ22: 1
A23: =SUM(D23:Y23,AA23:AR23,AT23:BK23,BM23:CI23,CK23:DA23) -> 14 | C23: K_U10 | Z23: =SUM(D23:Y23) -> 0 | AS23: =SUM(AA23:AR23) -> 0 | AU23: 1 | AW23: 1 | AX23: 1 | BB23: 1 | BC23: 1 | BG23: 1 | BL23: =SUM(AT23:BK23) -> 6 | BR23: 1 | BS23: 1 | BV23: 1 | BX23: 1 | CA23: 1 | CB23: 1 | CJ23: =SUM(BM23:CI23) -> 6 | CN23: 1 | CO23: 1
A24: =SUM(D24:Y24,AA24:AR24,AT24:BK24,BM24:CI24,CK24:DA24) -> 15 | C24: K_U11 | T24: 1 | Z24: =SUM(D24:Y24) -> 1 | AH24: 1 | AS24: =SUM(AA24:AR24) -> 1 | BD24: 1 | BL24: =SUM(AT24:BK24) -> 1 | BR24: 1 | BS24: 1 | CC24: 1 | CD24: 1 | CE24: 1 | CG24: 1 | CH24: 1 | CJ24: =SUM(BM24:CI24) -> 7 | CR24: 1 | CV24: 1 | CW24: 1 | CX24: 1 | DA24: 1
A25: =SUM(D25:Y25,AA25:AR25,AT25:BK25,BM25:CI25,CK25:DA25) -> 4 | C25: K_U12 | I25: 1 | J25: 1 | Z25: =SUM(D25:Y25) -> 2 | AB25: 1 | AC25: 1 | AS25: =SUM(AA25:AR25) -> 2 | BL25: =SUM(AT25:BK25) -> 0 | CJ25: =SUM(BM25:CI25) -> 0
A26: =SUM(D26:Y26,AA26:AR26,AT26:BK26,BM26:CI26,CK26:DA26) -> 12 | C26: K_U13 | H26: 1 | Z26: =SUM(D26:Y26) -> 1 | AA26: 1 | AE26: 1 | AG26: 1 | AH26: 1 | AS26: =SUM(AA26:AR26) -> 4 | BE26: 1 | BL26: =SUM(AT26:BK26) -> 1 | BT26: 1 | BU26: 1 | CG26: 1 | CJ26: =SUM(BM26:CI26) -> 3 | CN26: 1 | CO26: 1 | CV26: 1
A27: =SUM(D27:Y27,AA27:AR27,AT27:BK27,BM27:CI27,CK27:DA27) -> 12 | C27: K_U14 | T27: 1 | Z27: =SUM(D27:Y27) -> 1 | AS27: =SUM(AA27:AR27) -> 0 | AV27: 1 | AW27: 1 | AX27: 1 | BE27: 1 | BL27: =SUM(AT27:BK27) -> 4 | BM27: 1 | BR27: 1 | BS27: 1 | BV27: 1 | CG27: 1 | CJ27: =SUM(BM27:CI27) -> 5 | CV27: 1 | CX27: 1
A28: =SUM(D28:Y28,AA28:AR28,AT28:BK28,BM28:CI28,CK28:DA28) -> 11 | C28: K_U15 | Z28: =SUM(D28:Y28) -> 0 | AA28: 1 | AE28: 1 | AG28: 1 | AS28: =SUM(AA28:AR28) -> 3 | AW28: 1 | AX28: 1 | BL28: =SUM(AT28:BK28) -> 2 | BR28: 1 | BS28: 1 | BV28: 1 | BX28: 1 | CA28: 1 | CB28: 1 | CJ28: =SUM(BM28:CI28) -> 6
A29: =SUM(D29:Y29,AA29:AR29,AT29:BK29,BM29:CI29,CK29:DA29) -> 9 | C29: K_U16 | Z29: =SUM(D29:Y29) -> 0 | AS29: =SUM(AA29:AR29) -> 0 | AW29: 1 | AX29: 1 | BE29: 1 | BL29: =SUM(AT29:BK29) -> 3 | BR29: 1 | CD29: 1 | CG29: 1 | CJ29: =SUM(BM29:CI29) -> 3 | CK29: 1 | CV29: 1 | DA29: 1
A30: =SUM(D30:Y30,AA30:AR30,AT30:BK30,BM30:CI30,CK30:DA30) -> 7 | C30: K_U17 | H30: 1 | X30: 1 | Y30: 1 | Z30: =SUM(D30:Y30) -> 3 | AS30: =SUM(AA30:AR30) -> 0 | BL30: =SUM(AT30:BK30) -> 0 | BT30: 1 | BU30: 1 | CJ30: =SUM(BM30:CI30) -> 2 | CN30: 1 | CO30: 1
A31: =SUM(D31:Y31,AA31:AR31,AT31:BK31,BM31:CI31,CK31:DA31) -> 17 | C31: K_U18 | E31: 1 | H31: 1 | Z31: =SUM(D31:Y31) -> 2 | AK31: 1 | AL31: 1 | AM31: 1 | AN31: 1 | AO31: 1 | AQ31: 1 | AS31: =SUM(AA31:AR31) -> 6 | AT31: 1 | BG31: 1 | BI31: 1 | BJ31: 1 | BL31: =SUM(AT31:BK31) -> 4 | BT31: 1 | BU31: 1 | CH31: 1 | CJ31: =SUM(BM31:CI31) -> 3 | CN31: 1 | CO31: 1
A32: =SUM(D32:Y32,AA32:AR32,AT32:BK32,BM32:CI32,CK32:DA32) -> 10 | C32: K_U19 | Z32: =SUM(D32:Y32) -> 0 | AS32: =SUM(AA32:AR32) -> 0 | BL32: =SUM(AT32:BK32) -> 0 | BR32: 1 | BS32: 1 | BV32: 1 | BY32: 1 | CA32: 1 | CB32: 1 | CJ32: =SUM(BM32:CI32) -> 6 | CP32: 1 | CS32: 1 | CT32: 1 | CU32: 1
A33: =SUM(D33:Y33,AA33:AR33,AT33:BK33,BM33:CI33,CK33:DA33) -> 10 | C33: K_U20 | Z33: =SUM(D33:Y33) -> 0 | AH33: 1 | AS33: =SUM(AA33:AR33) -> 1 | AW33: 1 | AX33: 1 | AY33: 1 | BE33: 1 | BL33: =SUM(AT33:BK33) -> 4 | BR33: 1 | BS33: 1 | BT33: 1 | BU33: 1 | CG33: 1 | CJ33: =SUM(BM33:CI33) -> 5
A34: =SUM(D34:Y34,AA34:AR34,AT34:BK34,BM34:CI34,CK34:DA34) -> 16 | C34: K_U21 | L34: 1 | Z34: =SUM(D34:Y34) -> 1 | AS34: =SUM(AA34:AR34) -> 0 | AV34: 1 | AW34: 1 | AX34: 1 | BF34: 1 | BL34: =SUM(AT34:BK34) -> 4 | BR34: 1 | BS34: 1 | BV34: 1 | BW34: 1 | CF34: 1 | CI34: 1 | CJ34: =SUM(BM34:CI34) -> 6 | CM34: 1 | CQ34: 1 | CW34: 1 | CY34: 1 | CZ34: 1
A35: =SUM(D35:Y35,AA35:AR35,AT35:BK35,BM35:CI35,CK35:DA35) -> 16 | C35: K_U22 | D35: 1 | G35: 1 | K35: 1 | L35: 1 | U35: 1 | Z35: =SUM(D35:Y35) -> 5 | AS35: =SUM(AA35:AR35) -> 0 | AU35: 1 | AV35: 1 | BL35: =SUM(AT35:BK35) -> 2 | BM35: 1 | BN35: 1 | BR35: 1 | BS35: 1 | CF35: 1 | CJ35: =SUM(BM35:CI35) -> 5 | CQ35: 1 | CW35: 1 | CY35: 1 | CZ35: 1
A36: =SUM(D36:Y36,AA36:AR36,AT36:BK36,BM36:CI36,CK36:DA36) -> 12 | C36: K_U23 | Z36: =SUM(D36:Y36) -> 0 | AS36: =SUM(AA36:AR36) -> 0 | AV36: 1 | BL36: =SUM(AT36:BK36) -> 1 | BN36: 1 | BR36: 1 | BS36: 1 | BV36: 1 | BW36: 1 | BZ36: 1 | CA36: 1 | CB36: 1 | CI36: 1 | CJ36: =SUM(BM36:CI36) -> 9 | CQ36: 1 | CW36: 1
A37: =SUM(D37:Y37,AA37:AR37,AT37:BK37,BM37:CI37,CK37:DA37) -> 9 | C37: K_U24 | M37: 1 | Z37: =SUM(D37:Y37) -> 1 | AS37: =SUM(AA37:AR37) -> 0 | AW37: 1 | AX37: 1 | BL37: =SUM(AT37:BK37) -> 2 | BR37: 1 | BS37: 1 | CF37: 1 | CI37: 1 | CJ37: =SUM(BM37:CI37) -> 4 | CY37: 1 | DA37: 1
A38: =SUM(D38:Y38,AA38:AR38,AT38:BK38,BM38:CI38,CK38:DA38) -> 8 | C38: K_U25 | M38: 1 | Z38: =SUM(D38:Y38) -> 1 | AS38: =SUM(AA38:AR38) -> 0 | AW38: 1 | AX38: 1 | BL38: =SUM(AT38:BK38) -> 2 | BR38: 1 | BS38: 1 | CJ38: =SUM(BM38:CI38) -> 2 | CK38: 1 | CN38: 1 | CO38: 1
A39: =SUM(D39:Y39,AA39:AR39,AT39:BK39,BM39:CI39,CK39:DA39) -> 8 | C39: K_U26 | Z39: =SUM(D39:Y39) -> 0 | AS39: =SUM(AA39:AR39) -> 0 | AT39: 1 | AY39: 1 | BF39: 1 | BJ39: 1 | BL39: =SUM(AT39:BK39) -> 4 | BU39: 1 | CF39: 1 | CJ39: =SUM(BM39:CI39) -> 2 | CN39: 1 | CO39: 1
A40: =SUM(D40:Y40,AA40:AR40,AT40:BK40,BM40:CI40,CK40:DA40) -> 13 | C40: K_U27 | N40: 1 | Z40: =SUM(D40:Y40) -> 1 | AS40: =SUM(AA40:AR40) -> 0 | AY40: 1 | BG40: 1 | BI40: 1 | BJ40: 1 | BL40: =SUM(AT40:BK40) -> 4 | BM40: 1 | BR40: 1 | BS40: 1 | BV40: 1 | BW40: 1 | CA40: 1 | CB40: 1 | CG40: 1 | CJ40: =SUM(BM40:CI40) -> 8
A41: =SUM(D41:Y41,AA41:AR41,AT41:BK41,BM41:CI41,CK41:DA41) -> 15 | C41: K_U28 | Z41: =SUM(D41:Y41) -> 0 | AS41: =SUM(AA41:AR41) -> 0 | BL41: =SUM(AT41:BK41) -> 0 | BR41: 1 | BS41: 1 | BY41: 1 | CC41: 1 | CD41: 1 | CE41: 1 | CH41: 1 | CI41: 1 | CJ41: =SUM(BM41:CI41) -> 8 | CM41: 1 | CP41: 1 | CR41: 1 | CS41: 1 | CT41: 1 | CU41: 1 | CZ41: 1
A42: =SUM(D42:Y42,AA42:AR42,AT42:BK42,BM42:CI42,CK42:DA42) -> 34 | B42: Kompetencje społeczne | C42: K_K01 | D42: 1 | E42: 1 | F42: 1 | G42: 1 | H42: 1 | I42: 1 | J42: 1 | K42: 1 | L42: 1 | N42: 1 | Q42: 1 | R42: 1 | U42: 1 | V42: 1 | W42: 1 | Z42: =SUM(D42:Y42) -> 15 | AB42: 1 | AC42: 1 | AD42: 1 | AK42: 1 | AL42: 1 | AM42: 1 | AN42: 1 | AO42: 1 | AP42: 1 | AQ42: 1 | AR42: 1 | AS42: =SUM(AA42:AR42) -> 11 | AT42: 1 | AY42: 1 | BI42: 1 | BJ42: 1 | BL42: =SUM(AT42:BK42) -> 4 | BT42: 1 | BU42: 1 | CJ42: =SUM(BM42:CI42) -> 2 | CN42: 1 | CO42: 1
A43: =SUM(D43:Y43,AA43:AR43,AT43:BK43,BM43:CI43,CK43:DA43) -> 21 | C43: K_K02 | Z43: =SUM(D43:Y43) -> 0 | AF43: 1 | AG43: 1 | AH43: 1 | AS43: =SUM(AA43:AR43) -> 3 | AU43: 1 | BB43: 1 | BC43: 1 | BG43: 1 | BH43: 1 | BK43: 1 | BL43: =SUM(AT43:BK43) -> 6 | BR43: 1 | BS43: 1 | BX43: 1 | BY43: 1 | CC43: 1 | CJ43: =SUM(BM43:CI43) -> 5 | CM43: 1 | CP43: 1 | CS43: 1 | CT43: 1 | CU43: 1 | CY43: 1 | CZ43: 1
A44: =SUM(D44:Y44,AA44:AR44,AT44:BK44,BM44:CI44,CK44:DA44) -> 16 | C44: K_K03 | Z44: =SUM(D44:Y44) -> 0 | AA44: 1 | AE44: 1 | AS44: =SUM(AA44:AR44) -> 2 | AU44: 1 | BL44: =SUM(AT44:BK44) -> 1 | BX44: 1 | BY44: 1 | BZ44: 1 | CA44: 1 | CB44: 1 | CC44: 1 | CE44: 1 | CJ44: =SUM(BM44:CI44) -> 7 | CK44: 1 | CM44: 1 | CQ44: 1 | CV44: 1 | CW44: 1 | CY44: 1
A45: =SUM(D45:Y45,AA45:AR45,AT45:BK45,BM45:CI45,CK45:DA45) -> 12 | C45: K_K04 | T45: 1 | Z45: =SUM(D45:Y45) -> 1 | AS45: =SUM(AA45:AR45) -> 0 | AW45: 1 | AX45: 1 | BF45: 1 | BH45: 1 | BK45: 1 | BL45: =SUM(AT45:BK45) -> 5 | BR45: 1 | BS45: 1 | CE45: 1 | CG45: 1 | CJ45: =SUM(BM45:CI45) -> 4 | CQ45: 1 | CX45: 1
A46: =SUM(D46:Y46,AA46:AR46,AT46:BK46,BM46:CI46,CK46:DA46) -> 19 | C46: K_K05 | M46: 1 | Z46: =SUM(D46:Y46) -> 1 | AF46: 1 | AG46: 1 | AH46: 1 | AS46: =SUM(AA46:AR46) -> 3 | AV46: 1 | BB46: 1 | BC46: 1 | BF46: 1 | BH46: 1 | BK46: 1 | BL46: =SUM(AT46:BK46) -> 6 | BM46: 1 | BN46: 1 | BV46: 1 | BW46: 1 | CF46: 1 | CI46: 1 | CJ46: =SUM(BM46:CI46) -> 6 | CQ46: 1 | CW46: 1 | CY46: 1
A47: =SUM(D47:Y47,AA47:AR47,AT47:BK47,BM47:CI47,CK47:DA47) -> 12 | C47: K_K06 | Z47: =SUM(D47:Y47) -> 0 | AA47: 1 | AS47: =SUM(AA47:AR47) -> 1 | BH47: 1 | BK47: 1 | BL47: =SUM(AT47:BK47) -> 2 | BR47: 1 | BS47: 1 | BY47: 1 | CA47: 1 | CB47: 1 | CC47: 1 | CE47: 1 | CG47: 1 | CJ47: =SUM(BM47:CI47) -> 8 | DA47: 1
A48: =SUM(D48:Y48,AA48:AR48,AT48:BK48,BM48:CI48,CK48:DA48) -> 11 | C48: K_K07 | R48: 1 | T48: 1 | Z48: =SUM(D48:Y48) -> 2 | AS48: =SUM(AA48:AR48) -> 0 | BB48: 1 | BC48: 1 | BF48: 1 | BL48: =SUM(AT48:BK48) -> 3 | BR48: 1 | BS48: 1 | CE48: 1 | CH48: 1 | CJ48: =SUM(BM48:CI48) -> 4 | CK48: 1 | DA48: 1
A49: =SUM(D49:Y49,AA49:AR49,AT49:BK49,BM49:CI49,CK49:DA49) -> 9 | C49: K_K08 | Z49: =SUM(D49:Y49) -> 0 | AS49: =SUM(AA49:AR49) -> 0 | BB49: 1 | BC49: 1 | BF49: 1 | BL49: =SUM(AT49:BK49) -> 3 | CH49: 1 | CJ49: =SUM(BM49:CI49) -> 1 | CM49: 1 | CW49: 1 | CY49: 1 | CZ49: 1 | DA49: 1
A50: =SUM(D50:Y50,AA50:AR50,AT50:BK50,BM50:CI50,CK50:DA50) -> 12 | C50: K_K09 | N50: 1 | Z50: =SUM(D50:Y50) -> 1 | AS50: =SUM(AA50:AR50) -> 0 | AY50: 1 | BD50: 1 | BE50: 1 | BL50: =SUM(AT50:BK50) -> 3 | BR50: 1 | BS50: 1 | BT50: 1 | BU50: 1 | CG50: 1 | CJ50: =SUM(BM50:CI50) -> 5 | CN50: 1 | CO50: 1 | DA50: 1
A51: =SUM(D51:Y51,AA51:AR51,AT51:BK51,BM51:CI51,CK51:DA51) -> 660 | C51: SUMA | D51: =SUM(D2:D50) -> 3 | E51: =SUM(E2:E50) -> 4 | F51: =SUM(F2:F50) -> 3 | G51: =SUM(G2:G50) -> 5 | H51: =SUM(H2:H50) -> 4 | I51: =SUM(I2:I50) -> 2 | J51: =SUM(J2:J50) -> 2 | K51: =SUM(K2:K50) -> 4 | ... DA51: =SUM(DA2:DA50) -> 9

Sheet Matryca_PZ
G2: Matryca
G5: Wydział | I5: Wydział Farmaceutyczny
G6: Kierunek | I6: Psychologia
G7: Cykl kształcenia | I7: 2025/2026-20029/2030
G8: Poziom kształcenia | I8: jednolite studia magisterskie
G9: Profil kształcenia | I9: praktyczny
G10: Forma studiów | I10: stacjonarne
G11: Liczba semestrów | I11: 10
G12: Łączna liczba godzin | I12: 4715
G13: Łączna liczba ECTS | I13: 300
A16: Lp. | B16: kod grupy* | C16: Cykl kształcenia (nabór) | D16: Ścieżka** | E16: Rok studiów | F16: Rok akademicki | G16: Rodzaj zajęć*** (RPS, POW, PSW) | H16: ****Pula godzin (ze standardu, do dyspozycji uczelni (Autorska oferta uczelni)) | I16: Przedmiot (nazwa) | J16: łącznie dla przedmiotu | Q16: Suma efektów w poszczególnych kategoriach
J17: SUMA GODZIN PRZEDMIOTU | O17: ECTS | P17: forma zakończenia przedmiotu
J18: NAKŁAD PRACY STUDENTA (godz. dyd. + samodzielna praca) | K18: SAMODZIELNA PRACA STUDENTA | L18: GODZINY DYDAKTYCZNE | M18: W TYM TEORIA (WY+SE) | N18: GODZINY Z NAUCZYCIELEM | Q18: Wiedza | R18: Umiejetności | S18: Kompetencje społeczne | T18: Wiedza | AF18: Umiejętności | BH18: Kompetencje społeczne | BQ18: Proporcje poszczególnych kategorii efektów dla przedmiotu | CE18: Dyscyplina
T19: K_W01 | U19: K_W02 | V19: K_W03 | W19: K_W04 | X19: K_W05 | Y19: K_W06 | Z19: K_W07 | AA19: K_W08 | AB19: K_W09 | AC19: K_W10 | AD19: K_W11 | AE19: K_W12 | AF19: K_U01 | AG19: K_U02 | AH19: K_U03 | AI19: K_U04 | AJ19: K_U05 | AK19: K_U06 | AL19: K_U07 | AM19: K_U08 | AN19: K_U09 | AO19: K_U10 | AP19: K_U11 | AQ19: K_U12 | AR19: K_U13 | AS19: K_U14 | AT19: K_U15 | AU19: K_U16 | AV19: K_U17 | AW19: K_U18 | AX19: K_U19 | AY19: K_U20 | AZ19: K_U21 | BA19: K_U22 | BB19: K_U23 | BC19: K_U24 | BD19: K_U25 | BE19: K_U26 | BF19: K_U27 | BG19: K_U28 | BH19: K_K01 | BI19: K_K02 | BJ19: K_K03 | BK19: K_K04 | BL19: K_K05 | BM19: K_K06 | BN19: K_K07 | BO19: K_K08 | BP19: K_K09 | CE19: psychologia | CF19: nauki o zdrowiu | CG19: nauki medyczne | CH19: humanistyczne
A20: =Psychologia!A20 -> 1 | B20: =IF(Psychologia!#REF!>0,Psychologia!#REF!," ") -> #REF! | C20: =IF(Psychologia!B20>0,Psychologia!B20," ") -> 2026/2027 | D20: =IF(Psychologia!C20>0,Psychologia!C20," ") | E20: =IF(Psychologia!D20>0,Psychologia!D20," ") -> 1 | F20: =IF(Psychologia!E20>0,Psychologia!E20," ") -> 2026/2027 | G20: =IF(Psychologia!F20>0,Psychologia!F20," ") -> RPS | H20: =IF(Psychologia!#REF!>0,Psychologia!#REF!," ") -> #REF! | I20: =IF(Psychologia!G20>0,Psychologia!G20," ") -> Biologiczne uwarunkowania procesów psychicznych | J20: =Psychologia!U20+Psychologia!AQ20 -> 100 | K20: =Psychologia!AN20+Psychologia!BJ20 -> 40 | L20: =Psychologia!V20+Psychologia!AR20 -> 60 | M20: =Psychologia!X20+Psychologia!Z20+Psychologia!AT20+Psychologia!AV20 -> 30 | N20: =Psychologia!W20+Psychologia!AS20 -> 60 | O20: =Psychologia!T20+Psychologia!AP20 -> 4 | P20: =IF(Psychologia!R20>0,Psychologia!R20," ") -> egz | Q20: =SUM(T20:AE20) -> 0 | R20: =SUM(AF20:BG20) -> 0 | S20: =SUM(BH20:BP20) -> 0
A21: =Psychologia!A21 -> 2 | B21: =IF(Psychologia!#REF!>0,Psychologia!#REF!," ") -> #REF! | C21: =IF(Psychologia!B21>0,Psychologia!B21," ") -> 2026/2027 | D21: =IF(Psychologia!C21>0,Psychologia!C21," ") | E21: =IF(Psychologia!D21>0,Psychologia!D21," ") -> 1 | F21: =IF(Psychologia!E21>0,Psychologia!E21," ") -> 2026/2027 | G21: =IF(Psychologia!F21>0,Psychologia!F21," ") -> RPS | H21: =IF(Psychologia!#REF!>0,Psychologia!#REF!," ") -> #REF! | I21: =IF(Psychologia!G21>0,Psychologia!G21," ") -> Podejście evidence based w psychologii | J21: =Psychologia!U21+Psychologia!AQ21 -> 25 | K21: =Psychologia!AN21+Psychologia!BJ21 -> 0 | L21: =Psychologia!V21+Psychologia!AR21 -> 25 | M21: =Psychologia!X21+Psychologia!Z21+Psychologia!AT21+Psychologia!AV21 -> 25 | N21: =Psychologia!W21+Psychologia!AS21 -> 25 | O21: =Psychologia!T21+Psychologia!AP21 -> 1 | P21: =IF(Psychologia!R21>0,Psychologia!R21," ") -> zal/o | Q21: =SUM(T21:AE21) -> 0 | R21: =SUM(AF21:BG21) -> 0 | S21: =SUM(BH21:BP21) -> 0
A22: =Psychologia!A22 -> 3 | B22: =IF(Psychologia!#REF!>0,Psychologia!#REF!," ") -> #REF! | C22: =IF(Psychologia!B22>0,Psychologia!B22," ") -> 2026/2027 | D22: =IF(Psychologia!C22>0,Psychologia!C22," ") | E22: =IF(Psychologia!D22>0,Psychologia!D22," ") -> 1 | F22: =IF(Psychologia!E22>0,Psychologia!E22," ") -> 2026/2027 | G22: =IF(Psychologia!F22>0,Psychologia!F22," ") -> RPS | H22: =IF(Psychologia!#REF!>0,Psychologia!#REF!," ") -> #REF! | I22: =IF(Psychologia!G22>0,Psychologia!G22," ") -> Filozofia z logiką | J22: =Psychologia!U22+Psychologia!AQ22 -> 125 | K22: =Psychologia!AN22+Psychologia!BJ22 -> 75 | L22: =Psychologia!V22+Psychologia!AR22 -> 50 | M22: =Psychologia!X22+Psychologia!Z22+Psychologia!AT22+Psychologia!AV22 -> 30 | N22: =Psychologia!W22+Psychologia!AS22 -> 50 | O22: =Psychologia!T22+Psychologia!AP22 -> 5 | P22: =IF(Psychologia!R22>0,Psychologia!R22," ") -> egz | Q22: =SUM(T22:AE22) -> 0 | R22: =SUM(AF22:BG22) -> 0 | S22: =SUM(BH22:BP22) -> 0
A23: =Psychologia!A23 -> 4 | B23: =IF(Psychologia!#REF!>0,Psychologia!#REF!," ") -> #REF! | C23: =IF(Psychologia!B23>0,Psychologia!B23," ") -> 2026/2027 | D23: =IF(Psychologia!C23>0,Psychologia!C23," ") | E23: =IF(Psychologia!D23>0,Psychologia!D23," ") -> 1 | F23: =IF(Psychologia!E23>0,Psychologia!E23," ") -> 2026/2027 | G23: =IF(Psychologia!F23>0,Psychologia!F23," ") -> RPS | H23: =IF(Psychologia!#REF!>0,Psychologia!#REF!," ") -> #REF! | I23: =IF(Psychologia!G23>0,Psychologia!G23," ") -> Psychogenetyka | J23: =Psychologia!U23+Psychologia!AQ23 -> 50 | K23: =Psychologia!AN23+Psychologia!BJ23 -> 15 | L23: =Psychologia!V23+Psychologia!AR23 -> 35 | M23: =Psychologia!X23+Psychologia!Z23+Psychologia!AT23+Psychologia!AV23 -> 15 | N23: =Psychologia!W23+Psychologia!AS23 -> 35 | O23: =Psychologia!T23+Psychologia!AP23 -> 2 | P23: =IF(Psychologia!R23>0,Psychologia!R23," ") -> zal/o | Q23: =SUM(T23:AE23) -> 0 | R23: =SUM(AF23:BG23) -> 0 | S23: =SUM(BH23:BP23) -> 0
A24: =Psychologia!A24 -> 5 | B24: =IF(Psychologia!#REF!>0,Psychologia!#REF!," ") -> #REF! | C24: =IF(Psychologia!B24>0,Psychologia!B24," ") -> 2026/2027 | D24: =IF(Psychologia!C24>0,Psychologia!C24," ") | E24: =IF(Psychologia!D24>0,Psychologia!D24," ") -> 1 | F24: =IF(Psychologia!E24>0,Psychologia!E24," ") -> 2026/2027 | G24: =IF(Psychologia!F24>0,Psychologia!F24," ") -> RPS | H24: =IF(Psychologia!#REF!>0,Psychologia!#REF!," ") -> #REF! | I24: =IF(Psychologia!G24>0,Psychologia!G24," ") -> Kompetencje akademickie | J24: =Psychologia!U24+Psychologia!AQ24 -> 28 | K24: =Psychologia!AN24+Psychologia!BJ24 -> 0 | L24: =Psychologia!V24+Psychologia!AR24 -> 28 | M24: =Psychologia!X24+Psychologia!Z24+Psychologia!AT24+Psychologia!AV24 -> 0 | N24: =Psychologia!W24+Psychologia!AS24 -> 28 | O24: =Psychologia!T24+Psychologia!AP24 -> 0 | P24: =IF(Psychologia!R24>0,Psychologia!R24," ") -> zal | Q24: =SUM(T24:AE24) -> 0 | R24: =SUM(AF24:BG24) -> 0 | S24: =SUM(BH24:BP24) -> 0
A25: =Psychologia!A25 -> 6 | B25: =IF(Psychologia!#REF!>0,Psychologia!#REF!," ") -> #REF! | C25: =IF(Psychologia!B25>0,Psychologia!B25," ") -> 2026/2027 | D25: =IF(Psychologia!C25>0,Psychologia!C25," ") | E25: =IF(Psychologia!D25>0,Psychologia!D25," ") -> 1 | F25: =IF(Psychologia!E25>0,Psychologia!E25," ") -> 2026/2027 | G25: =IF(Psychologia!F25>0,Psychologia!F25," ") -> RPS | H25: =IF(Psychologia!#REF!>0,Psychologia!#REF!," ") -> #REF! | I25: =IF(Psychologia!G25>0,Psychologia!G25," ") -> Lektorat z języka angielskiego I | J25: =Psychologia!U25+Psychologia!AQ25 -> 50 | K25: =Psychologia!AN25+Psychologia!BJ25 -> 20 | L25: =Psychologia!V25+Psychologia!AR25 -> 30 | M25: =Psychologia!X25+Psychologia!Z25+Psychologia!AT25+Psychologia!AV25 -> 0 | N25: =Psychologia!W25+Psychologia!AS25 -> 30 | O25: =Psychologia!T25+Psychologia!AP25 -> 2 | P25: =IF(Psychologia!R25>0,Psychologia!R25," ") -> zal/o | Q25: =SUM(T25:AE25) -> 0 | R25: =SUM(AF25:BG25) -> 0 | S25: =SUM(BH25:BP25) -> 0
A26: =Psychologia!A26 -> 7 | B26: =IF(Psychologia!#REF!>0,Psychologia!#REF!," ") -> #REF! | C26: =IF(Psychologia!B26>0,Psychologia!B26," ") -> 2026/2027 | D26: =IF(Psychologia!C26>0,Psychologia!C26," ") | E26: =IF(Psychologia!D26>0,Psychologia!D26," ") -> 1 | F26: =IF(Psychologia!E26>0,Psychologia!E26," ") -> 2026/2027 | G26: =IF(Psychologia!F26>0,Psychologia!F26," ") -> RPS | H26: =IF(Psychologia!#REF!>0,Psychologia!#REF!," ") -> #REF! | I26: =IF(Psychologia!G26>0,Psychologia!G26," ") -> Lektorat z języka angielskiego II | J26: =Psychologia!U26+Psychologia!AQ26 -> 50 | K26: =Psychologia!AN26+Psychologia!BJ26 -> 20 | L26: =Psychologia!V26+Psychologia!AR26 -> 30 | M26: =Psychologia!X26+Psychologia!Z26+Psychologia!AT26+Psychologia!AV26 -> 0 | N26: =Psychologia!W26+Psychologia!AS26 -> 30 | O26: =Psychologia!T26+Psychologia!AP26 -> 2 | P26: =IF(Psychologia!R26>0,Psychologia!R26," ") -> zal/o | Q26: =SUM(T26:AE26) -> 0 | R26: =SUM(AF26:BG26) -> 0 | S26: =SUM(BH26:BP26) -> 0
A27: =Psychologia!A27 -> 8 | B27: =IF(Psychologia!#REF!>0,Psychologia!#REF!," ") -> #REF! | C27: =IF(Psychologia!B27>0,Psychologia!B27," ") -> 2026/2027 | D27: =IF(Psychologia!C27>0,Psychologia!C27," ") | E27: =IF(Psychologia!D27>0,Psychologia!D27," ") -> 1 | F27: =IF(Psychologia!E27>0,Psychologia!E27," ") -> 2026/2027 | G27: =IF(Psychologia!F27>0,Psychologia!F27," ") -> RPS | H27: =IF(Psychologia!#REF!>0,Psychologia!#REF!," ") -> #REF! | I27: =IF(Psychologia!G27>0,Psychologia!G27," ") -> Neurobiologia i mechanizmy zachowania | J27: =Psychologia!U27+Psychologia!AQ27 -> 80 | K27: =Psychologia!AN27+Psychologia!BJ27 -> 60 | L27: =Psychologia!V27+Psychologia!AR27 -> 20 | M27: =Psychologia!X27+Psychologia!Z27+Psychologia!AT27+Psychologia!AV27 -> 10 | N27: =Psychologia!W27+Psychologia!AS27 -> 20 | O27: =Psychologia!T27+Psychologia!AP27 -> 3 | P27: =IF(Psychologia!R27>0,Psychologia!R27," ") -> zal/o | Q27: =SUM(T27:AE27) -> 0 | R27: =SUM(AF27:BG27) -> 0 | S27: =SUM(BH27:BP27) -> 0
A28: =Psychologia!A28 -> 9 | B28: =IF(Psychologia!#REF!>0,Psychologia!#REF!," ") -> #REF! | C28: =IF(Psychologia!B28>0,Psychologia!B28," ") -> 2026/2027 | D28: =IF(Psychologia!C28>0,Psychologia!C28," ") | E28: =IF(Psychologia!D28>0,Psychologia!D28," ") -> 1 | F28: =IF(Psychologia!E28>0,Psychologia!E28," ") -> 2026/2027 | G28: =IF(Psychologia!F28>0,Psychologia!F28," ") -> RPS | H28: =IF(Psychologia!#REF!>0,Psychologia!#REF!," ") -> #REF! | I28: =IF(Psychologia!G28>0,Psychologia!G28," ") -> Podstawy neurofizjologii dla psychologów | J28: =Psychologia!U28+Psychologia!AQ28 -> 100 | K28: =Psychologia!AN28+Psychologia!BJ28 -> 65 | L28: =Psychologia!V28+Psychologia!AR28 -> 35 | M28: =Psychologia!X28+Psychologia!Z28+Psychologia!AT28+Psychologia!AV28 -> 10 | N28: =Psychologia!W28+Psychologia!AS28 -> 35 | O28: =Psychologia!T28+Psychologia!AP28 -> 4 | P28: =IF(Psychologia!R28>0,Psychologia!R28," ") -> egz | Q28: =SUM(T28:AE28) -> 0 | R28: =SUM(AF28:BG28) -> 0 | S28: =SUM(BH28:BP28) -> 0
A29: =Psychologia!A29 -> 10 | B29: =IF(Psychologia!#REF!>0,Psychologia!#REF!," ") -> #REF! | C29: =IF(Psychologia!B29>0,Psychologia!B29," ") -> 2026/2027 | D29: =IF(Psychologia!C29>0,Psychologia!C29," ") | E29: =IF(Psychologia!D29>0,Psychologia!D29," ") -> 1 | F29: =IF(Psychologia!E29>0,Psychologia!E29," ") -> 2026/2027 | G29: =IF(Psychologia!F29>0,Psychologia!F29," ") -> RPS | H29: =IF(Psychologia!#REF!>0,Psychologia!#REF!," ") -> #REF! | I29: =IF(Psychologia!G29>0,Psychologia!G29," ") -> Pierwsza pomoc medyczna | J29: =Psychologia!U29+Psychologia!AQ29 -> 25 | K29: =Psychologia!AN29+Psychologia!BJ29 -> 10 | L29: =Psychologia!V29+Psychologia!AR29 -> 15 | M29: =Psychologia!X29+Psychologia!Z29+Psychologia!AT29+Psychologia!AV29 -> 5 | N29: =Psychologia!W29+Psychologia!AS29 -> 15 | O29: =Psychologia!T29+Psychologia!AP29 -> 1 | P29: =IF(Psychologia!R29>0,Psychologia!R29," ") -> zal/o | Q29: =SUM(T29:AE29) -> 0 | R29: =SUM(AF29:BG29) -> 0 | S29: =SUM(BH29:BP29) -> 0
A30: =Psychologia!A30 -> 11 | B30: =IF(Psychologia!#REF!>0,Psychologia!#REF!," ") -> #REF! | C30: =IF(Psychologia!B30>0,Psychologia!B30," ") -> 2026/2027 | D30: =IF(Psychologia!C30>0,Psychologia!C30," ") | E30: =IF(Psychologia!D30>0,Psychologia!D30," ") -> 1 | F30: =IF(Psychologia!E30>0,Psychologia!E30," ") -> 2026/2027 | G30: =IF(Psychologia!F30>0,Psychologia!F30," ") -> RPS | H30: =IF(Psychologia!#REF!>0,Psychologia!#REF!," ") -> #REF! | I30: =IF(Psychologia!G30>0,Psychologia!G30," ") -> Podstawy technologii informacyjnej | J30: =Psychologia!U30+Psychologia!AQ30 -> 50 | K30: =Psychologia!AN30+Psychologia!BJ30 -> 20 | L30: =Psychologia!V30+Psychologia!AR30 -> 30 | M30: =Psychologia!X30+Psychologia!Z30+Psychologia!AT30+Psychologia!AV30 -> 0 | N30: =Psychologia!W30+Psychologia!AS30 -> 30 | O30: =Psychologia!T30+Psychologia!AP30 -> 2 | P30: =IF(Psychologia!R30>0,Psychologia!R30," ") -> zal/o | Q30: =SUM(T30:AE30) -> 0 | R30: =SUM(AF30:BG30) -> 0 | S30: =SUM(BH30:BP30) -> 0
A31: =Psychologia!A31 -> 12 | B31: =IF(Psychologia!#REF!>0,Psychologia!#REF!," ") -> #REF! | C31: =IF(Psychologia!B31>0,Psychologia!B31," ") -> 2026/2027 | D31: =IF(Psychologia!C31>0,Psychologia!C31," ") | E31: =IF(Psychologia!D31>0,Psychologia!D31," ") -> 1 | F31: =IF(Psychologia!E31>0,Psychologia!E31," ") -> 2026/2027 | G31: =IF(Psychologia!F31>0,Psychologia!F31," ") -> POW | H31: =IF(Psychologia!#REF!>0,Psychologia!#REF!," ") -> #REF! | I31: =IF(Psychologia!G31>0,Psychologia!G31," ") -> Przedmiot fakultatywny 1: Rola organizacji pozarządowych w systemie ochrony zdrowia / Sport, umysł i granice ludzkich możliwości | J31: =Psychologia!U31+Psychologia!AQ31 -> 50 | K31: =Psychologia!AN31+Psychologia!BJ31 -> 10 | L31: =Psychologia!V31+Psychologia!AR31 -> 40 | M31: =Psychologia!X31+Psychologia!Z31+Psychologia!AT31+Psychologia!AV31 -> 0 | N31: =Psychologia!W31+Psychologia!AS31 -> 40 | O31: =Psychologia!T31+Psychologia!AP31 -> 2 | P31: =IF(Psychologia!R31>0,Psychologia!R31," ") -> zal/o | Q31: =SUM(T31:AE31) -> 0 | R31: =SUM(AF31:BG31) -> 0 | S31: =SUM(BH31:BP31) -> 0
A32: =Psychologia!A32 -> 13 | B32: =IF(Psychologia!#REF!>0,Psychologia!#REF!," ") -> #REF! | C32: =IF(Psychologia!B32>0,Psychologia!B32," ") -> 2026/2027 | D32: =IF(Psychologia!C32>0,Psychologia!C32," ") | E32: =IF(Psychologia!D32>0,Psychologia!D32," ") -> 1 | F32: =IF(Psychologia!E32>0,Psychologia!E32," ") -> 2026/2027 | G32: =IF(Psychologia!F32>0,Psychologia!F32," ") -> POW | H32: =IF(Psychologia!#REF!>0,Psychologia!#REF!," ") -> #REF! | I32: =IF(Psychologia!G32>0,Psychologia!G32," ") -> Przedmiot fakultatywny 2: Społeczne przyczyny kryzysów psychicznych / Podstawy neurobiologii eksperymentalnej | J32: =Psychologia!U32+Psychologia!AQ32 -> 50 | K32: =Psychologia!AN32+Psychologia!BJ32 -> 10 | L32: =Psychologia!V32+Psychologia!AR32 -> 40 | M32: =Psychologia!X32+Psychologia!Z32+Psychologia!AT32+Psychologia!AV32 -> 10 | N32: =Psychologia!W32+Psychologia!AS32 -> 40 | O32: =Psychologia!T32+Psychologia!AP32 -> 2 | P32: =IF(Psychologia!R32>0,Psychologia!R32," ") -> zal/o | Q32: =SUM(T32:AE32) -> 0 | R32: =SUM(AF32:BG32) -> 0 | S32: =SUM(BH32:BP32) -> 0
A33: =Psychologia!#REF! -> #REF! | B33: =IF(Psychologia!#REF!>0,Psychologia!#REF!," ") -> #REF! | C33: =IF(Psychologia!#REF!>0,Psychologia!#REF!," ") -> #REF! | D33: =IF(Psychologia!#REF!>0,Psychologia!#REF!," ") -> #REF! | E33: =IF(Psychologia!#REF!>0,Psychologia!#REF!," ") -> #REF! | F33: =IF(Psychologia!#REF!>0,Psychologia!#REF!," ") -> #REF! | G33: =IF(Psychologia!#REF!>0,Psychologia!#REF!," ") -> #REF! | H33: =IF(Psychologia!#REF!>0,Psychologia!#REF!," ") -> #REF! | I33: =IF(Psychologia!#REF!>0,Psychologia!#REF!," ") -> #REF! | J33: =Psychologia!#REF!+Psychologia!#REF! -> #REF! | K33: =Psychologia!#REF!+Psychologia!#REF! -> #REF! | L33: =Psychologia!#REF!+Psychologia!#REF! -> #REF! | M33: =Psychologia!#REF!+Psychologia!#REF!+Psychologia!#REF!+Psychologia!#REF! -> #REF! | N33: =Psychologia!#REF!+Psychologia!#REF! -> #REF! | O33: =Psychologia!#REF!+Psychologia!#REF! -> #REF! | P33: =IF(Psychologia!#REF!>0,Psychologia!#REF!," ") -> #REF! | Q33: =SUM(T33:AE33) -> 0 | R33: =SUM(AF33:BG33) -> 0 | S33: =SUM(BH33:BP33) -> 0
A34: =Psychologia!A34 -> 15 | B34: =IF(Psychologia!#REF!>0,Psychologia!#REF!," ") -> #REF! | C34: =IF(Psychologia!B34>0,Psychologia!B34," ") -> 2026/2027 | D34: =IF(Psychologia!C34>0,Psychologia!C34," ") | E34: =IF(Psychologia!D34>0,Psychologia!D34," ") -> 1 | F34: =IF(Psychologia!E34>0,Psychologia!E34," ") -> 2026/2027 | G34: =IF(Psychologia!F34>0,Psychologia!F34," ") -> RPS | H34: =IF(Psychologia!#REF!>0,Psychologia!#REF!," ") -> #REF! | I34: =IF(Psychologia!G34>0,Psychologia!G34," ") -> Psychologia społeczna | J34: =Psychologia!U34+Psychologia!AQ34 -> 125 | K34: =Psychologia!AN34+Psychologia!BJ34 -> 75 | L34: =Psychologia!V34+Psychologia!AR34 -> 50 | M34: =Psychologia!X34+Psychologia!Z34+Psychologia!AT34+Psychologia!AV34 -> 30 | N34: =Psychologia!W34+Psychologia!AS34 -> 50 | O34: =Psychologia!T34+Psychologia!AP34 -> 5 | P34: =IF(Psychologia!R34>0,Psychologia!R34," ") -> egz | Q34: =SUM(T34:AE34) -> 0 | R34: =SUM(AF34:BG34) -> 0 | S34: =SUM(BH34:BP34) -> 0
A35: =Psychologia!#REF! -> #REF! | B35: =IF(Psychologia!#REF!>0,Psychologia!#REF!," ") -> #REF! | C35: =IF(Psychologia!#REF!>0,Psychologia!#REF!," ") -> #REF! | D35: =IF(Psychologia!#REF!>0,Psychologia!#REF!," ") -> #REF! | E35: =IF(Psychologia!#REF!>0,Psychologia!#REF!," ") -> #REF! | F35: =IF(Psychologia!#REF!>0,Psychologia!#REF!," ") -> #REF! | G35: =IF(Psychologia!#REF!>0,Psychologia!#REF!," ") -> #REF! | H35: =IF(Psychologia!#REF!>0,Psychologia!#REF!," ") -> #REF! | I35: =IF(Psychologia!#REF!>0,Psychologia!#REF!," ") -> #REF! | J35: =Psychologia!#REF!+Psychologia!#REF! -> #REF! | K35: =Psychologia!#REF!+Psychologia!#REF! -> #REF! | L35: =Psychologia!#REF!+Psychologia!#REF! -> #REF! | M35: =Psychologia!#REF!+Psychologia!#REF!+Psychologia!#REF!+Psychologia!#REF! -> #REF! | N35: =Psychologia!#REF!+Psychologia!#REF! -> #REF! | O35: =Psychologia!#REF!+Psychologia!#REF! -> #REF! | P35: =IF(Psychologia!#REF!>0,Psychologia!#REF!," ") -> #REF! | Q35: =SUM(T35:AE35) -> 0 | R35: =SUM(AF35:BG35) -> 0 | S35: =SUM(BH35:BP35) -> 0
A36: =Psychologia!A35 -> 16 | B36: =IF(Psychologia!#REF!>0,Psychologia!#REF!," ") -> #REF! | C36: =IF(Psychologia!B35>0,Psychologia!B35," ") -> 2026/2027 | D36: =IF(Psychologia!C35>0,Psychologia!C35," ") | E36: =IF(Psychologia!D35>0,Psychologia!D35," ") -> 1 | F36: =IF(Psychologia!E35>0,Psychologia!E35," ") -> 2026/2027 | G36: =IF(Psychologia!F35>0,Psychologia!F35," ") -> RPS | H36: =IF(Psychologia!#REF!>0,Psychologia!#REF!," ") -> #REF! | I36: =IF(Psychologia!G35>0,Psychologia!G35," ") -> Trening umiejętności interpersonalnych I | J36: =Psychologia!U35+Psychologia!AQ35 -> 75 | K36: =Psychologia!AN35+Psychologia!BJ35 -> 30 | L36: =Psychologia!V35+Psychologia!AR35 -> 45 | M36: =Psychologia!X35+Psychologia!Z35+Psychologia!AT35+Psychologia!AV35 -> 0 | N36: =Psychologia!W35+Psychologia!AS35 -> 45 | O36: =Psychologia!T35+Psychologia!AP35 -> 3 | P36: =IF(Psychologia!R35>0,Psychologia!R35," ") -> zal/o | Q36: =SUM(T36:AE36) -> 0 | R36: =SUM(AF36:BG36) -> 0 | S36: =SUM(BH36:BP36) -> 0
A37: =Psychologia!A37 -> 18 | B37: =IF(Psychologia!#REF!>0,Psychologia!#REF!," ") -> #REF! | C37: =IF(Psychologia!B37>0,Psychologia!B37," ") -> 2026/2027 | D37: =IF(Psychologia!C37>0,Psychologia!C37," ") | E37: =IF(Psychologia!D37>0,Psychologia!D37," ") -> 1 | F37: =IF(Psychologia!E37>0,Psychologia!E37," ") -> 2026/2027 | G37: =IF(Psychologia!F37>0,Psychologia!F37," ") -> RPS | H37: =IF(Psychologia!#REF!>0,Psychologia!#REF!," ") -> #REF! | I37: =IF(Psychologia!G37>0,Psychologia!G37," ") -> Wprowadzenie do neuroanatomii | J37: =Psychologia!U37+Psychologia!AQ37 -> 125 | K37: =Psychologia!AN37+Psychologia!BJ37 -> 65 | L37: =Psychologia!V37+Psychologia!AR37 -> 60 | M37: =Psychologia!X37+Psychologia!Z37+Psychologia!AT37+Psychologia!AV37 -> 20 | N37: =Psychologia!W37+Psychologia!AS37 -> 60 | O37: =Psychologia!T37+Psychologia!AP37 -> 5 | P37: =IF(Psychologia!R37>0,Psychologia!R37," ") -> zal/o | Q37: =SUM(T37:AE37) -> 0 | R37: =SUM(AF37:BG37) -> 0 | S37: =SUM(BH37:BP37) -> 0
A38: =Psychologia!A38 -> 19 | B38: =IF(Psychologia!#REF!>0,Psychologia!#REF!," ") -> #REF! | C38: =IF(Psychologia!B38>0,Psychologia!B38," ") -> 2026/2027 | D38: =IF(Psychologia!C38>0,Psychologia!C38," ") | E38: =IF(Psychologia!D38>0,Psychologia!D38," ") -> 1 | F38: =IF(Psychologia!E38>0,Psychologia!E38," ") -> 2026/2027 | G38: =IF(Psychologia!F38>0,Psychologia!F38," ") -> RPS | H38: =IF(Psychologia!#REF!>0,Psychologia!#REF!," ") -> #REF! | I38: =IF(Psychologia!G38>0,Psychologia!G38," ") -> Wprowadzenie do psychologii i historii myśli psychologicznej | J38: =Psychologia!U38+Psychologia!AQ38 -> 100 | K38: =Psychologia!AN38+Psychologia!BJ38 -> 60 | L38: =Psychologia!V38+Psychologia!AR38 -> 40 | M38: =Psychologia!X38+Psychologia!Z38+Psychologia!AT38+Psychologia!AV38 -> 30 | N38: =Psychologia!W38+Psychologia!AS38 -> 40 | O38: =Psychologia!T38+Psychologia!AP38 -> 4 | P38: =IF(Psychologia!R38>0,Psychologia!R38," ") -> egz | Q38: =SUM(T38:AE38) -> 0 | R38: =SUM(AF38:BG38) -> 0 | S38: =SUM(BH38:BP38) -> 0
A39: =Psychologia!A39 -> 20 | B39: =IF(Psychologia!#REF!>0,Psychologia!#REF!," ") -> #REF! | C39: =IF(Psychologia!B39>0,Psychologia!B39," ") -> 2026/2027 | D39: =IF(Psychologia!C39>0,Psychologia!C39," ") | E39: =IF(Psychologia!D39>0,Psychologia!D39," ") -> 1 | F39: =IF(Psychologia!E39>0,Psychologia!E39," ") -> 2026/2027 | G39: =IF(Psychologia!F39>0,Psychologia!F39," ") -> RPS | H39: =IF(Psychologia!#REF!>0,Psychologia!#REF!," ") -> #REF! | I39: =IF(Psychologia!G39>0,Psychologia!G39," ") -> Wprowadzenie do psychologii społecznej | J39: =Psychologia!U39+Psychologia!AQ39 -> 100 | K39: =Psychologia!AN39+Psychologia!BJ39 -> 45 | L39: =Psychologia!V39+Psychologia!AR39 -> 55 | M39: =Psychologia!X39+Psychologia!Z39+Psychologia!AT39+Psychologia!AV39 -> 30 | N39: =Psychologia!W39+Psychologia!AS39 -> 55 | O39: =Psychologia!T39+Psychologia!AP39 -> 4 | P39: =IF(Psychologia!R39>0,Psychologia!R39," ") -> egz | Q39: =SUM(T39:AE39) -> 0 | R39: =SUM(AF39:BG39) -> 0 | S39: =SUM(BH39:BP39) -> 0
A40: =Psychologia!A40 -> 21 | B40: =IF(Psychologia!#REF!>0,Psychologia!#REF!," ") -> #REF! | C40: =IF(Psychologia!B40>0,Psychologia!B40," ") -> 2026/2027 | D40: =IF(Psychologia!C40>0,Psychologia!C40," ") | E40: =IF(Psychologia!D40>0,Psychologia!D40," ") -> 1 | F40: =IF(Psychologia!E40>0,Psychologia!E40," ") -> 2026/2027 | G40: =IF(Psychologia!F40>0,Psychologia!F40," ") -> RPS | H40: =IF(Psychologia!#REF!>0,Psychologia!#REF!," ") -> #REF! | I40: =IF(Psychologia!G40>0,Psychologia!G40," ") -> Wychowanie fizyczne I | J40: =Psychologia!U40+Psychologia!AQ40 -> 30 | K40: =Psychologia!AN40+Psychologia!BJ40 -> 0 | L40: =Psychologia!V40+Psychologia!AR40 -> 30 | M40: =Psychologia!X40+Psychologia!Z40+Psychologia!AT40+Psychologia!AV40 -> 0 | N40: =Psychologia!W40+Psychologia!AS40 -> 30 | O40: =Psychologia!T40+Psychologia!AP40 -> 0 | P40: =IF(Psychologia!R40>0,Psychologia!R40," ") -> zal | Q40: =SUM(T40:AE40) -> 0 | R40: =SUM(AF40:BG40) -> 0 | S40: =SUM(BH40:BP40) -> 0
A41: =Psychologia!A41 -> 22 | B41: =IF(Psychologia!#REF!>0,Psychologia!#REF!," ") -> #REF! | C41: =IF(Psychologia!B41>0,Psychologia!B41," ") -> 2026/2027 | D41: =IF(Psychologia!C41>0,Psychologia!C41," ") | E41: =IF(Psychologia!D41>0,Psychologia!D41," ") -> 1 | F41: =IF(Psychologia!E41>0,Psychologia!E41," ") -> 2026/2027 | G41: =IF(Psychologia!F41>0,Psychologia!F41," ") -> RPS | H41: =IF(Psychologia!#REF!>0,Psychologia!#REF!," ") -> #REF! | I41: =IF(Psychologia!G41>0,Psychologia!G41," ") -> Wychowanie fizyczne II | J41: =Psychologia!U41+Psychologia!AQ41 -> 30 | K41: =Psychologia!AN41+Psychologia!BJ41 -> 0 | L41: =Psychologia!V41+Psychologia!AR41 -> 30 | M41: =Psychologia!X41+Psychologia!Z41+Psychologia!AT41+Psychologia!AV41 -> 0 | N41: =Psychologia!W41+Psychologia!AS41 -> 30 | O41: =Psychologia!T41+Psychologia!AP41 -> 0 | P41: =IF(Psychologia!R41>0,Psychologia!R41," ") -> zal | Q41: =SUM(T41:AE41) -> 0 | R41: =SUM(AF41:BG41) -> 0 | S41: =SUM(BH41:BP41) -> 0
B42: =IF(Psychologia!#REF!>0,Psychologia!#REF!," ") -> #REF! | C42: =IF(Psychologia!B42>0,Psychologia!B42," ") | D42: =IF(Psychologia!C42>0,Psychologia!C42," ") | E42: =IF(Psychologia!D42>0,Psychologia!D42," ") | F42: =IF(Psychologia!E42>0,Psychologia!E42," ") | G42: =IF(Psychologia!F42>0,Psychologia!F42," ") | H42: =IF(Psychologia!#REF!>0,Psychologia!#REF!," ") -> #REF! | I42: =IF(Psychologia!G42>0,Psychologia!G42," ") -> sumy dla 1 roku | J42: =Psychologia!U42+Psychologia!AQ42 -> 1593 | K42: =Psychologia!AN42+Psychologia!BJ42 -> 730 | L42: =SUM(Psychologia!L20:L41) -> 863 | M42: =SUM(M20:M41) -> #REF! | N42: =SUM(Psychologia!M20:M41) -> 863 | O42: =SUM(Psychologia!N20:N41) -> 60 | P42: =IF(Psychologia!R42>0,Psychologia!R42," ") | Q42: =SUM(Q20:Q41) -> 0 | R42: =SUM(R20:R41) -> 0 | S42: =SUM(S20:S41) -> 0 | T42: =SUM(T20:T41) -> 0 | U42: =SUM(U20:U41) -> 0 | V42: =SUM(V20:V41) -> 0 | W42: =SUM(W20:W41) -> 0 | X42: =SUM(X20:X41) -> 0 | ... BP42: =SUM(BP20:BP41) -> 0
A43: =Psychologia!A43 -> 23 | B43: =IF(Psychologia!#REF!>0,Psychologia!#REF!," ") -> #REF! | C43: =IF(Psychologia!B43>0,Psychologia!B43," ") -> 2026/2027 | D43: =IF(Psychologia!C43>0,Psychologia!C43," ") | E43: =IF(Psychologia!D43>0,Psychologia!D43," ") -> 2 | F43: =IF(Psychologia!E43>0,Psychologia!E43," ") -> 2027/2028 | G43: =IF(Psychologia!F43>0,Psychologia!F43," ") -> RPS | H43: =IF(Psychologia!#REF!>0,Psychologia!#REF!," ") -> #REF! | I43: =IF(Psychologia!G43>0,Psychologia!G43," ") -> Etyka zawodu psychologa | J43: =Psychologia!U43+Psychologia!AQ43 -> 100 | K43: =Psychologia!AN43+Psychologia!BJ43 -> 60 | L43: =Psychologia!V43+Psychologia!AR43 -> 40 | M43: =Psychologia!X43+Psychologia!Z43+Psychologia!AT43+Psychologia!AV43 -> 5 | N43: =Psychologia!W43+Psychologia!AS43 -> 40 | O43: =Psychologia!T43+Psychologia!AP43 -> 4 | P43: =IF(Psychologia!R43>0,Psychologia!R43," ") -> egz | Q43: =SUM(T43:AE43) -> 0 | R43: =SUM(AF43:BG43) -> 0 | S43: =SUM(BH43:BP43) -> 0
A44: =Psychologia!A44 -> 24 | B44: =IF(Psychologia!#REF!>0,Psychologia!#REF!," ") -> #REF! | C44: =IF(Psychologia!B44>0,Psychologia!B44," ") -> 2026/2027 | D44: =IF(Psychologia!C44>0,Psychologia!C44," ") | E44: =IF(Psychologia!D44>0,Psychologia!D44," ") -> 2 | F44: =IF(Psychologia!E44>0,Psychologia!E44," ") -> 2027/2028 | G44: =IF(Psychologia!F44>0,Psychologia!F44," ") -> RPS | H44: =IF(Psychologia!#REF!>0,Psychologia!#REF!," ") -> #REF! | I44: =IF(Psychologia!G44>0,Psychologia!G44," ") -> Lektorat z języka angielskiego III | J44: =Psychologia!U44+Psychologia!AQ44 -> 50 | K44: =Psychologia!AN44+Psychologia!BJ44 -> 20 | L44: =Psychologia!V44+Psychologia!AR44 -> 30 | M44: =Psychologia!X44+Psychologia!Z44+Psychologia!AT44+Psychologia!AV44 -> 0 | N44: =Psychologia!W44+Psychologia!AS44 -> 30 | O44: =Psychologia!T44+Psychologia!AP44 -> 2 | P44: =IF(Psychologia!R44>0,Psychologia!R44," ") -> zal/o | Q44: =SUM(T44:AE44) -> 0 | R44: =SUM(AF44:BG44) -> 0 | S44: =SUM(BH44:BP44) -> 0
A45: =Psychologia!A45 -> 25 | B45: =IF(Psychologia!#REF!>0,Psychologia!#REF!," ") -> #REF! | C45: =IF(Psychologia!B45>0,Psychologia!B45," ") -> 2026/2027 | D45: =IF(Psychologia!C45>0,Psychologia!C45," ") | E45: =IF(Psychologia!D45>0,Psychologia!D45," ") -> 2 | F45: =IF(Psychologia!E45>0,Psychologia!E45," ") -> 2027/2028 | G45: =IF(Psychologia!F45>0,Psychologia!F45," ") -> RPS | H45: =IF(Psychologia!#REF!>0,Psychologia!#REF!," ") -> #REF! | I45: =IF(Psychologia!G45>0,Psychologia!G45," ") -> Lektorat z języka angielskiego IV | J45: =Psychologia!U45+Psychologia!AQ45 -> 75 | K45: =Psychologia!AN45+Psychologia!BJ45 -> 45 | L45: =Psychologia!V45+Psychologia!AR45 -> 30 | M45: =Psychologia!X45+Psychologia!Z45+Psychologia!AT45+Psychologia!AV45 -> 0 | N45: =Psychologia!W45+Psychologia!AS45 -> 30 | O45: =Psychologia!T45+Psychologia!AP45 -> 3 | P45: =IF(Psychologia!R45>0,Psychologia!R45," ") -> egz | Q45: =SUM(T45:AE45) -> 0 | R45: =SUM(AF45:BG45) -> 0 | S45: =SUM(BH45:BP45) -> 0
A46: =Psychologia!A46 -> 26 | B46: =IF(Psychologia!#REF!>0,Psychologia!#REF!," ") -> #REF! | C46: =IF(Psychologia!B46>0,Psychologia!B46," ") -> 2026/2027 | D46: =IF(Psychologia!C46>0,Psychologia!C46," ") | E46: =IF(Psychologia!D46>0,Psychologia!D46," ") -> 2 | F46: =IF(Psychologia!E46>0,Psychologia!E46," ") -> 2027/2028 | G46: =IF(Psychologia!F46>0,Psychologia!F46," ") -> RPS | H46: =IF(Psychologia!#REF!>0,Psychologia!#REF!," ") -> #REF! | I46: =IF(Psychologia!G46>0,Psychologia!G46," ") -> Metodologia badań psychologicznych I | J46: =Psychologia!U46+Psychologia!AQ46 -> 100 | K46: =Psychologia!AN46+Psychologia!BJ46 -> 40 | L46: =Psychologia!V46+Psychologia!AR46 -> 60 | M46: =Psychologia!X46+Psychologia!Z46+Psychologia!AT46+Psychologia!AV46 -> 30 | N46: =Psychologia!W46+Psychologia!AS46 -> 60 | O46: =Psychologia!T46+Psychologia!AP46 -> 4 | P46: =IF(Psychologia!R46>0,Psychologia!R46," ") -> egz | Q46: =SUM(T46:AE46) -> 0 | R46: =SUM(AF46:BG46) -> 0 | S46: =SUM(BH46:BP46) -> 0
A47: =Psychologia!A47 -> 27 | B47: =IF(Psychologia!#REF!>0,Psychologia!#REF!," ") -> #REF! | C47: =IF(Psychologia!B47>0,Psychologia!B47," ") -> 2026/2027 | D47: =IF(Psychologia!C47>0,Psychologia!C47," ") | E47: =IF(Psychologia!D47>0,Psychologia!D47," ") -> 2 | F47: =IF(Psychologia!E47>0,Psychologia!E47," ") -> 2027/2028 | G47: =IF(Psychologia!F47>0,Psychologia!F47," ") -> RPS | H47: =IF(Psychologia!#REF!>0,Psychologia!#REF!," ") -> #REF! | I47: =IF(Psychologia!G47>0,Psychologia!G47," ") -> Ochrona własności intelektualnej | J47: =Psychologia!U47+Psychologia!AQ47 -> 25 | K47: =Psychologia!AN47+Psychologia!BJ47 -> 10 | L47: =Psychologia!V47+Psychologia!AR47 -> 15 | M47: =Psychologia!X47+Psychologia!Z47+Psychologia!AT47+Psychologia!AV47 -> 5 | N47: =Psychologia!W47+Psychologia!AS47 -> 15 | O47: =Psychologia!T47+Psychologia!AP47 -> 1 | P47: =IF(Psychologia!R47>0,Psychologia!R47," ") -> zal/o | Q47: =SUM(T47:AE47) -> 0 | R47: =SUM(AF47:BG47) -> 0 | S47: =SUM(BH47:BP47) -> 0
A48: =Psychologia!A48 -> 28 | B48: =IF(Psychologia!#REF!>0,Psychologia!#REF!," ") -> #REF! | C48: =IF(Psychologia!B48>0,Psychologia!B48," ") -> 2026/2027 | D48: =IF(Psychologia!C48>0,Psychologia!C48," ") | E48: =IF(Psychologia!D48>0,Psychologia!D48," ") -> 2 | F48: =IF(Psychologia!E48>0,Psychologia!E48," ") -> 2027/2028 | G48: =IF(Psychologia!F48>0,Psychologia!F48," ") -> RPS | H48: =IF(Psychologia!#REF!>0,Psychologia!#REF!," ") -> #REF! | I48: =IF(Psychologia!G48>0,Psychologia!G48," ") -> Podstawy pomocy psychologicznej | J48: =Psychologia!U48+Psychologia!AQ48 -> 100 | K48: =Psychologia!AN48+Psychologia!BJ48 -> 35 | L48: =Psychologia!V48+Psychologia!AR48 -> 65 | M48: =Psychologia!X48+Psychologia!Z48+Psychologia!AT48+Psychologia!AV48 -> 5 | N48: =Psychologia!W48+Psychologia!AS48 -> 65 | O48: =Psychologia!T48+Psychologia!AP48 -> 4 | P48: =IF(Psychologia!R48>0,Psychologia!R48," ") -> zal/o | Q48: =SUM(T48:AE48) -> 0 | R48: =SUM(AF48:BG48) -> 0 | S48: =SUM(BH48:BP48) -> 0
A49: =Psychologia!A49 -> 29 | B49: =IF(Psychologia!#REF!>0,Psychologia!#REF!," ") -> #REF! | C49: =IF(Psychologia!B49>0,Psychologia!B49," ") -> 2026/2027 | D49: =IF(Psychologia!C49>0,Psychologia!C49," ") | E49: =IF(Psychologia!D49>0,Psychologia!D49," ") -> 2 | F49: =IF(Psychologia!E49>0,Psychologia!E49," ") -> 2027/2028 | G49: =IF(Psychologia!F49>0,Psychologia!F49," ") -> RPS | H49: =IF(Psychologia!#REF!>0,Psychologia!#REF!," ") -> #REF! | I49: =IF(Psychologia!G49>0,Psychologia!G49," ") -> Praktyki zawodowe w zakresie pomocy psychologicznej | J49: =Psychologia!U49+Psychologia!AQ49 -> 160 | K49: =Psychologia!AN49+Psychologia!BJ49 -> 0 | L49: =Psychologia!V49+Psychologia!AR49 -> 160 | M49: =Psychologia!X49+Psychologia!Z49+Psychologia!AT49+Psychologia!AV49 -> 0 | N49: =Psychologia!W49+Psychologia!AS49 -> 160 | O49: =Psychologia!T49+Psychologia!AP49 -> 6 | P49: =IF(Psychologia!R49>0,Psychologia!R49," ") -> zal/o | Q49: =SUM(T49:AE49) -> 0 | R49: =SUM(AF49:BG49) -> 0 | S49: =SUM(BH49:BP49) -> 0
A50: =Psychologia!A50 -> 30 | B50: =IF(Psychologia!#REF!>0,Psychologia!#REF!," ") -> #REF! | C50: =IF(Psychologia!B50>0,Psychologia!B50," ") -> 2026/2027 | D50: =IF(Psychologia!C50>0,Psychologia!C50," ") | E50: =IF(Psychologia!D50>0,Psychologia!D50," ") -> 2 | F50: =IF(Psychologia!E50>0,Psychologia!E50," ") -> 2027/2028 | G50: =IF(Psychologia!F50>0,Psychologia!F50," ") -> RPS | H50: =IF(Psychologia!#REF!>0,Psychologia!#REF!," ") -> #REF! | I50: =IF(Psychologia!G50>0,Psychologia!G50," ") -> Praktyki zawodowe w zakresie promocji i edukacji zdrowia | J50: =Psychologia!U50+Psychologia!AQ50 -> 160 | K50: =Psychologia!AN50+Psychologia!BJ50 -> 0 | L50: =Psychologia!V50+Psychologia!AR50 -> 160 | M50: =Psychologia!X50+Psychologia!Z50+Psychologia!AT50+Psychologia!AV50 -> 0 | N50: =Psychologia!W50+Psychologia!AS50 -> 160 | O50: =Psychologia!T50+Psychologia!AP50 -> 6 | P50: =IF(Psychologia!R50>0,Psychologia!R50," ") -> zal/o | Q50: =SUM(T50:AE50) -> 0 | R50: =SUM(AF50:BG50) -> 0 | S50: =SUM(BH50:BP50) -> 0
A51: =Psychologia!A52 -> 32 | B51: =IF(Psychologia!#REF!>0,Psychologia!#REF!," ") -> #REF! | C51: =IF(Psychologia!B52>0,Psychologia!B52," ") -> 2026/2027 | D51: =IF(Psychologia!C52>0,Psychologia!C52," ") | E51: =IF(Psychologia!D52>0,Psychologia!D52," ") -> 2 | F51: =IF(Psychologia!E52>0,Psychologia!E52," ") -> 2027/2028 | G51: =IF(Psychologia!F52>0,Psychologia!F52," ") -> POW | H51: =IF(Psychologia!#REF!>0,Psychologia!#REF!," ") -> #REF! | I51: =IF(Psychologia!G52>0,Psychologia!G52," ") -> Przedmiot fakultatywny 4: Podstawy organizacji i zarządzania / Psychologia języka | J51: =Psychologia!U52+Psychologia!AQ52 -> 50 | K51: =Psychologia!AN52+Psychologia!BJ52 -> 10 | L51: =Psychologia!V52+Psychologia!AR52 -> 40 | M51: =Psychologia!X52+Psychologia!Z52+Psychologia!AT52+Psychologia!AV52 -> 15 | N51: =Psychologia!W52+Psychologia!AS52 -> 40 | O51: =Psychologia!T52+Psychologia!AP52 -> 2 | P51: =IF(Psychologia!R52>0,Psychologia!R52," ") -> zal/o | Q51: =SUM(T51:AE51) -> 0 | R51: =SUM(AF51:BG51) -> 0 | S51: =SUM(BH51:BP51) -> 0
A52: =Psychologia!#REF! -> #REF! | B52: =IF(Psychologia!#REF!>0,Psychologia!#REF!," ") -> #REF! | C52: =IF(Psychologia!#REF!>0,Psychologia!#REF!," ") -> #REF! | D52: =IF(Psychologia!#REF!>0,Psychologia!#REF!," ") -> #REF! | E52: =IF(Psychologia!#REF!>0,Psychologia!#REF!," ") -> #REF! | F52: =IF(Psychologia!#REF!>0,Psychologia!#REF!," ") -> #REF! | G52: =IF(Psychologia!#REF!>0,Psychologia!#REF!," ") -> #REF! | H52: =IF(Psychologia!#REF!>0,Psychologia!#REF!," ") -> #REF! | I52: =IF(Psychologia!#REF!>0,Psychologia!#REF!," ") -> #REF! | J52: =Psychologia!#REF!+Psychologia!#REF! -> #REF! | K52: =Psychologia!#REF!+Psychologia!#REF! -> #REF! | L52: =Psychologia!#REF!+Psychologia!#REF! -> #REF! | M52: =Psychologia!#REF!+Psychologia!#REF!+Psychologia!#REF!+Psychologia!#REF! -> #REF! | N52: =Psychologia!#REF!+Psychologia!#REF! -> #REF! | O52: =Psychologia!#REF!+Psychologia!#REF! -> #REF! | P52: =IF(Psychologia!#REF!>0,Psychologia!#REF!," ") -> #REF! | Q52: =SUM(T52:AE52) -> 0 | R52: =SUM(AF52:BG52) -> 0 | S52: =SUM(BH52:BP52) -> 0
A53: =Psychologia!A53 -> 33 | B53: =IF(Psychologia!#REF!>0,Psychologia!#REF!," ") -> #REF! | C53: =IF(Psychologia!B53>0,Psychologia!B53," ") -> 2026/2027 | D53: =IF(Psychologia!C53>0,Psychologia!C53," ") | E53: =IF(Psychologia!D53>0,Psychologia!D53," ") -> 2 | F53: =IF(Psychologia!E53>0,Psychologia!E53," ") -> 2027/2028 | G53: =IF(Psychologia!F53>0,Psychologia!F53," ") -> RPS | H53: =IF(Psychologia!#REF!>0,Psychologia!#REF!," ") -> #REF! | I53: =IF(Psychologia!G53>0,Psychologia!G53," ") -> Psychologia emocji i motywacji I | J53: =Psychologia!U53+Psychologia!AQ53 -> 75 | K53: =Psychologia!AN53+Psychologia!BJ53 -> 15 | L53: =Psychologia!V53+Psychologia!AR53 -> 60 | M53: =Psychologia!X53+Psychologia!Z53+Psychologia!AT53+Psychologia!AV53 -> 30 | N53: =Psychologia!W53+Psychologia!AS53 -> 60 | O53: =Psychologia!T53+Psychologia!AP53 -> 3 | P53: =IF(Psychologia!R53>0,Psychologia!R53," ") -> zal/o | Q53: =SUM(T53:AE53) -> 0 | R53: =SUM(AF53:BG53) -> 0 | S53: =SUM(BH53:BP53) -> 0
A54: =Psychologia!A54 -> 34 | B54: =IF(Psychologia!#REF!>0,Psychologia!#REF!," ") -> #REF! | C54: =IF(Psychologia!B54>0,Psychologia!B54," ") -> 2026/2027 | D54: =IF(Psychologia!C54>0,Psychologia!C54," ") | E54: =IF(Psychologia!D54>0,Psychologia!D54," ") -> 2 | F54: =IF(Psychologia!E54>0,Psychologia!E54," ") -> 2027/2028 | G54: =IF(Psychologia!F54>0,Psychologia!F54," ") -> RPS | H54: =IF(Psychologia!#REF!>0,Psychologia!#REF!," ") -> #REF! | I54: =IF(Psychologia!G54>0,Psychologia!G54," ") -> Psychologia emocji i motywacji II | J54: =Psychologia!U54+Psychologia!AQ54 -> 75 | K54: =Psychologia!AN54+Psychologia!BJ54 -> 15 | L54: =Psychologia!V54+Psychologia!AR54 -> 60 | M54: =Psychologia!X54+Psychologia!Z54+Psychologia!AT54+Psychologia!AV54 -> 30 | N54: =Psychologia!W54+Psychologia!AS54 -> 60 | O54: =Psychologia!T54+Psychologia!AP54 -> 3 | P54: =IF(Psychologia!R54>0,Psychologia!R54," ") -> egz | Q54: =SUM(T54:AE54) -> 0 | R54: =SUM(AF54:BG54) -> 0 | S54: =SUM(BH54:BP54) -> 0
A55: =Psychologia!A55 -> 35 | B55: =IF(Psychologia!#REF!>0,Psychologia!#REF!," ") -> #REF! | C55: =IF(Psychologia!B55>0,Psychologia!B55," ") -> 2026/2027 | D55: =IF(Psychologia!C55>0,Psychologia!C55," ") | E55: =IF(Psychologia!D55>0,Psychologia!D55," ") -> 2 | F55: =IF(Psychologia!E55>0,Psychologia!E55," ") -> 2027/2028 | G55: =IF(Psychologia!F55>0,Psychologia!F55," ") -> RPS | H55: =IF(Psychologia!#REF!>0,Psychologia!#REF!," ") -> #REF! | I55: =IF(Psychologia!G55>0,Psychologia!G55," ") -> Psychologia osobowości | J55: =Psychologia!U55+Psychologia!AQ55 -> 125 | K55: =Psychologia!AN55+Psychologia!BJ55 -> 55 | L55: =Psychologia!V55+Psychologia!AR55 -> 70 | M55: =Psychologia!X55+Psychologia!Z55+Psychologia!AT55+Psychologia!AV55 -> 30 | N55: =Psychologia!W55+Psychologia!AS55 -> 70 | O55: =Psychologia!T55+Psychologia!AP55 -> 5 | P55: =IF(Psychologia!R55>0,Psychologia!R55," ") -> egz | Q55: =SUM(T55:AE55) -> 0 | R55: =SUM(AF55:BG55) -> 0 | S55: =SUM(BH55:BP55) -> 0
A56: =Psychologia!A56 -> 36 | B56: =IF(Psychologia!#REF!>0,Psychologia!#REF!," ") -> #REF! | C56: =IF(Psychologia!B56>0,Psychologia!B56," ") -> 2026/2027 | D56: =IF(Psychologia!C56>0,Psychologia!C56," ") | E56: =IF(Psychologia!D56>0,Psychologia!D56," ") -> 2 | F56: =IF(Psychologia!E56>0,Psychologia!E56," ") -> 2027/2028 | G56: =IF(Psychologia!F56>0,Psychologia!F56," ") -> RPS | H56: =IF(Psychologia!#REF!>0,Psychologia!#REF!," ") -> #REF! | I56: =IF(Psychologia!G56>0,Psychologia!G56," ") -> Psychologia procesów poznawczych | J56: =Psychologia!U56+Psychologia!AQ56 -> 100 | K56: =Psychologia!AN56+Psychologia!BJ56 -> 40 | L56: =Psychologia!V56+Psychologia!AR56 -> 60 | M56: =Psychologia!X56+Psychologia!Z56+Psychologia!AT56+Psychologia!AV56 -> 30 | N56: =Psychologia!W56+Psychologia!AS56 -> 60 | O56: =Psychologia!T56+Psychologia!AP56 -> 4 | P56: =IF(Psychologia!R56>0,Psychologia!R56," ") -> egz | Q56: =SUM(T56:AE56) -> 0 | R56: =SUM(AF56:BG56) -> 0 | S56: =SUM(BH56:BP56) -> 0
A57: =Psychologia!A57 -> 37 | B57: =IF(Psychologia!#REF!>0,Psychologia!#REF!," ") -> #REF! | C57: =IF(Psychologia!B57>0,Psychologia!B57," ") -> 2026/2027 | D57: =IF(Psychologia!C57>0,Psychologia!C57," ") | E57: 2 | F57: 2025/2026 | G57: =IF(Psychologia!F57>0,Psychologia!F57," ") -> RPS | H57: =IF(Psychologia!#REF!>0,Psychologia!#REF!," ") -> #REF! | I57: =IF(Psychologia!G57>0,Psychologia!G57," ") -> Psychologia rozwoju człowieka | J57: =Psychologia!U57+Psychologia!AQ57 -> 100 | K57: =Psychologia!AN57+Psychologia!BJ57 -> 50 | L57: =Psychologia!V57+Psychologia!AR57 -> 50 | M57: =Psychologia!X57+Psychologia!Z57+Psychologia!AT57+Psychologia!AV57 -> 30 | N57: =Psychologia!W57+Psychologia!AS57 -> 50 | O57: =Psychologia!T57+Psychologia!AP57 -> 4 | P57: =IF(Psychologia!R57>0,Psychologia!R57," ") -> egz | Q57: =SUM(T57:AE57) -> 0 | R57: =SUM(AF57:BG57) -> 0 | S57: =SUM(BH57:BP57) -> 0
A58: =Psychologia!A58 -> 38 | B58: =IF(Psychologia!#REF!>0,Psychologia!#REF!," ") -> #REF! | C58: =IF(Psychologia!B58>0,Psychologia!B58," ") -> 2026/2027 | D58: =IF(Psychologia!C58>0,Psychologia!C58," ") | E58: =IF(Psychologia!D58>0,Psychologia!D58," ") -> 2 | F58: =IF(Psychologia!E58>0,Psychologia!E58," ") -> 2027/2028 | G58: =IF(Psychologia!F58>0,Psychologia!F58," ") -> RPS | H58: =IF(Psychologia!#REF!>0,Psychologia!#REF!," ") -> #REF! | I58: =IF(Psychologia!G58>0,Psychologia!G58," ") -> Psychologia różnic indywidualnych I | J58: =Psychologia!U58+Psychologia!AQ58 -> 50 | K58: =Psychologia!AN58+Psychologia!BJ58 -> 0 | L58: =Psychologia!V58+Psychologia!AR58 -> 50 | M58: =Psychologia!X58+Psychologia!Z58+Psychologia!AT58+Psychologia!AV58 -> 25 | N58: =Psychologia!W58+Psychologia!AS58 -> 50 | O58: =Psychologia!T58+Psychologia!AP58 -> 2 | P58: =IF(Psychologia!R58>0,Psychologia!R58," ") -> zal/o | Q58: =SUM(T58:AE58) -> 0 | R58: =SUM(AF58:BG58) -> 0 | S58: =SUM(BH58:BP58) -> 0
A59: =Psychologia!A59 -> 39 | B59: =IF(Psychologia!#REF!>0,Psychologia!#REF!," ") -> #REF! | C59: =IF(Psychologia!B59>0,Psychologia!B59," ") -> 2026/2027 | D59: =IF(Psychologia!C59>0,Psychologia!C59," ") | E59: =IF(Psychologia!D59>0,Psychologia!D59," ") -> 2 | F59: =IF(Psychologia!E59>0,Psychologia!E59," ") -> 2027/2028 | G59: =IF(Psychologia!F59>0,Psychologia!F59," ") -> RPS | H59: =IF(Psychologia!#REF!>0,Psychologia!#REF!," ") -> #REF! | I59: =IF(Psychologia!G59>0,Psychologia!G59," ") -> Psychologia różnic indywidualnych II | J59: =Psychologia!U59+Psychologia!AQ59 -> 75 | K59: =Psychologia!AN59+Psychologia!BJ59 -> 25 | L59: =Psychologia!V59+Psychologia!AR59 -> 50 | M59: =Psychologia!X59+Psychologia!Z59+Psychologia!AT59+Psychologia!AV59 -> 20 | N59: =Psychologia!W59+Psychologia!AS59 -> 50 | O59: =Psychologia!T59+Psychologia!AP59 -> 3 | P59: =IF(Psychologia!R59>0,Psychologia!R59," ") -> egz | Q59: =SUM(T59:AE59) -> 0 | R59: =SUM(AF59:BG59) -> 0 | S59: =SUM(BH59:BP59) -> 0
A60: =Psychologia!A60 -> 40 | B60: =IF(Psychologia!#REF!>0,Psychologia!#REF!," ") -> #REF! | C60: =IF(Psychologia!B60>0,Psychologia!B60," ") -> 2026/2027 | D60: =IF(Psychologia!C60>0,Psychologia!C60," ") | E60: =IF(Psychologia!D60>0,Psychologia!D60," ") -> 2 | F60: =IF(Psychologia!E60>0,Psychologia!E60," ") -> 2027/2028 | G60: =IF(Psychologia!F60>0,Psychologia!F60," ") -> RPS | H60: =IF(Psychologia!#REF!>0,Psychologia!#REF!," ") -> #REF! | I60: =IF(Psychologia!G60>0,Psychologia!G60," ") -> Socjologia | J60: =Psychologia!U60+Psychologia!AQ60 -> 50 | K60: =Psychologia!AN60+Psychologia!BJ60 -> 20 | L60: =Psychologia!V60+Psychologia!AR60 -> 30 | M60: =Psychologia!X60+Psychologia!Z60+Psychologia!AT60+Psychologia!AV60 -> 30 | N60: =Psychologia!W60+Psychologia!AS60 -> 30 | O60: =Psychologia!T60+Psychologia!AP60 -> 2 | P60: =IF(Psychologia!R60>0,Psychologia!R60," ") -> egz | Q60: =SUM(T60:AE60) -> 0 | R60: =SUM(AF60:BG60) -> 0 | S60: =SUM(BH60:BP60) -> 0
B61: =IF(Psychologia!#REF!>0,Psychologia!#REF!," ") -> #REF! | C61: =IF(Psychologia!B61>0,Psychologia!B61," ") | D61: =IF(Psychologia!C61>0,Psychologia!C61," ") | E61: =IF(Psychologia!D61>0,Psychologia!D61," ") | F61: =IF(Psychologia!E61>0,Psychologia!E61," ") | G61: =IF(Psychologia!F61>0,Psychologia!F61," ") | H61: =IF(Psychologia!#REF!>0,Psychologia!#REF!," ") -> #REF! | I61: =IF(Psychologia!G61>0,Psychologia!G61," ") -> sumy dla 2 roku | J61: =Psychologia!U61+Psychologia!AQ61 -> 1520 | K61: =Psychologia!AN61+Psychologia!BJ61 -> 450 | L61: =SUM(Psychologia!L43:L60) -> 1070 | M61: =SUM(M43:M60) -> #REF! | N61: =SUM(Psychologia!M43:M60) -> 1070 | O61: =SUM(Psychologia!N43:N60) -> 60 | P61: =IF(Psychologia!R61>0,Psychologia!R61," ") | Q61: =SUM(Q43:Q60) -> 0 | R61: =SUM(R43:R60) -> 0 | S61: =SUM(S43:S60) -> 0 | T61: =SUM(T43:T60) -> 0 | U61: =SUM(U43:U60) -> 0 | V61: =SUM(V43:V60) -> 0 | W61: =SUM(W43:W60) -> 0 | X61: =SUM(X43:X60) -> 0 | ... BP61: =SUM(BP43:BP60) -> 0
A62: =Psychologia!A62 -> 41 | B62: =IF(Psychologia!#REF!>0,Psychologia!#REF!," ") -> #REF! | C62: =IF(Psychologia!B62>0,Psychologia!B62," ") -> 2026/2027 | D62: =IF(Psychologia!C62>0,Psychologia!C62," ") | E62: =IF(Psychologia!D62>0,Psychologia!D62," ") -> 3 | F62: =IF(Psychologia!E62>0,Psychologia!E62," ") -> 2028/2029 | G62: =IF(Psychologia!F62>0,Psychologia!F62," ") -> RPS | H62: =IF(Psychologia!#REF!>0,Psychologia!#REF!," ") -> #REF! | I62: =IF(Psychologia!G62>0,Psychologia!G62," ") -> Metodologia badań psychologicznych II | J62: =Psychologia!U62+Psychologia!AQ62 -> 75 | K62: =Psychologia!AN62+Psychologia!BJ62 -> 50 | L62: =Psychologia!V62+Psychologia!AR62 -> 25 | M62: =Psychologia!X62+Psychologia!Z62+Psychologia!AT62+Psychologia!AV62 -> 15 | N62: =Psychologia!W62+Psychologia!AS62 -> 25 | O62: =Psychologia!T62+Psychologia!AP62 -> 3 | P62: =IF(Psychologia!R62>0,Psychologia!R62," ") -> egz | Q62: =SUM(T62:AE62) -> 0 | R62: =SUM(AF62:BG62) -> 0 | S62: =SUM(BH62:BP62) -> 0
A63: =Psychologia!A63 -> 42 | B63: =IF(Psychologia!#REF!>0,Psychologia!#REF!," ") -> #REF! | C63: =IF(Psychologia!B63>0,Psychologia!B63," ") -> 2026/2027 | D63: =IF(Psychologia!C63>0,Psychologia!C63," ") | E63: =IF(Psychologia!D63>0,Psychologia!D63," ") -> 3 | F63: =IF(Psychologia!E63>0,Psychologia!E63," ") -> 2028/2029 | G63: =IF(Psychologia!F63>0,Psychologia!F63," ") -> RPS | H63: =IF(Psychologia!#REF!>0,Psychologia!#REF!," ") -> #REF! | I63: =IF(Psychologia!G63>0,Psychologia!G63," ") -> Neuropsychologia | J63: =Psychologia!U63+Psychologia!AQ63 -> 75 | K63: =Psychologia!AN63+Psychologia!BJ63 -> 15 | L63: =Psychologia!V63+Psychologia!AR63 -> 60 | M63: =Psychologia!X63+Psychologia!Z63+Psychologia!AT63+Psychologia!AV63 -> 10 | N63: =Psychologia!W63+Psychologia!AS63 -> 60 | O63: =Psychologia!T63+Psychologia!AP63 -> 3 | P63: =IF(Psychologia!R63>0,Psychologia!R63," ") -> egz | Q63: =SUM(T63:AE63) -> 0 | R63: =SUM(AF63:BG63) -> 0 | S63: =SUM(BH63:BP63) -> 0
A64: =Psychologia!A64 -> 43 | B64: =IF(Psychologia!#REF!>0,Psychologia!#REF!," ") -> #REF! | C64: =IF(Psychologia!B64>0,Psychologia!B64," ") -> 2026/2027 | D64: =IF(Psychologia!C64>0,Psychologia!C64," ") | E64: =IF(Psychologia!D64>0,Psychologia!D64," ") -> 3 | F64: =IF(Psychologia!E64>0,Psychologia!E64," ") -> 2028/2029 | G64: =IF(Psychologia!F64>0,Psychologia!F64," ") -> RPS | H64: =IF(Psychologia!#REF!>0,Psychologia!#REF!," ") -> #REF! | I64: =IF(Psychologia!G64>0,Psychologia!G64," ") -> Podstawy neurologii | J64: =Psychologia!U64+Psychologia!AQ64 -> 100 | K64: =Psychologia!AN64+Psychologia!BJ64 -> 55 | L64: =Psychologia!V64+Psychologia!AR64 -> 45 | M64: =Psychologia!X64+Psychologia!Z64+Psychologia!AT64+Psychologia!AV64 -> 5 | N64: =Psychologia!W64+Psychologia!AS64 -> 45 | O64: =Psychologia!T64+Psychologia!AP64 -> 4 | P64: =IF(Psychologia!R64>0,Psychologia!R64," ") -> zal/o | Q64: =SUM(T64:AE64) -> 0 | R64: =SUM(AF64:BG64) -> 0 | S64: =SUM(BH64:BP64) -> 0
A65: =Psychologia!A65 -> 44 | B65: =IF(Psychologia!#REF!>0,Psychologia!#REF!," ") -> #REF! | C65: =IF(Psychologia!B65>0,Psychologia!B65," ") -> 2026/2027 | D65: =IF(Psychologia!C65>0,Psychologia!C65," ") | E65: =IF(Psychologia!D65>0,Psychologia!D65," ") -> 3 | F65: =IF(Psychologia!E65>0,Psychologia!E65," ") -> 2028/2029 | G65: =IF(Psychologia!F65>0,Psychologia!F65," ") -> RPS | H65: =IF(Psychologia!#REF!>0,Psychologia!#REF!," ") -> #REF! | I65: =IF(Psychologia!G65>0,Psychologia!G65," ") -> Praktyki zawodowe w zakresie psychologicznej diagnozy i terapii chorób somatycznych | J65: =Psychologia!U65+Psychologia!AQ65 -> 160 | K65: =Psychologia!AN65+Psychologia!BJ65 -> 0 | L65: =Psychologia!V65+Psychologia!AR65 -> 160 | M65: =Psychologia!X65+Psychologia!Z65+Psychologia!AT65+Psychologia!AV65 -> 0 | N65: =Psychologia!W65+Psychologia!AS65 -> 160 | O65: =Psychologia!T65+Psychologia!AP65 -> 6 | P65: =IF(Psychologia!R65>0,Psychologia!R65," ") -> zal/o | Q65: =SUM(T65:AE65) -> 0 | R65: =SUM(AF65:BG65) -> 0 | S65: =SUM(BH65:BP65) -> 0
A66: =Psychologia!A66 -> 45 | B66: =IF(Psychologia!#REF!>0,Psychologia!#REF!," ") -> #REF! | C66: =IF(Psychologia!B66>0,Psychologia!B66," ") -> 2026/2027 | D66: =IF(Psychologia!C66>0,Psychologia!C66," ") | E66: =IF(Psychologia!D66>0,Psychologia!D66," ") -> 3 | F66: =IF(Psychologia!E66>0,Psychologia!E66," ") -> 2028/2029 | G66: =IF(Psychologia!F66>0,Psychologia!F66," ") -> RPS | H66: =IF(Psychologia!#REF!>0,Psychologia!#REF!," ") -> #REF! | I66: =IF(Psychologia!G66>0,Psychologia!G66," ") -> Praktyki zawodowe w zakresie klinicznej diagnozy psychologicznej dorosłych | J66: =Psychologia!U66+Psychologia!AQ66 -> 160 | K66: =Psychologia!AN66+Psychologia!BJ66 -> 0 | L66: =Psychologia!V66+Psychologia!AR66 -> 160 | M66: =Psychologia!X66+Psychologia!Z66+Psychologia!AT66+Psychologia!AV66 -> 0 | N66: =Psychologia!W66+Psychologia!AS66 -> 160 | O66: =Psychologia!T66+Psychologia!AP66 -> 6 | P66: =IF(Psychologia!R66>0,Psychologia!R66," ") -> zal/o | Q66: =SUM(T66:AE66) -> 0 | R66: =SUM(AF66:BG66) -> 0 | S66: =SUM(BH66:BP66) -> 0
A67: =Psychologia!A67 -> 46 | B67: =IF(Psychologia!#REF!>0,Psychologia!#REF!," ") -> #REF! | C67: =IF(Psychologia!B67>0,Psychologia!B67," ") -> 2026/2027 | D67: =IF(Psychologia!C67>0,Psychologia!C67," ") | E67: =IF(Psychologia!D67>0,Psychologia!D67," ") -> 3 | F67: =IF(Psychologia!E67>0,Psychologia!E67," ") -> 2028/2029 | G67: =IF(Psychologia!F67>0,Psychologia!F67," ") -> POW | H67: =IF(Psychologia!#REF!>0,Psychologia!#REF!," ") -> #REF! | I67: =IF(Psychologia!G67>0,Psychologia!G67," ") -> Projekt badawczy grupowy- psychologia zdrowia / psychologia kliniczna | J67: =Psychologia!U67+Psychologia!AQ67 -> 50 | K67: =Psychologia!AN67+Psychologia!BJ67 -> 40 | L67: =Psychologia!V67+Psychologia!AR67 -> 10 | M67: =Psychologia!X67+Psychologia!Z67+Psychologia!AT67+Psychologia!AV67 -> 0 | N67: =Psychologia!W67+Psychologia!AS67 -> 10 | O67: =Psychologia!T67+Psychologia!AP67 -> 2 | P67: =IF(Psychologia!R67>0,Psychologia!R67," ") -> zal/o | Q67: =SUM(T67:AE67) -> 0 | R67: =SUM(AF67:BG67) -> 0 | S67: =SUM(BH67:BP67) -> 0
A68: =Psychologia!A68 -> 47 | B68: =IF(Psychologia!#REF!>0,Psychologia!#REF!," ") -> #REF! | C68: =IF(Psychologia!B68>0,Psychologia!B68," ") -> 2026/2027 | D68: =IF(Psychologia!C68>0,Psychologia!C68," ") | E68: =IF(Psychologia!D68>0,Psychologia!D68," ") -> 3 | F68: =IF(Psychologia!E68>0,Psychologia!E68," ") -> 2028/2029 | G68: =IF(Psychologia!F68>0,Psychologia!F68," ") -> POW | H68: =IF(Psychologia!#REF!>0,Psychologia!#REF!," ") -> #REF! | I68: =IF(Psychologia!G68>0,Psychologia!G68," ") -> Przedmiot fakultatywny 5: Zaburzenia neurorozwojowe / Psychologia kryminalna | J68: =Psychologia!U68+Psychologia!AQ68 -> 50 | K68: =Psychologia!AN68+Psychologia!BJ68 -> 10 | L68: =Psychologia!V68+Psychologia!AR68 -> 40 | M68: =Psychologia!X68+Psychologia!Z68+Psychologia!AT68+Psychologia!AV68 -> 0 | N68: =Psychologia!W68+Psychologia!AS68 -> 40 | O68: =Psychologia!T68+Psychologia!AP68 -> 2 | P68: =IF(Psychologia!R68>0,Psychologia!R68," ") -> zal/o | Q68: =SUM(T68:AE68) -> 0 | R68: =SUM(AF68:BG68) -> 0 | S68: =SUM(BH68:BP68) -> 0
A69: =Psychologia!A69 -> 48 | B69: =IF(Psychologia!#REF!>0,Psychologia!#REF!," ") -> #REF! | C69: =IF(Psychologia!B69>0,Psychologia!B69," ") -> 2026/2027 | D69: =IF(Psychologia!C69>0,Psychologia!C69," ") | E69: =IF(Psychologia!D69>0,Psychologia!D69," ") -> 3 | F69: =IF(Psychologia!E69>0,Psychologia!E69," ") -> 2028/2029 | G69: =IF(Psychologia!F69>0,Psychologia!F69," ") -> POW | H69: =IF(Psychologia!#REF!>0,Psychologia!#REF!," ") -> #REF! | I69: =IF(Psychologia!G69>0,Psychologia!G69," ") -> Przedmiot fakultatywny 6: Podstawy uczenia maszynowego i sieci neuronowych / Psychologia człowieka w świecie AI | J69: =Psychologia!U69+Psychologia!AQ69 -> 50 | K69: =Psychologia!AN69+Psychologia!BJ69 -> 10 | L69: =Psychologia!V69+Psychologia!AR69 -> 40 | M69: =Psychologia!X69+Psychologia!Z69+Psychologia!AT69+Psychologia!AV69 -> 10 | N69: =Psychologia!W69+Psychologia!AS69 -> 40 | O69: =Psychologia!T69+Psychologia!AP69 -> 2 | P69: =IF(Psychologia!R69>0,Psychologia!R69," ") -> zal/o | Q69: =SUM(T69:AE69) -> 0 | R69: =SUM(AF69:BG69) -> 0 | S69: =SUM(BH69:BP69) -> 0
A70: =Psychologia!A70 -> 49 | B70: =IF(Psychologia!#REF!>0,Psychologia!#REF!," ") -> #REF! | C70: =IF(Psychologia!B70>0,Psychologia!B70," ") -> 2026/2027 | D70: =IF(Psychologia!C70>0,Psychologia!C70," ") | E70: =IF(Psychologia!D70>0,Psychologia!D70," ") -> 3 | F70: =IF(Psychologia!E70>0,Psychologia!E70," ") -> 2028/2029 | G70: =IF(Psychologia!F70>0,Psychologia!F70," ") -> RPS | H70: =IF(Psychologia!#REF!>0,Psychologia!#REF!," ") -> #REF! | I70: =IF(Psychologia!G70>0,Psychologia!G70," ") -> Psychologia kliniczna dorosłych | J70: =Psychologia!U70+Psychologia!AQ70 -> 125 | K70: =Psychologia!AN70+Psychologia!BJ70 -> 50 | L70: =Psychologia!V70+Psychologia!AR70 -> 75 | M70: =Psychologia!X70+Psychologia!Z70+Psychologia!AT70+Psychologia!AV70 -> 10 | N70: =Psychologia!W70+Psychologia!AS70 -> 75 | O70: =Psychologia!T70+Psychologia!AP70 -> 5 | P70: =IF(Psychologia!R70>0,Psychologia!R70," ") -> egz | Q70: =SUM(T70:AE70) -> 0 | R70: =SUM(AF70:BG70) -> 0 | S70: =SUM(BH70:BP70) -> 0
A71: =Psychologia!A71 -> 50 | B71: =IF(Psychologia!#REF!>0,Psychologia!#REF!," ") -> #REF! | C71: =IF(Psychologia!B71>0,Psychologia!B71," ") -> 2026/2027 | D71: =IF(Psychologia!C71>0,Psychologia!C71," ") | E71: =IF(Psychologia!D71>0,Psychologia!D71," ") -> 3 | F71: =IF(Psychologia!E71>0,Psychologia!E71," ") -> 2028/2029 | G71: =IF(Psychologia!F71>0,Psychologia!F71," ") -> RPS | H71: =IF(Psychologia!#REF!>0,Psychologia!#REF!," ") -> #REF! | I71: =IF(Psychologia!G71>0,Psychologia!G71," ") -> Psychologia kliniczna dzieci i młodzieży | J71: =Psychologia!U71+Psychologia!AQ71 -> 125 | K71: =Psychologia!AN71+Psychologia!BJ71 -> 55 | L71: =Psychologia!V71+Psychologia!AR71 -> 70 | M71: =Psychologia!X71+Psychologia!Z71+Psychologia!AT71+Psychologia!AV71 -> 10 | N71: =Psychologia!W71+Psychologia!AS71 -> 70 | O71: =Psychologia!T71+Psychologia!AP71 -> 5 | P71: =IF(Psychologia!R71>0,Psychologia!R71," ") -> egz | Q71: =SUM(T71:AE71) -> 0 | R71: =SUM(AF71:BG71) -> 0 | S71: =SUM(BH71:BP71) -> 0
A72: =Psychologia!A72 -> 51 | B72: =IF(Psychologia!#REF!>0,Psychologia!#REF!," ") -> #REF! | C72: =IF(Psychologia!B72>0,Psychologia!B72," ") -> 2026/2027 | D72: =IF(Psychologia!C72>0,Psychologia!C72," ") | E72: =IF(Psychologia!D72>0,Psychologia!D72," ") -> 3 | F72: =IF(Psychologia!E72>0,Psychologia!E72," ") -> 2028/2029 | G72: =IF(Psychologia!F72>0,Psychologia!F72," ") -> RPS | H72: =IF(Psychologia!#REF!>0,Psychologia!#REF!," ") -> #REF! | I72: =IF(Psychologia!G72>0,Psychologia!G72," ") -> Psychologia środowiska | J72: =Psychologia!U72+Psychologia!AQ72 -> 25 | K72: =Psychologia!AN72+Psychologia!BJ72 -> 5 | L72: =Psychologia!V72+Psychologia!AR72 -> 20 | M72: =Psychologia!X72+Psychologia!Z72+Psychologia!AT72+Psychologia!AV72 -> 10 | N72: =Psychologia!W72+Psychologia!AS72 -> 20 | O72: =Psychologia!T72+Psychologia!AP72 -> 1 | P72: =IF(Psychologia!R72>0,Psychologia!R72," ") -> zal/o | Q72: =SUM(T72:AE72) -> 0 | R72: =SUM(AF72:BG72) -> 0 | S72: =SUM(BH72:BP72) -> 0
A73: =Psychologia!A73 -> 52 | B73: =IF(Psychologia!#REF!>0,Psychologia!#REF!," ") -> #REF! | C73: =IF(Psychologia!B73>0,Psychologia!B73," ") -> 2026/2027 | D73: =IF(Psychologia!C73>0,Psychologia!C73," ") | E73: =IF(Psychologia!D73>0,Psychologia!D73," ") -> 3 | F73: =IF(Psychologia!E73>0,Psychologia!E73," ") -> 2028/2029 | G73: =IF(Psychologia!F73>0,Psychologia!F73," ") -> RPS | H73: =IF(Psychologia!#REF!>0,Psychologia!#REF!," ") -> #REF! | I73: =IF(Psychologia!G73>0,Psychologia!G73," ") -> Psychologia zarządzania | J73: =Psychologia!U73+Psychologia!AQ73 -> 25 | K73: =Psychologia!AN73+Psychologia!BJ73 -> 15 | L73: =Psychologia!V73+Psychologia!AR73 -> 10 | M73: =Psychologia!X73+Psychologia!Z73+Psychologia!AT73+Psychologia!AV73 -> 10 | N73: =Psychologia!W73+Psychologia!AS73 -> 10 | O73: =Psychologia!T73+Psychologia!AP73 -> 1 | P73: =IF(Psychologia!R73>0,Psychologia!R73," ") -> zal/o | Q73: =SUM(T73:AE73) -> 0 | R73: =SUM(AF73:BG73) -> 0 | S73: =SUM(BH73:BP73) -> 0
... A78: =Psychologia!A78 -> 57 | B78: =IF(Psychologia!#REF!>0,Psychologia!#REF!," ") -> #REF! | C78: =IF(Psychologia!B78>0,Psychologia!B78," ") -> 2026/2027 | D78: =IF(Psychologia!C78>0,Psychologia!C78," ") | E78: =IF(Psychologia!D78>0,Psychologia!D78," ") -> 3 | F78: =IF(Psychologia!E78>0,Psychologia!E78," ") -> 2028/2029 | G78: =IF(Psychologia!F78>0,Psychologia!F78," ") -> RPS | H78: =IF(Psychologia!#REF!>0,Psychologia!#REF!," ") -> #REF! | I78: =IF(Psychologia!G78>0,Psychologia!G78," ") -> Statystyka II | J78: =Psychologia!U78+Psychologia!AQ78 -> 37 | K78: =Psychologia!AN78+Psychologia!BJ78 -> 7 | L78: =Psychologia!V78+Psychologia!AR78 -> 30 | M78: =Psychologia!X78+Psychologia!Z78+Psychologia!AT78+Psychologia!AV78 -> 0 | N78: =Psychologia!W78+Psychologia!AS78 -> 30 | O78: =Psychologia!T78+Psychologia!AP78 -> 1.5 | P78: =IF(Psychologia!R78>0,Psychologia!R78," ") -> zal/o | Q78: =SUM(T78:AE78) -> 0 | R78: =SUM(AF78:BG78) -> 0 | S78: =SUM(BH78:BP78) -> 0
A79: =Psychologia!A79 -> 58 | B79: =IF(Psychologia!#REF!>0,Psychologia!#REF!," ") -> #REF! | C79: =IF(Psychologia!B79>0,Psychologia!B79," ") -> 2026/2027 | D79: =IF(Psychologia!C79>0,Psychologia!C79," ") | E79: 3 | F79: 2027/2028 | G79: =IF(Psychologia!F79>0,Psychologia!F79," ") -> RPS | H79: =IF(Psychologia!#REF!>0,Psychologia!#REF!," ") -> #REF! | I79: =IF(Psychologia!G79>0,Psychologia!G79," ") -> Wprowadzenie do psychologii klinicznej | J79: =Psychologia!U79+Psychologia!AQ79 -> 125 | K79: =Psychologia!AN79+Psychologia!BJ79 -> 55 | L79: =Psychologia!V79+Psychologia!AR79 -> 70 | M79: =Psychologia!X79+Psychologia!Z79+Psychologia!AT79+Psychologia!AV79 -> 10 | N79: =Psychologia!W79+Psychologia!AS79 -> 70 | O79: =Psychologia!T79+Psychologia!AP79 -> 5 | P79: =IF(Psychologia!R79>0,Psychologia!R79," ") -> egz | Q79: =SUM(T79:AE79) -> 0 | R79: =SUM(AF79:BG79) -> 0 | S79: =SUM(BH79:BP79) -> 0
B80: =IF(Psychologia!#REF!>0,Psychologia!#REF!," ") -> #REF! | C80: =IF(Psychologia!B80>0,Psychologia!B80," ") | D80: =IF(Psychologia!C80>0,Psychologia!C80," ") | E80: =IF(Psychologia!D80>0,Psychologia!D80," ") | F80: =IF(Psychologia!E80>0,Psychologia!E80," ") | G80: =IF(Psychologia!F80>0,Psychologia!F80," ") | H80: =IF(Psychologia!#REF!>0,Psychologia!#REF!," ") -> #REF! | I80: =IF(Psychologia!G80>0,Psychologia!G80," ") -> sumy dla 3 roku | J80: =Psychologia!U80+Psychologia!AQ80 -> 1520 | K80: =Psychologia!AN80+Psychologia!BJ80 -> 455 | L80: =SUM(Psychologia!L62:L79) -> 1065 | M80: =SUM(M62:M79) -> 125 | N80: =SUM(Psychologia!M62:M79) -> 1065 | O80: =SUM(Psychologia!N62:N79) -> 60 | P80: =IF(Psychologia!R80>0,Psychologia!R80," ") | Q80: =SUM(Q62:Q79) -> 0 | R80: =SUM(R62:R79) -> 0 | S80: =SUM(S62:S79) -> 0 | T80: =SUM(T62:T79) -> 0 | U80: =SUM(U62:U79) -> 0 | V80: =SUM(V62:V79) -> 0 | W80: =SUM(W62:W79) -> 0 | X80: =SUM(X62:X79) -> 0 | ... BP80: =SUM(BP62:BP79) -> 0
A81: =Psychologia!A81 -> 59 | B81: =IF(Psychologia!#REF!>0,Psychologia!#REF!," ") -> #REF! | C81: =IF(Psychologia!B81>0,Psychologia!B81," ") -> 2026/2027 | D81: =IF(Psychologia!C81>0,Psychologia!C81," ") | E81: =IF(Psychologia!D81>0,Psychologia!D81," ") -> 4 | F81: =IF(Psychologia!E81>0,Psychologia!E81," ") -> 2029/2030 | G81: =IF(Psychologia!F81>0,Psychologia!F81," ") -> RPS | H81: =IF(Psychologia!#REF!>0,Psychologia!#REF!," ") -> #REF! | I81: =IF(Psychologia!G81>0,Psychologia!G81," ") -> Psychiatria | J81: =Psychologia!U81+Psychologia!AQ81 -> 100 | K81: =Psychologia!AN81+Psychologia!BJ81 -> 25 | L81: =Psychologia!V81+Psychologia!AR81 -> 75 | M81: =Psychologia!X81+Psychologia!Z81+Psychologia!AT81+Psychologia!AV81 -> 10 | N81: =Psychologia!W81+Psychologia!AS81 -> 75 | O81: =Psychologia!T81+Psychologia!AP81 -> 4 | P81: =IF(Psychologia!R81>0,Psychologia!R81," ") -> egz | Q81: =SUM(T81:AE81) -> 0 | R81: =SUM(AF81:BG81) -> 0 | S81: =SUM(BH81:BP81) -> 0
A82: =Psychologia!A82 -> 60 | B82: =IF(Psychologia!#REF!>0,Psychologia!#REF!," ") -> #REF! | C82: =IF(Psychologia!B82>0,Psychologia!B82," ") -> 2026/2027 | D82: =IF(Psychologia!C82>0,Psychologia!C82," ") | E82: =IF(Psychologia!D82>0,Psychologia!D82," ") -> 4 | F82: =IF(Psychologia!E82>0,Psychologia!E82," ") -> 2029/2030 | G82: =IF(Psychologia!F82>0,Psychologia!F82," ") -> RPS | H82: =IF(Psychologia!#REF!>0,Psychologia!#REF!," ") -> #REF! | I82: =IF(Psychologia!G82>0,Psychologia!G82," ") -> Psychofarmakologia | J82: =Psychologia!U82+Psychologia!AQ82 -> 50 | K82: =Psychologia!AN82+Psychologia!BJ82 -> 30 | L82: =Psychologia!V82+Psychologia!AR82 -> 20 | M82: =Psychologia!X82+Psychologia!Z82+Psychologia!AT82+Psychologia!AV82 -> 10 | N82: =Psychologia!W82+Psychologia!AS82 -> 20 | O82: =Psychologia!T82+Psychologia!AP82 -> 2 | P82: =IF(Psychologia!R82>0,Psychologia!R82," ") -> zal/o | Q82: =SUM(T82:AE82) -> 0 | R82: =SUM(AF82:BG82) -> 0 | S82: =SUM(BH82:BP82) -> 0
A83: =Psychologia!#REF! -> #REF! | B83: =IF(Psychologia!#REF!>0,Psychologia!#REF!," ") -> #REF! | C83: =IF(Psychologia!#REF!>0,Psychologia!#REF!," ") -> #REF! | D83: =IF(Psychologia!#REF!>0,Psychologia!#REF!," ") -> #REF! | E83: =IF(Psychologia!#REF!>0,Psychologia!#REF!," ") -> #REF! | F83: =IF(Psychologia!#REF!>0,Psychologia!#REF!," ") -> #REF! | G83: =IF(Psychologia!#REF!>0,Psychologia!#REF!," ") -> #REF! | H83: =IF(Psychologia!#REF!>0,Psychologia!#REF!," ") -> #REF! | I83: =IF(Psychologia!#REF!>0,Psychologia!#REF!," ") -> #REF! | J83: =Psychologia!#REF!+Psychologia!#REF! -> #REF! | K83: =Psychologia!#REF!+Psychologia!#REF! -> #REF! | L83: =Psychologia!#REF!+Psychologia!#REF! -> #REF! | M83: =Psychologia!#REF!+Psychologia!#REF!+Psychologia!#REF!+Psychologia!#REF! -> #REF! | N83: =Psychologia!#REF!+Psychologia!#REF! -> #REF! | O83: =Psychologia!#REF!+Psychologia!#REF! -> #REF! | P83: =IF(Psychologia!#REF!>0,Psychologia!#REF!," ") -> #REF! | Q83: =SUM(T83:AE83) -> 0 | R83: =SUM(AF83:BG83) -> 0 | S83: =SUM(BH83:BP83) -> 0
A84: =Psychologia!#REF! -> #REF! | B84: =IF(Psychologia!#REF!>0,Psychologia!#REF!," ") -> #REF! | C84: =IF(Psychologia!#REF!>0,Psychologia!#REF!," ") -> #REF! | D84: =IF(Psychologia!#REF!>0,Psychologia!#REF!," ") -> #REF! | E84: =IF(Psychologia!#REF!>0,Psychologia!#REF!," ") -> #REF! | F84: =IF(Psychologia!#REF!>0,Psychologia!#REF!," ") -> #REF! | G84: =IF(Psychologia!#REF!>0,Psychologia!#REF!," ") -> #REF! | H84: =IF(Psychologia!#REF!>0,Psychologia!#REF!," ") -> #REF! | I84: =IF(Psychologia!#REF!>0,Psychologia!#REF!," ") -> #REF! | J84: =Psychologia!#REF!+Psychologia!#REF! -> #REF! | K84: =Psychologia!#REF!+Psychologia!#REF! -> #REF! | L84: =Psychologia!#REF!+Psychologia!#REF! -> #REF! | M84: =Psychologia!#REF!+Psychologia!#REF!+Psychologia!#REF!+Psychologia!#REF! -> #REF! | N84: =Psychologia!#REF!+Psychologia!#REF! -> #REF! | O84: =Psychologia!#REF!+Psychologia!#REF! -> #REF! | P84: =IF(Psychologia!#REF!>0,Psychologia!#REF!," ") -> #REF! | Q84: =SUM(T84:AE84) -> 0 | R84: =SUM(AF84:BG84) -> 0 | S84: =SUM(BH84:BP84) -> 0
A85: =Psychologia!#REF! -> #REF! | B85: =IF(Psychologia!#REF!>0,Psychologia!#REF!," ") -> #REF! | C85: =IF(Psychologia!#REF!>0,Psychologia!#REF!," ") -> #REF! | D85: =IF(Psychologia!#REF!>0,Psychologia!#REF!," ") -> #REF! | E85: =IF(Psychologia!#REF!>0,Psychologia!#REF!," ") -> #REF! | F85: =IF(Psychologia!#REF!>0,Psychologia!#REF!," ") -> #REF! | G85: =IF(Psychologia!#REF!>0,Psychologia!#REF!," ") -> #REF! | H85: =IF(Psychologia!#REF!>0,Psychologia!#REF!," ") -> #REF! | I85: =IF(Psychologia!#REF!>0,Psychologia!#REF!," ") -> #REF! | J85: =Psychologia!#REF!+Psychologia!#REF! -> #REF! | K85: =Psychologia!#REF!+Psychologia!#REF! -> #REF! | L85: =Psychologia!#REF!+Psychologia!#REF! -> #REF! | M85: =Psychologia!#REF!+Psychologia!#REF!+Psychologia!#REF!+Psychologia!#REF! -> #REF! | N85: =Psychologia!#REF!+Psychologia!#REF! -> #REF! | O85: =Psychologia!#REF!+Psychologia!#REF! -> #REF! | P85: =IF(Psychologia!#REF!>0,Psychologia!#REF!," ") -> #REF! | Q85: =SUM(T85:AE85) -> 0 | R85: =SUM(AF85:BG85) -> 0 | S85: =SUM(BH85:BP85) -> 0
A86: =Psychologia!A86 -> 64 | B86: =IF(Psychologia!#REF!>0,Psychologia!#REF!," ") -> #REF! | C86: =IF(Psychologia!B86>0,Psychologia!B86," ") -> 2026/2027 | D86: =IF(Psychologia!C86>0,Psychologia!C86," ") | E86: =IF(Psychologia!D86>0,Psychologia!D86," ") -> 4 | F86: =IF(Psychologia!E86>0,Psychologia!E86," ") -> 2029/2030 | G86: =IF(Psychologia!F86>0,Psychologia!F86," ") -> RPS | H86: =IF(Psychologia!#REF!>0,Psychologia!#REF!," ") -> #REF! | I86: =IF(Psychologia!G86>0,Psychologia!G86," ") -> Praktyki zawodowe w zakresie klinicznej diagnozy psychologicznej dzieci i młodzieży | J86: =Psychologia!U86+Psychologia!AQ86 -> 160 | K86: =Psychologia!AN86+Psychologia!BJ86 -> 0 | L86: =Psychologia!V86+Psychologia!AR86 -> 160 | M86: =Psychologia!X86+Psychologia!Z86+Psychologia!AT86+Psychologia!AV86 -> 0 | N86: =Psychologia!W86+Psychologia!AS86 -> 160 | O86: =Psychologia!T86+Psychologia!AP86 -> 6 | P86: =IF(Psychologia!R86>0,Psychologia!R86," ") -> zal/o | Q86: =SUM(T86:AE86) -> 0 | R86: =SUM(AF86:BG86) -> 0 | S86: =SUM(BH86:BP86) -> 0
A87: =Psychologia!A87 -> 65 | B87: =IF(Psychologia!#REF!>0,Psychologia!#REF!," ") -> #REF! | C87: =IF(Psychologia!B87>0,Psychologia!B87," ") -> 2026/2027 | D87: =IF(Psychologia!C87>0,Psychologia!C87," ") | E87: =IF(Psychologia!D87>0,Psychologia!D87," ") -> 4 | F87: =IF(Psychologia!E87>0,Psychologia!E87," ") -> 2029/2030 | G87: =IF(Psychologia!F87>0,Psychologia!F87," ") -> RPS | H87: =IF(Psychologia!#REF!>0,Psychologia!#REF!," ") -> #REF! | I87: =IF(Psychologia!G87>0,Psychologia!G87," ") -> Praktyki zawodowe w zakresie neuropsychologii | J87: =Psychologia!U87+Psychologia!AQ87 -> 160 | K87: =Psychologia!AN87+Psychologia!BJ87 -> 0 | L87: =Psychologia!V87+Psychologia!AR87 -> 160 | M87: =Psychologia!X87+Psychologia!Z87+Psychologia!AT87+Psychologia!AV87 -> 0 | N87: =Psychologia!W87+Psychologia!AS87 -> 160 | O87: =Psychologia!T87+Psychologia!AP87 -> 6 | P87: =IF(Psychologia!R87>0,Psychologia!R87," ") -> zal/o | Q87: =SUM(T87:AE87) -> 0 | R87: =SUM(AF87:BG87) -> 0 | S87: =SUM(BH87:BP87) -> 0
A88: =Psychologia!#REF! -> #REF! | B88: =IF(Psychologia!#REF!>0,Psychologia!#REF!," ") -> #REF! | C88: =IF(Psychologia!#REF!>0,Psychologia!#REF!," ") -> #REF! | D88: =IF(Psychologia!#REF!>0,Psychologia!#REF!," ") -> #REF! | E88: =IF(Psychologia!#REF!>0,Psychologia!#REF!," ") -> #REF! | F88: =IF(Psychologia!#REF!>0,Psychologia!#REF!," ") -> #REF! | G88: =IF(Psychologia!#REF!>0,Psychologia!#REF!," ") -> #REF! | H88: =IF(Psychologia!#REF!>0,Psychologia!#REF!," ") -> #REF! | I88: =IF(Psychologia!#REF!>0,Psychologia!#REF!," ") -> #REF! | J88: =Psychologia!#REF!+Psychologia!#REF! -> #REF! | K88: =Psychologia!#REF!+Psychologia!#REF! -> #REF! | L88: =Psychologia!#REF!+Psychologia!#REF! -> #REF! | M88: =Psychologia!#REF!+Psychologia!#REF!+Psychologia!#REF!+Psychologia!#REF! -> #REF! | N88: =Psychologia!#REF!+Psychologia!#REF! -> #REF! | O88: =Psychologia!#REF!+Psychologia!#REF! -> #REF! | P88: =IF(Psychologia!#REF!>0,Psychologia!#REF!," ") -> #REF! | Q88: =SUM(T88:AE88) -> 0 | R88: =SUM(AF88:BG88) -> 0 | S88: =SUM(BH88:BP88) -> 0
A89: =Psychologia!#REF! -> #REF! | B89: =IF(Psychologia!#REF!>0,Psychologia!#REF!," ") -> #REF! | C89: =IF(Psychologia!#REF!>0,Psychologia!#REF!," ") -> #REF! | D89: =IF(Psychologia!#REF!>0,Psychologia!#REF!," ") -> #REF! | E89: =IF(Psychologia!#REF!>0,Psychologia!#REF!," ") -> #REF! | F89: =IF(Psychologia!#REF!>0,Psychologia!#REF!," ") -> #REF! | G89: =IF(Psychologia!#REF!>0,Psychologia!#REF!," ") -> #REF! | H89: =IF(Psychologia!#REF!>0,Psychologia!#REF!," ") -> #REF! | I89: =IF(Psychologia!#REF!>0,Psychologia!#REF!," ") -> #REF! | J89: =Psychologia!#REF!+Psychologia!#REF! -> #REF! | K89: =Psychologia!#REF!+Psychologia!#REF! -> #REF! | L89: =Psychologia!#REF!+Psychologia!#REF! -> #REF! | M89: =Psychologia!#REF!+Psychologia!#REF!+Psychologia!#REF!+Psychologia!#REF! -> #REF! | N89: =Psychologia!#REF!+Psychologia!#REF! -> #REF! | O89: =Psychologia!#REF!+Psychologia!#REF! -> #REF! | P89: =IF(Psychologia!#REF!>0,Psychologia!#REF!," ") -> #REF! | Q89: =SUM(T89:AE89) -> 0 | R89: =SUM(AF89:BG89) -> 0 | S89: =SUM(BH89:BP89) -> 0
A90: =Psychologia!#REF! -> #REF! | B90: =IF(Psychologia!#REF!>0,Psychologia!#REF!," ") -> #REF! | C90: =IF(Psychologia!#REF!>0,Psychologia!#REF!," ") -> #REF! | D90: =IF(Psychologia!#REF!>0,Psychologia!#REF!," ") -> #REF! | E90: =IF(Psychologia!#REF!>0,Psychologia!#REF!," ") -> #REF! | F90: =IF(Psychologia!#REF!>0,Psychologia!#REF!," ") -> #REF! | G90: =IF(Psychologia!#REF!>0,Psychologia!#REF!," ") -> #REF! | H90: =IF(Psychologia!#REF!>0,Psychologia!#REF!," ") -> #REF! | I90: =IF(Psychologia!#REF!>0,Psychologia!#REF!," ") -> #REF! | J90: =Psychologia!#REF!+Psychologia!#REF! -> #REF! | K90: =Psychologia!#REF!+Psychologia!#REF! -> #REF! | L90: =Psychologia!#REF!+Psychologia!#REF! -> #REF! | M90: =Psychologia!#REF!+Psychologia!#REF!+Psychologia!#REF!+Psychologia!#REF! -> #REF! | N90: =Psychologia!#REF!+Psychologia!#REF! -> #REF! | O90: =Psychologia!#REF!+Psychologia!#REF! -> #REF! | P90: =IF(Psychologia!#REF!>0,Psychologia!#REF!," ") -> #REF! | Q90: =SUM(T90:AE90) -> 0 | R90: =SUM(AF90:BG90) -> 0 | S90: =SUM(BH90:BP90) -> 0
A91: =Psychologia!#REF! -> #REF! | B91: =IF(Psychologia!#REF!>0,Psychologia!#REF!," ") -> #REF! | C91: =IF(Psychologia!#REF!>0,Psychologia!#REF!," ") -> #REF! | D91: =IF(Psychologia!#REF!>0,Psychologia!#REF!," ") -> #REF! | E91: =IF(Psychologia!#REF!>0,Psychologia!#REF!," ") -> #REF! | F91: =IF(Psychologia!#REF!>0,Psychologia!#REF!," ") -> #REF! | G91: =IF(Psychologia!#REF!>0,Psychologia!#REF!," ") -> #REF! | H91: =IF(Psychologia!#REF!>0,Psychologia!#REF!," ") -> #REF! | I91: =IF(Psychologia!#REF!>0,Psychologia!#REF!," ") -> #REF! | J91: =Psychologia!#REF!+Psychologia!#REF! -> #REF! | K91: =Psychologia!#REF!+Psychologia!#REF! -> #REF! | L91: =Psychologia!#REF!+Psychologia!#REF! -> #REF! | M91: =Psychologia!#REF!+Psychologia!#REF!+Psychologia!#REF!+Psychologia!#REF! -> #REF! | N91: =Psychologia!#REF!+Psychologia!#REF! -> #REF! | O91: =Psychologia!#REF!+Psychologia!#REF! -> #REF! | P91: =IF(Psychologia!#REF!>0,Psychologia!#REF!," ") -> #REF! | Q91: =SUM(T91:AE91) -> 0 | R91: =SUM(AF91:BG91) -> 0 | S91: =SUM(BH91:BP91) -> 0
A92: =Psychologia!#REF! -> #REF! | B92: =IF(Psychologia!#REF!>0,Psychologia!#REF!," ") -> #REF! | C92: =IF(Psychologia!#REF!>0,Psychologia!#REF!," ") -> #REF! | D92: =IF(Psychologia!#REF!>0,Psychologia!#REF!," ") -> #REF! | E92: =IF(Psychologia!#REF!>0,Psychologia!#REF!," ") -> #REF! | F92: =IF(Psychologia!#REF!>0,Psychologia!#REF!," ") -> #REF! | G92: =IF(Psychologia!#REF!>0,Psychologia!#REF!," ") -> #REF! | H92: =IF(Psychologia!#REF!>0,Psychologia!#REF!," ") -> #REF! | I92: =IF(Psychologia!#REF!>0,Psychologia!#REF!," ") -> #REF! | J92: =Psychologia!#REF!+Psychologia!#REF! -> #REF! | K92: =Psychologia!#REF!+Psychologia!#REF! -> #REF! | L92: =Psychologia!#REF!+Psychologia!#REF! -> #REF! | M92: =Psychologia!#REF!+Psychologia!#REF!+Psychologia!#REF!+Psychologia!#REF! -> #REF! | N92: =Psychologia!#REF!+Psychologia!#REF! -> #REF! | O92: =Psychologia!#REF!+Psychologia!#REF! -> #REF! | P92: =IF(Psychologia!#REF!>0,Psychologia!#REF!," ") -> #REF! | Q92: =SUM(T92:AE92) -> 0 | R92: =SUM(AF92:BG92) -> 0 | S92: =SUM(BH92:BP92) -> 0
A93: =Psychologia!#REF! -> #REF! | B93: =IF(Psychologia!#REF!>0,Psychologia!#REF!," ") -> #REF! | C93: =IF(Psychologia!#REF!>0,Psychologia!#REF!," ") -> #REF! | D93: =IF(Psychologia!#REF!>0,Psychologia!#REF!," ") -> #REF! | E93: =IF(Psychologia!#REF!>0,Psychologia!#REF!," ") -> #REF! | F93: =IF(Psychologia!#REF!>0,Psychologia!#REF!," ") -> #REF! | G93: =IF(Psychologia!#REF!>0,Psychologia!#REF!," ") -> #REF! | H93: =IF(Psychologia!#REF!>0,Psychologia!#REF!," ") -> #REF! | I93: =IF(Psychologia!#REF!>0,Psychologia!#REF!," ") -> #REF! | J93: =Psychologia!#REF!+Psychologia!#REF! -> #REF! | K93: =Psychologia!#REF!+Psychologia!#REF! -> #REF! | L93: =Psychologia!#REF!+Psychologia!#REF! -> #REF! | M93: =Psychologia!#REF!+Psychologia!#REF!+Psychologia!#REF!+Psychologia!#REF! -> #REF! | N93: =Psychologia!#REF!+Psychologia!#REF! -> #REF! | O93: =Psychologia!#REF!+Psychologia!#REF! -> #REF! | P93: =IF(Psychologia!#REF!>0,Psychologia!#REF!," ") -> #REF! | Q93: =SUM(T93:AE93) -> 0 | R93: =SUM(AF93:BG93) -> 0 | S93: =SUM(BH93:BP93) -> 0
A94: =Psychologia!#REF! -> #REF! | B94: =IF(Psychologia!#REF!>0,Psychologia!#REF!," ") -> #REF! | C94: =IF(Psychologia!#REF!>0,Psychologia!#REF!," ") -> #REF! | D94: =IF(Psychologia!#REF!>0,Psychologia!#REF!," ") -> #REF! | E94: =IF(Psychologia!#REF!>0,Psychologia!#REF!," ") -> #REF! | F94: =IF(Psychologia!#REF!>0,Psychologia!#REF!," ") -> #REF! | G94: =IF(Psychologia!#REF!>0,Psychologia!#REF!," ") -> #REF! | H94: =IF(Psychologia!#REF!>0,Psychologia!#REF!," ") -> #REF! | I94: =IF(Psychologia!#REF!>0,Psychologia!#REF!," ") -> #REF! | J94: =Psychologia!#REF!+Psychologia!#REF! -> #REF! | K94: =Psychologia!#REF!+Psychologia!#REF! -> #REF! | L94: =Psychologia!#REF!+Psychologia!#REF! -> #REF! | M94: =Psychologia!#REF!+Psychologia!#REF!+Psychologia!#REF!+Psychologia!#REF! -> #REF! | N94: =Psychologia!#REF!+Psychologia!#REF! -> #REF! | O94: =Psychologia!#REF!+Psychologia!#REF! -> #REF! | P94: =IF(Psychologia!#REF!>0,Psychologia!#REF!," ") -> #REF! | Q94: =SUM(T94:AE94) -> 0 | R94: =SUM(AF94:BG94) -> 0 | S94: =SUM(BH94:BP94) -> 0
A95: =Psychologia!#REF! -> #REF! | B95: =IF(Psychologia!#REF!>0,Psychologia!#REF!," ") -> #REF! | C95: =IF(Psychologia!#REF!>0,Psychologia!#REF!," ") -> #REF! | D95: =IF(Psychologia!#REF!>0,Psychologia!#REF!," ") -> #REF! | E95: =IF(Psychologia!#REF!>0,Psychologia!#REF!," ") -> #REF! | F95: =IF(Psychologia!#REF!>0,Psychologia!#REF!," ") -> #REF! | G95: =IF(Psychologia!#REF!>0,Psychologia!#REF!," ") -> #REF! | H95: =IF(Psychologia!#REF!>0,Psychologia!#REF!," ") -> #REF! | I95: =IF(Psychologia!#REF!>0,Psychologia!#REF!," ") -> #REF! | J95: =Psychologia!#REF!+Psychologia!#REF! -> #REF! | K95: =Psychologia!#REF!+Psychologia!#REF! -> #REF! | L95: =Psychologia!#REF!+Psychologia!#REF! -> #REF! | M95: =Psychologia!#REF!+Psychologia!#REF!+Psychologia!#REF!+Psychologia!#REF! -> #REF! | N95: =Psychologia!#REF!+Psychologia!#REF! -> #REF! | O95: =Psychologia!#REF!+Psychologia!#REF! -> #REF! | P95: =IF(Psychologia!#REF!>0,Psychologia!#REF!," ") -> #REF! | Q95: =SUM(T95:AE95) -> 0 | R95: =SUM(AF95:BG95) -> 0 | S95: =SUM(BH95:BP95) -> 0
A96: =Psychologia!#REF! -> #REF! | B96: =IF(Psychologia!#REF!>0,Psychologia!#REF!," ") -> #REF! | C96: =IF(Psychologia!#REF!>0,Psychologia!#REF!," ") -> #REF! | D96: =IF(Psychologia!#REF!>0,Psychologia!#REF!," ") -> #REF! | E96: =IF(Psychologia!#REF!>0,Psychologia!#REF!," ") -> #REF! | F96: =IF(Psychologia!#REF!>0,Psychologia!#REF!," ") -> #REF! | G96: =IF(Psychologia!#REF!>0,Psychologia!#REF!," ") -> #REF! | H96: =IF(Psychologia!#REF!>0,Psychologia!#REF!," ") -> #REF! | I96: =IF(Psychologia!#REF!>0,Psychologia!#REF!," ") -> #REF! | J96: =Psychologia!#REF!+Psychologia!#REF! -> #REF! | K96: =Psychologia!#REF!+Psychologia!#REF! -> #REF! | L96: =Psychologia!#REF!+Psychologia!#REF! -> #REF! | M96: =Psychologia!#REF!+Psychologia!#REF!+Psychologia!#REF!+Psychologia!#REF! -> #REF! | N96: =Psychologia!#REF!+Psychologia!#REF! -> #REF! | O96: =Psychologia!#REF!+Psychologia!#REF! -> #REF! | P96: =IF(Psychologia!#REF!>0,Psychologia!#REF!," ") -> #REF! | Q96: =SUM(T96:AE96) -> 0 | R96: =SUM(AF96:BG96) -> 0 | S96: =SUM(BH96:BP96) -> 0
A97: =Psychologia!A94 -> 72 | B97: =IF(Psychologia!#REF!>0,Psychologia!#REF!," ") -> #REF! | C97: =IF(Psychologia!B94>0,Psychologia!B94," ") -> 2026/2027 | D97: =IF(Psychologia!C94>0,Psychologia!C94," ") -> PK | E97: =IF(Psychologia!D94>0,Psychologia!D94," ") -> 4 | F97: =IF(Psychologia!E94>0,Psychologia!E94," ") -> 2029/2030 | G97: =IF(Psychologia!F94>0,Psychologia!F94," ") -> POW | H97: =IF(Psychologia!#REF!>0,Psychologia!#REF!," ") -> #REF! | I97: =IF(Psychologia!G94>0,Psychologia!G94," ") -> Psychologia uzależnień | J97: =Psychologia!U94+Psychologia!AQ94 -> 75 | K97: =Psychologia!AN94+Psychologia!BJ94 -> 30 | L97: =Psychologia!V94+Psychologia!AR94 -> 45 | M97: =Psychologia!X94+Psychologia!Z94+Psychologia!AT94+Psychologia!AV94 -> 10 | N97: =Psychologia!W94+Psychologia!AS94 -> 45 | O97: =Psychologia!T94+Psychologia!AP94 -> 3 | P97: =IF(Psychologia!R94>0,Psychologia!R94," ") -> egz | Q97: =SUM(T97:AE97) -> 0 | R97: =SUM(AF97:BG97) -> 0 | S97: =SUM(BH97:BP97) -> 0
A98: =Psychologia!#REF! -> #REF! | B98: =IF(Psychologia!#REF!>0,Psychologia!#REF!," ") -> #REF! | C98: =IF(Psychologia!#REF!>0,Psychologia!#REF!," ") -> #REF! | D98: =IF(Psychologia!#REF!>0,Psychologia!#REF!," ") -> #REF! | E98: =IF(Psychologia!#REF!>0,Psychologia!#REF!," ") -> #REF! | F98: =IF(Psychologia!#REF!>0,Psychologia!#REF!," ") -> #REF! | G98: =IF(Psychologia!#REF!>0,Psychologia!#REF!," ") -> #REF! | H98: =IF(Psychologia!#REF!>0,Psychologia!#REF!," ") -> #REF! | I98: =IF(Psychologia!#REF!>0,Psychologia!#REF!," ") -> #REF! | J98: =Psychologia!#REF!+Psychologia!#REF! -> #REF! | K98: =Psychologia!#REF!+Psychologia!#REF! -> #REF! | L98: =Psychologia!#REF!+Psychologia!#REF! -> #REF! | M98: =Psychologia!#REF!+Psychologia!#REF!+Psychologia!#REF!+Psychologia!#REF! -> #REF! | N98: =Psychologia!#REF!+Psychologia!#REF! -> #REF! | O98: =Psychologia!#REF!+Psychologia!#REF! -> #REF! | P98: =IF(Psychologia!#REF!>0,Psychologia!#REF!," ") -> #REF! | Q98: =SUM(T98:AE98) -> 0 | R98: =SUM(AF98:BG98) -> 0 | S98: =SUM(BH98:BP98) -> 0
A99: =Psychologia!A95 -> 73 | B99: =IF(Psychologia!#REF!>0,Psychologia!#REF!," ") -> #REF! | C99: =IF(Psychologia!B95>0,Psychologia!B95," ") -> 2026/2027 | D99: =IF(Psychologia!C95>0,Psychologia!C95," ") -> PK | E99: =IF(Psychologia!D95>0,Psychologia!D95," ") -> 4 | F99: =IF(Psychologia!E95>0,Psychologia!E95," ") -> 2029/2030 | G99: =IF(Psychologia!F95>0,Psychologia!F95," ") -> POW | H99: =IF(Psychologia!#REF!>0,Psychologia!#REF!," ") -> #REF! | I99: =IF(Psychologia!G95>0,Psychologia!G95," ") -> Psychologiczna diagnoza kliniczna dorosłych | J99: =Psychologia!U95+Psychologia!AQ95 -> 150 | K99: =Psychologia!AN95+Psychologia!BJ95 -> 75 | L99: =Psychologia!V95+Psychologia!AR95 -> 75 | M99: =Psychologia!X95+Psychologia!Z95+Psychologia!AT95+Psychologia!AV95 -> 10 | N99: =Psychologia!W95+Psychologia!AS95 -> 75 | O99: =Psychologia!T95+Psychologia!AP95 -> 6 | P99: =IF(Psychologia!R95>0,Psychologia!R95," ") -> egz | Q99: =SUM(T99:AE99) -> 0 | R99: =SUM(AF99:BG99) -> 0 | S99: =SUM(BH99:BP99) -> 0
A100: =Psychologia!A96 -> 74 | B100: =IF(Psychologia!#REF!>0,Psychologia!#REF!," ") -> #REF! | C100: =IF(Psychologia!B96>0,Psychologia!B96," ") -> 2026/2027 | D100: =IF(Psychologia!C96>0,Psychologia!C96," ") -> PK | E100: =IF(Psychologia!D96>0,Psychologia!D96," ") -> 4 | F100: =IF(Psychologia!E96>0,Psychologia!E96," ") -> 2029/2030 | G100: =IF(Psychologia!F96>0,Psychologia!F96," ") -> POW | H100: =IF(Psychologia!#REF!>0,Psychologia!#REF!," ") -> #REF! | I100: =IF(Psychologia!G96>0,Psychologia!G96," ") -> Psychologiczna diagnoza dzieci i młodzieży z elementami psychoterapii | J100: =Psychologia!U96+Psychologia!AQ96 -> 100 | K100: =Psychologia!AN96+Psychologia!BJ96 -> 40 | L100: =Psychologia!V96+Psychologia!AR96 -> 60 | M100: =Psychologia!X96+Psychologia!Z96+Psychologia!AT96+Psychologia!AV96 -> 10 | N100: =Psychologia!W96+Psychologia!AS96 -> 60 | O100: =Psychologia!T96+Psychologia!AP96 -> 4 | P100: =IF(Psychologia!R96>0,Psychologia!R96," ") -> egz | Q100: =SUM(T100:AE100) -> 0 | R100: =SUM(AF100:BG100) -> 0 | S100: =SUM(BH100:BP100) -> 0
A101: =Psychologia!#REF! -> #REF! | B101: =IF(Psychologia!#REF!>0,Psychologia!#REF!," ") -> #REF! | C101: =IF(Psychologia!#REF!>0,Psychologia!#REF!," ") -> #REF! | D101: =IF(Psychologia!#REF!>0,Psychologia!#REF!," ") -> #REF! | E101: =IF(Psychologia!#REF!>0,Psychologia!#REF!," ") -> #REF! | F101: =IF(Psychologia!#REF!>0,Psychologia!#REF!," ") -> #REF! | G101: =IF(Psychologia!#REF!>0,Psychologia!#REF!," ") -> #REF! | H101: =IF(Psychologia!#REF!>0,Psychologia!#REF!," ") -> #REF! | I101: =IF(Psychologia!#REF!>0,Psychologia!#REF!," ") -> #REF! | J101: =Psychologia!#REF!+Psychologia!#REF! -> #REF! | K101: =Psychologia!#REF!+Psychologia!#REF! -> #REF! | L101: =Psychologia!#REF!+Psychologia!#REF! -> #REF! | M101: =Psychologia!#REF!+Psychologia!#REF!+Psychologia!#REF!+Psychologia!#REF! -> #REF! | N101: =Psychologia!#REF!+Psychologia!#REF! -> #REF! | O101: =Psychologia!#REF!+Psychologia!#REF! -> #REF! | P101: =IF(Psychologia!#REF!>0,Psychologia!#REF!," ") -> #REF! | Q101: =SUM(T101:AE101) -> 0 | R101: =SUM(AF101:BG101) -> 0 | S101: =SUM(BH101:BP101) -> 0
A102: =Psychologia!A102 -> 80 | B102: =IF(Psychologia!#REF!>0,Psychologia!#REF!," ") -> #REF! | C102: =IF(Psychologia!B102>0,Psychologia!B102," ") -> 2026/2027 | D102: =IF(Psychologia!C102>0,Psychologia!C102," ") -> PZ | E102: =IF(Psychologia!D102>0,Psychologia!D102," ") -> 4 | F102: =IF(Psychologia!E102>0,Psychologia!E102," ") -> 2029/2030 | G102: =IF(Psychologia!F102>0,Psychologia!F102," ") -> POW | H102: =IF(Psychologia!#REF!>0,Psychologia!#REF!," ") -> #REF! | I102: =IF(Psychologia!G102>0,Psychologia!G102," ") -> Promocja zdrowia | J102: =Psychologia!U102+Psychologia!AQ102 -> 75 | K102: =Psychologia!AN102+Psychologia!BJ102 -> 30 | L102: =Psychologia!V102+Psychologia!AR102 -> 45 | M102: =Psychologia!X102+Psychologia!Z102+Psychologia!AT102+Psychologia!AV102 -> 5 | N102: =Psychologia!W102+Psychologia!AS102 -> 45 | O102: =Psychologia!T102+Psychologia!AP102 -> 3 | P102: =IF(Psychologia!R102>0,Psychologia!R102," ") -> egz | Q102: =SUM(T102:AE102) -> 0 | R102: =SUM(AF102:BG102) -> 0 | S102: =SUM(BH102:BP102) -> 0
A103: =Psychologia!A103 -> 81 | B103: =IF(Psychologia!#REF!>0,Psychologia!#REF!," ") -> #REF! | C103: =IF(Psychologia!B103>0,Psychologia!B103," ") -> 2026/2027 | D103: =IF(Psychologia!C103>0,Psychologia!C103," ") -> PZ | E103: =IF(Psychologia!D103>0,Psychologia!D103," ") -> 4 | F103: =IF(Psychologia!E103>0,Psychologia!E103," ") -> 2029/2030 | G103: =IF(Psychologia!F103>0,Psychologia!F103," ") -> POW | H103: =IF(Psychologia!#REF!>0,Psychologia!#REF!," ") -> #REF! | I103: =IF(Psychologia!G103>0,Psychologia!G103," ") -> Rehabilitacja psychologiczna | J103: =Psychologia!U103+Psychologia!AQ103 -> 100 | K103: =Psychologia!AN103+Psychologia!BJ103 -> 30 | L103: =Psychologia!V103+Psychologia!AR103 -> 70 | M103: =Psychologia!X103+Psychologia!Z103+Psychologia!AT103+Psychologia!AV103 -> 10 | N103: =Psychologia!W103+Psychologia!AS103 -> 70 | O103: =Psychologia!T103+Psychologia!AP103 -> 4 | P103: =IF(Psychologia!R103>0,Psychologia!R103," ") -> egz | Q103: =SUM(T103:AE103) -> 0 | R103: =SUM(AF103:BG103) -> 0 | S103: =SUM(BH103:BP103) -> 0
B104: =IF(Psychologia!#REF!>0,Psychologia!#REF!," ") -> #REF! | C104: =IF(Psychologia!B104>0,Psychologia!B104," ") | D104: =IF(Psychologia!C104>0,Psychologia!C104," ") | E104: =IF(Psychologia!D104>0,Psychologia!D104," ") | F104: =IF(Psychologia!E104>0,Psychologia!E104," ") | G104: =IF(Psychologia!F104>0,Psychologia!F104," ") | H104: =IF(Psychologia!#REF!>0,Psychologia!#REF!," ") -> #REF! | I104: =IF(Psychologia!G104>0,Psychologia!G104," ") -> sumy dla 4 roku | J104: =Psychologia!U104+Psychologia!AQ104 -> 2095 | K104: =Psychologia!AN104+Psychologia!BJ104 -> 715 | L104: =SUM(Psychologia!L81:L103) -> 1380 | M104: =SUM(M81:M103) -> #REF! | N104: =SUM(Psychologia!M81:M103) -> 1380 | O104: =SUM(Psychologia!N81:N103) -> 83 | P104: =IF(Psychologia!R104>0,Psychologia!R104," ") | Q104: =SUM(Q81:Q103) -> 0 | R104: =SUM(R81:R103) -> 0 | S104: =SUM(S81:S103) -> 0 | T104: =SUM(T81:T103) -> 0 | U104: =SUM(U81:U103) -> 0 | V104: =SUM(V81:V103) -> 0 | W104: =SUM(W81:W103) -> 0 | X104: =SUM(X81:X103) -> 0 | ... BP104: =SUM(BP81:BP103) -> 0
A105: =Psychologia!A105 -> 82 | B105: =IF(Psychologia!#REF!>0,Psychologia!#REF!," ") -> #REF! | C105: =IF(Psychologia!B105>0,Psychologia!B105," ") -> 2026/2027 | D105: =IF(Psychologia!C105>0,Psychologia!C105," ") | E105: =IF(Psychologia!D105>0,Psychologia!D105," ") -> 5 | F105: =IF(Psychologia!E105>0,Psychologia!E105," ") -> 2030/2031 | G105: =IF(Psychologia!F105>0,Psychologia!F105," ") -> RPS | H105: =IF(Psychologia!#REF!>0,Psychologia!#REF!," ") -> #REF! | I105: =IF(Psychologia!G105>0,Psychologia!G105," ") -> Interwencja kryzysowa | J105: =Psychologia!U105+Psychologia!AQ105 -> 150 | K105: =Psychologia!AN105+Psychologia!BJ105 -> 80 | L105: =Psychologia!V105+Psychologia!AR105 -> 70 | M105: =Psychologia!X105+Psychologia!Z105+Psychologia!AT105+Psychologia!AV105 -> 10 | N105: =Psychologia!W105+Psychologia!AS105 -> 70 | O105: =Psychologia!T105+Psychologia!AP105 -> 6 | P105: =IF(Psychologia!R105>0,Psychologia!R105," ") -> zal/o | Q105: =SUM(T105:AE105) -> 0 | R105: =SUM(AF105:BG105) -> 0 | S105: =SUM(BH105:BP105) -> 0
A106: =Psychologia!A106 -> 83 | B106: =IF(Psychologia!#REF!>0,Psychologia!#REF!," ") -> #REF! | C106: =IF(Psychologia!B106>0,Psychologia!B106," ") -> 2026/2027 | D106: =IF(Psychologia!C106>0,Psychologia!C106," ") | E106: =IF(Psychologia!D106>0,Psychologia!D106," ") -> 5 | F106: =IF(Psychologia!E106>0,Psychologia!E106," ") -> 2030/2031 | G106: =IF(Psychologia!F106>0,Psychologia!F106," ") -> POW | H106: =IF(Psychologia!#REF!>0,Psychologia!#REF!," ") -> #REF! | I106: =IF(Psychologia!G106>0,Psychologia!G106," ") -> Przedmiot fakultatywny 10: Zachowania suicydalne – diagnoza i terapia / PK: ADHD – diagnoza i terapia; PZ: Fizjoprofilaktyka | J106: =Psychologia!U106+Psychologia!AQ106 -> 100 | K106: =Psychologia!AN106+Psychologia!BJ106 -> 40 | L106: =Psychologia!V106+Psychologia!AR106 -> 60 | M106: =Psychologia!X106+Psychologia!Z106+Psychologia!AT106+Psychologia!AV106 -> 10 | N106: =Psychologia!W106+Psychologia!AS106 -> 60 | O106: =Psychologia!T106+Psychologia!AP106 -> 4 | P106: =IF(Psychologia!R106>0,Psychologia!R106," ") -> zal/o | Q106: =SUM(T106:AE106) -> 0 | R106: =SUM(AF106:BG106) -> 0 | S106: =SUM(BH106:BP106) -> 0
A107: =Psychologia!#REF! -> #REF! | B107: =IF(Psychologia!#REF!>0,Psychologia!#REF!," ") -> #REF! | C107: =IF(Psychologia!#REF!>0,Psychologia!#REF!," ") -> #REF! | D107: =IF(Psychologia!#REF!>0,Psychologia!#REF!," ") -> #REF! | E107: =IF(Psychologia!#REF!>0,Psychologia!#REF!," ") -> #REF! | F107: =IF(Psychologia!#REF!>0,Psychologia!#REF!," ") -> #REF! | G107: =IF(Psychologia!#REF!>0,Psychologia!#REF!," ") -> #REF! | H107: =IF(Psychologia!#REF!>0,Psychologia!#REF!," ") -> #REF! | I107: =IF(Psychologia!#REF!>0,Psychologia!#REF!," ") -> #REF! | J107: =Psychologia!#REF!+Psychologia!#REF! -> #REF! | K107: =Psychologia!#REF!+Psychologia!#REF! -> #REF! | L107: =Psychologia!#REF!+Psychologia!#REF! -> #REF! | M107: =Psychologia!#REF!+Psychologia!#REF!+Psychologia!#REF!+Psychologia!#REF! -> #REF! | N107: =Psychologia!#REF!+Psychologia!#REF! -> #REF! | O107: =Psychologia!#REF!+Psychologia!#REF! -> #REF! | P107: =IF(Psychologia!#REF!>0,Psychologia!#REF!," ") -> #REF! | Q107: =SUM(T107:AE107) -> 0 | R107: =SUM(AF107:BG107) -> 0 | S107: =SUM(BH107:BP107) -> 0
A108: =Psychologia!#REF! -> #REF! | B108: =IF(Psychologia!#REF!>0,Psychologia!#REF!," ") -> #REF! | C108: =IF(Psychologia!#REF!>0,Psychologia!#REF!," ") -> #REF! | D108: =IF(Psychologia!#REF!>0,Psychologia!#REF!," ") -> #REF! | E108: =IF(Psychologia!#REF!>0,Psychologia!#REF!," ") -> #REF! | F108: =IF(Psychologia!#REF!>0,Psychologia!#REF!," ") -> #REF! | G108: =IF(Psychologia!#REF!>0,Psychologia!#REF!," ") -> #REF! | H108: =IF(Psychologia!#REF!>0,Psychologia!#REF!," ") -> #REF! | I108: =IF(Psychologia!#REF!>0,Psychologia!#REF!," ") -> #REF! | J108: =Psychologia!#REF!+Psychologia!#REF! -> #REF! | K108: =Psychologia!#REF!+Psychologia!#REF! -> #REF! | L108: =Psychologia!#REF!+Psychologia!#REF! -> #REF! | M108: =Psychologia!#REF!+Psychologia!#REF!+Psychologia!#REF!+Psychologia!#REF! -> #REF! | N108: =Psychologia!#REF!+Psychologia!#REF! -> #REF! | O108: =Psychologia!#REF!+Psychologia!#REF! -> #REF! | P108: =IF(Psychologia!#REF!>0,Psychologia!#REF!," ") -> #REF! | Q108: =SUM(T108:AE108) -> 0 | R108: =SUM(AF108:BG108) -> 0 | S108: =SUM(BH108:BP108) -> 0
A109: =Psychologia!#REF! -> #REF! | B109: =IF(Psychologia!#REF!>0,Psychologia!#REF!," ") -> #REF! | C109: =IF(Psychologia!#REF!>0,Psychologia!#REF!," ") -> #REF! | D109: =IF(Psychologia!#REF!>0,Psychologia!#REF!," ") -> #REF! | E109: =IF(Psychologia!#REF!>0,Psychologia!#REF!," ") -> #REF! | F109: =IF(Psychologia!#REF!>0,Psychologia!#REF!," ") -> #REF! | G109: =IF(Psychologia!#REF!>0,Psychologia!#REF!," ") -> #REF! | H109: =IF(Psychologia!#REF!>0,Psychologia!#REF!," ") -> #REF! | I109: =IF(Psychologia!#REF!>0,Psychologia!#REF!," ") -> #REF! | J109: =Psychologia!#REF!+Psychologia!#REF! -> #REF! | K109: =Psychologia!#REF!+Psychologia!#REF! -> #REF! | L109: =Psychologia!#REF!+Psychologia!#REF! -> #REF! | M109: =Psychologia!#REF!+Psychologia!#REF!+Psychologia!#REF!+Psychologia!#REF! -> #REF! | N109: =Psychologia!#REF!+Psychologia!#REF! -> #REF! | O109: =Psychologia!#REF!+Psychologia!#REF! -> #REF! | P109: =IF(Psychologia!#REF!>0,Psychologia!#REF!," ") -> #REF! | Q109: =SUM(T109:AE109) -> 0 | R109: =SUM(AF109:BG109) -> 0 | S109: =SUM(BH109:BP109) -> 0
...

Sheet Efekty uczenia się
A1: szczegółowy numer efektu uczenia się | B1: Efekty uczenia się po ukończeniu studiów absolwent:
B2: WIEDZA (zna i rozumie)
A3: K_W01 | B3: podstawy chemii ogólnej i nieorganicznej
A4: K_W02 | B4: biofizyczne podstawy nauki o żywności i analizy składu ciała
A5: K_W03 | B5: anatomię człowieka ze szczególnym uwzględnieniem układu pokarmowego
A6: K_W04 | B6: podstawy biochemii ogólnej i klinicznej
A7: K_W05 | B7: mechanizmy dziedziczenia;
A8: K_W06 | B8: genetyczne i środowiskowe uwarunkowania cech człowieka;
A9: K_W07 | B9: choroby uwarunkowane genetycznie i ich związek z żywieniem
A10: K_W08 | B10: funkcje fizjologiczne białek, tłuszczów, węglowodanów oraz elektrolitów, pierwiastków śladowych, witamin i hormonów;
A11: K_W09 | B11: terminologię związaną z technologią potraw oraz podstawami towaroznawstwa;
A12: K_W10 | B12: warunki sanitarno-higieniczne produkcji żywności w zakładach żywienia zbiorowego i przemysłu spożywczego
A13: K_W11 | B13: podstawowe zasady organizacji pracy w zakładach żywienia zbiorowego typu zamkniętego i otwartego;
A14: K_W12 | B14: procesy rozwoju osobniczego od dzieciństwa do późnej starości;
... A66: K_W64 | B66: zasady postępowania dietetycznego w chorobach autoimmunologicznych, skóry, nowotworowych, w niedokrwistościach w zależności od stopnia zaawansowania choroby
B67: UMIEJĘTNOŚCI (potrafi)
A68: K_U01 | B68: zastosować nazewnictwo chemiczne do wybranych grup produktów żywnościowych;
A69: K_U02 | B69: wykonać podstawowe czynności laboratoryjne i obliczenia chemiczne związane z żywnością i żywieniem;
A70: K_U03 | B70: wykonać wybrane procedury analizy chemicznej żywności
A71: K_U04 | B71: zastosować terminologię fizyczną i biofizyczną do opisu i interpretacji zjawisk związanych z żywnością i żywieniem;
A72: K_U05 | B72: wykonać podstawowe czynności laboratoryjne i obliczenia biofizyczne obejmujące żywienie i żywność;
A73: K_U06 | B73: wykonać podstawowe procedury określania parametrów energetycznych żywności metodą kalorymetrii;
A74: K_U07 | B74: wykorzystać w praktyce wiedzę z zakresu fizjologii
A75: K_U08 | B75: zaplanować żywienie dostosowane do naturalnych etapów rozwoju człowieka;
A76: K_U09 | B76: wykorzystać podstawy wiedzy psychologicznej w prowadzeniu edukacji żywieniowej;
A77: K_U10 | B77: wdrażać zasady zdrowego żywienia i stylu życia dla młodzieży i dorosłych;
A78: K_U11 | B78: rozpoznać problemy żywieniowe i dokonać korekty sposobu żywienia u osób z nieprawidłowa masą ciała (niedożywionych oraz/lub osób z nadwagą/otyłością)
A79: K_U12 | B79: zastosować wiedzę o interakcjach leków z żywnością i suplementami diety
... A129: K_U62 | B129: wykorzystywać wiedzę dotyczącą podstaw biochemii ogólnej i klinicznej
B130: KOMPETENCJE SPOŁECZNE (jest gotów do)
A131: K_K01 | B131: świadomego przekraczania własnych ograniczeń i zwracania się do innych specjalistów
A132: K_K02 | B132: zgodnego z zasadami współżycia społecznego i skutecznego sugerowania pacjentowi uzasadnionej potrzeby konsultacji medycznej
A133: K_K03 | B133: przestrzegania zasad etyki zawodowej
A134: K_K04 | B134: stawiania dobra pacjenta oraz grup społecznych na pierwszym miejscu i okazywania szacunku wobec pacjenta (klienta) i grup społecznych
A135: K_K05 | B135: przestrzegania praw pacjenta, w tym prawa pacjenta do informacji dotyczącej proponowanego postępowania dietetycznego oraz jego możliwych następstw i ograniczeń
A136: K_K06 | B136: przestrzegania tajemnicy obowiązującej pracowników ochrony zdrowia;
A137: K_K07 | B137: współdziałania i pracy w grupie, przyjmując w niej różne role oraz rozwiązując najczęstsze problemy związane z danym zadaniem
A138: K_K08 | B138: brania odpowiedzialności za działania własne i do właściwej organizacji pracy własnej
A139: K_K09 | B139: stałego dokształcania się

Sheet Arkusz1
A1: 4 rok | K1: 5 rok
C2: wykład | D2: seminarium | E2: pozostałe formy | F2: praktyka zawodowa | G2: SUMA | H2: PUNKTY | K2: lp bądź kod grupy** | M2: wykład | N2: seminarium | O2: pozostałe formy | P2: praktyka zawodowa | Q2: SUMA | R2: PUNKTY | S2: forma
A3: lp bądź kod grupy** | B3: przedmiot | G3: GODZIN | H3: ECTS | L3: przedmiot | Q3: GODZIN | R3: ECTS | S3: weryfikacji
A4: 1 | B4: Psychiatria | C4: 30 | E4: 45 | G4: 75 | H4: 4 | S4: ***
A5: 2 | B5: Psychofarmakologia | C5: 10 | E5: 10 | G5: 20 | H5: 2 | K5: 1 | L5: Interwencja kryzysowa | M5: 20 | O5: 40 | Q5: 60 | R5: 6 | S5: zal/o
A6: Psychologia kliniczna | B6: Diagnoza neuropsychologiczna | C6: 10 | D6: 10 | E6: 40 | G6: 60 | H6: 3 | K6: 2 | L6: Seksuologia | M6: 30 | O6: 30 | Q6: 60 | R6: 5 | S6: zal/o
A7: Psychologia kliniczna | B7: Podstawy neuroobrazowania | C7: 15 | E7: 20 | G7: 35 | H7: 2 | K7: Psychologia kliniczna | L7: Psychoanaliza i terapia psychodynamiczna | M7: 20 | O7: 35 | Q7: 55 | R7: 5 | S7: egz
A8: Psychologia kliniczna | B8: Podstawy psychologii sądowej | C8: 15 | E8: 30 | G8: 45 | H8: 2 | K8: Psychologia kliniczna | L8: Psychogeriatria | M8: 30 | N8: 30 | O8: 30 | Q8: 90 | R8: 7 | S8: egz
A9: Psychologia kliniczna | B9: Podstawy psychoterapii | C9: 30 | E9: 20 | G9: 50 | H9: 3 | K9: Psychologia kliniczna | L9: Psychologia rodziny | M9: 20 | O9: 30 | Q9: 50 | R9: 5 | S9: zal/o
A10: Psychologia kliniczna | B10: Psychologia uzależnień | C10: 15 | E10: 30 | G10: 45 | H10: 3 | K10: Psychologia kliniczna | L10: Psychoterapia humanistyczno-egzystencjalna | M10: 20 | O10: 35 | Q10: 55 | R10: 4 | S10: egz
A11: Psychologia kliniczna | B11: Psychologiczna diagnoza kliniczna dorosłych | C11: 15 | E11: 60 | G11: 75 | H11: 6 | K11: Psychologia kliniczna | L11: Psychoterapia poznawczo-behawioralna | M11: 20 | O11: 35 | Q11: 55 | R11: 5 | S11: egz
A12: Psychologia kliniczna | B12: Psychologiczna diagnoza kliniczna dzieci i młodzieży | E12: 60 | G12: 60 | H12: 4 | K12: Psychologia kliniczna | L12: Psychoterapia systemowa | M12: 30 | O12: 30 | Q12: 60 | R12: 7 | S12: egz
A13: Psychologia zdrowia | B13: Poradnictwo psychologiczne | D13: 20 | E13: 15 | G13: 35 | H13: 2 | K13: Psychologia zdrowia | L13: Psychodietetyka | M13: 10 | O13: 20 | Q13: 30 | R13: 5 | S13: egz
A14: Psychologia zdrowia | B14: Projektowanie i prowadzenie szkoleń | C14: 5 | E14: 40 | G14: 45 | H14: 3 | K14: Psychologia zdrowia | L14: Psychologia sportu | M14: 15 | O14: 30 | Q14: 45 | R14: 5 | S14: zal/o
A15: Psychologia zdrowia | B15: Promocja zdrowia | C15: 15 | D15: 30 | G15: 45 | H15: 3 | K15: Psychologia zdrowia | L15: Psychologia stosowana II (Elementy psychologii pracy i organizacji) | M15: 15 | O15: 60 | Q15: 75 | R15: 6 | S15: egz
A16: Psychologia zdrowia | B16: Psychologia kryzysu i stresu | C16: 30 | E16: 30 | G16: 60 | H16: 3 | K16: Psychologia zdrowia | L16: Psychoonkologia | M16: 30 | O16: 40 | Q16: 70 | R16: 6 | S16: egz
A17: Psychologia zdrowia | B17: Psychologia stosowana I (Elementy psychologii edukacji) | C17: 20 | E17: 30 | G17: 50 | H17: 4 | K17: Psychologia zdrowia | L17: Psychoseksuologia | M17: 30 | O17: 40 | Q17: 70 | R17: 6 | S17: egz
A18: Psychologia zdrowia | B18: Psychologia zaburzeń somatycznych | C18: 30 | E18: 40 | G18: 70 | H18: 4 | K18: Psychologia zdrowia | L18: Zdrowie publiczne | M18: 30 | O18: 40 | Q18: 70 | R18: 5 | S18: egz
A19: Psychologia zdrowia | B19: Rehabilitacja psychologiczna | C19: 15 | E19: 55 | G19: 70 | H19: 4 | K19: 9 | L19: Seminarium magisterskie | N19: 120 | Q19: 120 | R19: 12 | S19: zal/o
A20: 10 | B20: Seminarium magisterskie | D20: 120 | G20: 120 | H20: 10 | K20: 10 | L20: Przedmiot fakultatywny 10 | M20: 20 | O20: 40 | Q20: 60 | R20: 4 | S20: zal/o
A21: 11 | B21: Przedmiot fakultatywny 7 | E21: 40 | G21: 40 | H21: 2 | K21: RAZEM dla ścieżki Psychologia kliniczna | M21: =SUM(M5:M12,M19:M20) -> 210 | N21: =SUM(N5:N12,N19:N20) -> 150 | O21: =SUM(O5:O12,O19:O20) -> 305 | P21: =SUM(P5:P12,P19:P20) -> 0 | Q21: =SUM(Q5:Q12,Q19:Q20) -> 665 | R21: =SUM(R5:R12,R19:R20) -> 60
A22: 12 | B22: Przedmiot fakultatywny 8 | C22: 20 | E22: 40 | G22: 60 | H22: 3 | K22: RAZEM dla ścieżki Psychologia zdrowia | M22: =SUM(M5:M6,M13:M20) -> 200 | N22: =SUM(N5:N6,N13:N20) -> 120 | O22: =SUM(O5:O6,O13:O20) -> 340 | P22: =SUM(P5:P6,P13:P20) -> 0 | Q22: =SUM(Q5:Q6,Q13:Q20) -> 660 | R22: =SUM(R5:R6,R13:R20) -> 60
A23: 13 | B23: Przedmiot fakultatywny 9 | C23: 20 | E23: 40 | G23: 60 | H23: 4
A24: 14 | B24: Praktyki zawodowe | F24: 320 | G24: 320 | H24: 12
B25: RAZEM dla ścieżki Psychologia kliniczna | C25: =SUM(C4:C12,C20:C24) -> 180 | D25: =SUM(D4:D12,D20:D24) -> 130 | E25: =SUM(E4:E12,E20:E24) -> 435 | F25: =SUM(F4:F12,F20:F24) -> 320 | G25: =SUM(G4:G12,G20:G24) -> 1065 | H25: =SUM(H4:H12,H20:H24) -> 60
B26: RAZEM dla ścieżki Psychologia zdrowia | C26: =SUM(C4:C5,C13:C24) -> 195 | D26: =SUM(D4:D5,D13:D24) -> 170 | E26: =SUM(E4:E5,E13:E24) -> 385 | F26: =SUM(F4:F5,F13:F24) -> 320 | G26: =SUM(G4:G5,G13:G24) -> 1070 | H26: =SUM(H4:H5,H13:H24) -> 60
C40: 244 | D40: 29 | G40: wykład | H40: seminarium
C41: 210 | D41: 32
C42: 210 | D42: 30 | G42: 15 | H42: 15
C43: 230 | D43: 34 | G43: 15 | H43: 10
C44: 200 | D44: 28 | G44: 30
C45: 200 | D45: 29 | G45: 15
C46: 180 | D46: 30
C47: 180 | D47: 31
C48: 200 | D48: 32 | G48: 30 | H48: 10
C49: 60 | D49: 25 | G49: 15
C50: =SUM(C40:C49) -> 1914 | D50: =SUM(D40:D49) -> 300 | G50: 5
C53: 608 | D53: 60 | G53: 30
C54: 630 | D54: 60 | G54: 30
C55: 555 | D55: 60 | H55: 5
C56: 540 | D56: 60 | G56: 30
C57: 540 | D57: 60 | G57: 30
C58: =SUM(C53:C57) -> 2873 | D58: =SUM(D53:D57) -> 300 | G58: 30
G60: =SUM(G42:G59) -> 275 | H60: =SUM(H42:H59) -> 40
G61: 285 | H61: 30
A67: lp bądź kod grupy** | B67: Przedmiot (nazwa) | C67: semestr zimowy | Q67: semestr letni | AE67: łącznie dla przedmiotu | AI67: Forma weryfikacji ***
C68: wykład (WY) | D68: seminarium (SE) | E68: ćwiczenia audytoryjne (CA) | F68: ćwiczenia kierunkowe - niekliniczne (CN) | G68: ćwiczenia symulowane (CS) | H68: ćwiczenia laboratoryjne (CL) | I68: ćwiczenia kliniczne (CK) | J68: lektoraty (LE) | K68: e-learning (EL) | L68: zajęcia wychowania fizycznego (WF) | M68: praktyka zawodowa (PZ) | N68: godziny dydaktyczne w semestrze | O68: samodzielna praca studenta | P68: punkty ECTS w semestrze | Q68: wykład (WY) | R68: seminarium (SE) | S68: ćwiczenia audytoryjne CA) | T68: ćwiczenia kierunkowe - niekliniczne (CN) | U68: ćwiczenia symulowane (CS) | V68: ćwiczenia laboratoryjne (CL) | W68: ćwiczenia kliniczne (CK) | X68: lektoraty (LE) | Y68: e-learning (EL) | Z68: zajęcia wychowania fizycznego (WF) | AA68: praktyka zawodowa (PZ) | AB68: godziny dydaktyczne w semestrze | AC68: samodzielna praca studenta | AD68: punkty ECTS w semestrze | AE68: SUMA GODZIN PRZEDMIOTU | AH68: PUNKTY ECTS
AE69: GODZINY DYDAKTYCZNE | AF69: SAMODZIELNA PRACA STUDENTA | AG69: NAKŁAD PRACY STUDENTA (godz. dyd. + samodzielna praca)
A70: 1 | B70: Metodologia badań psychologicznych II | C70: 20 | F70: 20 | N70: 40 | O70: 60 | P70: 4 | AB70: 0 | AE70: 40 | AF70: 60 | AG70: 100 | AH70: 4 | AI70: egz
A71: 2 | B71: Neuropsychologia | N71: 0 | Q71: 30 | T71: 30 | AB71: 60 | AC71: 15 | AD71: 3 | AE71: 60 | AF71: 15 | AG71: 75 | AH71: 3 | AI71: egz
A72: 3 | B72: Podstawy neurologii | N72: 0 | Q72: 15 | T72: 15 | AB72: 30 | AC72: 45 | AD72: 3 | AE72: 30 | AF72: 45 | AG72: 75 | AH72: 3 | AI72: zal/o
A73: 4 | B73: Praktyki zawodowe w zakresie psychologicznej diagnozy i terapii chorób somatycznych | M73: 160 | N73: 160 | P73: 6 | AE73: 160 | AF73: 0 | AG73: 160 | AH73: 6 | AI73: zal/o
A74: 5 | B74: Praktyki zawodowe w zakresie klinicznej diagnozy psychologicznej dorosłych | AA74: 160 | AB74: 160 | AD74: 6 | AE74: 160 | AF74: 0 | AG74: 160 | AH74: 6 | AI74: zal/o
A75: 6 | B75: Projekt badawczy grupowy- psychologia zdrowia/ psychologia kliniczna | N75: 0 | T75: 10 | AB75: 10 | AC75: 40 | AD75: 2 | AE75: 10 | AF75: 40 | AG75: 50 | AH75: 2 | AI75: zal/o
A76: 7 | B76: Przedmiot fakultatywny 5: Zaburzenia nieurorozwojowe / Psychologia kryminalna | E76: 40 | N76: 40 | O76: 10 | P76: 2 | AB76: 0 | AE76: 40 | AF76: 10 | AG76: 50 | AH76: 2 | AI76: zal/o
A77: 8 | B77: Przedmiot fakultatywny 6: Prowadzenie działalności/ Kampanie społeczne | E77: 40 | N77: 40 | O77: 10 | P77: 2 | AB77: 0 | AE77: 40 | AF77: 10 | AG77: 50 | AH77: 2 | AI77: zal/o
A78: 9 | B78: Psychologia kliniczna dorosłych | N78: 0 | Q78: 20 | T78: 30 | AB78: 50 | AC78: 50 | AD78: 4 | AE78: 50 | AF78: 50 | AG78: 100 | AH78: 4 | AI78: egz
A79: 10 | B79: Psychologia kliniczna dzieci i młodzieży | N79: 0 | Q79: 20 | T79: 30 | AB79: 50 | AC79: 75 | AD79: 5 | AE79: 50 | AF79: 75 | AG79: 125 | AH79: 5 | AI79: egz
A80: 11 | B80: Psychologia środowiska | C80: 15 | E80: 30 | N80: 45 | O80: 5 | P80: 2 | AB80: 0 | AE80: 45 | AF80: 5 | AG80: 50 | AH80: 2 | AI80: zal/o
A81: 12 | B81: Psychologia zarządzania | N81: 0 | Q81: 30 | S81: 30 | AB81: 60 | AC81: 15 | AD81: 3 | AE81: 60 | AF81: 15 | AG81: 75 | AH81: 3 | AI81: zal/o
A82: 13 | B82: Psychologia zdrowia | C82: 30 | F82: 15 | N82: 45 | O82: 30 | P82: 3 | AB82: 0 | AE82: 45 | AF82: 30 | AG82: 75 | AH82: 3 | AI82: egz
A83: 14 | B83: Psychometria | N83: 0 | Q83: 30 | S83: 30 | AB83: 60 | AC83: 15 | AD83: 3 | AE83: 60 | AF83: 15 | AG83: 75 | AH83: 3 | AI83: egz
A84: 15 | B84: Psychopatologia | C84: 30 | I84: 45 | N84: 75 | O84: 25 | P84: 4 | AB84: 0 | AE84: 75 | AF84: 25 | AG84: 100 | AH84: 4 | AI84: egz
A85: 16 | B85: Statystyka (I i II) | D85: 5 | F85: 30 | N85: 35 | O85: 10 | P85: 3 | T85: 30 | AB85: 30 | AE85: 65 | AF85: 10 | AG85: 75 | AH85: 3 | AI85: zal/o
A86: 17 | B86: Wprowadzenie do psychologii klinicznej | C86: 30 | E86: 30 | N86: 60 | O86: 65 | P86: 5 | AE86: 60 | AF86: 65 | AG86: 125 | AH86: 5 | AI86: egz
A87: RAZEM | C87: 95 | D87: 5 | E87: 110 | F87: 65 | G87: 0 | H87: 0 | I87: 45 | J87: 0 | K87: 0 | L87: 0 | M87: 160 | N87: 480 | O87: 150 | P87: 26 | Q87: 175 | R87: 0 | S87: 60 | T87: 145 | U87: 0 | V87: 0 | W87: 0 | X87: 0 | Y87: 0 | Z87: 0 | AA87: 160 | AB87: 570 | AC87: 320 | AD87: 34 | AE87: 1050 | AF87: 470 | AG87: 1520 | AH87: 60
C88: =SUM(C70:C86) -> 125 | D88: =SUM(D70:D86) -> 5 | E88: =SUM(E70:E86) -> 140 | F88: =SUM(F70:F86) -> 65 | G88: =SUM(G70:G86) -> 0 | H88: =SUM(H70:H86) -> 0 | I88: =SUM(I70:I86) -> 45 | J88: =SUM(J70:J86) -> 0 | ... AI88: =SUM(AI70:AI86) -> 0
A92: lp bądź kod grupy** | B92: Przedmiot (nazwa) | C92: semestr zimowy | Q92: semestr letni | AE92: łącznie dla przedmiotu
C93: wykład (WY) | D93: seminarium (SE) | E93: ćwiczenia audytoryjne (CA) | F93: ćwiczenia kierunkowe - niekliniczne (CN) | G93: ćwiczenia symulowane (CS) | H93: ćwiczenia laboratoryjne (CL) | I93: ćwiczenia kliniczne (CK) | J93: lektoraty (LE) | K93: e-learning (EL) | L93: zajęcia wychowania fizycznego (WF) | M93: praktyka zawodowa (PZ) | N93: godziny dydaktyczne w semestrze | O93: samodzielna praca studenta | P93: punkty ECTS w semestrze | Q93: wykład (WY) | R93: seminarium (SE) | S93: ćwiczenia audytoryjne CA) | T93: ćwiczenia kierunkowe - niekliniczne (CN) | U93: ćwiczenia symulowane (CS) | V93: ćwiczenia laboratoryjne (CL) | W93: ćwiczenia kliniczne (CK) | X93: lektoraty (LE) | Y93: e-learning (EL) | Z93: zajęcia wychowania fizycznego (WF) | AA93: praktyka zawodowa (PZ) | AB93: godziny dydaktyczne w semestrze | AC93: samodzielna praca studenta | AD93: punkty ECTS w semestrze | AE93: SUMA GODZIN PRZEDMIOTU | AH93: PUNKTY ECTS | AI93: Forma weryfikacji ***
AE94: GODZINY DYDAKTYCZNE | AF94: SAMODZIELNA PRACA STUDENTA | AG94: NAKŁAD PRACY STUDENTA (godz. dyd. + samodzielna praca)
A95: 1 | B95: Etyka zawodu psychologa | N95: 0 | Q95: 20 | AB95: 20 | AC95: 55 | AD95: 3 | AE95: 20 | AF95: 55 | AG95: 75 | AH95: 3 | AI95: egz
A96: 2 | B96: Język obcy | J96: 30 | N96: 30 | P96: 3 | X96: 30 | AB96: 30 | AC96: 15 | AE96: 60 | AF96: 15 | AG96: 75 | AH96: 3 | AI96: egz
A97: 3 | B97: Metodologia badań psychologicznych I | C97: 30 | F97: 30 | N97: 60 | O97: 40 | P97: 4 | AE97: 60 | AF97: 40 | AG97: 100 | AH97: 4 | AI97: egz
A98: 4 | B98: Ochrona własności intelektualnej | N98: 0 | Q98: 5 | S98: 5 | Y98: 5 | AB98: 15 | AC98: 10 | AD98: 1 | AE98: 15 | AF98: 10 | AG98: 25 | AH98: 1 | AI98: zal/o
A99: 5 | B99: Podstawy pomocy psychologicznej | C99: 15 | E99: 30 | N99: 45 | O99: 30 | P99: 3 | AE99: 45 | AF99: 30 | AG99: 75 | AH99: 3 | AI99: zal/o
A100: 6 | B100: Praktyki zawodowe w zakresie pomocy psychologicznej | M100: 160 | N100: 160 | P100: 6 | AE100: 160 | AF100: 0 | AG100: 160 | AH100: 6 | AI100: zal/o
A101: 7 | B101: Praktyki zawodowe w zakresie edukacji i promocji zdrowia | AA101: 160 | AB101: 160 | AD101: 6 | AE101: 160 | AF101: 0 | AG101: 160 | AH101: 6 | AI101: zal/o
A102: 8 | B102: Przedmiot fakultatywny 2: Społeczne przyczyny kryzysów psychicznych/ Rola organizacji pozarządowych w systemie ochrony zdrowia | C102: 10 | E102: 30 | G102: 12 | N102: 40 | O102: 10 | P102: 2 | AB102: 0 | AE102: 40 | AF102: 10 | AG102: 50 | AH102: 2 | AI102: zal/o
A103: 9 | B103: Przedmiot fakultatywny 3: Podstawy organizacji i zarządzania / Psychologia języka | N103: 0 | Q103: 10 | S103: 30 | AB103: 40 | AC103: 10 | AD103: 2 | AE103: 40 | AF103: 10 | AG103: 50 | AH103: 2 | AI103: zal/o
A104: 10 | B104: Przedmiot fakultatywny 4: Podstawy uczenia maszynowego i sieci neuronowych/ Psychologia człowieka w świecie AI | N104: 0 | Q104: 10 | S104: 30 | AB104: 40 | AC104: 10 | AD104: 2 | AE104: 40 | AF104: 10 | AG104: 50 | AH104: 2 | AI104: zal/o
A105: 11 | B105: Psychologia emocji i motywacji (I i II) | C105: 30 | F105: 30 | N105: 60 | O105: 15 | P105: 3 | Q105: 30 | T105: 30 | AB105: 60 | AC105: 15 | AD105: 3 | AE105: 120 | AF105: 30 | AG105: 150 | AH105: 6 | AI105: egz
A106: 12 | B106: Psychologia osobowości | N106: 0 | Q106: 30 | T106: 40 | AB106: 70 | AC106: 55 | AD106: 5 | AE106: 70 | AF106: 55 | AG106: 125 | AH106: 5 | AI106: egz
A107: 13 | B107: Psychologia procesów poznawczych | C107: 30 | F107: 30 | N107: 60 | O107: 40 | P107: 4 | AB107: 0 | AE107: 60 | AF107: 40 | AG107: 100 | AH107: 4 | AI107: egz
A108: 14 | B108: Psychologia rozwoju człowieka | Q108: 30 | T108: 40 | AB108: 70 | AC108: 55 | AD108: 5 | AE108: 70 | AF108: 55 | AG108: 125 | AH108: 5 | AI108: egz
A109: 15 | B109: Psychologia różnic indywidualnych (I i II) | C109: 25 | F109: 25 | N109: 50 | P109: 2 | Q109: 25 | T109: 25 | AB109: 50 | AC109: 25 | AD109: 3 | AE109: 100 | AF109: 25 | AG109: 125 | AH109: 5 | AI109: egz
A110: 16 | B110: Socjologia | C110: 30 | D110: 20 | N110: 50 | O110: 25 | P110: 3 | AB110: 0 | AE110: 50 | AF110: 25 | AG110: 75 | AH110: 3 | AI110: egz
A111: RAZEM | C111: 200 | D111: 20 | E111: 60 | F111: 155 | G111: 0 | H111: 0 | I111: 0 | J111: 30 | K111: 0 | L111: 0 | M111: 160 | N111: 625 | O111: 215 | P111: 35 | Q111: 130 | R111: 0 | S111: 65 | T111: 95 | U111: 0 | V111: 0 | W111: 0 | X111: 30 | Y111: 5 | Z111: 0 | AA111: 160 | AB111: 485 | AC111: 195 | AD111: 25 | AE111: 1110 | AF111: 410 | AG111: 1520 | AH111: 60
C112: =SUM(C95:C110) -> 170 | D112: =SUM(D95:D110) -> 20 | E112: =SUM(E95:E110) -> 60 | F112: =SUM(F95:F110) -> 115 | G112: =SUM(G95:G110) -> 12 | H112: =SUM(H95:H110) -> 0 | I112: =SUM(I95:I110) -> 0 | J112: =SUM(J95:J110) -> 30 | ... AH112: =SUM(AH95:AH110) -> 60
I117: lp bądź kod grupy** | J117: Przedmiot (nazwa) | K117: semestr zimowy | Y117: semestr letni | AM117: łącznie dla przedmiotu
K118: wykład (WY) | L118: seminarium (SE) | M118: ćwiczenia audytoryjne (CA) | N118: ćwiczenia kierunkowe - niekliniczne (CN) | O118: ćwiczenia symulowane (CS) | P118: ćwiczenia laboratoryjne (CL) | Q118: ćwiczenia kliniczne (CK) | R118: lektoraty (LE) | S118: e-learning (EL) | T118: zajęcia wychowania fizycznego (WF) | U118: praktyka zawodowa (PZ) | V118: godziny dydaktyczne w semestrze | W118: samodzielna praca studenta | X118: punkty ECTS w semestrze | Y118: wykład (WY) | Z118: seminarium (SE) | AA118: ćwiczenia audytoryjne CA) | AB118: ćwiczenia kierunkowe - niekliniczne (CN) | AC118: ćwiczenia symulowane (CS) | AD118: ćwiczenia laboratoryjne (CL) | AE118: ćwiczenia kliniczne (CK) | AF118: lektoraty (LE) | AG118: e-learning (EL) | AH118: zajęcia wychowania fizycznego (WF) | AI118: praktyka zawodowa (PZ) | AJ118: godziny dydaktyczne w semestrze | AK118: samodzielna praca studenta | AL118: punkty ECTS w semestrze | AM118: SUMA GODZIN PRZEDMIOTU | AP118: PUNKTY ECTS | AQ118: Forma weryfikacji ***
AM119: GODZINY DYDAKTYCZNE | AN119: SAMODZIELNA PRACA STUDENTA | AO119: NAKŁAD PRACY STUDENTA (godz. dyd. + samodzielna praca)
I120: 1 | J120: Etyka zawodu psychologa | V120: 0 | Y120: 20 | AJ120: 20 | AK120: 55 | AL120: 3 | AM120: 20 | AN120: 55 | AO120: 75 | AP120: 3 | AQ120: egz
I121: 2 | J121: Język obcy | R121: 30 | V121: 30 | X121: 3 | AF121: 30 | AJ121: 30 | AK121: 15 | AM121: 60 | AN121: 15 | AO121: 75 | AP121: 3 | AQ121: egz
I122: 3 | J122: Metodologia badań psychologicznych I | K122: 30 | N122: 30 | V122: 60 | W122: 40 | X122: 4 | AM122: 60 | AN122: 40 | AO122: 100 | AP122: 4 | AQ122: egz
I123: 4 | J123: Ochrona własności intelektualnej | V123: 0 | Y123: 5 | AA123: 5 | AG123: 5 | AJ123: 15 | AK123: 10 | AL123: 1 | AM123: 15 | AN123: 10 | AO123: 25 | AP123: 1 | AQ123: zal/o
I124: 5 | J124: Podstawy pomocy psychologicznej | K124: 15 | M124: 30 | V124: 45 | W124: 30 | X124: 3 | AM124: 45 | AN124: 30 | AO124: 75 | AP124: 3 | AQ124: zal/o
I125: 6 | J125: Praktyki zawodowe w zakresie pomocy psychologicznej | U125: 160 | V125: 160 | X125: 6 | AM125: 160 | AN125: 0 | AO125: 160 | AP125: 6 | AQ125: zal/o
I126: 7 | J126: Praktyki zawodowe w zakresie edukacji i promocji zdrowia | AI126: 160 | AJ126: 160 | AL126: 6 | AM126: 160 | AN126: 0 | AO126: 160 | AP126: 6 | AQ126: zal/o
I127: 8 | J127: Przedmiot fakultatywny 2: Społeczne przyczyny kryzysów psychicznych/ Rola organizacji pozarządowych w systemie ochrony zdrowia | K127: 10 | M127: 30 | V127: 40 | W127: 10 | X127: 2 | AJ127: 0 | AM127: 40 | AN127: 10 | AO127: 50 | AP127: 2 | AQ127: zal/o
I128: 9 | J128: Przedmiot fakultatywny 3: Podstawy organizacji i zarządzania / Psychologia języka | V128: 0 | Y128: 10 | AA128: 30 | AJ128: 40 | AK128: 10 | AL128: 2 | AM128: 40 | AN128: 10 | AO128: 50 | AP128: 2 | AQ128: zal/o
...

Sheet Słowniki
B1: Rodzaj zajęć: | C1: Nazwa godzaju zajęć | E1: Forma zakończenia semestru | F1: Nazwa formy zakończenia | H1: Pula godzin | J1: Forma zakończenia przedmiotu | K1: Nazwa formy zakończenia
B2: RPS | C2: obowiązkowe | E2: zal | F2: zaliczenie (zal/nzal) | H2: ze standardu | J2: zal | K2: zaliczenie (zal/nzal)
B3: POW | C3: przedmiot ograniczonego wyboru | E3: zal/o | F3: zaliczenie na ocenę | H3: do dyspozycji uczelni (Autorska oferta uczelni) | J3: zal/o | K3: zaliczenie na ocenę
B4: PSW | C4: przedmiot swobodnego wyboru | J4: egz | K4: egzamin
