Workbook

Sheet Psychologia
F5: Wydział | G5: Wydział Nauk o Zdrowiu
F6: Kierunek | G6: Psychologia | AI6: Szczegółowy Program Studiów dla cyklu kształcenia rozpoczynającego się w roku akademickim: 20../20..
F7: Cykl kształcenia | G7: 2025/2026-2029/2030 | AJ7: uchwała Senatu nr…. z dnia …..202….
F8: Poziom kształcenia | G8: studia jednolite magisterskie | AR8: Uniwersytetu Medycznego we Wrocławiu
F9: Profil kształcenia | G9: praktyczny/ogólnoakademicki | AR9: z dnia …..20.. r.
F10: Forma studiów | G10: stacjonarne
F11: Liczba semestrów | G11: 10
F12: Łączna liczba godzin
F13: Łączna liczba ECTS | G13: 300
A15: Lp. | B15: Cykl kształcenia (nabór) | C15: Ścieżka** | D15: Rok studiów | E15: Rok akademicki | F15: Rodzaj zajęć*** (RPS, POW, PSW) | G15: Przedmiot (nazwa) | H15: Czy przedmiot humanistyczny lub społeczny | I15: Czy zajęcia kształtują umiejętności praktyczne | J15: łącznie dla przedmiotu | S15: semestr zimowy - I | AO15: semestr letni - II
J16: SUMA GODZIN PRZEDMIOTU | N16: SUMA PUNKTÓW ECTS ZA PRZEDMIOT | R16: forma zakończenia przedmiotu ***** | S16: forma zakończenia semestru ****** | T16: punkty ECTS w semestrze | U16: nakład pracy studenta (godz. dyd. + samodzielna praca) | V16: ogólna liczba godzin dydaktycznych | W16: liczba godzin z nauczycielem | X16: wykład (WY) | Z16: seminarium (SE) | AA16: ćwiczenia audytoryjne (CA) | AB16: ćwiczenia kierunkowe - niekliniczne (CN) | AC16: ćwiczenia w warunkach symulowanych (CS)******* | AF16: ćwiczenia laboratoryjne (CL) | AG16: ćwiczenia kliniczne (CK) | AH16: zajęcia praktyczne przy pacjencie (PP) | AI16: ćwiczenia specjalistyczne - magisterskie (CM) | AJ16: lektoraty (LE) | AK16: e-learning (EL) | AL16: zajęcia wychowania fizycznego (WF) | AM16: praktyka zawodowa (PZ) | AN16: samodzielna praca studenta | AO16: forma zakończenia semestru ****** | AP16: punkty ECTS w semestrze | AQ16: całkowity nakład pracy studenta | AR16: ogólna liczba godzin dydaktycznych | AS16: liczba godzin z nauczycielem | AT16: wykład (WY) | AV16: seminarium (SE) | AW16: ćwiczenia audytoryjne CA) | AX16: ćwiczenia kierunkowe - niekliniczne (CN) | AY16: ćwiczenia w warunkach symulowanych (CS)******* | BB16: ćwiczenia laboratoryjne (CL) | BC16: ćwiczenia kliniczne (CK) | BD16: zajęcia praktyczne przy pacjencie (PP) | BE16: ćwiczenia specjalistyczne - magisterskie (CM) | BF16: lektoraty (LE) | BG16: e-learning (EL) | BH16: zajęcia wychowania fizycznego (WF) | BI16: praktyka zawodowa (PZ) | BJ16: samodzielna praca studenta
J17: NAKŁAD PRACY STUDENTA (godz. dyd. + samodzielna praca) | K17: SAMODZIELNA PRACA STUDENTA | L17: GODZINY DYDAKTYCZNE | M17: GODZINY Z NAUCZYCIELEM | N17: Łącznie | O17: za zajęcia kształtujące umiejętności praktyczne jeżeli L="tak"(PP+PZ+CS+CL+CK+CN+CA) | P17: za zajęcia z wykorzystaniem met i technik na odl. | Q17: za zajęcia z bezpośrednim udziałem prowadzących | X17: łącznie | Y17: w tym on-line | AC17: CSM WW | AD17: CSM NW | AE17: CSP NW | AT17: łącznie | AU17: w tym on-line | AY17: CSM WW | AZ17: CSM NW | BA17: CSP NW
J18: 1 | K18: 2 | L18: 3 | M18: 4 | N18: 5 | O18: 7 | P18: 8 | Q18: 9 | R18: 10 | S18: 11 | T18: 12 | U18: 13 | V18: 14 | W18: 15 | X18: 16 | Y18: 17 | Z18: 18 | AA18: 19 | AB18: 20 | AC18: 21 | AD18: 22 | AE18: 23 | AF18: 24 | AG18: 25 | AH18: 26 | AI18: 27 | AJ18: 28 | AK18: 29 | AL18: 30 | AM18: 31 | AN18: 33 | AO18: 34 | AP18: 35 | AQ18: 36 | AR18: 37 | AS18: 38 | AT18: 39 | AU18: 40 | AV18: 41 | AW18: 42 | AX18: 43 | AY18: 44 | AZ18: 45 | BA18: 46 | BB18: 47 | BC18: 48 | BD18: 49 | BE18: 50 | BF18: 51 | BG18: 52 | BH18: 53 | BI18: 54 | BJ18: 56
A20: 1 | B20: 2026/2027 | D20: 1 | E20: 2026/2027 | F20: RPS | G20: Biologiczne uwarunkowania procesów psychicznych | I20: nie | J20: 100 | K20: 40 | L20: 60 | M20: 60 | N20: 4 | O20: 0 | P20: 1 | Q20: 2.4 | R20: egz | S20: zal/o | U20: 0 | V20: 0 | W20: 0 | AO20: zal/o | AP20: 4 | AQ20: 100 | AR20: 60 | AS20: 60 | AT20: 15 | AU20: 15 | AV20: 15 | BB20: 30 | BJ20: 40
A21: 2 | B21: 2026/2027 | D21: 1 | E21: 2026/2027 | F21: RPS | G21: Podejście evidence based w psychologii | I21: nie | J21: 25 | K21: 0 | L21: 25 | M21: 25 | N21: 1 | O21: 0 | P21: 0.6 | Q21: 1 | R21: zal/o | S21: zal/o | T21: 1 | U21: 25 | V21: 25 | W21: 25 | X21: 15 | Y21: 15 | Z21: 10 | AQ21: 0 | AR21: 0 | AS21: 0
A22: 3 | B22: 2026/2027 | D22: 1 | E22: 2026/2027 | F22: RPS | G22: Filozofia z logiką | H22: tak | I22: nie | J22: 125 | K22: 75 | L22: 50 | M22: 50 | N22: 5 | O22: 0 | P22: 3 | Q22: 2 | R22: egz | S22: zal/o | T22: 5 | U22: 125 | V22: 50 | W22: 50 | X22: 30 | Y22: 30 | AA22: 20 | AN22: 75 | AQ22: 0 | AR22: 0 | AS22: 0
A23: 4 | B23: 2026/2027 | D23: 1 | E23: 2026/2027 | F23: RPS | G23: Psychogenetyka | I23: nie | J23: 50 | K23: 15 | L23: 35 | M23: 35 | N23: 2 | O23: 0 | P23: 0.85714286 | Q23: 1.4 | R23: zal/o | S23: zal/o | U23: 0 | V23: 0 | W23: 0 | AO23: zal/o | AP23: 2 | AQ23: 50 | AR23: 35 | AS23: 35 | AT23: 15 | AU23: 15 | AX23: 20 | BJ23: 15
A24: 5 | B24: 2026/2027 | D24: 1 | E24: 2026/2027 | F24: RPS | G24: Kompetencje akademickie | I24: nie | J24: 28 | K24: 0 | L24: 28 | M24: 28 | N24: 0 | O24: 0 | P24: 0 | Q24: 0 | R24: zal | S24: zal | U24: 28 | V24: 28 | W24: 28 | AA24: 20 | AK24: 8 | AQ24: 0 | AR24: 0 | AS24: 0
A25: 6 | B25: 2026/2027 | D25: 1 | E25: 2026/2027 | F25: RPS | G25: Lektorat z języka angielskiego I | I25: nie | J25: 50 | K25: 20 | L25: 30 | M25: 30 | N25: 2 | O25: 0 | P25: 0 | Q25: 1.2 | R25: zal/o | S25: zal/o | T25: 2 | U25: 50 | V25: 30 | W25: 30 | AJ25: 30 | AN25: 20 | AQ25: 0 | AR25: 0 | AS25: 0
A26: 7 | B26: 2026/2027 | D26: 1 | E26: 2026/2027 | F26: RPS | G26: Lektorat z języka angielskiego II | I26: nie | J26: 50 | K26: 20 | L26: 30 | M26: 30 | N26: 2 | O26: 0 | P26: 0 | Q26: 1.2 | R26: zal/o | U26: 0 | V26: 0 | W26: 0 | AO26: zal/o | AP26: 2 | AQ26: 50 | AR26: 30 | AS26: 30 | BF26: 30 | BJ26: 20
A27: 8 | B27: 2026/2027 | D27: 1 | E27: 2026/2027 | F27: RPS | G27: Neurobiologia i mechanizmy zachowania | I27: nie | J27: 80 | K27: 60 | L27: 20 | M27: 20 | N27: 3 | O27: 0 | P27: 1.5 | Q27: 0.75 | R27: zal/o | S27: zal/o | U27: 0 | V27: 0 | W27: 0 | AO27: zal/o | AP27: 3 | AQ27: 80 | AR27: 20 | AS27: 20 | AT27: 10 | AU27: 10 | AW27: 10 | BJ27: 60
A28: 9 | B28: 2026/2027 | D28: 1 | E28: 2026/2027 | F28: RPS | G28: Podstawy neurofizjologii dla psychologów | I28: nie | J28: 100 | K28: 65 | L28: 35 | M28: 35 | N28: 4 | O28: 0 | P28: 1.1428571 | Q28: 1.4 | R28: egz | S28: zal/o | T28: 4 | U28: 100 | V28: 35 | W28: 35 | X28: 10 | Y28: 10 | AF28: 25 | AN28: 65 | AQ28: 0 | AR28: 0 | AS28: 0
A29: 10 | B29: 2026/2027 | D29: 1 | E29: 2026/2027 | F29: RPS | G29: Pierwsza pomoc medyczna | I29: nie | J29: 25 | K29: 10 | L29: 15 | M29: 15 | N29: 1 | O29: 0 | P29: 0.33333333 | Q29: 0.6 | R29: zal/o | U29: 0 | V29: 0 | W29: 0 | AO29: zal/o | AP29: 1 | AQ29: 25 | AR29: 15 | AS29: 15 | AT29: 5 | AU29: 5 | AZ29: 10 | BJ29: 10
A30: 11 | B30: 2026/2027 | D30: 1 | E30: 2026/2027 | F30: RPS | G30: Podstawy technologii informacyjnej | I30: nie | J30: 50 | K30: 20 | L30: 30 | M30: 30 | N30: 2 | O30: 0 | P30: 0 | Q30: 1.2 | R30: zal/o | S30: zal/o | U30: 0 | V30: 0 | W30: 0 | AO30: zal/o | AP30: 2 | AQ30: 50 | AR30: 30 | AS30: 30 | AX30: 30 | BJ30: 20
A31: 12 | B31: 2026/2027 | D31: 1 | E31: 2026/2027 | F31: POW | G31: Przedmiot fakultatywny 1: Rola organizacji pozarządowych w systemie ochrony zdrowia / Sport, umysł i granice ludzkich możliwości | I31: nie | J31: 50 | K31: 10 | L31: 40 | M31: 40 | N31: 2 | O31: 0 | P31: 0 | Q31: 1.6 | R31: zal/o | S31: zal/o | T31: 2 | U31: 50 | V31: 40 | W31: 40 | AA31: 40 | AN31: 10 | AQ31: 0 | AR31: 0 | AS31: 0
A32: 13 | B32: 2026/2027 | D32: 1 | E32: 2026/2027 | F32: POW | G32: Przedmiot fakultatywny 2: Społeczne przyczyny kryzysów psychicznych / Podstawy neurobiologii eksperymentalnej | I32: nie | J32: 50 | K32: 10 | L32: 40 | M32: 40 | N32: 2 | O32: 0 | P32: 0.5 | Q32: 1.6 | R32: zal/o | U32: 0 | V32: 0 | W32: 0 | AO32: zal/o | AP32: 2 | AQ32: 50 | AR32: 40 | AS32: 40 | AT32: 10 | AU32: 10 | AW32: 30 | BJ32: 10
A33: 14 | B33: 2026/2027 | D33: 1 | E33: 2026/2027 | F33: RPS | G33: Psychologia ogólna | I33: nie | J33: 125 | K33: 75 | L33: 50 | M33: 50 | N33: 5 | O33: 0 | P33: 3 | Q33: 2 | R33: egz | S33: zal/o | U33: 0 | V33: 0 | W33: 0 | AO33: zal/o | AP33: 5 | AQ33: 125 | AR33: 50 | AS33: 50 | AT33: 30 | AU33: 30 | AW33: 20 | BJ33: 75
A34: 15 | B34: 2026/2027 | D34: 1 | E34: 2026/2027 | F34: RPS | G34: Psychologia społeczna | I34: nie | J34: 125 | K34: 75 | L34: 50 | M34: 50 | N34: 5 | O34: 0 | P34: 3 | Q34: 2 | R34: egz | S34: zal/o | U34: 0 | V34: 0 | W34: 0 | AO34: zal/o | AP34: 5 | AQ34: 125 | AR34: 50 | AS34: 50 | AT34: 30 | AU34: 30 | AW34: 20 | BJ34: 75
A35: 16 | B35: 2026/2027 | D35: 1 | E35: 2026/2027 | F35: RPS | G35: Trening umiejętności interpersonalnych I | I35: tak | J35: 75 | K35: 30 | L35: 45 | M35: 45 | N35: 3 | O35: 3 | P35: 0 | Q35: 1.8 | R35: zal/o | S35: zal/o | T35: 3 | U35: 75 | V35: 45 | W35: 45 | AA35: 45 | AN35: 30 | AQ35: 0 | AR35: 0 | AS35: 0
A36: 17 | B36: 2026/2027 | D36: 1 | E36: 2026/2027 | F36: RPS | G36: Trening umiejętności interpersonalnych II | I36: tak | J36: 100 | K36: 35 | L36: 65 | M36: 65 | N36: 4 | O36: 4 | P36: 0 | Q36: 2.6 | R36: zal/o | U36: 0 | V36: 0 | W36: 0 | AO36: zal/o | AP36: 4 | AQ36: 100 | AR36: 65 | AS36: 65 | AW36: 65 | BJ36: 35
A37: 18 | B37: 2026/2027 | D37: 1 | E37: 2026/2027 | F37: RPS | G37: Wprowadzenie do neuroanatomii | I37: nie | J37: 125 | K37: 65 | L37: 60 | M37: 60 | N37: 5 | O37: 0 | P37: 1.6666667 | Q37: 2.4 | R37: zal/o | S37: zal/o | T37: 5 | U37: 125 | V37: 60 | W37: 60 | X37: 20 | Y37: 20 | AB37: 40 | AN37: 65 | AQ37: 0 | AR37: 0 | AS37: 0
A38: 19 | B38: 2026/2027 | D38: 1 | E38: 2026/2027 | F38: RPS | G38: Wprowadzenie do psychologii i historii myśli psychologicznej | I38: nie | J38: 100 | K38: 60 | L38: 40 | M38: 40 | N38: 4 | O38: 0 | P38: 3 | Q38: 1.6 | R38: egz | S38: zal/o | T38: 4 | U38: 100 | V38: 40 | W38: 40 | X38: 30 | Y38: 30 | AA38: 10 | AN38: 60 | AQ38: 0 | AR38: 0 | AS38: 0
A39: 20 | B39: 2026/2027 | D39: 1 | E39: 2026/2027 | F39: RPS | G39: Wprowadzenie do psychologii społecznej | I39: nie | J39: 100 | K39: 45 | L39: 55 | M39: 55 | N39: 4 | O39: 0 | P39: 2.1818182 | Q39: 2.2 | R39: egz | S39: zal/o | T39: 4 | U39: 100 | V39: 55 | W39: 55 | X39: 30 | Y39: 30 | AA39: 25 | AN39: 45 | AQ39: 0 | AR39: 0 | AS39: 0
A40: 21 | B40: 2026/2027 | D40: 1 | E40: 2026/2027 | F40: RPS | G40: Wychowanie fizyczne I | I40: nie | J40: 30 | K40: 0 | L40: 30 | M40: 30 | N40: 0 | O40: 0 | P40: 0 | Q40: 0 | R40: zal | S40: zal | T40: 0 | U40: 30 | V40: 30 | W40: 30 | AL40: 30 | AQ40: 0 | AR40: 0 | AS40: 0 | BJ40: 0
A41: 22 | B41: 2026/2027 | D41: 1 | E41: 2026/2027 | F41: RPS | G41: Wychowanie fizyczne II | I41: nie | J41: 30 | K41: 0 | L41: 30 | M41: 30 | N41: 0 | O41: 0 | P41: 0 | Q41: 0 | R41: zal | U41: 0 | V41: 0 | W41: 0 | AO41: zal | AQ41: 30 | AR41: 30 | AS41: 30 | BH41: 30 | BJ41: 0
G42: sumy dla 1 roku | H42: 1 | I42: 2 | J42: 1593 | K42: 730 | L42: 863 | M42: 863 | N42: 60 | O42: 7 | P42: 21.781818 | Q42: 30.95 | R42: 0 | S42: 0 | T42: 30 | U42: 808 | V42: 438 | W42: 438 | X42: 135 | Y42: 135 | Z42: 10 | AA42: 160 | AB42: 40 | AC42: 0 | AD42: 0 | AE42: 0 | AF42: 25 | AG42: 0 | AH42: 0 | AI42: 0 | AJ42: 30 | AK42: 8 | AL42: 30 | AM42: 0 | AN42: 370 | AO42: 0 | AP42: 30 | AQ42: 785 | AR42: 425 | AS42: 425 | AT42: 115 | AU42: 115 | AV42: 15 | AW42: 145 | AX42: 50 | AY42: 0 | AZ42: 10 | BA42: 0 | BB42: 30 | BC42: 0 | BD42: 0 | BE42: 0 | BF42: 30 | BG42: 0 | BH42: 30 | BI42: 0 | BJ42: 360
A43: 23 | B43: 2026/2027 | D43: 2 | E43: 2027/2028 | F43: RPS | G43: Etyka zawodu psychologa | I43: tak | J43: 100 | K43: 60 | L43: 40 | M43: 40 | N43: 4 | O43: 3.5 | P43: 0.5 | Q43: 1.6 | R43: egz | U43: 0 | V43: 0 | W43: 0 | AO43: zal/o | AP43: 4 | AQ43: 100 | AR43: 40 | AS43: 40 | AT43: 5 | AU43: 5 | AW43: 35 | BJ43: 60
A44: 24 | B44: 2026/2027 | D44: 2 | E44: 2027/2028 | F44: RPS | G44: Lektorat z języka angielskiego III | I44: nie | J44: 50 | K44: 20 | L44: 30 | M44: 30 | N44: 2 | O44: 0 | P44: 0 | Q44: 1.2 | R44: zal/o | S44: zal/o | T44: 2 | U44: 50 | V44: 30 | W44: 30 | AJ44: 30 | AN44: 20 | AQ44: 0 | AR44: 0 | AS44: 0
A45: 25 | B45: 2026/2027 | D45: 2 | E45: 2027/2028 | F45: RPS | G45: Lektorat z języka angielskiego IV | I45: nie | J45: 75 | K45: 45 | L45: 30 | M45: 30 | N45: 3 | O45: 0 | P45: 0 | Q45: 1.2 | R45: egz | U45: 0 | V45: 0 | W45: 0 | AO45: zal/o | AP45: 3 | AQ45: 75 | AR45: 30 | AS45: 30 | BF45: 30 | BJ45: 45
A46: 26 | B46: 2026/2027 | D46: 2 | E46: 2027/2028 | F46: RPS | G46: Metodologia badań psychologicznych I | I46: nie | J46: 100 | K46: 40 | L46: 60 | M46: 60 | N46: 4 | O46: 0 | P46: 2 | Q46: 2.4 | R46: egz | S46: zal/o | T46: 4 | U46: 100 | V46: 60 | W46: 60 | X46: 30 | Y46: 30 | AA46: 30 | AN46: 40 | AQ46: 0 | AR46: 0 | AS46: 0
...

Sheet Arkusz3
A1: SUMA | D1: Biologiczne uwarunkowania procesów psychicznych | E1: Podejście evidence based w psychologii | F1: Filozofia z logiką | G1: Psychogenetyka | H1: Kompetencje akademickie | I1: Lektorat z języka angielskiego I | J1: Lektorat z języka angielskiego II | K1: Neurobiologia i mechanizmy zachowania | L1: Podstawy neurofizjologii dla psychologów | M1: Pierwsza pomoc medyczna | N1: Podstawy technologii informacyjnej | O1: Przedmiot fakultatywny 1: Komunikacja między ludzka / Sport umysł i granice ludzkich możliwości | P1: Przedmiot fakultatywny 2: Społeczne przyczyny kryzysów psychicznych/ Rola organizacji pozarządowych w systemie ochrony zdrowia | Q1: Psychologia ogólna | R1: Psychologia społeczna | S1: Szkolenie BHP i P.Poż. | T1: Trening umiejętności interpersonalnych | U1: Wprowadzenie do neuroanatomii | V1: Wprowadzenie do psychologii i historii myśli psychologicznej | W1: Wprowadzenie do psychologii społecznej | X1: Wychowanie fizyczne I | Y1: Wychowanie fizyczne II | Z1: sumy dla 1 roku | AA1: Etyka zawodu psychologa | AB1: Lektorat z języka angielskiego III | AC1: Lektorat z języka angielskiego IV | AD1: Metodologia badań psychologicznych I | AE1: Ochrona własności intelektualnej | AF1: Podstawy pomocy psychologicznej | AG1: Praktyki zawodowe w zakresie pomocy psychologicznej | AH1: Praktyki zawodowe w zakresie edukacji i promocji zdrowia | AI1: Przedmiot fakultatywny 3: Prowadzenie działalności/ Kampanie społeczne | AJ1: Przedmiot fakultatywny 4: Podstawy organizacji i zarządzania / Psychologia języka | AK1: Psychologia emocji i motywacji I | AL1: Psychologia emocji i motywacji II | AM1: Psychologia osobowości | AN1: Psychologia procesów poznawczych | AO1: Psychologia rozwoju człowieka | AP1: Psychologia różnic indywidualnych I | AQ1: Psychologia różnic indywidualnych II | AR1: Socjologia | AS1: sumy dla 2 roku | AT1: Metodologia badań psychologicznych II | AU1: Neuropsychologia | AV1: Podstawy neurologii | AW1: Praktyki zawodowe w zakresie psychologicznej diagnozy i terapii chorób somatycznych | AX1: Praktyki zawodowe w zakresie klinicznej diagnozy psychologicznej dorosłych | AY1: Projekt badawczy grupowy- psychologia zdrowia/ psychologia kliniczna | AZ1: Przedmiot fakultatywny 5: Zaburzenia neurorozwojowe / Psychologia kryminalna | BA1: Przedmiot fakultatywny 6: Podstawy uczenia maszynowego i sieci neuronowych/ Psychologia człowieka w świecie AI | BB1: Psychologia kliniczna dorosłych | BC1: Psychologia kliniczna dzieci i młodzieży | BD1: Psychologia środowiska | BE1: Psychologia zarządzania | BF1: Psychologia zdrowia | BG1: Psychometria | BH1: Psychopatologia | BI1: Statystyka I | BJ1: Statystyka II | BK1: Wprowadzenie do psychologii klinicznej | BL1: sumy dla 3 roku | BM1: Psychiatria | BN1: Psychofarmakologia | BO1: Przedmiot fakultatywny 7: Podstawy neurobiologii eksperymentalnej/Psychoseksuologia (PK) /Terapia perfekcjonizmu w podejściu poznawczo – behawioralnym (PZ) | BP1: Przedmiot fakultatywny 8: Podstawy terapii DBT/ Podstawy marketingu | BQ1: Przedmiot fakultatywny 9: Podstawy psychoterapii zaburzeń odżywiania/ Psychologia zwycięstwa | BR1: Praktyki zawodowe w zakresie klinicznej diagnozy psychologicznej dzieci i młodzieży | BS1: Praktyki zawodowe w zakresie neuropsychologii | BT1: Seminarium magisterskie I | BU1: Seminarium magisterskie II | BV1: Diagnoza neuropsychologiczna | BW1: Podstawy neuroobrazowania | BX1: Podstawy psychologii sądowej | BY1: Podstawy psychoterapii | BZ1: Psychologia uzależnień | CA1: Psychologiczna diagnoza kliniczna dorosłych | CB1: Psychologiczna diagnoza dzieci i młodzieży z elementami psychoterapii | CC1: Poradnictwo psychologiczne | CD1: Elementy psychologii edukacji | CE1: Psychologia kryzysu i stresu | CF1: Psychologia zaburzeń somatycznych | CG1: Projektowanie i prowadzenie szkoleń | CH1: Promocja zdrowia | CI1: Rehabilitacja psychologiczna | CJ1: sumy dla 4 roku | CK1: Interwencja kryzysowa | CL1: Przedmiot fakultatywny 10: Zachowania suicydalne – diagnoza i terapia/PK: ADHD- diagnoza i terapia; PZ: Fizjoprofilaktyka | CM1: Seksuologia | CN1: Seminarium magisterskie III | CO1: Seminarium magisterskie IV | CP1: Psychoanaliza i terapia psychodynamiczna | CQ1: Psychogeriatria | CR1: Psychologia rodziny | CS1: Psychoterapia humanistyczno-egzystencjalna | CT1: Psychoterapia poznawczo-behawioralna | CU1: Psychoterapia systemowa | CV1: Elementy psychologii pracy i organizacji | CW1: Psychodietetyka | CX1: Psychologia sportu | CY1: Psychoonkologia | CZ1: Psychoseksuologia | DA1: Zdrowie publiczne
A2: =SUM(D2:Y2,AA2:AR2,AT2:BK2,BM2:CI2,CK2:DA2) -> 17 | B2: Wiedza | C2: K_W01 | F2: 1 | Q2: 1 | R2: 1 | V2: 1 | W2: 1 | Z2: =SUM(D2:Y2) -> 5 | AK2: 1 | AL2: 1 | AM2: 1 | AN2: 1 | AP2: 1 | AQ2: 1 | AR2: 1 | AS2: =SUM(AA2:AR2) -> 7 | BK2: 1 | BL2: =SUM(AT2:BK2) -> 1 | CD2: 1 | CE2: 1 | CJ2: =SUM(BM2:CI2) -> 2 | CM2: 1 | CZ2: 1
A3: =SUM(D3:Y3,AA3:AR3,AT3:BK3,BM3:CI3,CK3:DA3) -> 13 | C3: K_W02 | Z3: =SUM(D3:Y3) -> 0 | AD3: 1 | AS3: =SUM(AA3:AR3) -> 1 | AT3: 1 | AU3: 1 | BG3: 1 | BL3: =SUM(AT3:BK3) -> 3 | BT3: 1 | BU3: 1 | BX3: 1 | CA3: 1 | CB3: 1 | CJ3: =SUM(BM3:CI3) -> 5 | CN3: 1 | CO3: 1 | CQ3: 1 | CR3: 1
A4: =SUM(D4:Y4,AA4:AR4,AT4:BK4,BM4:CI4,CK4:DA4) -> 15 | C4: K_W03 | Z4: =SUM(D4:Y4) -> 0 | AF4: 1 | AM4: 1 | AS4: =SUM(AA4:AR4) -> 2 | BL4: =SUM(AT4:BK4) -> 0 | BY4: 1 | BZ4: 1 | CC4: 1 | CI4: 1 | CJ4: =SUM(BM4:CI4) -> 4 | CK4: 1 | CP4: 1 | CR4: 1 | CS4: 1 | CT4: 1 | CU4: 1 | CW4: 1 | CX4: 1 | CY4: 1
A5: =SUM(D5:Y5,AA5:AR5,AT5:BK5,BM5:CI5,CK5:DA5) -> 11 | C5: K_W04 | E5: 1 | Z5: =SUM(D5:Y5) -> 1 | AD5: 1 | AO5: 1 | AS5: =SUM(AA5:AR5) -> 2 | AT5: 1 | AY5: 1 | BI5: 1 | BJ5: 1 | BL5: =SUM(AT5:BK5) -> 4 | BT5: 1 | BU5: 1 | CJ5: =SUM(BM5:CI5) -> 2 | CN5: 1 | CO5: 1
A6: =SUM(D6:Y6,AA6:AR6,AT6:BK6,BM6:CI6,CK6:DA6) -> 15 | C6: K_W05 | Z6: =SUM(D6:Y6) -> 0 | AL6: 1 | AM6: 1 | AN6: 1 | AQ6: 1 | AS6: =SUM(AA6:AR6) -> 4 | BD6: 1 | BF6: 1 | BL6: =SUM(AT6:BK6) -> 2 | CB6: 1 | CD6: 1 | CE6: 1 | CJ6: =SUM(BM6:CI6) -> 3 | CK6: 1 | CP6: 1 | CR6: 1 | CS6: 1 | CT6: 1 | CZ6: 1
A7: =SUM(D7:Y7,AA7:AR7,AT7:BK7,BM7:CI7,CK7:DA7) -> 9 | C7: K_W06 | G7: 1 | K7: 1 | L7: 1 | Z7: =SUM(D7:Y7) -> 3 | AS7: =SUM(AA7:AR7) -> 0 | BL7: =SUM(AT7:BK7) -> 0 | BN7: 1 | BW7: 1 | BX7: 1 | CF7: 1 | CJ7: =SUM(BM7:CI7) -> 4 | CM7: 1 | DA7: 1
A8: =SUM(D8:Y8,AA8:AR8,AT8:BK8,BM8:CI8,CK8:DA8) -> 12 | C8: K_W07 | E8: 1 | G8: 1 | Z8: =SUM(D8:Y8) -> 2 | AD8: 1 | AO8: 1 | AS8: =SUM(AA8:AR8) -> 2 | AT8: 1 | AY8: 1 | BI8: 1 | BJ8: 1 | BL8: =SUM(AT8:BK8) -> 4 | BT8: 1 | BU8: 1 | CJ8: =SUM(BM8:CI8) -> 2 | CN8: 1 | CO8: 1
A9: =SUM(D9:Y9,AA9:AR9,AT9:BK9,BM9:CI9,CK9:DA9) -> 18 | C9: K_W08 | D9: 1 | G9: 1 | K9: 1 | L9: 1 | U9: 1 | Z9: =SUM(D9:Y9) -> 5 | AO9: 1 | AS9: =SUM(AA9:AR9) -> 1 | AU9: 1 | AV9: 1 | BB9: 1 | BC9: 1 | BH9: 1 | BK9: 1 | BL9: =SUM(AT9:BK9) -> 6 | BM9: 1 | BN9: 1 | BV9: 1 | BW9: 1 | CF9: 1 | CI9: 1 | CJ9: =SUM(BM9:CI9) -> 6
A10: =SUM(D10:Y10,AA10:AR10,AT10:BK10,BM10:CI10,CK10:DA10) -> 15 | C10: K_W09 | Z10: =SUM(D10:Y10) -> 0 | AS10: =SUM(AA10:AR10) -> 0 | BB10: 1 | BC10: 1 | BH10: 1 | BK10: 1 | BL10: =SUM(AT10:BK10) -> 4 | BM10: 1 | BV10: 1 | BX10: 1 | CJ10: =SUM(BM10:CI10) -> 3 | CM10: 1 | CP10: 1 | CQ10: 1 | CS10: 1 | CT10: 1 | CU10: 1 | CY10: 1 | CZ10: 1
A11: =SUM(D11:Y11,AA11:AR11,AT11:BK11,BM11:CI11,CK11:DA11) -> 14 | C11: K_W10 | Z11: =SUM(D11:Y11) -> 0 | AS11: =SUM(AA11:AR11) -> 0 | BL11: =SUM(AT11:BK11) -> 0 | BZ11: 1 | CA11: 1 | CC11: 1 | CF11: 1 | CJ11: =SUM(BM11:CI11) -> 4 | CM11: 1 | CP11: 1 | CQ11: 1 | CR11: 1 | CS11: 1 | CT11: 1 | CU11: 1 | CW11: 1 | CX11: 1 | CZ11: 1
A12: =SUM(D12:Y12,AA12:AR12,AT12:BK12,BM12:CI12,CK12:DA12) -> 7 | C12: K_W11 | N12: 1 | Z12: =SUM(D12:Y12) -> 1 | AA12: 1 | AE12: 1 | AS12: =SUM(AA12:AR12) -> 2 | BE12: 1 | BL12: =SUM(AT12:BK12) -> 1 | BM12: 1 | CG12: 1 | CJ12: =SUM(BM12:CI12) -> 2 | CV12: 1
A13: =SUM(D13:Y13,AA13:AR13,AT13:BK13,BM13:CI13,CK13:DA13) -> 5 | C13: K_W12 | Z13: =SUM(D13:Y13) -> 0 | AS13: =SUM(AA13:AR13) -> 0 | BE13: 1 | BL13: =SUM(AT13:BK13) -> 1 | BM13: 1 | CG13: 1 | CJ13: =SUM(BM13:CI13) -> 2 | CV13: 1 | DA13: 1
A14: =SUM(D14:Y14,AA14:AR14,AT14:BK14,BM14:CI14,CK14:DA14) -> 13 | B14: Umiejętności | C14: K_U01 | Z14: =SUM(D14:Y14) -> 0 | AS14: =SUM(AA14:AR14) -> 0 | AU14: 1 | AW14: 1 | AX14: 1 | BB14: 1 | BC14: 1 | BG14: 1 | BH14: 1 | BK14: 1 | BL14: =SUM(AT14:BK14) -> 8 | BM14: 1 | BW14: 1 | CJ14: =SUM(BM14:CI14) -> 2 | CM14: 1 | CQ14: 1 | CZ14: 1
A15: =SUM(D15:Y15,AA15:AR15,AT15:BK15,BM15:CI15,CK15:DA15) -> 12 | C15: K_U02 | Z15: =SUM(D15:Y15) -> 0 | AS15: =SUM(AA15:AR15) -> 0 | AU15: 1 | AW15: 1 | AX15: 1 | BB15: 1 | BC15: 1 | BG15: 1 | BH15: 1 | BK15: 1 | BL15: =SUM(AT15:BK15) -> 8 | BM15: 1 | BV15: 1 | BX15: 1 | CF15: 1 | CJ15: =SUM(BM15:CI15) -> 4
A16: =SUM(D16:Y16,AA16:AR16,AT16:BK16,BM16:CI16,CK16:DA16) -> 19 | C16: K_U03 | F16: 1 | Q16: 1 | V16: 1 | Z16: =SUM(D16:Y16) -> 3 | AL16: 1 | AM16: 1 | AN16: 1 | AQ16: 1 | AS16: =SUM(AA16:AR16) -> 4 | AT16: 1 | AY16: 1 | BB16: 1 | BC16: 1 | BH16: 1 | BK16: 1 | BL16: =SUM(AT16:BK16) -> 6 | BV16: 1 | CA16: 1 | CB16: 1 | CF16: 1 | CJ16: =SUM(BM16:CI16) -> 4 | CN16: 1 | CO16: 1
A17: =SUM(D17:Y17,AA17:AR17,AT17:BK17,BM17:CI17,CK17:DA17) -> 15 | C17: K_U04 | Z17: =SUM(D17:Y17) -> 0 | AS17: =SUM(AA17:AR17) -> 0 | BB17: 1 | BC17: 1 | BD17: 1 | BH17: 1 | BL17: =SUM(AT17:BK17) -> 4 | BR17: 1 | BS17: 1 | BV17: 1 | BX17: 1 | BZ17: 1 | CA17: 1 | CB17: 1 | CJ17: =SUM(BM17:CI17) -> 7 | CK17: 1 | CM17: 1 | CR17: 1 | CZ17: 1
A18: =SUM(D18:Y18,AA18:AR18,AT18:BK18,BM18:CI18,CK18:DA18) -> 19 | C18: K_U05 | Z18: =SUM(D18:Y18) -> 0 | AF18: 1 | AG18: 1 | AH18: 1 | AS18: =SUM(AA18:AR18) -> 3 | BL18: =SUM(AT18:BK18) -> 0 | BY18: 1 | CC18: 1 | CD18: 1 | CF18: 1 | CI18: 1 | CJ18: =SUM(BM18:CI18) -> 5 | CK18: 1 | CM18: 1 | CP18: 1 | CQ18: 1 | CR18: 1 | CS18: 1 | CT18: 1 | CU18: 1 | CW18: 1 | CY18: 1 | CZ18: 1
A19: =SUM(D19:Y19,AA19:AR19,AT19:BK19,BM19:CI19,CK19:DA19) -> 17 | C19: K_U06 | Z19: =SUM(D19:Y19) -> 0 | AF19: 1 | AS19: =SUM(AA19:AR19) -> 1 | BF19: 1 | BL19: =SUM(AT19:BK19) -> 1 | BR19: 1 | BS19: 1 | BY19: 1 | BZ19: 1 | CC19: 1 | CI19: 1 | CJ19: =SUM(BM19:CI19) -> 6 | CK19: 1 | CM19: 1 | CP19: 1 | CR19: 1 | CS19: 1 | CT19: 1 | CU19: 1 | CW19: 1 | CY19: 1
A20: =SUM(D20:Y20,AA20:AR20,AT20:BK20,BM20:CI20,CK20:DA20) -> 17 | C20: K_U07 | Z20: =SUM(D20:Y20) -> 0 | AO20: 1 | AP20: 1 | AQ20: 1 | AS20: =SUM(AA20:AR20) -> 3 | BB20: 1 | BL20: =SUM(AT20:BK20) -> 1 | BR20: 1 | BS20: 1 | CC20: 1 | CD20: 1 | CI20: 1 | CJ20: =SUM(BM20:CI20) -> 5 | CP20: 1 | CR20: 1 | CS20: 1 | CT20: 1 | CU20: 1 | CW20: 1 | CX20: 1 | CY20: 1
A21: =SUM(D21:Y21,AA21:AR21,AT21:BK21,BM21:CI21,CK21:DA21) -> 15 | C21: K_U08 | Z21: =SUM(D21:Y21) -> 0 | AD21: 1 | AS21: =SUM(AA21:AR21) -> 1 | AX21: 1 | AY21: 1 | BI21: 1 | BJ21: 1 | BK21: 1 | BL21: =SUM(AT21:BK21) -> 5 | BR21: 1 | BS21: 1 | BU21: 1 | BV21: 1 | CA21: 1 | CB21: 1 | CI21: 1 | CJ21: =SUM(BM21:CI21) -> 7 | CN21: 1 | CO21: 1
A22: =SUM(D22:Y22,AA22:AR22,AT22:BK22,BM22:CI22,CK22:DA22) -> 18 | C22: K_U09 | R22: 1 | W22: 1 | Z22: =SUM(D22:Y22) -> 2 | AG22: 1 | AH22: 1 | AS22: =SUM(AA22:AR22) -> 2 | BE22: 1 | BL22: =SUM(AT22:BK22) -> 1 | BY22: 1 | CC22: 1 | CD22: 1 | CE22: 1 | CG22: 1 | CJ22: =SUM(BM22:CI22) -> 5 | CP22: 1 | CR22: 1 | CS22: 1 | CT22: 1 | CU22: 1 | CV22: 1 | CX22: 1 | CZ22: 1
A23: =SUM(D23:Y23,AA23:AR23,AT23:BK23,BM23:CI23,CK23:DA23) -> 14 | C23: K_U10 | Z23: =SUM(D23:Y23) -> 0 | AS23: =SUM(AA23:AR23) -> 0 | AU23: 1 | AW23: 1 | AX23: 1 | BB23: 1 | BC23: 1 | BG23: 1 | BL23: =SUM(AT23:BK23) -> 6 | BR23: 1 | BS23: 1 | BV23: 1 | BX23: 1 | CA23: 1 | CB23: 1 | CJ23: =SUM(BM23:CI23) -> 6 | CN23: 1 | CO23: 1
A24: =SUM(D24:Y24,AA24:AR24,AT24:BK24,BM24:CI24,CK24:DA24) -> 15 | C24: K_U11 | T24: 1 | Z24: =SUM(D24:Y24) -> 1 | AH24: 1 | AS24: =SUM(AA24:AR24) -> 1 | BD24: 1 | BL24: =SUM(AT24:BK24) -> 1 | BR24: 1 | BS24: 1 | CC24: 1 | CD24: 1 | CE24: 1 | CG24: 1 | CH24: 1 | CJ24: =SUM(BM24:CI24) -> 7 | CR24: 1 | CV24: 1 | CW24: 1 | CX24: 1 | DA24: 1
A25: =SUM(D25:Y25,AA25:AR25,AT25:BK25,BM25:CI25,CK25:DA25) -> 4 | C25: K_U12 | I25: 1 | J25: 1 | Z25: =SUM(D25:Y25) -> 2 | AB25: 1 | AC25: 1 | AS25: =SUM(AA25:AR25) -> 2 | BL25: =SUM(AT25:BK25) -> 0 | CJ25: =SUM(BM25:CI25) -> 0
A26: =SUM(D26:Y26,AA26:AR26,AT26:BK26,BM26:CI26,CK26:DA26) -> 12 | C26: K_U13 | H26: 1 | Z26: =SUM(D26:Y26) -> 1 | AA26: 1 | AE26: 1 | AG26: 1 | AH26: 1 | AS26: =SUM(AA26:AR26) -> 4 | BE26: 1 | BL26: =SUM(AT26:BK26) -> 1 | BT26: 1 | BU26: 1 | CG26: 1 | CJ26: =SUM(BM26:CI26) -> 3 | CN26: 1 | CO26: 1 | CV26: 1
A27: =SUM(D27:Y27,AA27:AR27,AT27:BK27,BM27:CI27,CK27:DA27) -> 12 | C27: K_U14 | T27: 1 | Z27: =SUM(D27:Y27) -> 1 | AS27: =SUM(AA27:AR27) -> 0 | AV27: 1 | AW27: 1 | AX27: 1 | BE27: 1 | BL27: =SUM(AT27:BK27) -> 4 | BM27: 1 | BR27: 1 | BS27: 1 | BV27: 1 | CG27: 1 | CJ27: =SUM(BM27:CI27) -> 5 | CV27: 1 | CX27: 1
A28: =SUM(D28:Y28,AA28:AR28,AT28:BK28,BM28:CI28,CK28:DA28) -> 11 | C28: K_U15 | Z28: =SUM(D28:Y28) -> 0 | AA28: 1 | AE28: 1 | AG28: 1 | AS28: =SUM(AA28:AR28) -> 3 | AW28: 1 | AX28: 1 | BL28: =SUM(AT28:BK28) -> 2 | BR28: 1 | BS28: 1 | BV28: 1 | BX28: 1 | CA28: 1 | CB28: 1 | CJ28: =SUM(BM28:CI28) -> 6
A29: =SUM(D29:Y29,AA29:AR29,AT29:BK29,BM29:CI29,CK29:DA29) -> 9 | C29: K_U16 | Z29: =SUM(D29:Y29) -> 0 | AS29: =SUM(AA29:AR29) -> 0 | AW29: 1 | AX29: 1 | BE29: 1 | BL29: =SUM(AT29:BK29) -> 3 | BR29: 1 | CD29: 1 | CG29: 1 | CJ29: =SUM(BM29:CI29) -> 3 | CK29: 1 | CV29: 1 | DA29: 1
A30: =SUM(D30:Y30,AA30:AR30,AT30:BK30,BM30:CI30,CK30:DA30) -> 7 | C30: K_U17 | H30: 1 | X30: 1 | Y30: 1 | Z30: =SUM(D30:Y30) -> 3 | AS30: =SUM(AA30:AR30) -> 0 | BL30: =SUM(AT30:BK30) -> 0 | BT30: 1 | BU30: 1 | CJ30: =SUM(BM30:CI30) -> 2 | CN30: 1 | CO30: 1
A31: =SUM(D31:Y31,AA31:AR31,AT31:BK31,BM31:CI31,CK31:DA31) -> 17 | C31: K_U18 | E31: 1 | H31: 1 | Z31: =SUM(D31:Y31) -> 2 | AK31: 1 | AL31: 1 | AM31: 1 | AN31: 1 | AO31: 1 | AQ31: 1 | AS31: =SUM(AA31:AR31) -> 6 | AT31: 1 | BG31: 1 | BI31: 1 | BJ31: 1 | BL31: =SUM(AT31:BK31) -> 4 | BT31: 1 | BU31: 1 | CH31: 1 | CJ31: =SUM(BM31:CI31) -> 3 | CN31: 1 | CO31: 1
A32: =SUM(D32:Y32,AA32:AR32,AT32:BK32,BM32:CI32,CK32:DA32) -> 10 | C32: K_U19 | Z32: =SUM(D32:Y32) -> 0 | AS32: =SUM(AA32:AR32) -> 0 | BL32: =SUM(AT32:BK32) -> 0 | BR32: 1 | BS32: 1 | BV32: 1 | BY32: 1 | CA32: 1 | CB32: 1 | CJ32: =SUM(BM32:CI32) -> 6 | CP32: 1 | CS32: 1 | CT32: 1 | CU32: 1
A33: =SUM(D33:Y33,AA33:AR33,AT33:BK33,BM33:CI33,CK33:DA33) -> 10 | C33: K_U20 | Z33: =SUM(D33:Y33) -> 0 | AH33: 1 | AS33: =SUM(AA33:AR33) -> 1 | AW33: 1 | AX33: 1 | AY33: 1 | BE33: 1 | BL33: =SUM(AT33:BK33) -> 4 | BR33: 1 | BS33: 1 | BT33: 1 | BU33: 1 | CG33: 1 | CJ33: =SUM(BM33:CI33) -> 5
A34: =SUM(D34:Y34,AA34:AR34,AT34:BK34,BM34:CI34,CK34:DA34) -> 16 | C34: K_U21 | L34: 1 | Z34: =SUM(D34:Y34) -> 1 | AS34: =SUM(AA34:AR34) -> 0 | AV34: 1 | AW34: 1 | AX34: 1 | BF34: 1 | BL34: =SUM(AT34:BK34) -> 4 | BR34: 1 | BS34: 1 | BV34: 1 | BW34: 1 | CF34: 1 | CI34: 1 | CJ34: =SUM(BM34:CI34) -> 6 | CM34: 1 | CQ34: 1 | CW34: 1 | CY34: 1 | CZ34: 1
A35: =SUM(D35:Y35,AA35:AR35,AT35:BK35,BM35:CI35,CK35:DA35) -> 16 | C35: K_U22 | D35: 1 | G35: 1 | K35: 1 | L35: 1 | U35: 1 | Z35: =SUM(D35:Y35) -> 5 | AS35: =SUM(AA35:AR35) -> 0 | AU35: 1 | AV35: 1 | BL35: =SUM(AT35:BK35) -> 2 | BM35: 1 | BN35: 1 | BR35: 1 | BS35: 1 | CF35: 1 | CJ35: =SUM(BM35:CI35) -> 5 | CQ35: 1 | CW35: 1 | CY35: 1 | CZ35: 1
A36: =SUM(D36:Y36,AA36:AR36,AT36:BK36,BM36:CI36,CK36:DA36) -> 12 | C36: K_U23 | Z36: =SUM(D36:Y36) -> 0 | AS36: =SUM(AA36:AR36) -> 0 | AV36: 1 | BL36: =SUM(AT36:BK36) -> 1 | BN36: 1 | BR36: 1 | BS36: 1 | BV36: 1 | BW36: 1 | BZ36: 1 | CA36: 1 | CB36: 1 | CI36: 1 | CJ36: =SUM(BM36:CI36) -> 9 | CQ36: 1 | CW36: 1
A37: =SUM(D37:Y37,AA37:AR37,AT37:BK37,BM37:CI37,CK37:DA37) -> 9 | C37: K_U24 | M37: 1 | Z37: =SUM(D37:Y37) -> 1 | AS37: =SUM(AA37:AR37) -> 0 | AW37: 1 | AX37: 1 | BL37: =SUM(AT37:BK37) -> 2 | BR37: 1 | BS37: 1 | CF37: 1 | CI37: 1 | CJ37: =SUM(BM37:CI37) -> 4 | CY37: 1 | DA37: 1
A38: =SUM(D38:Y38,AA38:AR38,AT38:BK38,BM38:CI38,CK38:DA38) -> 8 | C38: K_U25 | M38: 1 | Z38: =SUM(D38:Y38) -> 1 | AS38: =SUM(AA38:AR38) -> 0 | AW38: 1 | AX38: 1 | BL38: =SUM(AT38:BK38) -> 2 | BR38: 1 | BS38: 1 | CJ38: =SUM(BM38:CI38) -> 2 | CK38: 1 | CN38: 1 | CO38: 1
A39: =SUM(D39:Y39,AA39:AR39,AT39:BK39,BM39:CI39,CK39:DA39) -> 8 | C39: K_U26 | Z39: =SUM(D39:Y39) -> 0 | AS39: =SUM(AA39:AR39) -> 0 | AT39: 1 | AY39: 1 | BF39: 1 | BJ39: 1 | BL39: =SUM(AT39:BK39) -> 4 | BU39: 1 | CF39: 1 | CJ39: =SUM(BM39:CI39) -> 2 | CN39: 1 | CO39: 1
A40: =SUM(D40:Y40,AA40:AR40,AT40:BK40,BM40:CI40,CK40:DA40) -> 13 | C40: K_U27 | N40: 1 | Z40: =SUM(D40:Y40) -> 1 | AS40: =SUM(AA40:AR40) -> 0 | AY40: 1 | BG40: 1 | BI40: 1 | BJ40: 1 | BL40: =SUM(AT40:BK40) -> 4 | BM40: 1 | BR40: 1 | BS40: 1 | BV40: 1 | BW40: 1 | CA40: 1 | CB40: 1 | CG40: 1 | CJ40: =SUM(BM40:CI40) -> 8
...

Sheet Matryca_PZ
G2: Matryca
G5: Wydział | I5: Wydział Farmaceutyczny
G6: Kierunek | I6: Psychologia
G7: Cykl kształcenia | I7: 2025/2026-20029/2030
G8: Poziom kształcenia | I8: jednolite studia magisterskie
G9: Profil kształcenia | I9: praktyczny
G10: Forma studiów | I10: stacjonarne
G11: Liczba semestrów | I11: 10
G12: Łączna liczba godzin | I12: 4715
G13: Łączna liczba ECTS | I13: 300
A16: Lp. | B16: kod grupy* | C16: Cykl kształcenia (nabór) | D16: Ścieżka** | E16: Rok studiów | F16: Rok akademicki | G16: Rodzaj zajęć*** (RPS, POW, PSW) | H16: ****Pula godzin (ze standardu, do dyspozycji uczelni (Autorska oferta uczelni)) | I16: Przedmiot (nazwa) | J16: łącznie dla przedmiotu | Q16: Suma efektów w poszczególnych kategoriach
J17: SUMA GODZIN PRZEDMIOTU | O17: ECTS | P17: forma zakończenia przedmiotu
J18: NAKŁAD PRACY STUDENTA (godz. dyd. + samodzielna praca) | K18: SAMODZIELNA PRACA STUDENTA | L18: GODZINY DYDAKTYCZNE | M18: W TYM TEORIA (WY+SE) | N18: GODZINY Z NAUCZYCIELEM | Q18: Wiedza | R18: Umiejetności | S18: Kompetencje społeczne | T18: Wiedza | AF18: Umiejętności | BH18: Kompetencje społeczne | BQ18: Proporcje poszczególnych kategorii efektów dla przedmiotu | CE18: Dyscyplina
T19: K_W01 | U19: K_W02 | V19: K_W03 | W19: K_W04 | X19: K_W05 | Y19: K_W06 | Z19: K_W07 | AA19: K_W08 | AB19: K_W09 | AC19: K_W10 | AD19: K_W11 | AE19: K_W12 | AF19: K_U01 | AG19: K_U02 | AH19: K_U03 | AI19: K_U04 | AJ19: K_U05 | AK19: K_U06 | AL19: K_U07 | AM19: K_U08 | AN19: K_U09 | AO19: K_U10 | AP19: K_U11 | AQ19: K_U12 | AR19: K_U13 | AS19: K_U14 | AT19: K_U15 | AU19: K_U16 | AV19: K_U17 | AW19: K_U18 | AX19: K_U19 | AY19: K_U20 | AZ19: K_U21 | BA19: K_U22 | BB19: K_U23 | BC19: K_U24 | BD19: K_U25 | BE19: K_U26 | BF19: K_U27 | BG19: K_U28 | BH19: K_K01 | BI19: K_K02 | BJ19: K_K03 | BK19: K_K04 | BL19: K_K05 | BM19: K_K06 | BN19: K_K07 | BO19: K_K08 | BP19: K_K09 | CE19: psychologia | CF19: nauki o zdrowiu | CG19: nauki medyczne | CH19: humanistyczne
A20: =Psychologia!A20 -> 1 | B20: =IF(Psychologia!#REF!>0,Psychologia!#REF!," ") -> #REF! | C20: =IF(Psychologia!B20>0,Psychologia!B20," ") -> 2026/2027 | D20: =IF(Psychologia!C20>0,Psychologia!C20," ") | E20: =IF(Psychologia!D20>0,Psychologia!D20," ") -> 1 | F20: =IF(Psychologia!E20>0,Psychologia!E20," ") -> 2026/2027 | G20: =IF(Psychologia!F20>0,Psychologia!F20," ") -> RPS | H20: =IF(Psychologia!#REF!>0,Psychologia!#REF!," ") -> #REF! | I20: =IF(Psychologia!G20>0,Psychologia!G20," ") -> Biologiczne uwarunkowania procesów psychicznych | J20: =Psychologia!U20+Psychologia!AQ20 -> 100 | K20: =Psychologia!AN20+Psychologia!BJ20 -> 40 | L20: =Psychologia!V20+Psychologia!AR20 -> 60 | M20: =Psychologia!X20+Psychologia!Z20+Psychologia!AT20+Psychologia!AV20 -> 30 | N20: =Psychologia!W20+Psychologia!AS20 -> 60 | O20: =Psychologia!T20+Psychologia!AP20 -> 4 | P20: =IF(Psychologia!R20>0,Psychologia!R20," ") -> egz | Q20: =SUM(T20:AE20) -> 0 | R20: =SUM(AF20:BG20) -> 0 | S20: =SUM(BH20:BP20) -> 0
A21: =Psychologia!A21 -> 2 | B21: =IF(Psychologia!#REF!>0,Psychologia!#REF!," ") -> #REF! | C21: =IF(Psychologia!B21>0,Psychologia!B21," ") -> 2026/2027 | D21: =IF(Psychologia!C21>0,Psychologia!C21," ") | E21: =IF(Psychologia!D21>0,Psychologia!D21," ") -> 1 | F21: =IF(Psychologia!E21>0,Psychologia!E21," ") -> 2026/2027 | G21: =IF(Psychologia!F21>0,Psychologia!F21," ") -> RPS | H21: =IF(Psychologia!#REF!>0,Psychologia!#REF!," ") -> #REF! | I21: =IF(Psychologia!G21>0,Psychologia!G21," ") -> Podejście evidence based w psychologii | J21: =Psychologia!U21+Psychologia!AQ21 -> 25 | K21: =Psychologia!AN21+Psychologia!BJ21 -> 0 | L21: =Psychologia!V21+Psychologia!AR21 -> 25 | M21: =Psychologia!X21+Psychologia!Z21+Psychologia!AT21+Psychologia!AV21 -> 25 | N21: =Psychologia!W21+Psychologia!AS21 -> 25 | O21: =Psychologia!T21+Psychologia!AP21 -> 1 | P21: =IF(Psychologia!R21>0,Psychologia!R21," ") -> zal/o | Q21: =SUM(T21:AE21) -> 0 | R21: =SUM(AF21:BG21) -> 0 | S21: =SUM(BH21:BP21) -> 0
A22: =Psychologia!A22 -> 3 | B22: =IF(Psychologia!#REF!>0,Psychologia!#REF!," ") -> #REF! | C22: =IF(Psychologia!B22>0,Psychologia!B22," ") -> 2026/2027 | D22: =IF(Psychologia!C22>0,Psychologia!C22," ") | E22: =IF(Psychologia!D22>0,Psychologia!D22," ") -> 1 | F22: =IF(Psychologia!E22>0,Psychologia!E22," ") -> 2026/2027 | G22: =IF(Psychologia!F22>0,Psychologia!F22," ") -> RPS | H22: =IF(Psychologia!#REF!>0,Psychologia!#REF!," ") -> #REF! | I22: =IF(Psychologia!G22>0,Psychologia!G22," ") -> Filozofia z logiką | J22: =Psychologia!U22+Psychologia!AQ22 -> 125 | K22: =Psychologia!AN22+Psychologia!BJ22 -> 75 | L22: =Psychologia!V22+Psychologia!AR22 -> 50 | M22: =Psychologia!X22+Psychologia!Z22+Psychologia!AT22+Psychologia!AV22 -> 30 | N22: =Psychologia!W22+Psychologia!AS22 -> 50 | O22: =Psychologia!T22+Psychologia!AP22 -> 5 | P22: =IF(Psychologia!R22>0,Psychologia!R22," ") -> egz | Q22: =SUM(T22:AE22) -> 0 | R22: =SUM(AF22:BG22) -> 0 | S22: =SUM(BH22:BP22) -> 0
A23: =Psychologia!A23 -> 4 | B23: =IF(Psychologia!#REF!>0,Psychologia!#REF!," ") -> #REF! | C23: =IF(Psychologia!B23>0,Psychologia!B23," ") -> 2026/2027 | D23: =IF(Psychologia!C23>0,Psychologia!C23," ") | E23: =IF(Psychologia!D23>0,Psychologia!D23," ") -> 1 | F23: =IF(Psychologia!E23>0,Psychologia!E23," ") -> 2026/2027 | G23: =IF(Psychologia!F23>0,Psychologia!F23," ") -> RPS | H23: =IF(Psychologia!#REF!>0,Psychologia!#REF!," ") -> #REF! | I23: =IF(Psychologia!G23>0,Psychologia!G23," ") -> Psychogenetyka | J23: =Psychologia!U23+Psychologia!AQ23 -> 50 | K23: =Psychologia!AN23+Psychologia!BJ23 -> 15 | L23: =Psychologia!V23+Psychologia!AR23 -> 35 | M23: =Psychologia!X23+Psychologia!Z23+Psychologia!AT23+Psychologia!AV23 -> 15 | N23: =Psychologia!W23+Psychologia!AS23 -> 35 | O23: =Psychologia!T23+Psychologia!AP23 -> 2 | P23: =IF(Psychologia!R23>0,Psychologia!R23," ") -> zal/o | Q23: =SUM(T23:AE23) -> 0 | R23: =SUM(AF23:BG23) -> 0 | S23: =SUM(BH23:BP23) -> 0
A24: =Psychologia!A24 -> 5 | B24: =IF(Psychologia!#REF!>0,Psychologia!#REF!," ") -> #REF! | C24: =IF(Psychologia!B24>0,Psychologia!B24," ") -> 2026/2027 | D24: =IF(Psychologia!C24>0,Psychologia!C24," ") | E24: =IF(Psychologia!D24>0,Psychologia!D24," ") -> 1 | F24: =IF(Psychologia!E24>0,Psychologia!E24," ") -> 2026/2027 | G24: =IF(Psychologia!F24>0,Psychologia!F24," ") -> RPS | H24: =IF(Psychologia!#REF!>0,Psychologia!#REF!," ") -> #REF! | I24: =IF(Psychologia!G24>0,Psychologia!G24," ") -> Kompetencje akademickie | J24: =Psychologia!U24+Psychologia!AQ24 -> 28 | K24: =Psychologia!AN24+Psychologia!BJ24 -> 0 | L24: =Psychologia!V24+Psychologia!AR24 -> 28 | M24: =Psychologia!X24+Psychologia!Z24+Psychologia!AT24+Psychologia!AV24 -> 0 | N24: =Psychologia!W24+Psychologia!AS24 -> 28 | O24: =Psychologia!T24+Psychologia!AP24 -> 0 | P24: =IF(Psychologia!R24>0,Psychologia!R24," ") -> zal | Q24: =SUM(T24:AE24) -> 0 | R24: =SUM(AF24:BG24) -> 0 | S24: =SUM(BH24:BP24) -> 0
A25: =Psychologia!A25 -> 6 | B25: =IF(Psychologia!#REF!>0,Psychologia!#REF!," ") -> #REF! | C25: =IF(Psychologia!B25>0,Psychologia!B25," ") -> 2026/2027 | D25: =IF(Psychologia!C25>0,Psychologia!C25," ") | E25: =IF(Psychologia!D25>0,Psychologia!D25," ") -> 1 | F25: =IF(Psychologia!E25>0,Psychologia!E25," ") -> 2026/2027 | G25: =IF(Psychologia!F25>0,Psychologia!F25," ") -> RPS | H25: =IF(Psychologia!#REF!>0,Psychologia!#REF!," ") -> #REF! | I25: =IF(Psychologia!G25>0,Psychologia!G25," ") -> Lektorat z języka angielskiego I | J25: =Psychologia!U25+Psychologia!AQ25 -> 50 | K25: =Psychologia!AN25+Psychologia!BJ25 -> 20 | L25: =Psychologia!V25+Psychologia!AR25 -> 30 | M25: =Psychologia!X25+Psychologia!Z25+Psychologia!AT25+Psychologia!AV25 -> 0 | N25: =Psychologia!W25+Psychologia!AS25 -> 30 | O25: =Psychologia!T25+Psychologia!AP25 -> 2 | P25: =IF(Psychologia!R25>0,Psychologia!R25," ") -> zal/o | Q25: =SUM(T25:AE25) -> 0 | R25: =SUM(AF25:BG25) -> 0 | S25: =SUM(BH25:BP25) -> 0
A26: =Psychologia!A26 -> 7 | B26: =IF(Psychologia!#REF!>0,Psychologia!#REF!," ") -> #REF! | C26: =IF(Psychologia!B26>0,Psychologia!B26," ") -> 2026/2027 | D26: =IF(Psychologia!C26>0,Psychologia!C26," ") | E26: =IF(Psychologia!D26>0,Psychologia!D26," ") -> 1 | F26: =IF(Psychologia!E26>0,Psychologia!E26," ") -> 2026/2027 | G26: =IF(Psychologia!F26>0,Psychologia!F26," ") -> RPS | H26: =IF(Psychologia!#REF!>0,Psychologia!#REF!," ") -> #REF! | I26: =IF(Psychologia!G26>0,Psychologia!G26," ") -> Lektorat z języka angielskiego II | J26: =Psychologia!U26+Psychologia!AQ26 -> 50 | K26: =Psychologia!AN26+Psychologia!BJ26 -> 20 | L26: =Psychologia!V26+Psychologia!AR26 -> 30 | M26: =Psychologia!X26+Psychologia!Z26+Psychologia!AT26+Psychologia!AV26 -> 0 | N26: =Psychologia!W26+Psychologia!AS26 -> 30 | O26: =Psychologia!T26+Psychologia!AP26 -> 2 | P26: =IF(Psychologia!R26>0,Psychologia!R26," ") -> zal/o | Q26: =SUM(T26:AE26) -> 0 | R26: =SUM(AF26:BG26) -> 0 | S26: =SUM(BH26:BP26) -> 0
A27: =Psychologia!A27 -> 8 | B27: =IF(Psychologia!#REF!>0,Psychologia!#REF!," ") -> #REF! | C27: =IF(Psychologia!B27>0,Psychologia!B27," ") -> 2026/2027 | D27: =IF(Psychologia!C27>0,Psychologia!C27," ") | E27: =IF(Psychologia!D27>0,Psychologia!D27," ") -> 1 | F27: =IF(Psychologia!E27>0,Psychologia!E27," ") -> 2026/2027 | G27: =IF(Psychologia!F27>0,Psychologia!F27," ") -> RPS | H27: =IF(Psychologia!#REF!>0,Psychologia!#REF!," ") -> #REF! | I27: =IF(Psychologia!G27>0,Psychologia!G27," ") -> Neurobiologia i mechanizmy zachowania | J27: =Psychologia!U27+Psychologia!AQ27 -> 80 | K27: =Psychologia!AN27+Psychologia!BJ27 -> 60 | L27: =Psychologia!V27+Psychologia!AR27 -> 20 | M27: =Psychologia!X27+Psychologia!Z27+Psychologia!AT27+Psychologia!AV27 -> 10 | N27: =Psychologia!W27+Psychologia!AS27 -> 20 | O27: =Psychologia!T27+Psychologia!AP27 -> 3 | P27: =IF(Psychologia!R27>0,Psychologia!R27," ") -> zal/o | Q27: =SUM(T27:AE27) -> 0 | R27: =SUM(AF27:BG27) -> 0 | S27: =SUM(BH27:BP27) -> 0
A28: =Psychologia!A28 -> 9 | B28: =IF(Psychologia!#REF!>0,Psychologia!#REF!," ") -> #REF! | C28: =IF(Psychologia!B28>0,Psychologia!B28," ") -> 2026/2027 | D28: =IF(Psychologia!C28>0,Psychologia!C28," ") | E28: =IF(Psychologia!D28>0,Psychologia!D28," ") -> 1 | F28: =IF(Psychologia!E28>0,Psychologia!E28," ") -> 2026/2027 | G28: =IF(Psychologia!F28>0,Psychologia!F28," ") -> RPS | H28: =IF(Psychologia!#REF!>0,Psychologia!#REF!," ") -> #REF! | I28: =IF(Psychologia!G28>0,Psychologia!G28," ") -> Podstawy neurofizjologii dla psychologów | J28: =Psychologia!U28+Psychologia!AQ28 -> 100 | K28: =Psychologia!AN28+Psychologia!BJ28 -> 65 | L28: =Psychologia!V28+Psychologia!AR28 -> 35 | M28: =Psychologia!X28+Psychologia!Z28+Psychologia!AT28+Psychologia!AV28 -> 10 | N28: =Psychologia!W28+Psychologia!AS28 -> 35 | O28: =Psychologia!T28+Psychologia!AP28 -> 4 | P28: =IF(Psychologia!R28>0,Psychologia!R28," ") -> egz | Q28: =SUM(T28:AE28) -> 0 | R28: =SUM(AF28:BG28) -> 0 | S28: =SUM(BH28:BP28) -> 0
A29: =Psychologia!A29 -> 10 | B29: =IF(Psychologia!#REF!>0,Psychologia!#REF!," ") -> #REF! | C29: =IF(Psychologia!B29>0,Psychologia!B29," ") -> 2026/2027 | D29: =IF(Psychologia!C29>0,Psychologia!C29," ") | E29: =IF(Psychologia!D29>0,Psychologia!D29," ") -> 1 | F29: =IF(Psychologia!E29>0,Psychologia!E29," ") -> 2026/2027 | G29: =IF(Psychologia!F29>0,Psychologia!F29," ") -> RPS | H29: =IF(Psychologia!#REF!>0,Psychologia!#REF!," ") -> #REF! | I29: =IF(Psychologia!G29>0,Psychologia!G29," ") -> Pierwsza pomoc medyczna | J29: =Psychologia!U29+Psychologia!AQ29 -> 25 | K29: =Psychologia!AN29+Psychologia!BJ29 -> 10 | L29: =Psychologia!V29+Psychologia!AR29 -> 15 | M29: =Psychologia!X29+Psychologia!Z29+Psychologia!AT29+Psychologia!AV29 -> 5 | N29: =Psychologia!W29+Psychologia!AS29 -> 15 | O29: =Psychologia!T29+Psychologia!AP29 -> 1 | P29: =IF(Psychologia!R29>0,Psychologia!R29," ") -> zal/o | Q29: =SUM(T29:AE29) -> 0 | R29: =SUM(AF29:BG29) -> 0 | S29: =SUM(BH29:BP29) -> 0
A30: =Psychologia!A30 -> 11 | B30: =IF(Psychologia!#REF!>0,Psychologia!#REF!," ") -> #REF! | C30: =IF(Psychologia!B30>0,Psychologia!B30," ") -> 2026/2027 | D30: =IF(Psychologia!C30>0,Psychologia!C30," ") | E30: =IF(Psychologia!D30>0,Psychologia!D30," ") -> 1 | F30: =IF(Psychologia!E30>0,Psychologia!E30," ") -> 2026/2027 | G30: =IF(Psychologia!F30>0,Psychologia!F30," ") -> RPS | H30: =IF(Psychologia!#REF!>0,Psychologia!#REF!," ") -> #REF! | I30: =IF(Psychologia!G30>0,Psychologia!G30," ") -> Podstawy technologii informacyjnej | J30: =Psychologia!U30+Psychologia!AQ30 -> 50 | K30: =Psychologia!AN30+Psychologia!BJ30 -> 20 | L30: =Psychologia!V30+Psychologia!AR30 -> 30 | M30: =Psychologia!X30+Psychologia!Z30+Psychologia!AT30+Psychologia!AV30 -> 0 | N30: =Psychologia!W30+Psychologia!AS30 -> 30 | O30: =Psychologia!T30+Psychologia!AP30 -> 2 | P30: =IF(Psychologia!R30>0,Psychologia!R30," ") -> zal/o | Q30: =SUM(T30:AE30) -> 0 | R30: =SUM(AF30:BG30) -> 0 | S30: =SUM(BH30:BP30) -> 0
A31: =Psychologia!A31 -> 12 | B31: =IF(Psychologia!#REF!>0,Psychologia!#REF!," ") -> #REF! | C31: =IF(Psychologia!B31>0,Psychologia!B31," ") -> 2026/2027 | D31: =IF(Psychologia!C31>0,Psychologia!C31," ") | E31: =IF(Psychologia!D31>0,Psychologia!D31," ") -> 1 | F31: =IF(Psychologia!E31>0,Psychologia!E31," ") -> 2026/2027 | G31: =IF(Psychologia!F31>0,Psychologia!F31," ") -> POW | H31: =IF(Psychologia!#REF!>0,Psychologia!#REF!," ") -> #REF! | I31: =IF(Psychologia!G31>0,Psychologia!G31," ") -> Przedmiot fakultatywny 1: Rola organizacji pozarządowych w systemie ochrony zdrowia / Sport, umysł i granice ludzkich możliwości | J31: =Psychologia!U31+Psychologia!AQ31 -> 50 | K31: =Psychologia!AN31+Psychologia!BJ31 -> 10 | L31: =Psychologia!V31+Psychologia!AR31 -> 40 | M31: =Psychologia!X31+Psychologia!Z31+Psychologia!AT31+Psychologia!AV31 -> 0 | N31: =Psychologia!W31+Psychologia!AS31 -> 40 | O31: =Psychologia!T31+Psychologia!AP31 -> 2 | P31: =IF(Psychologia!R31>0,Psychologia!R31," ") -> zal/o | Q31: =SUM(T31:AE31) -> 0 | R31: =SUM(AF31:BG31) -> 0 | S31: =SUM(BH31:BP31) -> 0
A32: =Psychologia!A32 -> 13 | B32: =IF(Psychologia!#REF!>0,Psychologia!#REF!," ") -> #REF! | C32: =IF(Psychologia!B32>0,Psychologia!B32," ") -> 2026/2027 | D32: =IF(Psychologia!C32>0,Psychologia!C32," ") | E32: =IF(Psychologia!D32>0,Psychologia!D32," ") -> 1 | F32: =IF(Psychologia!E32>0,Psychologia!E32," ") -> 2026/2027 | G32: =IF(Psychologia!F32>0,Psychologia!F32," ") -> POW | H32: =IF(Psychologia!#REF!>0,Psychologia!#REF!," ") -> #REF! | I32: =IF(Psychologia!G32>0,Psychologia!G32," ") -> Przedmiot fakultatywny 2: Społeczne przyczyny kryzysów psychicznych / Podstawy neurobiologii eksperymentalnej | J32: =Psychologia!U32+Psychologia!AQ32 -> 50 | K32: =Psychologia!AN32+Psychologia!BJ32 -> 10 | L32: =Psychologia!V32+Psychologia!AR32 -> 40 | M32: =Psychologia!X32+Psychologia!Z32+Psychologia!AT32+Psychologia!AV32 -> 10 | N32: =Psychologia!W32+Psychologia!AS32 -> 40 | O32: =Psychologia!T32+Psychologia!AP32 -> 2 | P32: =IF(Psychologia!R32>0,Psychologia!R32," ") -> zal/o | Q32: =SUM(T32:AE32) -> 0 | R32: =SUM(AF32:BG32) -> 0 | S32: =SUM(BH32:BP32) -> 0
A33: =Psychologia!#REF! -> #REF! | B33: =IF(Psychologia!#REF!>0,Psychologia!#REF!," ") -> #REF! | C33: =IF(Psychologia!#REF!>0,Psychologia!#REF!," ") -> #REF! | D33: =IF(Psychologia!#REF!>0,Psychologia!#REF!," ") -> #REF! | E33: =IF(Psychologia!#REF!>0,Psychologia!#REF!," ") -> #REF! | F33: =IF(Psychologia!#REF!>0,Psychologia!#REF!," ") -> #REF! | G33: =IF(Psychologia!#REF!>0,Psychologia!#REF!," ") -> #REF! | H33: =IF(Psychologia!#REF!>0,Psychologia!#REF!," ") -> #REF! | I33: =IF(Psychologia!#REF!>0,Psychologia!#REF!," ") -> #REF! | J33: =Psychologia!#REF!+Psychologia!#REF! -> #REF! | K33: =Psychologia!#REF!+Psychologia!#REF! -> #REF! | L33: =Psychologia!#REF!+Psychologia!#REF! -> #REF! | M33: =Psychologia!#REF!+Psychologia!#REF!+Psychologia!#REF!+Psychologia!#REF! -> #REF! | N33: =Psychologia!#REF!+Psychologia!#REF! -> #REF! | O33: =Psychologia!#REF!+Psychologia!#REF! -> #REF! | P33: =IF(Psychologia!#REF!>0,Psychologia!#REF!," ") -> #REF! | Q33: =SUM(T33:AE33) -> 0 | R33: =SUM(AF33:BG33) -> 0 | S33: =SUM(BH33:BP33) -> 0
A34: =Psychologia!A34 -> 15 | B34: =IF(Psychologia!#REF!>0,Psychologia!#REF!," ") -> #REF! | C34: =IF(Psychologia!B34>0,Psychologia!B34," ") -> 2026/2027 | D34: =IF(Psychologia!C34>0,Psychologia!C34," ") | E34: =IF(Psychologia!D34>0,Psychologia!D34," ") -> 1 | F34: =IF(Psychologia!E34>0,Psychologia!E34," ") -> 2026/2027 | G34: =IF(Psychologia!F34>0,Psychologia!F34," ") -> RPS | H34: =IF(Psychologia!#REF!>0,Psychologia!#REF!," ") -> #REF! | I34: =IF(Psychologia!G34>0,Psychologia!G34," ") -> Psychologia społeczna | J34: =Psychologia!U34+Psychologia!AQ34 -> 125 | K34: =Psychologia!AN34+Psychologia!BJ34 -> 75 | L34: =Psychologia!V34+Psychologia!AR34 -> 50 | M34: =Psychologia!X34+Psychologia!Z34+Psychologia!AT34+Psychologia!AV34 -> 30 | N34: =Psychologia!W34+Psychologia!AS34 -> 50 | O34: =Psychologia!T34+Psychologia!AP34 -> 5 | P34: =IF(Psychologia!R34>0,Psychologia!R34," ") -> egz | Q34: =SUM(T34:AE34) -> 0 | R34: =SUM(AF34:BG34) -> 0 | S34: =SUM(BH34:BP34) -> 0
A35: =Psychologia!#REF! -> #REF! | B35: =IF(Psychologia!#REF!>0,Psychologia!#REF!," ") -> #REF! | C35: =IF(Psychologia!#REF!>0,Psychologia!#REF!," ") -> #REF! | D35: =IF(Psychologia!#REF!>0,Psychologia!#REF!," ") -> #REF! | E35: =IF(Psychologia!#REF!>0,Psychologia!#REF!," ") -> #REF! | F35: =IF(Psychologia!#REF!>0,Psychologia!#REF!," ") -> #REF! | G35: =IF(Psychologia!#REF!>0,Psychologia!#REF!," ") -> #REF! | H35: =IF(Psychologia!#REF!>0,Psychologia!#REF!," ") -> #REF! | I35: =IF(Psychologia!#REF!>0,Psychologia!#REF!," ") -> #REF! | J35: =Psychologia!#REF!+Psychologia!#REF! -> #REF! | K35: =Psychologia!#REF!+Psychologia!#REF! -> #REF! | L35: =Psychologia!#REF!+Psychologia!#REF! -> #REF! | M35: =Psychologia!#REF!+Psychologia!#REF!+Psychologia!#REF!+Psychologia!#REF! -> #REF! | N35: =Psychologia!#REF!+Psychologia!#REF! -> #REF! | O35: =Psychologia!#REF!+Psychologia!#REF! -> #REF! | P35: =IF(Psychologia!#REF!>0,Psychologia!#REF!," ") -> #REF! | Q35: =SUM(T35:AE35) -> 0 | R35: =SUM(AF35:BG35) -> 0 | S35: =SUM(BH35:BP35) -> 0
A36: =Psychologia!A35 -> 16 | B36: =IF(Psychologia!#REF!>0,Psychologia!#REF!," ") -> #REF! | C36: =IF(Psychologia!B35>0,Psychologia!B35," ") -> 2026/2027 | D36: =IF(Psychologia!C35>0,Psychologia!C35," ") | E36: =IF(Psychologia!D35>0,Psychologia!D35," ") -> 1 | F36: =IF(Psychologia!E35>0,Psychologia!E35," ") -> 2026/2027 | G36: =IF(Psychologia!F35>0,Psychologia!F35," ") -> RPS | H36: =IF(Psychologia!#REF!>0,Psychologia!#REF!," ") -> #REF! | I36: =IF(Psychologia!G35>0,Psychologia!G35," ") -> Trening umiejętności interpersonalnych I | J36: =Psychologia!U35+Psychologia!AQ35 -> 75 | K36: =Psychologia!AN35+Psychologia!BJ35 -> 30 | L36: =Psychologia!V35+Psychologia!AR35 -> 45 | M36: =Psychologia!X35+Psychologia!Z35+Psychologia!AT35+Psychologia!AV35 -> 0 | N36: =Psychologia!W35+Psychologia!AS35 -> 45 | O36: =Psychologia!T35+Psychologia!AP35 -> 3 | P36: =IF(Psychologia!R35>0,Psychologia!R35," ") -> zal/o | Q36: =SUM(T36:AE36) -> 0 | R36: =SUM(AF36:BG36) -> 0 | S36: =SUM(BH36:BP36) -> 0
A37: =Psychologia!A37 -> 18 | B37: =IF(Psychologia!#REF!>0,Psychologia!#REF!," ") -> #REF! | C37: =IF(Psychologia!B37>0,Psychologia!B37," ") -> 2026/2027 | D37: =IF(Psychologia!C37>0,Psychologia!C37," ") | E37: =IF(Psychologia!D37>0,Psychologia!D37," ") -> 1 | F37: =IF(Psychologia!E37>0,Psychologia!E37," ") -> 2026/2027 | G37: =IF(Psychologia!F37>0,Psychologia!F37," ") -> RPS | H37: =IF(Psychologia!#REF!>0,Psychologia!#REF!," ") -> #REF! | I37: =IF(Psychologia!G37>0,Psychologia!G37," ") -> Wprowadzenie do neuroanatomii | J37: =Psychologia!U37+Psychologia!AQ37 -> 125 | K37: =Psychologia!AN37+Psychologia!BJ37 -> 65 | L37: =Psychologia!V37+Psychologia!AR37 -> 60 | M37: =Psychologia!X37+Psychologia!Z37+Psychologia!AT37+Psychologia!AV37 -> 20 | N37: =Psychologia!W37+Psychologia!AS37 -> 60 | O37: =Psychologia!T37+Psychologia!AP37 -> 5 | P37: =IF(Psychologia!R37>0,Psychologia!R37," ") -> zal/o | Q37: =SUM(T37:AE37) -> 0 | R37: =SUM(AF37:BG37) -> 0 | S37: =SUM(BH37:BP37) -> 0
A38: =Psychologia!A38 -> 19 | B38: =IF(Psychologia!#REF!>0,Psychologia!#REF!," ") -> #REF! | C38: =IF(Psychologia!B38>0,Psychologia!B38," ") -> 2026/2027 | D38: =IF(Psychologia!C38>0,Psychologia!C38," ") | E38: =IF(Psychologia!D38>0,Psychologia!D38," ") -> 1 | F38: =IF(Psychologia!E38>0,Psychologia!E38," ") -> 2026/2027 | G38: =IF(Psychologia!F38>0,Psychologia!F38," ") -> RPS | H38: =IF(Psychologia!#REF!>0,Psychologia!#REF!," ") -> #REF! | I38: =IF(Psychologia!G38>0,Psychologia!G38," ") -> Wprowadzenie do psychologii i historii myśli psychologicznej | J38: =Psychologia!U38+Psychologia!AQ38 -> 100 | K38: =Psychologia!AN38+Psychologia!BJ38 -> 60 | L38: =Psychologia!V38+Psychologia!AR38 -> 40 | M38: =Psychologia!X38+Psychologia!Z38+Psychologia!AT38+Psychologia!AV38 -> 30 | N38: =Psychologia!W38+Psychologia!AS38 -> 40 | O38: =Psychologia!T38+Psychologia!AP38 -> 4 | P38: =IF(Psychologia!R38>0,Psychologia!R38," ") -> egz | Q38: =SUM(T38:AE38) -> 0 | R38: =SUM(AF38:BG38) -> 0 | S38: =SUM(BH38:BP38) -> 0
A39: =Psychologia!A39 -> 20 | B39: =IF(Psychologia!#REF!>0,Psychologia!#REF!," ") -> #REF! | C39: =IF(Psychologia!B39>0,Psychologia!B39," ") -> 2026/2027 | D39: =IF(Psychologia!C39>0,Psychologia!C39," ") | E39: =IF(Psychologia!D39>0,Psychologia!D39," ") -> 1 | F39: =IF(Psychologia!E39>0,Psychologia!E39," ") -> 2026/2027 | G39: =IF(Psychologia!F39>0,Psychologia!F39," ") -> RPS | H39: =IF(Psychologia!#REF!>0,Psychologia!#REF!," ") -> #REF! | I39: =IF(Psychologia!G39>0,Psychologia!G39," ") -> Wprowadzenie do psychologii społecznej | J39: =Psychologia!U39+Psychologia!AQ39 -> 100 | K39: =Psychologia!AN39+Psychologia!BJ39 -> 45 | L39: =Psychologia!V39+Psychologia!AR39 -> 55 | M39: =Psychologia!X39+Psychologia!Z39+Psychologia!AT39+Psychologia!AV39 -> 30 | N39: =Psychologia!W39+Psychologia!AS39 -> 55 | O39: =Psychologia!T39+Psychologia!AP39 -> 4 | P39: =IF(Psychologia!R39>0,Psychologia!R39," ") -> egz | Q39: =SUM(T39:AE39) -> 0 | R39: =SUM(AF39:BG39) -> 0 | S39: =SUM(BH39:BP39) -> 0
A40: =Psychologia!A40 -> 21 | B40: =IF(Psychologia!#REF!>0,Psychologia!#REF!," ") -> #REF! | C40: =IF(Psychologia!B40>0,Psychologia!B40," ") -> 2026/2027 | D40: =IF(Psychologia!C40>0,Psychologia!C40," ") | E40: =IF(Psychologia!D40>0,Psychologia!D40," ") -> 1 | F40: =IF(Psychologia!E40>0,Psychologia!E40," ") -> 2026/2027 | G40: =IF(Psychologia!F40>0,Psychologia!F40," ") -> RPS | H40: =IF(Psychologia!#REF!>0,Psychologia!#REF!," ") -> #REF! | I40: =IF(Psychologia!G40>0,Psychologia!G40," ") -> Wychowanie fizyczne I | J40: =Psychologia!U40+Psychologia!AQ40 -> 30 | K40: =Psychologia!AN40+Psychologia!BJ40 -> 0 | L40: =Psychologia!V40+Psychologia!AR40 -> 30 | M40: =Psychologia!X40+Psychologia!Z40+Psychologia!AT40+Psychologia!AV40 -> 0 | N40: =Psychologia!W40+Psychologia!AS40 -> 30 | O40: =Psychologia!T40+Psychologia!AP40 -> 0 | P40: =IF(Psychologia!R40>0,Psychologia!R40," ") -> zal | Q40: =SUM(T40:AE40) -> 0 | R40: =SUM(AF40:BG40) -> 0 | S40: =SUM(BH40:BP40) -> 0
A41: =Psychologia!A41 -> 22 | B41: =IF(Psychologia!#REF!>0,Psychologia!#REF!," ") -> #REF! | C41: =IF(Psychologia!B41>0,Psychologia!B41," ") -> 2026/2027 | D41: =IF(Psychologia!C41>0,Psychologia!C41," ") | E41: =IF(Psychologia!D41>0,Psychologia!D41," ") -> 1 | F41: =IF(Psychologia!E41>0,Psychologia!E41," ") -> 2026/2027 | G41: =IF(Psychologia!F41>0,Psychologia!F41," ") -> RPS | H41: =IF(Psychologia!#REF!>0,Psychologia!#REF!," ") -> #REF! | I41: =IF(Psychologia!G41>0,Psychologia!G41," ") -> Wychowanie fizyczne II | J41: =Psychologia!U41+Psychologia!AQ41 -> 30 | K41: =Psychologia!AN41+Psychologia!BJ41 -> 0 | L41: =Psychologia!V41+Psychologia!AR41 -> 30 | M41: =Psychologia!X41+Psychologia!Z41+Psychologia!AT41+Psychologia!AV41 -> 0 | N41: =Psychologia!W41+Psychologia!AS41 -> 30 | O41: =Psychologia!T41+Psychologia!AP41 -> 0 | P41: =IF(Psychologia!R41>0,Psychologia!R41," ") -> zal | Q41: =SUM(T41:AE41) -> 0 | R41: =SUM(AF41:BG41) -> 0 | S41: =SUM(BH41:BP41) -> 0
B42: =IF(Psychologia!#REF!>0,Psychologia!#REF!," ") -> #REF! | C42: =IF(Psychologia!B42>0,Psychologia!B42," ") | D42: =IF(Psychologia!C42>0,Psychologia!C42," ") | E42: =IF(Psychologia!D42>0,Psychologia!D42," ") | F42: =IF(Psychologia!E42>0,Psychologia!E42," ") | G42: =IF(Psychologia!F42>0,Psychologia!F42," ") | H42: =IF(Psychologia!#REF!>0,Psychologia!#REF!," ") -> #REF! | I42: =IF(Psychologia!G42>0,Psychologia!G42," ") -> sumy dla 1 roku | J42: =Psychologia!U42+Psychologia!AQ42 -> 1593 | K42: =Psychologia!AN42+Psychologia!BJ42 -> 730 | L42: =SUM(Psychologia!L20:L41) -> 863 | M42: =SUM(M20:M41) -> #REF! | N42: =SUM(Psychologia!M20:M41) -> 863 | O42: =SUM(Psychologia!N20:N41) -> 60 | P42: =IF(Psychologia!R42>0,Psychologia!R42," ") | Q42: =SUM(Q20:Q41) -> 0 | R42: =SUM(R20:R41) -> 0 | S42: =SUM(S20:S41) -> 0 | T42: =SUM(T20:T41) -> 0 | U42: =SUM(U20:U41) -> 0 | V42: =SUM(V20:V41) -> 0 | W42: =SUM(W20:W41) -> 0 | X42: =SUM(X20:X41) -> 0 | ... BP42: =SUM(BP20:BP41) -> 0
A43: =Psychologia!A43 -> 23 | B43: =IF(Psychologia!#REF!>0,Psychologia!#REF!," ") -> #REF! | C43: =IF(Psychologia!B43>0,Psychologia!B43," ") -> 2026/2027 | D43: =IF(Psychologia!C43>0,Psychologia!C43," ") | E43: =IF(Psychologia!D43>0,Psychologia!D43," ") -> 2 | F43: =IF(Psychologia!E43>0,Psychologia!E43," ") -> 2027/2028 | G43: =IF(Psychologia!F43>0,Psychologia!F43," ") -> RPS | H43: =IF(Psychologia!#REF!>0,Psychologia!#REF!," ") -> #REF! | I43: =IF(Psychologia!G43>0,Psychologia!G43," ") -> Etyka zawodu psychologa | J43: =Psychologia!U43+Psychologia!AQ43 -> 100 | K43: =Psychologia!AN43+Psychologia!BJ43 -> 60 | L43: =Psychologia!V43+Psychologia!AR43 -> 40 | M43: =Psychologia!X43+Psychologia!Z43+Psychologia!AT43+Psychologia!AV43 -> 5 | N43: =Psychologia!W43+Psychologia!AS43 -> 40 | O43: =Psychologia!T43+Psychologia!AP43 -> 4 | P43: =IF(Psychologia!R43>0,Psychologia!R43," ") -> egz | Q43: =SUM(T43:AE43) -> 0 | R43: =SUM(AF43:BG43) -> 0 | S43: =SUM(BH43:BP43) -> 0
A44: =Psychologia!A44 -> 24 | B44: =IF(Psychologia!#REF!>0,Psychologia!#REF!," ") -> #REF! | C44: =IF(Psychologia!B44>0,Psychologia!B44," ") -> 2026/2027 | D44: =IF(Psychologia!C44>0,Psychologia!C44," ") | E44: =IF(Psychologia!D44>0,Psychologia!D44," ") -> 2 | F44: =IF(Psychologia!E44>0,Psychologia!E44," ") -> 2027/2028 | G44: =IF(Psychologia!F44>0,Psychologia!F44," ") -> RPS | H44: =IF(Psychologia!#REF!>0,Psychologia!#REF!," ") -> #REF! | I44: =IF(Psychologia!G44>0,Psychologia!G44," ") -> Lektorat z języka angielskiego III | J44: =Psychologia!U44+Psychologia!AQ44 -> 50 | K44: =Psychologia!AN44+Psychologia!BJ44 -> 20 | L44: =Psychologia!V44+Psychologia!AR44 -> 30 | M44: =Psychologia!X44+Psychologia!Z44+Psychologia!AT44+Psychologia!AV44 -> 0 | N44: =Psychologia!W44+Psychologia!AS44 -> 30 | O44: =Psychologia!T44+Psychologia!AP44 -> 2 | P44: =IF(Psychologia!R44>0,Psychologia!R44," ") -> zal/o | Q44: =SUM(T44:AE44) -> 0 | R44: =SUM(AF44:BG44) -> 0 | S44: =SUM(BH44:BP44) -> 0
A45: =Psychologia!A45 -> 25 | B45: =IF(Psychologia!#REF!>0,Psychologia!#REF!," ") -> #REF! | C45: =IF(Psychologia!B45>0,Psychologia!B45," ") -> 2026/2027 | D45: =IF(Psychologia!C45>0,Psychologia!C45," ") | E45: =IF(Psychologia!D45>0,Psychologia!D45," ") -> 2 | F45: =IF(Psychologia!E45>0,Psychologia!E45," ") -> 2027/2028 | G45: =IF(Psychologia!F45>0,Psychologia!F45," ") -> RPS | H45: =IF(Psychologia!#REF!>0,Psychologia!#REF!," ") -> #REF! | I45: =IF(Psychologia!G45>0,Psychologia!G45," ") -> Lektorat z języka angielskiego IV | J45: =Psychologia!U45+Psychologia!AQ45 -> 75 | K45: =Psychologia!AN45+Psychologia!BJ45 -> 45 | L45: =Psychologia!V45+Psychologia!AR45 -> 30 | M45: =Psychologia!X45+Psychologia!Z45+Psychologia!AT45+Psychologia!AV45 -> 0 | N45: =Psychologia!W45+Psychologia!AS45 -> 30 | O45: =Psychologia!T45+Psychologia!AP45 -> 3 | P45: =IF(Psychologia!R45>0,Psychologia!R45," ") -> egz | Q45: =SUM(T45:AE45) -> 0 | R45: =SUM(AF45:BG45) -> 0 | S45: =SUM(BH45:BP45) -> 0
...

Sheet Efekty uczenia się
A1: szczegółowy numer efektu uczenia się | B1: Efekty uczenia się po ukończeniu studiów absolwent:
B2: WIEDZA (zna i rozumie)
A3: K_W01 | B3: podstawy chemii ogólnej i nieorganicznej
A4: K_W02 | B4: biofizyczne podstawy nauki o żywności i analizy składu ciała
A5: K_W03 | B5: anatomię człowieka ze szczególnym uwzględnieniem układu pokarmowego
A6: K_W04 | B6: podstawy biochemii ogólnej i klinicznej
A7: K_W05 | B7: mechanizmy dziedziczenia;
A8: K_W06 | B8: genetyczne i środowiskowe uwarunkowania cech człowieka;
A9: K_W07 | B9: choroby uwarunkowane genetycznie i ich związek z żywieniem
A10: K_W08 | B10: funkcje fizjologiczne białek, tłuszczów, węglowodanów oraz elektrolitów, pierwiastków śladowych, witamin i hormonów;
A11: K_W09 | B11: terminologię związaną z technologią potraw oraz podstawami towaroznawstwa;
A12: K_W10 | B12: warunki sanitarno-higieniczne produkcji żywności w zakładach żywienia zbiorowego i przemysłu spożywczego
A13: K_W11 | B13: podstawowe zasady organizacji pracy w zakładach żywienia zbiorowego typu zamkniętego i otwartego;
A14: K_W12 | B14: procesy rozwoju osobniczego od dzieciństwa do późnej starości;
... A66: K_W64 | B66: zasady postępowania dietetycznego w chorobach autoimmunologicznych, skóry, nowotworowych, w niedokrwistościach w zależności od stopnia zaawansowania choroby
B67: UMIEJĘTNOŚCI (potrafi)
A68: K_U01 | B68: zastosować nazewnictwo chemiczne do wybranych grup produktów żywnościowych;
A69: K_U02 | B69: wykonać podstawowe czynności laboratoryjne i obliczenia chemiczne związane z żywnością i żywieniem;
A70: K_U03 | B70: wykonać wybrane procedury analizy chemicznej żywności
A71: K_U04 | B71: zastosować terminologię fizyczną i biofizyczną do opisu i interpretacji zjawisk związanych z żywnością i żywieniem;
A72: K_U05 | B72: wykonać podstawowe czynności laboratoryjne i obliczenia biofizyczne obejmujące żywienie i żywność;
A73: K_U06 | B73: wykonać podstawowe procedury określania parametrów energetycznych żywności metodą kalorymetrii;
A74: K_U07 | B74: wykorzystać w praktyce wiedzę z zakresu fizjologii
A75: K_U08 | B75: zaplanować żywienie dostosowane do naturalnych etapów rozwoju człowieka;
A76: K_U09 | B76: wykorzystać podstawy wiedzy psychologicznej w prowadzeniu edukacji żywieniowej;
A77: K_U10 | B77: wdrażać zasady zdrowego żywienia i stylu życia dla młodzieży i dorosłych;
A78: K_U11 | B78: rozpoznać problemy żywieniowe i dokonać korekty sposobu żywienia u osób z nieprawidłowa masą ciała (niedożywionych oraz/lub osób z nadwagą/otyłością)
A79: K_U12 | B79: zastosować wiedzę o interakcjach leków z żywnością i suplementami diety
... A129: K_U62 | B129: wykorzystywać wiedzę dotyczącą podstaw biochemii ogólnej i klinicznej
