Workbook

Sheet OPTOMETRIA_IIst-pr. szczegółowy
G5: Wydział | I5: Wydział Nauk o Zdrowiu
G6: Kierunek | I6: Optometria | AM6: Szczegółowy Program Studiów dla cyklu kształcenia rozpoczynającego się w roku akademickim: 20../20..
G7: Cykl kształcenia | I7: 2026-2028 | AN7: uchwała Senatu nr…. z dnia …..202….
G8: Poziom kształcenia | I8: studia drugiego stopnia | AW8: Uniwersytetu Medycznego we Wrocławiu
G9: Profil kształcenia | I9: ogólnoakademicki | AW9: z dnia …..20.. r.
G10: Forma studiów | I10: stacjonarne/ niestacjonarne
G11: Liczba semestrów | I11: 4
G12: Łączna liczba godzin | I12: =P76 -> 1501
G13: Łączna liczba ECTS | I13: 120
A15: Lp. | B15: kod grupy* | C15: Cykl kształcenia (nabór) | D15: Ścieżka** | E15: Rok studiów | F15: Rok akademicki | G15: Rodzaj zajęć*** (RPS, POW, PSW) | H15: ****Pula godzin (ze standardu, do dyspozycji uczelni (Autorska oferta uczelni)) | I15: Przedmiot (nazwa) | J15: Czy przedmiot kształtuje kompetencje komunikacyjne | K15: Czy przedmiot humanistyczny lub społeczny | L15: Czy przedmiot związany z prowadzoną w uczelni działalnością naukową | M15: łącznie dla przedmiotu | W15: semestr zimowy - I | AT15: semestr letni - II | BQ15: LICZBA GODZIN W PRZELICZENIU NA 1 ECTS | BS15: Nakład pracy- liczba godzin | BZ15: Nakład pracy- punktów ECTS | CG15: Wskaźiki- liczba godzin | CI15: Wskaźiki- punktów ECTS | CK15: Suma efektów w poszczególnych kategoriach
M16: SUMA GODZIN PRZEDMIOTU | Q16: SUMA PUNKTÓW ECTS ZA PRZEDMIOT | V16: forma zakończenia przedmiotu ***** | W16: forma zakończenia semestru ****** | X16: punkty ECTS w semestrze | Y16: nakład pracy studenta (godz. dyd. + samodzielna praca) | Z16: ogólna liczba godzin dydaktycznych | AA16: liczba godzin z nauczycielem | AB16: wykład (WY) | AD16: seminarium (SE) | AE16: ćwiczenia audytoryjne (CA) | AF16: ćwiczenia kierunkowe - niekliniczne (CN) | AG16: ćwiczenia w warunkach symulowanych (CS)******* | AJ16: ćwiczenia laboratoryjne (CL) | AK16: ćwiczenia kliniczne (CK) | AL16: zajęcia praktyczne przy pacjencie (PP) | AM16: ćwiczenia specjalistyczne - magisterskie (CM) | AN16: lektoraty (LE) | AO16: e-learning (EL) | AP16: zajęcia wychowania fizycznego (WF) | AQ16: praktyka zawodowa (PZ) | AR16: samokształcenie kierowane (SK) | AS16: samodzielna praca studenta | AT16: forma zakończenia semestru ****** | AU16: punkty ECTS w semestrze | AV16: całkowity nakład pracy studenta | AW16: ogólna liczba godzin dydaktycznych | AX16: liczba godzin z nauczycielem | AY16: wykład (WY) | BA16: seminarium (SE) | BB16: ćwiczenia audytoryjne CA) | BC16: ćwiczenia kierunkowe - niekliniczne (CN) | BD16: ćwiczenia w warunkach symulowanych (CS)******* | BG16: ćwiczenia laboratoryjne (CL) | BH16: ćwiczenia kliniczne (CK) | BI16: zajęcia praktyczne przy pacjencie (PP) | BJ16: ćwiczenia specjalistyczne - magisterskie (CM) | BK16: lektoraty (LE) | BL16: e-learning (EL) | BM16: zajęcia wychowania fizycznego (WF) | BN16: praktyka zawodowa (PZ) | BO16: samokształcenie kierowane (SK) | BP16: samodzielna praca studenta | BS16: Kształcenie bezpośrednie stacjonarne | BT16: Kształcenie bezpośrednie z wykorzystaniem metod i technik kształcenia na odległość (synchroniczne) | BU16: Kształcenie asynchroniczne z wykorzystaniem metod i technik kształcenia na odległość | BV16: Samokształcenie kierowane (dotyczy tylko kierunków pielęgniarstwo i położnictwo) | BW16: Indywidualna praca własna studenta | BX16: Praktyka zawodowa | BY16: Łączny nakład pracy studenta | BZ16: Kształcenie bezpośrednie stacjonarne | CA16: Kształcenie bezpośrednie z wykorzystaniem metod i technik kształcenia na odległość (synchroniczne) | CB16: Kształcenie asynchroniczne z wykorzystaniem metod i technik kształcenia na odległość | CC16: Samokształcenie kierowane (dotyczy tylko kierunków pielęgniarstwo i położnictwo) | CD16: Indywidualna praca własna studenta | CE16: Praktyka zawodowa | CF16: Łączny nakład pracy studenta | CG16: Łącznie kształcenie bezpośrednie | CH16: Łącznie kształcenie z użyciem metod i technik kształcenia na odległość | CI16: Łącznie kształcenie bezpośrednie | CJ16: Łącznie kształcenie z użyciem metod i technik kształcenia na odległość
M17: NAKŁAD PRACY STUDENTA (godz. dyd. + samodzielna praca) | N17: SAMODZIELNA PRACA STUDENTA | O17: GODZINY DYDAKTYCZNE | P17: GODZINY Z NAUCZYCIELEM | Q17: Łącznie | R17: za zajecia praktyczne (PP) | S17: za zajęcia kształtujące umiejętności praktyczne jeżeli | T17: za zajęcia z wykorzystaniem met i technik na odl. | U17: za zajęcia z bezpośrednim udziałem prowadzących | AB17: łącznie | AC17: w tym on-line | AG17: CSM WW | AH17: CSM NW | AI17: CSP NW | AY17: łącznie | AZ17: w tym on-line | BD17: CSM WW | BE17: CSM NW | BF17: CSP NW | BQ17: wartość | BR17: UWAGI | CK17: Wiedza | CL17: Umiejetności | CM17: Kompetencje społeczne
M18: 1 | N18: 2 | O18: 3 | P18: 4 | Q18: 5 | R18: 6 | S18: 7 | T18: 8 | U18: 9 | V18: 10 | W18: 11 | X18: 12 | Y18: 13 | Z18: 14 | AA18: 15 | AB18: 16 | AC18: 17 | AD18: 18 | AE18: 19 | AF18: 20 | AG18: 21 | AH18: 22 | AI18: 23 | AJ18: 24 | AK18: 25 | AL18: 26 | AM18: 27 | AN18: 28 | AO18: 29 | AP18: 30 | AQ18: 31 | AR18: 32 | AS18: 33 | AT18: 34 | AU18: 35 | AV18: 36 | AW18: 37 | AX18: 38 | AY18: 39 | AZ18: 40 | BA18: 41 | BB18: 42 | BC18: 43 | BD18: 44 | BE18: 45 | BF18: 46 | BG18: 47 | BH18: 48 | BI18: 49 | BJ18: 50 | BK18: 51 | BL18: 52 | BM18: 53 | BN18: 54 | BO18: 55 | BP18: 56 | BQ18: 57 | BR18: 58
M19: 13+36 | N19: 33+56 | O19: 14+37 | P19: 15+38 | Q19: 12+35 | R19: (26+49)*5/3 | S19: (19:26;31;42:49;54) | T19: (17+29+40+52)*5/3 | U19: (suma(16;18:28;30:31)+suma(39;41:51;53:54))*5/1 | Y19: 14+33 | Z19: 15+32 | AA19: (suma 16-31)-17 | AV19: 37+56 | AW19: 38+55 | AX19: (suma 39-54)-40 | BQ19: 1/5
A20: 1 | C20: 2026/2027 | E20: 1 | F20: 2026/2027 | G20: RPS | I20: anatomia i fizjologia narządu wzroku | L20: tak | M20: =Y20+AV20 -> 75 | N20: =AS20+BP20 -> 35 | O20: =Z20+AW20 -> 40 | P20: =AA20+AX20 -> 40 | Q20: =X20+AU20 -> 3 | R20: =IFERROR((AL20+BI20)*Q20/O20," ") -> 0 | S20: =IFERROR((SUM(AE20:AL20,AQ20,BB20:BI20,BN20))*Q20/O20," ") -> 1.5 | T20: =IFERROR((AC20+AO20+AZ20+BL20)*Q20/O20," ") -> 1.5 | U20: =IFERROR((SUM(AB20,AD20:AN20,AP20:AQ20,AY20,BA20:BK20,BM20:BN20)*Q20/M20)," ") -> 1.6 | V20: egz | W20: zal/o | X20: 3 | Y20: =AS20+Z20 -> 75 | Z20: =AR20+AA20 -> 40 | AA20: =(SUM(AB20:AQ20))-AC20 -> 40 | AB20: 20 | AC20: 20 | AE20: 20 | AS20: 35 | AV20: =BP20+AW20 -> 0 | AW20: =BO20+AX20 -> 0 | AX20: =(SUM(AY20:BN20))-AZ20 -> 0 | BQ20: =IFERROR(M20/Q20," ") -> 25 | BR20: =IF(OR(BQ20>30,BQ20<25),"1 ECTS powinien mieścić się przedziale 25-30h","Wartość prawidłowa") -> Wartość prawidłowa | BS20: =SUM(AB20,AD20:AP20,AY20,BA20:BM20)-AC20-AZ20-AO20-BL20 -> 20 | BT20: =AC20+AZ20 -> 20 | BU20: =AO20+BL20 -> 0 | BV20: =AR20+BO20 -> 0 | BW20: =N20 -> 35 | BX20: =AQ20+BN20 -> 0 | BY20: =SUM(BS20:BX20) -> 75 | BZ20: =IFERROR((BS20*Q20)/BY20," ") -> 0.8 | CA20: =IFERROR((BT20*Q20)/BY20," ") -> 0.8 | CB20: =IFERROR((BU20*Q20)/BY20," ") -> 0 | CC20: =IFERROR((BV20*Q20)/BY20," ") -> 0 | CD20: =IFERROR((BW20*Q20)/BY20," ") -> 1.4 | CE20: =IFERROR((BX20*Q20)/BY20," ") -> 0 | CF20: =IFERROR((SUM(BZ20:CE20))," ") -> 3 | CG20: =SUM(BS20:BT20,CE20) -> 40 | CH20: =SUM(BT20:BU20) -> 20 | CI20: =SUM(BZ20:CA20,CE20) -> 1.6 | CJ20: =SUM(CA20:CB20) -> 0.8 | CK20: =Matryca!Q20 -> 3 | CL20: =Matryca!R20 -> 0 | CM20: =Matryca!S20 -> 1
A21: 2 | C21: 2026/2027 | E21: 1 | F21: 2026/2027 | G21: RPS | I21: optyka fizyczna i fizjologiczna | L21: tak | M21: =Y21+AV21 -> 75 | N21: =AS21+BP21 -> 45 | O21: =Z21+AW21 -> 30 | P21: =AA21+AX21 -> 30 | Q21: =X21+AU21 -> 3 | R21: =IFERROR((AL21+BI21)*Q21/O21," ") -> 0 | S21: =IFERROR((SUM(AE21:AL21,AQ21,BB21:BI21,BN21))*Q21/O21," ") -> 1.5 | T21: =IFERROR((AC21+AO21+AZ21+BL21)*Q21/O21," ") -> 1.5 | U21: =IFERROR((SUM(AB21,AD21:AN21,AP21:AQ21,AY21,BA21:BK21,BM21:BN21)*Q21/M21)," ") -> 1.2 | V21: egz | W21: zal/o | X21: 3 | Y21: =AS21+Z21 -> 75 | Z21: =AR21+AA21 -> 30 | AA21: =(SUM(AB21:AQ21))-AC21 -> 30 | AB21: 15 | AC21: 15 | AE21: 15 | AS21: 45 | AV21: =BP21+AW21 -> 0 | AW21: =BO21+AX21 -> 0 | AX21: =(SUM(AY21:BN21))-AZ21 -> 0 | BQ21: =IFERROR(M21/Q21," ") -> 25 | BR21: =IF(OR(BQ21>30,BQ21<25),"1 ECTS powinien mieścić się przedziale 25-30h","Wartość prawidłowa") -> Wartość prawidłowa | BS21: =SUM(AB21,AD21:AP21,AY21,BA21:BM21)-AC21-AZ21-AO21-BL21 -> 15 | BT21: =AC21+AZ21 -> 15 | BU21: =AO21+BL21 -> 0 | BV21: =AR21+BO21 -> 0 | BW21: =N21 -> 45 | BX21: =AQ21+BN21 -> 0 | BY21: =SUM(BS21:BX21) -> 75 | BZ21: =IFERROR((BS21*Q21)/BY21," ") -> 0.6 | CA21: =IFERROR((BT21*Q21)/BY21," ") -> 0.6 | CB21: =IFERROR((BU21*Q21)/BY21," ") -> 0 | CC21: =IFERROR((BV21*Q21)/BY21," ") -> 0 | CD21: =IFERROR((BW21*Q21)/BY21," ") -> 1.8 | CE21: =IFERROR((BX21*Q21)/BY21," ") -> 0 | CF21: =IFERROR((SUM(BZ21:CE21))," ") -> 3 | CG21: =SUM(BS21:BT21,CE21) -> 30 | CH21: =SUM(BT21:BU21) -> 15 | CI21: =SUM(BZ21:CA21,CE21) -> 1.2 | CJ21: =SUM(CA21:CB21) -> 0.6 | CK21: =Matryca!Q21 -> 1 | CL21: =Matryca!R21 -> 0 | CM21: =Matryca!S21 -> 1
A22: 3 | C22: 2026/2027 | E22: 1 | F22: 2026/2027 | G22: RPS | I22: zaburzenia widzenia obuocznego z elementami strabologii 1 | L22: tak | M22: =Y22+AV22 -> 75 | N22: =AS22+BP22 -> 35 | O22: =Z22+AW22 -> 40 | P22: =AA22+AX22 -> 40 | Q22: =X22+AU22 -> 3 | R22: =IFERROR((AL22+BI22)*Q22/O22," ") -> 0 | S22: =IFERROR((SUM(AE22:AL22,AQ22,BB22:BI22,BN22))*Q22/O22," ") -> 1.875 | T22: =IFERROR((AC22+AO22+AZ22+BL22)*Q22/O22," ") -> 1.125 | U22: =IFERROR((SUM(AB22,AD22:AN22,AP22:AQ22,AY22,BA22:BK22,BM22:BN22)*Q22/M22)," ") -> 1.6 | V22: zal/o | W22: zal/o | X22: 3 | Y22: =AS22+Z22 -> 75 | Z22: =AR22+AA22 -> 40 | AA22: =(SUM(AB22:AQ22))-AC22 -> 40 | AB22: 15 | AC22: 15 | AE22: 10 | AF22: 15 | AS22: 35 | AV22: =BP22+AW22 -> 0 | AW22: =BO22+AX22 -> 0 | AX22: =(SUM(AY22:BN22))-AZ22 -> 0 | BQ22: =IFERROR(M22/Q22," ") -> 25 | BR22: =IF(OR(BQ22>30,BQ22<25),"1 ECTS powinien mieścić się przedziale 25-30h","Wartość prawidłowa") -> Wartość prawidłowa | BS22: =SUM(AB22,AD22:AP22,AY22,BA22:BM22)-AC22-AZ22-AO22-BL22 -> 25 | BT22: =AC22+AZ22 -> 15 | BU22: =AO22+BL22 -> 0 | BV22: =AR22+BO22 -> 0 | BW22: =N22 -> 35 | BX22: =AQ22+BN22 -> 0 | BY22: =SUM(BS22:BX22) -> 75 | BZ22: =IFERROR((BS22*Q22)/BY22," ") -> 1 | CA22: =IFERROR((BT22*Q22)/BY22," ") -> 0.6 | CB22: =IFERROR((BU22*Q22)/BY22," ") -> 0 | CC22: =IFERROR((BV22*Q22)/BY22," ") -> 0 | CD22: =IFERROR((BW22*Q22)/BY22," ") -> 1.4 | CE22: =IFERROR((BX22*Q22)/BY22," ") -> 0 | CF22: =IFERROR((SUM(BZ22:CE22))," ") -> 3 | CG22: =SUM(BS22:BT22,CE22) -> 40 | CH22: =SUM(BT22:BU22) -> 15 | CI22: =SUM(BZ22:CA22,CE22) -> 1.6 | CJ22: =SUM(CA22:CB22) -> 0.6 | CK22: =Matryca!Q22 -> 1 | CL22: =Matryca!R22 -> 1 | CM22: =Matryca!S22 -> 2
A23: 4 | C23: 2026/2027 | E23: 1 | F23: 2026/2027 | G23: RPS | I23: metody diagnostyczne przedniego odcinka oka | L23: tak | M23: =Y23+AV23 -> 125 | N23: =AS23+BP23 -> 65 | O23: =Z23+AW23 -> 60 | P23: =AA23+AX23 -> 60 | Q23: =X23+AU23 -> 5 | R23: =IFERROR((AL23+BI23)*Q23/O23," ") -> 0 | S23: =IFERROR((SUM(AE23:AL23,AQ23,BB23:BI23,BN23))*Q23/O23," ") -> 2.9166667 | T23: =IFERROR((AC23+AO23+AZ23+BL23)*Q23/O23," ") -> 2.0833333 | U23: =IFERROR((SUM(AB23,AD23:AN23,AP23:AQ23,AY23,BA23:BK23,BM23:BN23)*Q23/M23)," ") -> 2.4 | V23: zal/o | W23: zal/o | X23: 5 | Y23: =AS23+Z23 -> 125 | Z23: =AR23+AA23 -> 60 | AA23: =(SUM(AB23:AQ23))-AC23 -> 60 | AB23: 25 | AC23: 25 | AF23: 35 | AS23: 65 | AV23: =BP23+AW23 -> 0 | AW23: =BO23+AX23 -> 0 | AX23: =(SUM(AY23:BN23))-AZ23 -> 0 | BQ23: =IFERROR(M23/Q23," ") -> 25 | BR23: =IF(OR(BQ23>30,BQ23<25),"1 ECTS powinien mieścić się przedziale 25-30h","Wartość prawidłowa") -> Wartość prawidłowa | BS23: =SUM(AB23,AD23:AP23,AY23,BA23:BM23)-AC23-AZ23-AO23-BL23 -> 35 | BT23: =AC23+AZ23 -> 25 | BU23: =AO23+BL23 -> 0 | BV23: =AR23+BO23 -> 0 | BW23: =N23 -> 65 | BX23: =AQ23+BN23 -> 0 | BY23: =SUM(BS23:BX23) -> 125 | BZ23: =IFERROR((BS23*Q23)/BY23," ") -> 1.4 | CA23: =IFERROR((BT23*Q23)/BY23," ") -> 1 | CB23: =IFERROR((BU23*Q23)/BY23," ") -> 0 | CC23: =IFERROR((BV23*Q23)/BY23," ") -> 0 | CD23: =IFERROR((BW23*Q23)/BY23," ") -> 2.6 | CE23: =IFERROR((BX23*Q23)/BY23," ") -> 0 | CF23: =IFERROR((SUM(BZ23:CE23))," ") -> 5 | CG23: =SUM(BS23:BT23,CE23) -> 60 | CH23: =SUM(BT23:BU23) -> 25 | CI23: =SUM(BZ23:CA23,CE23) -> 2.4 | CJ23: =SUM(CA23:CB23) -> 1 | CK23: =Matryca!Q23 -> 3 | CL23: =Matryca!R23 -> 4 | CM23: =Matryca!S23 -> 1
A24: 5 | C24: 2026/2027 | E24: 1 | F24: 2026/2027 | G24: RPS | I24: prawo medyczne i ochrona własności intelektualnej | K24: tak | L24: nie | M24: =Y24+AV24 -> 50 | N24: =AS24+BP24 -> 25 | O24: =Z24+AW24 -> 25 | P24: =AA24+AX24 -> 25 | Q24: =X24+AU24 -> 2 | R24: =IFERROR((AL24+BI24)*Q24/O24," ") -> 0 | S24: =IFERROR((SUM(AE24:AL24,AQ24,BB24:BI24,BN24))*Q24/O24," ") -> 0 | T24: =IFERROR((AC24+AO24+AZ24+BL24)*Q24/O24," ") -> 0.8 | U24: =IFERROR((SUM(AB24,AD24:AN24,AP24:AQ24,AY24,BA24:BK24,BM24:BN24)*Q24/M24)," ") -> 1 | V24: zal/o | W24: zal/o | X24: 2 | Y24: =AS24+Z24 -> 50 | Z24: =AR24+AA24 -> 25 | AA24: =(SUM(AB24:AQ24))-AC24 -> 25 | AB24: 10 | AC24: 10 | AD24: 15 | AS24: 25 | AV24: =BP24+AW24 -> 0 | AW24: =BO24+AX24 -> 0 | AX24: =(SUM(AY24:BN24))-AZ24 -> 0 | BQ24: =IFERROR(M24/Q24," ") -> 25 | BR24: =IF(OR(BQ24>30,BQ24<25),"1 ECTS powinien mieścić się przedziale 25-30h","Wartość prawidłowa") -> Wartość prawidłowa | BS24: =SUM(AB24,AD24:AP24,AY24,BA24:BM24)-AC24-AZ24-AO24-BL24 -> 15 | BT24: =AC24+AZ24 -> 10 | BU24: =AO24+BL24 -> 0 | BV24: =AR24+BO24 -> 0 | BW24: =N24 -> 25 | BX24: =AQ24+BN24 -> 0 | BY24: =SUM(BS24:BX24) -> 50 | BZ24: =IFERROR((BS24*Q24)/BY24," ") -> 0.6 | CA24: =IFERROR((BT24*Q24)/BY24," ") -> 0.4 | CB24: =IFERROR((BU24*Q24)/BY24," ") -> 0 | CC24: =IFERROR((BV24*Q24)/BY24," ") -> 0 | CD24: =IFERROR((BW24*Q24)/BY24," ") -> 1 | CE24: =IFERROR((BX24*Q24)/BY24," ") -> 0 | CF24: =IFERROR((SUM(BZ24:CE24))," ") -> 2 | CG24: =SUM(BS24:BT24,CE24) -> 25 | CH24: =SUM(BT24:BU24) -> 10 | CI24: =SUM(BZ24:CA24,CE24) -> 1 | CJ24: =SUM(CA24:CB24) -> 0.4 | CK24: =Matryca!Q24 -> 2 | CL24: =Matryca!R24 -> 1 | CM24: =Matryca!S24 -> 2
A25: 6 | C25: 2026/2027 | E25: 1 | F25: 2026/2027 | G25: POW | I25: metody i techniki badań naukowych /evidence-based (EB) in healthcare | L25: tak | M25: =Y25+AV25 -> 50 | N25: =AS25+BP25 -> 25 | O25: =Z25+AW25 -> 25 | P25: =AA25+AX25 -> 25 | Q25: =X25+AU25 -> 2 | R25: =IFERROR((AL25+BI25)*Q25/O25," ") -> 0 | S25: =IFERROR((SUM(AE25:AL25,AQ25,BB25:BI25,BN25))*Q25/O25," ") -> 0 | T25: =IFERROR((AC25+AO25+AZ25+BL25)*Q25/O25," ") -> 0.8 | U25: =IFERROR((SUM(AB25,AD25:AN25,AP25:AQ25,AY25,BA25:BK25,BM25:BN25)*Q25/M25)," ") -> 1 | V25: zal/o | W25: zal/o | X25: 2 | Y25: =AS25+Z25 -> 50 | Z25: =AR25+AA25 -> 25 | AA25: =(SUM(AB25:AQ25))-AC25 -> 25 | AB25: 10 | AC25: 10 | AD25: 15 | AS25: 25 | AV25: =BP25+AW25 -> 0 | AW25: =BO25+AX25 -> 0 | AX25: =(SUM(AY25:BN25))-AZ25 -> 0 | BQ25: =IFERROR(M25/Q25," ") -> 25 | BR25: =IF(OR(BQ25>30,BQ25<25),"1 ECTS powinien mieścić się przedziale 25-30h","Wartość prawidłowa") -> Wartość prawidłowa | BS25: =SUM(AB25,AD25:AP25,AY25,BA25:BM25)-AC25-AZ25-AO25-BL25 -> 15 | BT25: =AC25+AZ25 -> 10 | BU25: =AO25+BL25 -> 0 | BV25: =AR25+BO25 -> 0 | BW25: =N25 -> 25 | BX25: =AQ25+BN25 -> 0 | BY25: =SUM(BS25:BX25) -> 50 | BZ25: =IFERROR((BS25*Q25)/BY25," ") -> 0.6 | CA25: =IFERROR((BT25*Q25)/BY25," ") -> 0.4 | CB25: =IFERROR((BU25*Q25)/BY25," ") -> 0 | CC25: =IFERROR((BV25*Q25)/BY25," ") -> 0 | CD25: =IFERROR((BW25*Q25)/BY25," ") -> 1 | CE25: =IFERROR((BX25*Q25)/BY25," ") -> 0 | CF25: =IFERROR((SUM(BZ25:CE25))," ") -> 2 | CG25: =SUM(BS25:BT25,CE25) -> 25 | CH25: =SUM(BT25:BU25) -> 10 | CI25: =SUM(BZ25:CA25,CE25) -> 1 | CJ25: =SUM(CA25:CB25) -> 0.4 | CK25: =Matryca!Q25 -> 1 | CL25: =Matryca!R25 -> 4 | CM25: =Matryca!S25 -> 2
A26: 7 | C26: 2026/2027 | E26: 1 | F26: 2026/2027 | G26: RPS | I26: biostatystyka | L26: tak | M26: =Y26+AV26 -> 50 | N26: =AS26+BP26 -> 25 | O26: =Z26+AW26 -> 25 | P26: =AA26+AX26 -> 25 | Q26: =X26+AU26 -> 2 | R26: =IFERROR((AL26+BI26)*Q26/O26," ") -> 0 | S26: =IFERROR((SUM(AE26:AL26,AQ26,BB26:BI26,BN26))*Q26/O26," ") -> 1.2 | T26: =IFERROR((AC26+AO26+AZ26+BL26)*Q26/O26," ") -> 0.8 | U26: =IFERROR((SUM(AB26,AD26:AN26,AP26:AQ26,AY26,BA26:BK26,BM26:BN26)*Q26/M26)," ") -> 1 | V26: zal/o | W26: zal/o | X26: 2 | Y26: =AS26+Z26 -> 50 | Z26: =AR26+AA26 -> 25 | AA26: =(SUM(AB26:AQ26))-AC26 -> 25 | AB26: 10 | AC26: 10 | AF26: 15 | AS26: 25 | AV26: =BP26+AW26 -> 0 | AW26: =BO26+AX26 -> 0 | AX26: =(SUM(AY26:BN26))-AZ26 -> 0 | BQ26: =IFERROR(M26/Q26," ") -> 25 | BR26: =IF(OR(BQ26>30,BQ26<25),"1 ECTS powinien mieścić się przedziale 25-30h","Wartość prawidłowa") -> Wartość prawidłowa | BS26: =SUM(AB26,AD26:AP26,AY26,BA26:BM26)-AC26-AZ26-AO26-BL26 -> 15 | BT26: =AC26+AZ26 -> 10 | BU26: =AO26+BL26 -> 0 | BV26: =AR26+BO26 -> 0 | BW26: =N26 -> 25 | BX26: =AQ26+BN26 -> 0 | BY26: =SUM(BS26:BX26) -> 50 | BZ26: =IFERROR((BS26*Q26)/BY26," ") -> 0.6 | CA26: =IFERROR((BT26*Q26)/BY26," ") -> 0.4 | CB26: =IFERROR((BU26*Q26)/BY26," ") -> 0 | CC26: =IFERROR((BV26*Q26)/BY26," ") -> 0 | CD26: =IFERROR((BW26*Q26)/BY26," ") -> 1 | CE26: =IFERROR((BX26*Q26)/BY26," ") -> 0 | CF26: =IFERROR((SUM(BZ26:CE26))," ") -> 2 | CG26: =SUM(BS26:BT26,CE26) -> 25 | CH26: =SUM(BT26:BU26) -> 10 | CI26: =SUM(BZ26:CA26,CE26) -> 1 | CJ26: =SUM(CA26:CB26) -> 0.4 | CK26: =Matryca!Q26 -> 1 | CL26: =Matryca!R26 -> 3 | CM26: =Matryca!S26 -> 1
A27: 8 | C27: 2026/2027 | E27: 1 | F27: 2026/2027 | G27: RPS | I27: optyczna aparatura okulistyczno-optometryczna 1 | L27: tak | M27: =Y27+AV27 -> 75 | N27: =AS27+BP27 -> 45 | O27: =Z27+AW27 -> 30 | P27: =AA27+AX27 -> 30 | Q27: =X27+AU27 -> 3 | R27: =IFERROR((AL27+BI27)*Q27/O27," ") -> 0 | S27: =IFERROR((SUM(AE27:AL27,AQ27,BB27:BI27,BN27))*Q27/O27," ") -> 1.5 | T27: =IFERROR((AC27+AO27+AZ27+BL27)*Q27/O27," ") -> 1.5 | U27: =IFERROR((SUM(AB27,AD27:AN27,AP27:AQ27,AY27,BA27:BK27,BM27:BN27)*Q27/M27)," ") -> 1.2 | V27: zal/o | W27: zal/o | X27: 3 | Y27: =AS27+Z27 -> 75 | Z27: =AR27+AA27 -> 30 | AA27: =(SUM(AB27:AQ27))-AC27 -> 30 | AB27: 15 | AC27: 15 | AF27: 15 | AS27: 45 | AV27: =BP27+AW27 -> 0 | AW27: =BO27+AX27 -> 0 | AX27: =(SUM(AY27:BN27))-AZ27 -> 0 | BQ27: =IFERROR(M27/Q27," ") -> 25 | BR27: =IF(OR(BQ27>30,BQ27<25),"1 ECTS powinien mieścić się przedziale 25-30h","Wartość prawidłowa") -> Wartość prawidłowa | BS27: =SUM(AB27,AD27:AP27,AY27,BA27:BM27)-AC27-AZ27-AO27-BL27 -> 15 | BT27: =AC27+AZ27 -> 15 | BU27: =AO27+BL27 -> 0 | BV27: =AR27+BO27 -> 0 | BW27: =N27 -> 45 | BX27: =AQ27+BN27 -> 0 | BY27: =SUM(BS27:BX27) -> 75 | BZ27: =IFERROR((BS27*Q27)/BY27," ") -> 0.6 | CA27: =IFERROR((BT27*Q27)/BY27," ") -> 0.6 | CB27: =IFERROR((BU27*Q27)/BY27," ") -> 0 | CC27: =IFERROR((BV27*Q27)/BY27," ") -> 0 | CD27: =IFERROR((BW27*Q27)/BY27," ") -> 1.8 | CE27: =IFERROR((BX27*Q27)/BY27," ") -> 0 | CF27: =IFERROR((SUM(BZ27:CE27))," ") -> 3 | CG27: =SUM(BS27:BT27,CE27) -> 30 | CH27: =SUM(BT27:BU27) -> 15 | CI27: =SUM(BZ27:CA27,CE27) -> 1.2 | CJ27: =SUM(CA27:CB27) -> 0.6 | CK27: =Matryca!Q27 -> 4 | CL27: =Matryca!R27 -> 1 | CM27: =Matryca!S27 -> 0
A28: 9 | C28: 2026/2027 | E28: 1 | F28: 2026/2027 | G28: POW | I28: komunikacja interpersonalna/ mediacje i rozwiązywanie konfliktów | K28: tak | L28: nie | M28: =Y28+AV28 -> 50 | N28: =AS28+BP28 -> 25 | O28: =Z28+AW28 -> 25 | P28: =AA28+AX28 -> 25 | Q28: =X28+AU28 -> 2 | R28: =IFERROR((AL28+BI28)*Q28/O28," ") -> 0 | S28: =IFERROR((SUM(AE28:AL28,AQ28,BB28:BI28,BN28))*Q28/O28," ") -> 1.2 | T28: =IFERROR((AC28+AO28+AZ28+BL28)*Q28/O28," ") -> 0.8 | U28: =IFERROR((SUM(AB28,AD28:AN28,AP28:AQ28,AY28,BA28:BK28,BM28:BN28)*Q28/M28)," ") -> 1 | V28: zal/o | W28: zal/o | X28: 2 | Y28: =AS28+Z28 -> 50 | Z28: =AR28+AA28 -> 25 | AA28: =(SUM(AB28:AQ28))-AC28 -> 25 | AB28: 10 | AC28: 10 | AE28: 15 | AS28: 25 | AV28: =BP28+AW28 -> 0 | AW28: =BO28+AX28 -> 0 | AX28: =(SUM(AY28:BN28))-AZ28 -> 0 | BQ28: =IFERROR(M28/Q28," ") -> 25 | BR28: =IF(OR(BQ28>30,BQ28<25),"1 ECTS powinien mieścić się przedziale 25-30h","Wartość prawidłowa") -> Wartość prawidłowa | BS28: =SUM(AB28,AD28:AP28,AY28,BA28:BM28)-AC28-AZ28-AO28-BL28 -> 15 | BT28: =AC28+AZ28 -> 10 | BU28: =AO28+BL28 -> 0 | BV28: =AR28+BO28 -> 0 | BW28: =N28 -> 25 | BX28: =AQ28+BN28 -> 0 | BY28: =SUM(BS28:BX28) -> 50 | BZ28: =IFERROR((BS28*Q28)/BY28," ") -> 0.6 | CA28: =IFERROR((BT28*Q28)/BY28," ") -> 0.4 | CB28: =IFERROR((BU28*Q28)/BY28," ") -> 0 | CC28: =IFERROR((BV28*Q28)/BY28," ") -> 0 | CD28: =IFERROR((BW28*Q28)/BY28," ") -> 1 | CE28: =IFERROR((BX28*Q28)/BY28," ") -> 0 | CF28: =IFERROR((SUM(BZ28:CE28))," ") -> 2 | CG28: =SUM(BS28:BT28,CE28) -> 25 | CH28: =SUM(BT28:BU28) -> 10 | CI28: =SUM(BZ28:CA28,CE28) -> 1 | CJ28: =SUM(CA28:CB28) -> 0.4 | CK28: =Matryca!Q28 -> 1 | CL28: =Matryca!R28 -> 4 | CM28: =Matryca!S28 -> 3
A29: 10 | C29: 2026/2027 | E29: 1 | F29: 2026/2027 | G29: RPS | I29: pomiary refrakcji 1 | L29: tak | M29: =Y29+AV29 -> 75 | N29: =AS29+BP29 -> 35 | O29: =Z29+AW29 -> 40 | P29: =AA29+AX29 -> 40 | Q29: =X29+AU29 -> 3 | R29: =IFERROR((AL29+BI29)*Q29/O29," ") -> 0 | S29: =IFERROR((SUM(AE29:AL29,AQ29,BB29:BI29,BN29))*Q29/O29," ") -> 1.5 | T29: =IFERROR((AC29+AO29+AZ29+BL29)*Q29/O29," ") -> 1.5 | U29: =IFERROR((SUM(AB29,AD29:AN29,AP29:AQ29,AY29,BA29:BK29,BM29:BN29)*Q29/M29)," ") -> 1.6 | V29: zal/o | W29: zal/o | X29: 3 | Y29: =AS29+Z29 -> 75 | Z29: =AR29+AA29 -> 40 | AA29: =(SUM(AB29:AQ29))-AC29 -> 40 | AB29: 20 | AC29: 20 | AF29: 20 | AS29: 35 | AV29: =BP29+AW29 -> 0 | AW29: =BO29+AX29 -> 0 | AX29: =(SUM(AY29:BN29))-AZ29 -> 0 | BQ29: =IFERROR(M29/Q29," ") -> 25 | BR29: =IF(OR(BQ29>30,BQ29<25),"1 ECTS powinien mieścić się przedziale 25-30h","Wartość prawidłowa") -> Wartość prawidłowa | BS29: =SUM(AB29,AD29:AP29,AY29,BA29:BM29)-AC29-AZ29-AO29-BL29 -> 20 | BT29: =AC29+AZ29 -> 20 | BU29: =AO29+BL29 -> 0 | BV29: =AR29+BO29 -> 0 | BW29: =N29 -> 35 | BX29: =AQ29+BN29 -> 0 | BY29: =SUM(BS29:BX29) -> 75 | BZ29: =IFERROR((BS29*Q29)/BY29," ") -> 0.8 | CA29: =IFERROR((BT29*Q29)/BY29," ") -> 0.8 | CB29: =IFERROR((BU29*Q29)/BY29," ") -> 0 | CC29: =IFERROR((BV29*Q29)/BY29," ") -> 0 | CD29: =IFERROR((BW29*Q29)/BY29," ") -> 1.4 | CE29: =IFERROR((BX29*Q29)/BY29," ") -> 0 | CF29: =IFERROR((SUM(BZ29:CE29))," ") -> 3 | CG29: =SUM(BS29:BT29,CE29) -> 40 | CH29: =SUM(BT29:BU29) -> 20 | CI29: =SUM(BZ29:CA29,CE29) -> 1.6 | CJ29: =SUM(CA29:CB29) -> 0.8 | CK29: =Matryca!Q29 -> 2 | CL29: =Matryca!R29 -> 3 | CM29: =Matryca!S29 -> 1
A30: 11 | C30: 2026/2027 | E30: 1 | F30: 2026/2027 | G30: RPS | I30: język angielski | L30: nie | M30: =Y30+AV30 -> 100 | N30: =AS30+BP30 -> 40 | O30: =Z30+AW30 -> 60 | P30: =AA30+AX30 -> 60 | Q30: =X30+AU30 -> 4 | R30: =IFERROR((AL30+BI30)*Q30/O30," ") -> 0 | S30: =IFERROR((SUM(AE30:AL30,AQ30,BB30:BI30,BN30))*Q30/O30," ") -> 0 | T30: =IFERROR((AC30+AO30+AZ30+BL30)*Q30/O30," ") -> 0 | U30: =IFERROR((SUM(AB30,AD30:AN30,AP30:AQ30,AY30,BA30:BK30,BM30:BN30)*Q30/M30)," ") -> 2.4 | V30: zal/o | W30: zal/o | X30: 2 | Y30: =AS30+Z30 -> 50 | Z30: =AR30+AA30 -> 30 | AA30: =(SUM(AB30:AQ30))-AC30 -> 30 | AN30: 30 | AS30: 20 | AT30: zal/o | AU30: 2 | AV30: =BP30+AW30 -> 50 | AW30: =BO30+AX30 -> 30 | AX30: =(SUM(AY30:BN30))-AZ30 -> 30 | BK30: 30 | BP30: 20 | BQ30: =IFERROR(M30/Q30," ") -> 25 | BR30: =IF(OR(BQ30>30,BQ30<25),"1 ECTS powinien mieścić się przedziale 25-30h","Wartość prawidłowa") -> Wartość prawidłowa | BS30: =SUM(AB30,AD30:AP30,AY30,BA30:BM30)-AC30-AZ30-AO30-BL30 -> 60 | BT30: =AC30+AZ30 -> 0 | BU30: =AO30+BL30 -> 0 | BV30: =AR30+BO30 -> 0 | BW30: =N30 -> 40 | BX30: =AQ30+BN30 -> 0 | BY30: =SUM(BS30:BX30) -> 100 | BZ30: =IFERROR((BS30*Q30)/BY30," ") -> 2.4 | CA30: =IFERROR((BT30*Q30)/BY30," ") -> 0 | CB30: =IFERROR((BU30*Q30)/BY30," ") -> 0 | CC30: =IFERROR((BV30*Q30)/BY30," ") -> 0 | CD30: =IFERROR((BW30*Q30)/BY30," ") -> 1.6 | CE30: =IFERROR((BX30*Q30)/BY30," ") -> 0 | CF30: =IFERROR((SUM(BZ30:CE30))," ") -> 4 | CG30: =SUM(BS30:BT30,CE30) -> 60 | CH30: =SUM(BT30:BU30) -> 0 | CI30: =SUM(BZ30:CA30,CE30) -> 2.4 | CJ30: =SUM(CA30:CB30) -> 0 | CK30: =Matryca!Q30 -> 0 | CL30: =Matryca!R30 -> 3 | CM30: =Matryca!S30 -> 1
A31: 12 | C31: 2026/2027 | E31: 1 | F31: 2026/2027 | G31: RPS | I31: pomiary refrakcji 2 | L31: tak | M31: =Y31+AV31 -> 75 | N31: =AS31+BP31 -> 30 | O31: =Z31+AW31 -> 45 | P31: =AA31+AX31 -> 45 | Q31: =X31+AU31 -> 3 | R31: =IFERROR((AL31+BI31)*Q31/O31," ") -> 0 | S31: =IFERROR((SUM(AE31:AL31,AQ31,BB31:BI31,BN31))*Q31/O31," ") -> 2 | T31: =IFERROR((AC31+AO31+AZ31+BL31)*Q31/O31," ") -> 1 | U31: =IFERROR((SUM(AB31,AD31:AN31,AP31:AQ31,AY31,BA31:BK31,BM31:BN31)*Q31/M31)," ") -> 1.8 | V31: zal/o | Y31: =AS31+Z31 -> 0 | Z31: =AR31+AA31 -> 0 | AA31: =(SUM(AB31:AQ31))-AC31 -> 0 | AT31: zal/o | AU31: 3 | AV31: =BP31+AW31 -> 75 | AW31: =BO31+AX31 -> 45 | AX31: =(SUM(AY31:BN31))-AZ31 -> 45 | AY31: 15 | AZ31: 15 | BC31: 30 | BP31: 30 | BQ31: =IFERROR(M31/Q31," ") -> 25 | BR31: =IF(OR(BQ31>30,BQ31<25),"1 ECTS powinien mieścić się przedziale 25-30h","Wartość prawidłowa") -> Wartość prawidłowa | BS31: =SUM(AB31,AD31:AP31,AY31,BA31:BM31)-AC31-AZ31-AO31-BL31 -> 30 | BT31: =AC31+AZ31 -> 15 | BU31: =AO31+BL31 -> 0 | BV31: =AR31+BO31 -> 0 | BW31: =N31 -> 30 | BX31: =AQ31+BN31 -> 0 | BY31: =SUM(BS31:BX31) -> 75 | BZ31: =IFERROR((BS31*Q31)/BY31," ") -> 1.2 | CA31: =IFERROR((BT31*Q31)/BY31," ") -> 0.6 | CB31: =IFERROR((BU31*Q31)/BY31," ") -> 0 | CC31: =IFERROR((BV31*Q31)/BY31," ") -> 0 | CD31: =IFERROR((BW31*Q31)/BY31," ") -> 1.2 | CE31: =IFERROR((BX31*Q31)/BY31," ") -> 0 | CF31: =IFERROR((SUM(BZ31:CE31))," ") -> 3 | CG31: =SUM(BS31:BT31,CE31) -> 45 | CH31: =SUM(BT31:BU31) -> 15 | CI31: =SUM(BZ31:CA31,CE31) -> 1.8 | CJ31: =SUM(CA31:CB31) -> 0.6 | CK31: =Matryca!Q31 -> 1 | CL31: =Matryca!R31 -> 3 | CM31: =Matryca!S31 -> 1
A32: 13 | C32: 2026/2027 | E32: 1 | F32: 2026/2027 | G32: RPS | I32: zaburzenia widzenia obuocznego z elementami strabologii 2 | L32: tak | M32: =Y32+AV32 -> 100 | N32: =AS32+BP32 -> 65 | O32: =Z32+AW32 -> 35 | P32: =AA32+AX32 -> 35 | Q32: =X32+AU32 -> 4 | R32: =IFERROR((AL32+BI32)*Q32/O32," ") -> 0 | S32: =IFERROR((SUM(AE32:AL32,AQ32,BB32:BI32,BN32))*Q32/O32," ") -> 2.2857143 | T32: =IFERROR((AC32+AO32+AZ32+BL32)*Q32/O32," ") -> 1.7142857 | U32: =IFERROR((SUM(AB32,AD32:AN32,AP32:AQ32,AY32,BA32:BK32,BM32:BN32)*Q32/M32)," ") -> 1.4 | V32: egz | Y32: =AS32+Z32 -> 0 | Z32: =AR32+AA32 -> 0 | AA32: =(SUM(AB32:AQ32))-AC32 -> 0 | AT32: zal/o | AU32: 4 | AV32: =BP32+AW32 -> 100 | AW32: =BO32+AX32 -> 35 | AX32: =(SUM(AY32:BN32))-AZ32 -> 35 | AY32: 15 | AZ32: 15 | BC32: 20 | BP32: 65 | BQ32: =IFERROR(M32/Q32," ") -> 25 | BR32: =IF(OR(BQ32>30,BQ32<25),"1 ECTS powinien mieścić się przedziale 25-30h","Wartość prawidłowa") -> Wartość prawidłowa | BS32: =SUM(AB32,AD32:AP32,AY32,BA32:BM32)-AC32-AZ32-AO32-BL32 -> 20 | BT32: =AC32+AZ32 -> 15 | BU32: =AO32+BL32 -> 0 | BV32: =AR32+BO32 -> 0 | BW32: =N32 -> 65 | BX32: =AQ32+BN32 -> 0 | BY32: =SUM(BS32:BX32) -> 100 | BZ32: =IFERROR((BS32*Q32)/BY32," ") -> 0.8 | CA32: =IFERROR((BT32*Q32)/BY32," ") -> 0.6 | CB32: =IFERROR((BU32*Q32)/BY32," ") -> 0 | CC32: =IFERROR((BV32*Q32)/BY32," ") -> 0 | CD32: =IFERROR((BW32*Q32)/BY32," ") -> 2.6 | CE32: =IFERROR((BX32*Q32)/BY32," ") -> 0 | CF32: =IFERROR((SUM(BZ32:CE32))," ") -> 4 | CG32: =SUM(BS32:BT32,CE32) -> 35 | CH32: =SUM(BT32:BU32) -> 15 | CI32: =SUM(BZ32:CA32,CE32) -> 1.4 | CJ32: =SUM(CA32:CB32) -> 0.6 | CK32: =Matryca!Q32 -> 1 | CL32: =Matryca!R32 -> 2 | CM32: =Matryca!S32 -> 1
A33: 14 | C33: 2026/2027 | E33: 1 | F33: 2026/2027 | G33: RPS | I33: soczewki kontaktowe | L33: tak | M33: =Y33+AV33 -> 75 | N33: =AS33+BP33 -> 40 | O33: =Z33+AW33 -> 35 | P33: =AA33+AX33 -> 35 | Q33: =X33+AU33 -> 3 | R33: =IFERROR((AL33+BI33)*Q33/O33," ") -> 0 | S33: =IFERROR((SUM(AE33:AL33,AQ33,BB33:BI33,BN33))*Q33/O33," ") -> 1.7142857 | T33: =IFERROR((AC33+AO33+AZ33+BL33)*Q33/O33," ") -> 1.2857143 | U33: =IFERROR((SUM(AB33,AD33:AN33,AP33:AQ33,AY33,BA33:BK33,BM33:BN33)*Q33/M33)," ") -> 1.4 | V33: egz | Y33: =AS33+Z33 -> 0 | Z33: =AR33+AA33 -> 0 | AA33: =(SUM(AB33:AQ33))-AC33 -> 0 | AT33: zal/o | AU33: 3 | AV33: =BP33+AW33 -> 75 | AW33: =BO33+AX33 -> 35 | AX33: =(SUM(AY33:BN33))-AZ33 -> 35 | AY33: 15 | AZ33: 15 | BC33: 20 | BP33: 40 | BQ33: =IFERROR(M33/Q33," ") -> 25 | BR33: =IF(OR(BQ33>30,BQ33<25),"1 ECTS powinien mieścić się przedziale 25-30h","Wartość prawidłowa") -> Wartość prawidłowa | BS33: =SUM(AB33,AD33:AP33,AY33,BA33:BM33)-AC33-AZ33-AO33-BL33 -> 20 | BT33: =AC33+AZ33 -> 15 | BU33: =AO33+BL33 -> 0 | BV33: =AR33+BO33 -> 0 | BW33: =N33 -> 40 | BX33: =AQ33+BN33 -> 0 | BY33: =SUM(BS33:BX33) -> 75 | BZ33: =IFERROR((BS33*Q33)/BY33," ") -> 0.8 | CA33: =IFERROR((BT33*Q33)/BY33," ") -> 0.6 | CB33: =IFERROR((BU33*Q33)/BY33," ") -> 0 | CC33: =IFERROR((BV33*Q33)/BY33," ") -> 0 | CD33: =IFERROR((BW33*Q33)/BY33," ") -> 1.6 | CE33: =IFERROR((BX33*Q33)/BY33," ") -> 0 | CF33: =IFERROR((SUM(BZ33:CE33))," ") -> 3 | CG33: =SUM(BS33:BT33,CE33) -> 35 | CH33: =SUM(BT33:BU33) -> 15 | CI33: =SUM(BZ33:CA33,CE33) -> 1.4 | CJ33: =SUM(CA33:CB33) -> 0.6 | CK33: =Matryca!Q33 -> 3 | CL33: =Matryca!R33 -> 1 | CM33: =Matryca!S33 -> 1
A34: 15 | C34: 2026/2027 | E34: 1 | F34: 2026/2027 | G34: RPS | I34: optyczna aparatura okulistyczno-optometryczna 2 | L34: tak | M34: =Y34+AV34 -> 75 | N34: =AS34+BP34 -> 40 | O34: =Z34+AW34 -> 35 | P34: =AA34+AX34 -> 35 | Q34: =X34+AU34 -> 3 | R34: =IFERROR((AL34+BI34)*Q34/O34," ") -> 0 | S34: =IFERROR((SUM(AE34:AL34,AQ34,BB34:BI34,BN34))*Q34/O34," ") -> 1.7142857 | T34: =IFERROR((AC34+AO34+AZ34+BL34)*Q34/O34," ") -> 1.2857143 | U34: =IFERROR((SUM(AB34,AD34:AN34,AP34:AQ34,AY34,BA34:BK34,BM34:BN34)*Q34/M34)," ") -> 1.4 | V34: zal/o | Y34: =AS34+Z34 -> 0 | Z34: =AR34+AA34 -> 0 | AA34: =(SUM(AB34:AQ34))-AC34 -> 0 | AT34: zal/o | AU34: 3 | AV34: =BP34+AW34 -> 75 | AW34: =BO34+AX34 -> 35 | AX34: =(SUM(AY34:BN34))-AZ34 -> 35 | AY34: 15 | AZ34: 15 | BH34: 20 | BP34: 40 | BQ34: =IFERROR(M34/Q34," ") -> 25 | BR34: =IF(OR(BQ34>30,BQ34<25),"1 ECTS powinien mieścić się przedziale 25-30h","Wartość prawidłowa") -> Wartość prawidłowa | BS34: =SUM(AB34,AD34:AP34,AY34,BA34:BM34)-AC34-AZ34-AO34-BL34 -> 20 | BT34: =AC34+AZ34 -> 15 | BU34: =AO34+BL34 -> 0 | BV34: =AR34+BO34 -> 0 | BW34: =N34 -> 40 | BX34: =AQ34+BN34 -> 0 | BY34: =SUM(BS34:BX34) -> 75 | BZ34: =IFERROR((BS34*Q34)/BY34," ") -> 0.8 | CA34: =IFERROR((BT34*Q34)/BY34," ") -> 0.6 | CB34: =IFERROR((BU34*Q34)/BY34," ") -> 0 | CC34: =IFERROR((BV34*Q34)/BY34," ") -> 0 | CD34: =IFERROR((BW34*Q34)/BY34," ") -> 1.6 | CE34: =IFERROR((BX34*Q34)/BY34," ") -> 0 | CF34: =IFERROR((SUM(BZ34:CE34))," ") -> 3 | CG34: =SUM(BS34:BT34,CE34) -> 35 | CH34: =SUM(BT34:BU34) -> 15 | CI34: =SUM(BZ34:CA34,CE34) -> 1.4 | CJ34: =SUM(CA34:CB34) -> 0.6 | CK34: =Matryca!Q34 -> 3 | CL34: =Matryca!R34 -> 1 | CM34: =Matryca!S34 -> 1
A35: 16 | C35: 2026/2027 | E35: 1 | F35: 2026/2027 | G35: POW | I35: seminarium dyplomowe 1 | L35: nie | M35: =Y35+AV35 -> 125 | N35: =AS35+BP35 -> 100 | O35: =Z35+AW35 -> 25 | P35: =AA35+AX35 -> 25 | Q35: =X35+AU35 -> 5 | R35: =IFERROR((AL35+BI35)*Q35/O35," ") -> 0 | S35: =IFERROR((SUM(AE35:AL35,AQ35,BB35:BI35,BN35))*Q35/O35," ") -> 0 | T35: =IFERROR((AC35+AO35+AZ35+BL35)*Q35/O35," ") -> 0 | U35: =IFERROR((SUM(AB35,AD35:AN35,AP35:AQ35,AY35,BA35:BK35,BM35:BN35)*Q35/M35)," ") -> 1 | V35: zal | Y35: =AS35+Z35 -> 0 | Z35: =AR35+AA35 -> 0 | AA35: =(SUM(AB35:AQ35))-AC35 -> 0 | AT35: zal | AU35: 5 | AV35: =BP35+AW35 -> 125 | AW35: =BO35+AX35 -> 25 | AX35: =(SUM(AY35:BN35))-AZ35 -> 25 | BA35: 25 | BP35: 100 | BQ35: =IFERROR(M35/Q35," ") -> 25 | BR35: =IF(OR(BQ35>30,BQ35<25),"1 ECTS powinien mieścić się przedziale 25-30h","Wartość prawidłowa") -> Wartość prawidłowa | BS35: =SUM(AB35,AD35:AP35,AY35,BA35:BM35)-AC35-AZ35-AO35-BL35 -> 25 | BT35: =AC35+AZ35 -> 0 | BU35: =AO35+BL35 -> 0 | BV35: =AR35+BO35 -> 0 | BW35: =N35 -> 100 | BX35: =AQ35+BN35 -> 0 | BY35: =SUM(BS35:BX35) -> 125 | BZ35: =IFERROR((BS35*Q35)/BY35," ") -> 1 | CA35: =IFERROR((BT35*Q35)/BY35," ") -> 0 | CB35: =IFERROR((BU35*Q35)/BY35," ") -> 0 | CC35: =IFERROR((BV35*Q35)/BY35," ") -> 0 | CD35: =IFERROR((BW35*Q35)/BY35," ") -> 4 | CE35: =IFERROR((BX35*Q35)/BY35," ") -> 0 | CF35: =IFERROR((SUM(BZ35:CE35))," ") -> 5 | CG35: =SUM(BS35:BT35,CE35) -> 25 | CH35: =SUM(BT35:BU35) -> 0 | CI35: =SUM(BZ35:CA35,CE35) -> 1 | CJ35: =SUM(CA35:CB35) -> 0 | CK35: =Matryca!Q35 -> 1 | CL35: =Matryca!R35 -> 4 | CM35: =Matryca!S35 -> 1
A36: 17 | C36: 2026/2027 | E36: 1 | F36: 2026/2027 | G36: POW | I36: problematyka zdrowia publicznego / organizacja systemu ochrony zdrowia | L36: tak | M36: =Y36+AV36 -> 50 | N36: =AS36+BP36 -> 15 | O36: =Z36+AW36 -> 35 | P36: =AA36+AX36 -> 35 | Q36: =X36+AU36 -> 2 | R36: =IFERROR((AL36+BI36)*Q36/O36," ") -> 0 | S36: =IFERROR((SUM(AE36:AL36,AQ36,BB36:BI36,BN36))*Q36/O36," ") -> 0 | T36: =IFERROR((AC36+AO36+AZ36+BL36)*Q36/O36," ") -> 0.85714286 | U36: =IFERROR((SUM(AB36,AD36:AN36,AP36:AQ36,AY36,BA36:BK36,BM36:BN36)*Q36/M36)," ") -> 1.4 | V36: zal/o | Y36: =AS36+Z36 -> 0 | Z36: =AR36+AA36 -> 0 | AA36: =(SUM(AB36:AQ36))-AC36 -> 0 | AT36: zal/o | AU36: 2 | AV36: =BP36+AW36 -> 50 | AW36: =BO36+AX36 -> 35 | AX36: =(SUM(AY36:BN36))-AZ36 -> 35 | AY36: 15 | AZ36: 15 | BA36: 20 | BP36: 15 | BQ36: =IFERROR(M36/Q36," ") -> 25 | BR36: =IF(OR(BQ36>30,BQ36<25),"1 ECTS powinien mieścić się przedziale 25-30h","Wartość prawidłowa") -> Wartość prawidłowa | BS36: =SUM(AB36,AD36:AP36,AY36,BA36:BM36)-AC36-AZ36-AO36-BL36 -> 20 | BT36: =AC36+AZ36 -> 15 | BU36: =AO36+BL36 -> 0 | BV36: =AR36+BO36 -> 0 | BW36: =N36 -> 15 | BX36: =AQ36+BN36 -> 0 | BY36: =SUM(BS36:BX36) -> 50 | BZ36: =IFERROR((BS36*Q36)/BY36," ") -> 0.8 | CA36: =IFERROR((BT36*Q36)/BY36," ") -> 0.6 | CB36: =IFERROR((BU36*Q36)/BY36," ") -> 0 | CC36: =IFERROR((BV36*Q36)/BY36," ") -> 0 | CD36: =IFERROR((BW36*Q36)/BY36," ") -> 0.6 | CE36: =IFERROR((BX36*Q36)/BY36," ") -> 0 | CF36: =IFERROR((SUM(BZ36:CE36))," ") -> 2 | CG36: =SUM(BS36:BT36,CE36) -> 35 | CH36: =SUM(BT36:BU36) -> 15 | CI36: =SUM(BZ36:CA36,CE36) -> 1.4 | CJ36: =SUM(CA36:CB36) -> 0.6 | CK36: =Matryca!Q36 -> 3 | CL36: =Matryca!R36 -> 2 | CM36: =Matryca!S36 -> 1
A37: 18 | C37: 2026/2027 | E37: 1 | F37: 2026/2027 | G37: POW | I37: zdrowie środowiskowe / zagrożenia epidemiologiczne | L37: tak | M37: =Y37+AV37 -> 50 | N37: =AS37+BP37 -> 15 | O37: =Z37+AW37 -> 35 | P37: =AA37+AX37 -> 35 | Q37: =X37+AU37 -> 2 | R37: =IFERROR((AL37+BI37)*Q37/O37," ") -> 0 | S37: =IFERROR((SUM(AE37:AL37,AQ37,BB37:BI37,BN37))*Q37/O37," ") -> 0 | T37: =IFERROR((AC37+AO37+AZ37+BL37)*Q37/O37," ") -> 0.85714286 | U37: =IFERROR((SUM(AB37,AD37:AN37,AP37:AQ37,AY37,BA37:BK37,BM37:BN37)*Q37/M37)," ") -> 1.4 | V37: zal/o | Y37: =AS37+Z37 -> 0 | Z37: =AR37+AA37 -> 0 | AA37: =(SUM(AB37:AQ37))-AC37 -> 0 | AT37: zal/o | AU37: 2 | AV37: =BP37+AW37 -> 50 | AW37: =BO37+AX37 -> 35 | AX37: =(SUM(AY37:BN37))-AZ37 -> 35 | AY37: 15 | AZ37: 15 | BA37: 20 | BP37: 15 | BQ37: =IFERROR(M37/Q37," ") -> 25 | BR37: =IF(OR(BQ37>30,BQ37<25),"1 ECTS powinien mieścić się przedziale 25-30h","Wartość prawidłowa") -> Wartość prawidłowa | BS37: =SUM(AB37,AD37:AP37,AY37,BA37:BM37)-AC37-AZ37-AO37-BL37 -> 20 | BT37: =AC37+AZ37 -> 15 | BU37: =AO37+BL37 -> 0 | BV37: =AR37+BO37 -> 0 | BW37: =N37 -> 15 | BX37: =AQ37+BN37 -> 0 | BY37: =SUM(BS37:BX37) -> 50 | BZ37: =IFERROR((BS37*Q37)/BY37," ") -> 0.8 | CA37: =IFERROR((BT37*Q37)/BY37," ") -> 0.6 | CB37: =IFERROR((BU37*Q37)/BY37," ") -> 0 | CC37: =IFERROR((BV37*Q37)/BY37," ") -> 0 | CD37: =IFERROR((BW37*Q37)/BY37," ") -> 0.6 | CE37: =IFERROR((BX37*Q37)/BY37," ") -> 0 | CF37: =IFERROR((SUM(BZ37:CE37))," ") -> 2 | CG37: =SUM(BS37:BT37,CE37) -> 35 | CH37: =SUM(BT37:BU37) -> 15 | CI37: =SUM(BZ37:CA37,CE37) -> 1.4 | CJ37: =SUM(CA37:CB37) -> 0.6 | CK37: =Matryca!Q37 -> 1 | CL37: =Matryca!R37 -> 1 | CM37: =Matryca!S37 -> 1
A38: 19 | C38: 2026/2027 | E38: 1 | F38: 2026/2027 | G38: POW | I38: telemedycyna i e-zdrowie / wprowadzenie do praktycznego zastosowania sztucznej inteligencji w ochronie zdrowia | L38: tak | M38: =Y38+AV38 -> 50 | N38: =AS38+BP38 -> 15 | O38: =Z38+AW38 -> 35 | P38: =AA38+AX38 -> 35 | Q38: =X38+AU38 -> 2 | R38: =IFERROR((AL38+BI38)*Q38/O38," ") -> 0 | S38: =IFERROR((SUM(AE38:AL38,AQ38,BB38:BI38,BN38))*Q38/O38," ") -> 1.1428571 | T38: =IFERROR((AC38+AO38+AZ38+BL38)*Q38/O38," ") -> 0.85714286 | U38: =IFERROR((SUM(AB38,AD38:AN38,AP38:AQ38,AY38,BA38:BK38,BM38:BN38)*Q38/M38)," ") -> 1.4 | V38: zal/o | Y38: =AS38+Z38 -> 0 | Z38: =AR38+AA38 -> 0 | AA38: =(SUM(AB38:AQ38))-AC38 -> 0 | AT38: zal/o | AU38: 2 | AV38: =BP38+AW38 -> 50 | AW38: =BO38+AX38 -> 35 | AX38: =(SUM(AY38:BN38))-AZ38 -> 35 | AY38: 15 | AZ38: 15 | BB38: 20 | BP38: 15 | BQ38: =IFERROR(M38/Q38," ") -> 25 | BR38: =IF(OR(BQ38>30,BQ38<25),"1 ECTS powinien mieścić się przedziale 25-30h","Wartość prawidłowa") -> Wartość prawidłowa | BS38: =SUM(AB38,AD38:AP38,AY38,BA38:BM38)-AC38-AZ38-AO38-BL38 -> 20 | BT38: =AC38+AZ38 -> 15 | BU38: =AO38+BL38 -> 0 | BV38: =AR38+BO38 -> 0 | BW38: =N38 -> 15 | BX38: =AQ38+BN38 -> 0 | BY38: =SUM(BS38:BX38) -> 50 | BZ38: =IFERROR((BS38*Q38)/BY38," ") -> 0.8 | CA38: =IFERROR((BT38*Q38)/BY38," ") -> 0.6 | CB38: =IFERROR((BU38*Q38)/BY38," ") -> 0 | CC38: =IFERROR((BV38*Q38)/BY38," ") -> 0 | CD38: =IFERROR((BW38*Q38)/BY38," ") -> 0.6 | CE38: =IFERROR((BX38*Q38)/BY38," ") -> 0 | CF38: =IFERROR((SUM(BZ38:CE38))," ") -> 2 | CG38: =SUM(BS38:BT38,CE38) -> 35 | CH38: =SUM(BT38:BU38) -> 15 | CI38: =SUM(BZ38:CA38,CE38) -> 1.4 | CJ38: =SUM(CA38:CB38) -> 0.6 | CK38: =Matryca!Q38 -> 1 | CL38: =Matryca!R38 -> 1 | CM38: =Matryca!S38 -> 2
A39: 20 | C39: 2026/2027 | E39: 1 | F39: 2026/2027 | G39: POW | I39: pierwsza pomoc / bezpieczeństwo i reagowanie w stanach zagrożenia życia | L39: tak | M39: =Y39+AV39 -> 50 | N39: =AS39+BP39 -> 25 | O39: =Z39+AW39 -> 25 | P39: =AA39+AX39 -> 25 | Q39: =X39+AU39 -> 2 | R39: =IFERROR((AL39+BI39)*Q39/O39," ") -> 0 | S39: =IFERROR((SUM(AE39:AL39,AQ39,BB39:BI39,BN39))*Q39/O39," ") -> 1.2 | T39: =IFERROR((AC39+AO39+AZ39+BL39)*Q39/O39," ") -> 0.8 | U39: =IFERROR((SUM(AB39,AD39:AN39,AP39:AQ39,AY39,BA39:BK39,BM39:BN39)*Q39/M39)," ") -> 1 | V39: zal/o | Y39: =AS39+Z39 -> 0 | Z39: =AR39+AA39 -> 0 | AA39: =(SUM(AB39:AQ39))-AC39 -> 0 | AT39: zal/o | AU39: 2 | AV39: =BP39+AW39 -> 50 | AW39: =BO39+AX39 -> 25 | AX39: =(SUM(AY39:BN39))-AZ39 -> 25 | AY39: 10 | AZ39: 10 | BE39: 15 | BP39: 25 | BQ39: =IFERROR(M39/Q39," ") -> 25 | BR39: =IF(OR(BQ39>30,BQ39<25),"1 ECTS powinien mieścić się przedziale 25-30h","Wartość prawidłowa") -> Wartość prawidłowa | BS39: =SUM(AB39,AD39:AP39,AY39,BA39:BM39)-AC39-AZ39-AO39-BL39 -> 15 | BT39: =AC39+AZ39 -> 10 | BU39: =AO39+BL39 -> 0 | BV39: =AR39+BO39 -> 0 | BW39: =N39 -> 25 | BX39: =AQ39+BN39 -> 0 | BY39: =SUM(BS39:BX39) -> 50 | BZ39: =IFERROR((BS39*Q39)/BY39," ") -> 0.6 | CA39: =IFERROR((BT39*Q39)/BY39," ") -> 0.4 | CB39: =IFERROR((BU39*Q39)/BY39," ") -> 0 | CC39: =IFERROR((BV39*Q39)/BY39," ") -> 0 | CD39: =IFERROR((BW39*Q39)/BY39," ") -> 1 | CE39: =IFERROR((BX39*Q39)/BY39," ") -> 0 | CF39: =IFERROR((SUM(BZ39:CE39))," ") -> 2 | CG39: =SUM(BS39:BT39,CE39) -> 25 | CH39: =SUM(BT39:BU39) -> 10 | CI39: =SUM(BZ39:CA39,CE39) -> 1 | CJ39: =SUM(CA39:CB39) -> 0.4 | CK39: =Matryca!Q39 -> 1 | CL39: =Matryca!R39 -> 2 | CM39: =Matryca!S39 -> 1
A40: 21 | C40: 2026/2027 | E40: 1 | F40: 2026/2027 | G40: RPS | I40: praktyka zawodowa 1 | L40: nie | M40: =Y40+AV40 -> 50 | N40: =AS40+BP40 -> 0 | O40: =Z40+AW40 -> 50 | P40: =AA40+AX40 -> 50 | Q40: =X40+AU40 -> 2 | R40: =IFERROR((AL40+BI40)*Q40/O40," ") -> 0 | S40: =IFERROR((SUM(AE40:AL40,AQ40,BB40:BI40,BN40))*Q40/O40," ") -> 2 | T40: =IFERROR((AC40+AO40+AZ40+BL40)*Q40/O40," ") -> 0 | U40: =IFERROR((SUM(AB40,AD40:AN40,AP40:AQ40,AY40,BA40:BK40,BM40:BN40)*Q40/M40)," ") -> 2 | V40: zal | Y40: =AS40+Z40 -> 0 | Z40: =AR40+AA40 -> 0 | AA40: =(SUM(AB40:AQ40))-AC40 -> 0 | AT40: zal | AU40: 2 | AV40: =BP40+AW40 -> 50 | AW40: =BO40+AX40 -> 50 | AX40: =(SUM(AY40:BN40))-AZ40 -> 50 | BN40: 50 | BQ40: =IFERROR(M40/Q40," ") -> 25 | BR40: =IF(OR(BQ40>30,BQ40<25),"1 ECTS powinien mieścić się przedziale 25-30h","Wartość prawidłowa") -> Wartość prawidłowa | BS40: =SUM(AB40,AD40:AP40,AY40,BA40:BM40)-AC40-AZ40-AO40-BL40 -> 0 | BT40: =AC40+AZ40 -> 0 | BU40: =AO40+BL40 -> 0 | BV40: =AR40+BO40 -> 0 | BW40: =N40 -> 0 | BX40: =AQ40+BN40 -> 50 | BY40: =SUM(BS40:BX40) -> 50 | BZ40: =IFERROR((BS40*Q40)/BY40," ") -> 0 | CA40: =IFERROR((BT40*Q40)/BY40," ") -> 0 | CB40: =IFERROR((BU40*Q40)/BY40," ") -> 0 | CC40: =IFERROR((BV40*Q40)/BY40," ") -> 0 | CD40: =IFERROR((BW40*Q40)/BY40," ") -> 0 | CE40: =IFERROR((BX40*Q40)/BY40," ") -> 2 | CF40: =IFERROR((SUM(BZ40:CE40))," ") -> 2 | CG40: =SUM(BS40:BT40,CE40) -> 2 | CH40: =SUM(BT40:BU40) -> 0 | CI40: =SUM(BZ40:CA40,CE40) -> 2 | CJ40: =SUM(CA40:CB40) -> 0 | CK40: =Matryca!Q40 -> 1 | CL40: =Matryca!R40 -> 7 | CM40: =Matryca!S40 -> 2
A41: 22 | C41: 2026/2027 | E41: 1 | F41: 2026/2027 | G41: RPS | I41: szkolenie BHP i Ppoż | L41: nie | M41: =Y41+AV41 -> 4 | N41: =AS41+BP41 -> 0 | O41: =Z41+AW41 -> 4 | P41: =AA41+AX41 -> 4 | Q41: =X41+AU41 -> 0 | R41: =IFERROR((AL41+BI41)*Q41/O41," ") -> 0 | S41: =IFERROR((SUM(AE41:AL41,AQ41,BB41:BI41,BN41))*Q41/O41," ") -> 0 | T41: =IFERROR((AC41+AO41+AZ41+BL41)*Q41/O41," ") -> 0 | U41: =IFERROR((SUM(AB41,AD41:AN41,AP41:AQ41,AY41,BA41:BK41,BM41:BN41)*Q41/M41)," ") -> 0 | V41: zal | W41: zal | Y41: =AS41+Z41 -> 4 | Z41: =AR41+AA41 -> 4 | AA41: =(SUM(AB41:AQ41))-AC41 -> 4 | AO41: 4 | AV41: =BP41+AW41 -> 0 | AW41: =BO41+AX41 -> 0 | AX41: =(SUM(AY41:BN41))-AZ41 -> 0 | BQ41: =IFERROR(M41/Q41," ") | BR41: =IF(OR(BQ41>30,BQ41<25),"1 ECTS powinien mieścić się przedziale 25-30h","Wartość prawidłowa") -> 1 ECTS powinien mieścić się przedziale 25-30h | BS41: =SUM(AB41,AD41:AP41,AY41,BA41:BM41)-AC41-AZ41-AO41-BL41 -> 0 | BT41: =AC41+AZ41 -> 0 | BU41: =AO41+BL41 -> 4 | BV41: =AR41+BO41 -> 0 | BW41: =N41 -> 0 | BX41: =AQ41+BN41 -> 0 | BY41: =SUM(BS41:BX41) -> 4 | BZ41: =IFERROR((BS41*Q41)/BY41," ") -> 0 | CA41: =IFERROR((BT41*Q41)/BY41," ") -> 0 | CB41: =IFERROR((BU41*Q41)/BY41," ") -> 0 | CC41: =IFERROR((BV41*Q41)/BY41," ") -> 0 | CD41: =IFERROR((BW41*Q41)/BY41," ") -> 0 | CE41: =IFERROR((BX41*Q41)/BY41," ") -> 0 | CF41: =IFERROR((SUM(BZ41:CE41))," ") -> 0 | CG41: =SUM(BS41:BT41,CE41) -> 0 | CH41: =SUM(BT41:BU41) -> 4 | CI41: =SUM(BZ41:CA41,CE41) -> 0 | CJ41: =SUM(CA41:CB41) -> 0 | CK41: =Matryca!Q41 -> 3 | CL41: =Matryca!R41 -> 0 | CM41: =Matryca!S41 -> 0
A42: 23 | C42: 2026/2027 | E42: 1 | F42: 2026/2027 | G42: RPS | I42: szkolenie biblioteczne | L42: nie | M42: =Y42+AV42 -> 2 | N42: =AS42+BP42 -> 0 | O42: =Z42+AW42 -> 2 | P42: =AA42+AX42 -> 2 | Q42: =X42+AU42 -> 0 | R42: =IFERROR((AL42+BI42)*Q42/O42," ") -> 0 | S42: =IFERROR((SUM(AE42:AL42,AQ42,BB42:BI42,BN42))*Q42/O42," ") -> 0 | T42: =IFERROR((AC42+AO42+AZ42+BL42)*Q42/O42," ") -> 0 | U42: =IFERROR((SUM(AB42,AD42:AN42,AP42:AQ42,AY42,BA42:BK42,BM42:BN42)*Q42/M42)," ") -> 0 | V42: zal | W42: zal | Y42: =AS42+Z42 -> 2 | Z42: =AR42+AA42 -> 2 | AA42: =(SUM(AB42:AQ42))-AC42 -> 2 | AO42: 2 | AV42: =BP42+AW42 -> 0 | AW42: =BO42+AX42 -> 0 | AX42: =(SUM(AY42:BN42))-AZ42 -> 0 | BQ42: =IFERROR(M42/Q42," ") | BR42: =IF(OR(BQ42>30,BQ42<25),"1 ECTS powinien mieścić się przedziale 25-30h","Wartość prawidłowa") -> 1 ECTS powinien mieścić się przedziale 25-30h | BS42: =SUM(AB42,AD42:AP42,AY42,BA42:BM42)-AC42-AZ42-AO42-BL42 -> 0 | BT42: =AC42+AZ42 -> 0 | BU42: =AO42+BL42 -> 2 | BV42: =AR42+BO42 -> 0 | BW42: =N42 -> 0 | BX42: =AQ42+BN42 -> 0 | BY42: =SUM(BS42:BX42) -> 2 | BZ42: =IFERROR((BS42*Q42)/BY42," ") -> 0 | CA42: =IFERROR((BT42*Q42)/BY42," ") -> 0 | CB42: =IFERROR((BU42*Q42)/BY42," ") -> 0 | CC42: =IFERROR((BV42*Q42)/BY42," ") -> 0 | CD42: =IFERROR((BW42*Q42)/BY42," ") -> 0 | CE42: =IFERROR((BX42*Q42)/BY42," ") -> 0 | CF42: =IFERROR((SUM(BZ42:CE42))," ") -> 0 | CG42: =SUM(BS42:BT42,CE42) -> 0 | CH42: =SUM(BT42:BU42) -> 2 | CI42: =SUM(BZ42:CA42,CE42) -> 0 | CJ42: =SUM(CA42:CB42) -> 0 | CK42: =Matryca!Q42 -> 3 | CL42: =Matryca!R42 -> 0 | CM42: =Matryca!S42 -> 0
I43: sumy dla 1 roku | J43: =COUNTIF(J20:J42,"tak") -> 0 | K43: =COUNTIF(K20:K42,"tak") -> 2 | L43: =COUNTIF(L20:L42,"tak") -> 16 | M43: =SUM(M20:M42) -> 1506 | N43: =SUM(N20:N42) -> 745 | O43: =SUM(O20:O42) -> 761 | P43: =SUM(P20:P42) -> 761 | Q43: =SUM(Q20:Q42) -> 60 | R43: =SUM(R20:R42) -> 0 | S43: =SUM(S20:S42) -> 25.24881 | T43: =SUM(T20:T42) -> 21.065476 | ... BP43: =SUM(BP20:BP42) -> 365 | BS43: =SUM(BS20:BS42) -> 440 | BT43: =SUM(BT20:BT42) -> 265 | BU43: =SUM(BU20:BU42) -> 6 | BV43: =SUM(BV20:BV42) -> 0 | BW43: =SUM(BW20:BW42) -> 745 | BX43: =SUM(BX20:BX42) -> 50 | BY43: =SUM(BY20:BY42) -> 1506 | BZ43: =SUM(BZ20:BZ42) -> 17.6 | ... CM43: =SUM(CM20:CM42) -> 27
A44: 24 | C44: 2026/2027 | E44: 2 | F44: 2027/2028 | G44: RPS | I44: choroby oczu u dorosłych | L44: tak | M44: =Y44+AV44 -> 80 | N44: =AS44+BP44 -> 40 | O44: =Z44+AW44 -> 40 | P44: =AA44+AX44 -> 40 | Q44: =X44+AU44 -> 3 | R44: =IFERROR((AL44+BI44)*Q44/O44," ") -> 0 | S44: =IFERROR((SUM(AE44:AL44,AQ44,BB44:BI44,BN44))*Q44/O44," ") -> 1.5 | T44: =IFERROR((AC44+AO44+AZ44+BL44)*Q44/O44," ") -> 1.5 | U44: =IFERROR((SUM(AB44,AD44:AN44,AP44:AQ44,AY44,BA44:BK44,BM44:BN44)*Q44/M44)," ") -> 1.5 | V44: egz | W44: zal/o | X44: 3 | Y44: =AS44+Z44 -> 80 | Z44: =AR44+AA44 -> 40 | AA44: =(SUM(AB44:AQ44))-AC44 -> 40 | AB44: 20 | AC44: 20 | AE44: 15 | AK44: 5 | AS44: 40 | AV44: =BP44+AW44 -> 0 | AW44: =BO44+AX44 -> 0 | AX44: =(SUM(AY44:BN44))-AZ44 -> 0 | BQ44: =IFERROR(M44/Q44," ") -> 26.666667 | BR44: =IF(OR(BQ44>30,BQ44<25),"1 ECTS powinien mieścić się przedziale 25-30h","Wartość prawidłowa") -> Wartość prawidłowa | BS44: =SUM(AB44,AD44:AP44,AY44,BA44:BM44)-AC44-AZ44-AO44-BL44 -> 20 | BT44: =AC44+AZ44 -> 20 | BU44: =AO44+BL44 -> 0 | BV44: =AR44+BO44 -> 0 | BW44: =N44 -> 40 | BX44: =AQ44+BN44 -> 0 | BY44: =SUM(BS44:BX44) -> 80 | BZ44: =IFERROR((BS44*Q44)/BY44," ") -> 0.75 | CA44: =IFERROR((BT44*Q44)/BY44," ") -> 0.75 | CB44: =IFERROR((BU44*Q44)/BY44," ") -> 0 | CC44: =IFERROR((BV44*Q44)/BY44," ") -> 0 | CD44: =IFERROR((BW44*Q44)/BY44," ") -> 1.5 | CE44: =IFERROR((BX44*Q44)/BY44," ") -> 0 | CF44: =IFERROR((SUM(BZ44:CE44))," ") -> 3 | CG44: =SUM(BS44:BT44,CE44) -> 40 | CH44: =SUM(BT44:BU44) -> 20 | CI44: =SUM(BZ44:CA44,CE44) -> 1.5 | CJ44: =SUM(CA44:CB44) -> 0.75 | CK44: =Matryca!Q44 -> 3 | CL44: =Matryca!R44 -> 3 | CM44: =Matryca!S44 -> 1
A45: 25 | C45: 2026/2027 | E45: 2 | F45: 2027/2028 | G45: RPS | I45: choroby oczu u dzieci | L45: tak | M45: =Y45+AV45 -> 75 | N45: =AS45+BP45 -> 35 | O45: =Z45+AW45 -> 40 | P45: =AA45+AX45 -> 40 | Q45: =X45+AU45 -> 3 | R45: =IFERROR((AL45+BI45)*Q45/O45," ") -> 0 | S45: =IFERROR((SUM(AE45:AL45,AQ45,BB45:BI45,BN45))*Q45/O45," ") -> 1.5 | T45: =IFERROR((AC45+AO45+AZ45+BL45)*Q45/O45," ") -> 1.5 | U45: =IFERROR((SUM(AB45,AD45:AN45,AP45:AQ45,AY45,BA45:BK45,BM45:BN45)*Q45/M45)," ") -> 1.6 | V45: egz | W45: zal/o | X45: 3 | Y45: =AS45+Z45 -> 75 | Z45: =AR45+AA45 -> 40 | AA45: =(SUM(AB45:AQ45))-AC45 -> 40 | AB45: 20 | AC45: 20 | AE45: 15 | AK45: 5 | AS45: 35 | AV45: =BP45+AW45 -> 0 | AW45: =BO45+AX45 -> 0 | AX45: =(SUM(AY45:BN45))-AZ45 -> 0 | BQ45: =IFERROR(M45/Q45," ") -> 25 | BR45: =IF(OR(BQ45>30,BQ45<25),"1 ECTS powinien mieścić się przedziale 25-30h","Wartość prawidłowa") -> Wartość prawidłowa | BS45: =SUM(AB45,AD45:AP45,AY45,BA45:BM45)-AC45-AZ45-AO45-BL45 -> 20 | BT45: =AC45+AZ45 -> 20 | BU45: =AO45+BL45 -> 0 | BV45: =AR45+BO45 -> 0 | BW45: =N45 -> 35 | BX45: =AQ45+BN45 -> 0 | BY45: =SUM(BS45:BX45) -> 75 | BZ45: =IFERROR((BS45*Q45)/BY45," ") -> 0.8 | CA45: =IFERROR((BT45*Q45)/BY45," ") -> 0.8 | CB45: =IFERROR((BU45*Q45)/BY45," ") -> 0 | CC45: =IFERROR((BV45*Q45)/BY45," ") -> 0 | CD45: =IFERROR((BW45*Q45)/BY45," ") -> 1.4 | CE45: =IFERROR((BX45*Q45)/BY45," ") -> 0 | CF45: =IFERROR((SUM(BZ45:CE45))," ") -> 3 | CG45: =SUM(BS45:BT45,CE45) -> 40 | CH45: =SUM(BT45:BU45) -> 20 | CI45: =SUM(BZ45:CA45,CE45) -> 1.6 | CJ45: =SUM(CA45:CB45) -> 0.8 | CK45: =Matryca!Q45 -> 4 | CL45: =Matryca!R45 -> 4 | CM45: =Matryca!S45 -> 1
A46: 26 | C46: 2026/2027 | E46: 2 | F46: 2027/2028 | G46: RPS | I46: choroby siatkówki - metody diagnostyczne | L46: tak | M46: =Y46+AV46 -> 50 | N46: =AS46+BP46 -> 15 | O46: =Z46+AW46 -> 35 | P46: =AA46+AX46 -> 35 | Q46: =X46+AU46 -> 2 | R46: =IFERROR((AL46+BI46)*Q46/O46," ") -> 0 | S46: =IFERROR((SUM(AE46:AL46,AQ46,BB46:BI46,BN46))*Q46/O46," ") -> 1.4285714 | T46: =IFERROR((AC46+AO46+AZ46+BL46)*Q46/O46," ") -> 0.57142857 | U46: =IFERROR((SUM(AB46,AD46:AN46,AP46:AQ46,AY46,BA46:BK46,BM46:BN46)*Q46/M46)," ") -> 1.4 | V46: zal/o | W46: zal/o | X46: 2 | Y46: =AS46+Z46 -> 50 | Z46: =AR46+AA46 -> 35 | AA46: =(SUM(AB46:AQ46))-AC46 -> 35 | AB46: 10 | AC46: 10 | AE46: 10 | AK46: 15 | AS46: 15 | AV46: =BP46+AW46 -> 0 | AW46: =BO46+AX46 -> 0 | AX46: =(SUM(AY46:BN46))-AZ46 -> 0 | BQ46: =IFERROR(M46/Q46," ") -> 25 | BR46: =IF(OR(BQ46>30,BQ46<25),"1 ECTS powinien mieścić się przedziale 25-30h","Wartość prawidłowa") -> Wartość prawidłowa | BS46: =SUM(AB46,AD46:AP46,AY46,BA46:BM46)-AC46-AZ46-AO46-BL46 -> 25 | BT46: =AC46+AZ46 -> 10 | BU46: =AO46+BL46 -> 0 | BV46: =AR46+BO46 -> 0 | BW46: =N46 -> 15 | BX46: =AQ46+BN46 -> 0 | BY46: =SUM(BS46:BX46) -> 50 | BZ46: =IFERROR((BS46*Q46)/BY46," ") -> 1 | CA46: =IFERROR((BT46*Q46)/BY46," ") -> 0.4 | CB46: =IFERROR((BU46*Q46)/BY46," ") -> 0 | CC46: =IFERROR((BV46*Q46)/BY46," ") -> 0 | CD46: =IFERROR((BW46*Q46)/BY46," ") -> 0.6 | CE46: =IFERROR((BX46*Q46)/BY46," ") -> 0 | CF46: =IFERROR((SUM(BZ46:CE46))," ") -> 2 | CG46: =SUM(BS46:BT46,CE46) -> 35 | CH46: =SUM(BT46:BU46) -> 10 | CI46: =SUM(BZ46:CA46,CE46) -> 1.4 | CJ46: =SUM(CA46:CB46) -> 0.4 | CK46: =Matryca!Q46 -> 3 | CL46: =Matryca!R46 -> 2 | CM46: =Matryca!S46 -> 1
A47: 27 | C47: 2026/2027 | E47: 2 | F47: 2027/2028 | G47: RPS | I47: jaskra - metody diagnostyczne i leczenie | L47: tak | M47: =Y47+AV47 -> 50 | N47: =AS47+BP47 -> 15 | O47: =Z47+AW47 -> 35 | P47: =AA47+AX47 -> 35 | Q47: =X47+AU47 -> 2 | R47: =IFERROR((AL47+BI47)*Q47/O47," ") -> 0 | S47: =IFERROR((SUM(AE47:AL47,AQ47,BB47:BI47,BN47))*Q47/O47," ") -> 1.4285714 | T47: =IFERROR((AC47+AO47+AZ47+BL47)*Q47/O47," ") -> 0.57142857 | U47: =IFERROR((SUM(AB47,AD47:AN47,AP47:AQ47,AY47,BA47:BK47,BM47:BN47)*Q47/M47)," ") -> 1.4 | V47: zal/o | W47: zal/o | X47: 2 | Y47: =AS47+Z47 -> 50 | Z47: =AR47+AA47 -> 35 | AA47: =(SUM(AB47:AQ47))-AC47 -> 35 | AB47: 10 | AC47: 10 | AE47: 10 | AK47: 15 | AS47: 15 | AV47: =BP47+AW47 -> 0 | AW47: =BO47+AX47 -> 0 | AX47: =(SUM(AY47:BN47))-AZ47 -> 0 | BQ47: =IFERROR(M47/Q47," ") -> 25 | BR47: =IF(OR(BQ47>30,BQ47<25),"1 ECTS powinien mieścić się przedziale 25-30h","Wartość prawidłowa") -> Wartość prawidłowa | BS47: =SUM(AB47,AD47:AP47,AY47,BA47:BM47)-AC47-AZ47-AO47-BL47 -> 25 | BT47: =AC47+AZ47 -> 10 | BU47: =AO47+BL47 -> 0 | BV47: =AR47+BO47 -> 0 | BW47: =N47 -> 15 | BX47: =AQ47+BN47 -> 0 | BY47: =SUM(BS47:BX47) -> 50 | BZ47: =IFERROR((BS47*Q47)/BY47," ") -> 1 | CA47: =IFERROR((BT47*Q47)/BY47," ") -> 0.4 | CB47: =IFERROR((BU47*Q47)/BY47," ") -> 0 | CC47: =IFERROR((BV47*Q47)/BY47," ") -> 0 | CD47: =IFERROR((BW47*Q47)/BY47," ") -> 0.6 | CE47: =IFERROR((BX47*Q47)/BY47," ") -> 0 | CF47: =IFERROR((SUM(BZ47:CE47))," ") -> 2 | CG47: =SUM(BS47:BT47,CE47) -> 35 | CH47: =SUM(BT47:BU47) -> 10 | CI47: =SUM(BZ47:CA47,CE47) -> 1.4 | CJ47: =SUM(CA47:CB47) -> 0.4 | CK47: =Matryca!Q47 -> 3 | CL47: =Matryca!R47 -> 2 | CM47: =Matryca!S47 -> 1
A48: 28 | C48: 2026/2027 | E48: 2 | F48: 2027/2028 | G48: RPS | I48: pomiary refrakcji 3 | L48: tak | M48: =Y48+AV48 -> 75 | N48: =AS48+BP48 -> 30 | O48: =Z48+AW48 -> 45 | P48: =AA48+AX48 -> 45 | Q48: =X48+AU48 -> 3 | R48: =IFERROR((AL48+BI48)*Q48/O48," ") -> 0 | S48: =IFERROR((SUM(AE48:AL48,AQ48,BB48:BI48,BN48))*Q48/O48," ") -> 3 | T48: =IFERROR((AC48+AO48+AZ48+BL48)*Q48/O48," ") -> 0 | U48: =IFERROR((SUM(AB48,AD48:AN48,AP48:AQ48,AY48,BA48:BK48,BM48:BN48)*Q48/M48)," ") -> 1.8 | V48: zal/o | W48: zal/o | X48: 3 | Y48: =AS48+Z48 -> 75 | Z48: =AR48+AA48 -> 45 | AA48: =(SUM(AB48:AQ48))-AC48 -> 45 | AE48: 10 | AK48: 35 | AS48: 30 | AV48: =BP48+AW48 -> 0 | AW48: =BO48+AX48 -> 0 | AX48: =(SUM(AY48:BN48))-AZ48 -> 0 | BQ48: =IFERROR(M48/Q48," ") -> 25 | BR48: =IF(OR(BQ48>30,BQ48<25),"1 ECTS powinien mieścić się przedziale 25-30h","Wartość prawidłowa") -> Wartość prawidłowa | BS48: =SUM(AB48,AD48:AP48,AY48,BA48:BM48)-AC48-AZ48-AO48-BL48 -> 45 | BT48: =AC48+AZ48 -> 0 | BU48: =AO48+BL48 -> 0 | BV48: =AR48+BO48 -> 0 | BW48: =N48 -> 30 | BX48: =AQ48+BN48 -> 0 | BY48: =SUM(BS48:BX48) -> 75 | BZ48: =IFERROR((BS48*Q48)/BY48," ") -> 1.8 | CA48: =IFERROR((BT48*Q48)/BY48," ") -> 0 | CB48: =IFERROR((BU48*Q48)/BY48," ") -> 0 | CC48: =IFERROR((BV48*Q48)/BY48," ") -> 0 | CD48: =IFERROR((BW48*Q48)/BY48," ") -> 1.2 | CE48: =IFERROR((BX48*Q48)/BY48," ") -> 0 | CF48: =IFERROR((SUM(BZ48:CE48))," ") -> 3 | CG48: =SUM(BS48:BT48,CE48) -> 45 | CH48: =SUM(BT48:BU48) -> 0 | CI48: =SUM(BZ48:CA48,CE48) -> 1.8 | CJ48: =SUM(CA48:CB48) -> 0 | CK48: =Matryca!Q48 -> 2 | CL48: =Matryca!R48 -> 3 | CM48: =Matryca!S48 -> 1
A49: 29 | C49: 2026/2027 | E49: 2 | F49: 2027/2028 | G49: POW | I49: seminarium dyplomowe 2 | L49: nie | M49: =Y49+AV49 -> 125 | N49: =AS49+BP49 -> 100 | O49: =Z49+AW49 -> 25 | P49: =AA49+AX49 -> 25 | Q49: =X49+AU49 -> 5 | R49: =IFERROR((AL49+BI49)*Q49/O49," ") -> 0 | S49: =IFERROR((SUM(AE49:AL49,AQ49,BB49:BI49,BN49))*Q49/O49," ") -> 0 | T49: =IFERROR((AC49+AO49+AZ49+BL49)*Q49/O49," ") -> 0 | U49: =IFERROR((SUM(AB49,AD49:AN49,AP49:AQ49,AY49,BA49:BK49,BM49:BN49)*Q49/M49)," ") -> 1 | V49: zal/o | W49: zal/o | X49: 5 | Y49: =AS49+Z49 -> 125 | Z49: =AR49+AA49 -> 25 | AA49: =(SUM(AB49:AQ49))-AC49 -> 25 | AD49: 25 | AS49: 100 | AV49: =BP49+AW49 -> 0 | AW49: =BO49+AX49 -> 0 | AX49: =(SUM(AY49:BN49))-AZ49 -> 0 | BQ49: =IFERROR(M49/Q49," ") -> 25 | BR49: =IF(OR(BQ49>30,BQ49<25),"1 ECTS powinien mieścić się przedziale 25-30h","Wartość prawidłowa") -> Wartość prawidłowa | BS49: =SUM(AB49,AD49:AP49,AY49,BA49:BM49)-AC49-AZ49-AO49-BL49 -> 25 | BT49: =AC49+AZ49 -> 0 | BU49: =AO49+BL49 -> 0 | BV49: =AR49+BO49 -> 0 | BW49: =N49 -> 100 | BX49: =AQ49+BN49 -> 0 | BY49: =SUM(BS49:BX49) -> 125 | BZ49: =IFERROR((BS49*Q49)/BY49," ") -> 1 | CA49: =IFERROR((BT49*Q49)/BY49," ") -> 0 | CB49: =IFERROR((BU49*Q49)/BY49," ") -> 0 | CC49: =IFERROR((BV49*Q49)/BY49," ") -> 0 | CD49: =IFERROR((BW49*Q49)/BY49," ") -> 4 | CE49: =IFERROR((BX49*Q49)/BY49," ") -> 0 | CF49: =IFERROR((SUM(BZ49:CE49))," ") -> 5 | CG49: =SUM(BS49:BT49,CE49) -> 25 | CH49: =SUM(BT49:BU49) -> 0 | CI49: =SUM(BZ49:CA49,CE49) -> 1 | CJ49: =SUM(CA49:CB49) -> 0 | CK49: =Matryca!Q49 -> 1 | CL49: =Matryca!R49 -> 4 | CM49: =Matryca!S49 -> 1
A50: 30 | C50: 2026/2027 | E50: 2 | F50: 2027/2028 | G50: RPS | I50: praktyka zawodowa 2 | L50: nie | M50: =Y50+AV50 -> 50 | N50: =AS50+BP50 -> 0 | O50: =Z50+AW50 -> 50 | P50: =AA50+AX50 -> 50 | Q50: =X50+AU50 -> 2 | R50: =IFERROR((AL50+BI50)*Q50/O50," ") -> 0 | S50: =IFERROR((SUM(AE50:AL50,AQ50,BB50:BI50,BN50))*Q50/O50," ") -> 2 | T50: =IFERROR((AC50+AO50+AZ50+BL50)*Q50/O50," ") -> 0 | U50: =IFERROR((SUM(AB50,AD50:AN50,AP50:AQ50,AY50,BA50:BK50,BM50:BN50)*Q50/M50)," ") -> 2 | V50: zal/o | W50: zal/o | X50: 2 | Y50: =AS50+Z50 -> 50 | Z50: =AR50+AA50 -> 50 | AA50: =(SUM(AB50:AQ50))-AC50 -> 50 | AQ50: 50 | AV50: =BP50+AW50 -> 0 | AW50: =BO50+AX50 -> 0 | AX50: =(SUM(AY50:BN50))-AZ50 -> 0 | BQ50: =IFERROR(M50/Q50," ") -> 25 | BR50: =IF(OR(BQ50>30,BQ50<25),"1 ECTS powinien mieścić się przedziale 25-30h","Wartość prawidłowa") -> Wartość prawidłowa | BS50: =SUM(AB50,AD50:AP50,AY50,BA50:BM50)-AC50-AZ50-AO50-BL50 -> 0 | BT50: =AC50+AZ50 -> 0 | BU50: =AO50+BL50 -> 0 | BV50: =AR50+BO50 -> 0 | BW50: =N50 -> 0 | BX50: =AQ50+BN50 -> 50 | BY50: =SUM(BS50:BX50) -> 50 | BZ50: =IFERROR((BS50*Q50)/BY50," ") -> 0 | CA50: =IFERROR((BT50*Q50)/BY50," ") -> 0 | CB50: =IFERROR((BU50*Q50)/BY50," ") -> 0 | CC50: =IFERROR((BV50*Q50)/BY50," ") -> 0 | CD50: =IFERROR((BW50*Q50)/BY50," ") -> 0 | CE50: =IFERROR((BX50*Q50)/BY50," ") -> 2 | CF50: =IFERROR((SUM(BZ50:CE50))," ") -> 2 | CG50: =SUM(BS50:BT50,CE50) -> 2 | CH50: =SUM(BT50:BU50) -> 0 | CI50: =SUM(BZ50:CA50,CE50) -> 2 | CJ50: =SUM(CA50:CB50) -> 0 | CK50: =Matryca!Q50 -> 2 | CL50: =Matryca!R50 -> 8 | CM50: =Matryca!S50 -> 1
A51: 31 | C51: 2026/2027 | E51: 2 | F51: 2027/2028 | G51: POW | I51: bezpieczeństwo pacjenta i personelu medycznego / zarządzanie ryzykiem klinicznym | L51: tak | M51: =Y51+AV51 -> 50 | N51: =AS51+BP51 -> 25 | O51: =Z51+AW51 -> 25 | P51: =AA51+AX51 -> 25 | Q51: =X51+AU51 -> 2 | R51: =IFERROR((AL51+BI51)*Q51/O51," ") -> 0 | S51: =IFERROR((SUM(AE51:AL51,AQ51,BB51:BI51,BN51))*Q51/O51," ") -> 0 | T51: =IFERROR((AC51+AO51+AZ51+BL51)*Q51/O51," ") -> 0.8 | U51: =IFERROR((SUM(AB51,AD51:AN51,AP51:AQ51,AY51,BA51:BK51,BM51:BN51)*Q51/M51)," ") -> 1 | V51: zal/o | W51: zal/o | X51: 2 | Y51: =AS51+Z51 -> 50 | Z51: =AR51+AA51 -> 25 | AA51: =(SUM(AB51:AQ51))-AC51 -> 25 | AB51: 10 | AC51: 10 | AD51: 15 | AS51: 25 | AV51: =BP51+AW51 -> 0 | AW51: =BO51+AX51 -> 0 | AX51: =(SUM(AY51:BN51))-AZ51 -> 0 | BQ51: =IFERROR(M51/Q51," ") -> 25 | BR51: =IF(OR(BQ51>30,BQ51<25),"1 ECTS powinien mieścić się przedziale 25-30h","Wartość prawidłowa") -> Wartość prawidłowa | BS51: =SUM(AB51,AD51:AP51,AY51,BA51:BM51)-AC51-AZ51-AO51-BL51 -> 15 | BT51: =AC51+AZ51 -> 10 | BU51: =AO51+BL51 -> 0 | BV51: =AR51+BO51 -> 0 | BW51: =N51 -> 25 | BX51: =AQ51+BN51 -> 0 | BY51: =SUM(BS51:BX51) -> 50 | BZ51: =IFERROR((BS51*Q51)/BY51," ") -> 0.6 | CA51: =IFERROR((BT51*Q51)/BY51," ") -> 0.4 | CB51: =IFERROR((BU51*Q51)/BY51," ") -> 0 | CC51: =IFERROR((BV51*Q51)/BY51," ") -> 0 | CD51: =IFERROR((BW51*Q51)/BY51," ") -> 1 | CE51: =IFERROR((BX51*Q51)/BY51," ") -> 0 | CF51: =IFERROR((SUM(BZ51:CE51))," ") -> 2 | CG51: =SUM(BS51:BT51,CE51) -> 25 | CH51: =SUM(BT51:BU51) -> 10 | CI51: =SUM(BZ51:CA51,CE51) -> 1 | CJ51: =SUM(CA51:CB51) -> 0.4 | CK51: =Matryca!Q51 -> 3 | CL51: =Matryca!R51 -> 2 | CM51: =Matryca!S51 -> 2
A52: 32 | C52: 2026/2027 | E52: 2 | F52: 2027/2028 | G52: POW | I52: fizjoprofilaktyka narządu wzroku / profilaktyka zaburzeń wzroku | L52: tak | M52: =Y52+AV52 -> 50 | N52: =AS52+BP52 -> 25 | O52: =Z52+AW52 -> 25 | P52: =AA52+AX52 -> 25 | Q52: =X52+AU52 -> 2 | R52: =IFERROR((AL52+BI52)*Q52/O52," ") -> 0 | S52: =IFERROR((SUM(AE52:AL52,AQ52,BB52:BI52,BN52))*Q52/O52," ") -> 1.2 | T52: =IFERROR((AC52+AO52+AZ52+BL52)*Q52/O52," ") -> 0.8 | U52: =IFERROR((SUM(AB52,AD52:AN52,AP52:AQ52,AY52,BA52:BK52,BM52:BN52)*Q52/M52)," ") -> 1 | V52: zal/o | W52: zal/o | X52: 2 | Y52: =AS52+Z52 -> 50 | Z52: =AR52+AA52 -> 25 | AA52: =(SUM(AB52:AQ52))-AC52 -> 25 | AB52: 10 | AC52: 10 | AF52: 15 | AS52: 25 | AV52: =BP52+AW52 -> 0 | AW52: =BO52+AX52 -> 0 | AX52: =(SUM(AY52:BN52))-AZ52 -> 0 | BQ52: =IFERROR(M52/Q52," ") -> 25 | BR52: =IF(OR(BQ52>30,BQ52<25),"1 ECTS powinien mieścić się przedziale 25-30h","Wartość prawidłowa") -> Wartość prawidłowa | BS52: =SUM(AB52,AD52:AP52,AY52,BA52:BM52)-AC52-AZ52-AO52-BL52 -> 15 | BT52: =AC52+AZ52 -> 10 | BU52: =AO52+BL52 -> 0 | BV52: =AR52+BO52 -> 0 | BW52: =N52 -> 25 | BX52: =AQ52+BN52 -> 0 | BY52: =SUM(BS52:BX52) -> 50 | BZ52: =IFERROR((BS52*Q52)/BY52," ") -> 0.6 | CA52: =IFERROR((BT52*Q52)/BY52," ") -> 0.4 | CB52: =IFERROR((BU52*Q52)/BY52," ") -> 0 | CC52: =IFERROR((BV52*Q52)/BY52," ") -> 0 | CD52: =IFERROR((BW52*Q52)/BY52," ") -> 1 | CE52: =IFERROR((BX52*Q52)/BY52," ") -> 0 | CF52: =IFERROR((SUM(BZ52:CE52))," ") -> 2 | CG52: =SUM(BS52:BT52,CE52) -> 25 | CH52: =SUM(BT52:BU52) -> 10 | CI52: =SUM(BZ52:CA52,CE52) -> 1 | CJ52: =SUM(CA52:CB52) -> 0.4 | CK52: =Matryca!Q52 -> 3 | CL52: =Matryca!R52 -> 3 | CM52: =Matryca!S52 -> 1
A53: 33 | C53: 2026/2027 | E53: 2 | F53: 2027/2028 | G53: POW | I53: pomoce wzrokowe dla osób słabowidzących / wspomaganie funkcjonowania osób słabowidzących | L53: tak | M53: =Y53+AV53 -> 50 | N53: =AS53+BP53 -> 20 | O53: =Z53+AW53 -> 30 | P53: =AA53+AX53 -> 30 | Q53: =X53+AU53 -> 2 | R53: =IFERROR((AL53+BI53)*Q53/O53," ") -> 0 | S53: =IFERROR((SUM(AE53:AL53,AQ53,BB53:BI53,BN53))*Q53/O53," ") -> 1.3333333 | T53: =IFERROR((AC53+AO53+AZ53+BL53)*Q53/O53," ") -> 0.66666667 | U53: =IFERROR((SUM(AB53,AD53:AN53,AP53:AQ53,AY53,BA53:BK53,BM53:BN53)*Q53/M53)," ") -> 1.2 | V53: zal/o | W53: zal/o | X53: 2 | Y53: =AS53+Z53 -> 50 | Z53: =AR53+AA53 -> 30 | AA53: =(SUM(AB53:AQ53))-AC53 -> 30 | AB53: 10 | AC53: 10 | AF53: 15 | AH53: 5 | AS53: 20 | AV53: =BP53+AW53 -> 0 | AW53: =BO53+AX53 -> 0 | AX53: =(SUM(AY53:BN53))-AZ53 -> 0 | BQ53: =IFERROR(M53/Q53," ") -> 25 | BR53: =IF(OR(BQ53>30,BQ53<25),"1 ECTS powinien mieścić się przedziale 25-30h","Wartość prawidłowa") -> Wartość prawidłowa | BS53: =SUM(AB53,AD53:AP53,AY53,BA53:BM53)-AC53-AZ53-AO53-BL53 -> 20 | BT53: =AC53+AZ53 -> 10 | BU53: =AO53+BL53 -> 0 | BV53: =AR53+BO53 -> 0 | BW53: =N53 -> 20 | BX53: =AQ53+BN53 -> 0 | BY53: =SUM(BS53:BX53) -> 50 | BZ53: =IFERROR((BS53*Q53)/BY53," ") -> 0.8 | CA53: =IFERROR((BT53*Q53)/BY53," ") -> 0.4 | CB53: =IFERROR((BU53*Q53)/BY53," ") -> 0 | CC53: =IFERROR((BV53*Q53)/BY53," ") -> 0 | CD53: =IFERROR((BW53*Q53)/BY53," ") -> 0.8 | CE53: =IFERROR((BX53*Q53)/BY53," ") -> 0 | CF53: =IFERROR((SUM(BZ53:CE53))," ") -> 2 | CG53: =SUM(BS53:BT53,CE53) -> 30 | CH53: =SUM(BT53:BU53) -> 10 | CI53: =SUM(BZ53:CA53,CE53) -> 1.2 | CJ53: =SUM(CA53:CB53) -> 0.4 | CK53: =Matryca!Q53 -> 2 | CL53: =Matryca!R53 -> 2 | CM53: =Matryca!S53 -> 2
A54: 34 | C54: 2026/2027 | E54: 2 | F54: 2027/2028 | G54: RPS | I54: psychologia poznawcza | K54: tak | L54: nie | M54: =Y54+AV54 -> 50 | N54: =AS54+BP54 -> 20 | O54: =Z54+AW54 -> 30 | P54: =AA54+AX54 -> 30 | Q54: =X54+AU54 -> 2 | R54: =IFERROR((AL54+BI54)*Q54/O54," ") -> 0 | S54: =IFERROR((SUM(AE54:AL54,AQ54,BB54:BI54,BN54))*Q54/O54," ") -> 0 | T54: =IFERROR((AC54+AO54+AZ54+BL54)*Q54/O54," ") -> 0.66666667 | U54: =IFERROR((SUM(AB54,AD54:AN54,AP54:AQ54,AY54,BA54:BK54,BM54:BN54)*Q54/M54)," ") -> 1.2 | V54: zal/o | W54: zal/o | X54: 2 | Y54: =AS54+Z54 -> 50 | Z54: =AR54+AA54 -> 30 | AA54: =(SUM(AB54:AQ54))-AC54 -> 30 | AB54: 10 | AC54: 10 | AD54: 20 | AS54: 20 | AV54: =BP54+AW54 -> 0 | AW54: =BO54+AX54 -> 0 | AX54: =(SUM(AY54:BN54))-AZ54 -> 0 | BQ54: =IFERROR(M54/Q54," ") -> 25 | BR54: =IF(OR(BQ54>30,BQ54<25),"1 ECTS powinien mieścić się przedziale 25-30h","Wartość prawidłowa") -> Wartość prawidłowa | BS54: =SUM(AB54,AD54:AP54,AY54,BA54:BM54)-AC54-AZ54-AO54-BL54 -> 20 | BT54: =AC54+AZ54 -> 10 | BU54: =AO54+BL54 -> 0 | BV54: =AR54+BO54 -> 0 | BW54: =N54 -> 20 | BX54: =AQ54+BN54 -> 0 | BY54: =SUM(BS54:BX54) -> 50 | BZ54: =IFERROR((BS54*Q54)/BY54," ") -> 0.8 | CA54: =IFERROR((BT54*Q54)/BY54," ") -> 0.4 | CB54: =IFERROR((BU54*Q54)/BY54," ") -> 0 | CC54: =IFERROR((BV54*Q54)/BY54," ") -> 0 | CD54: =IFERROR((BW54*Q54)/BY54," ") -> 0.8 | CE54: =IFERROR((BX54*Q54)/BY54," ") -> 0 | CF54: =IFERROR((SUM(BZ54:CE54))," ") -> 2 | CG54: =SUM(BS54:BT54,CE54) -> 30 | CH54: =SUM(BT54:BU54) -> 10 | CI54: =SUM(BZ54:CA54,CE54) -> 1.2 | CJ54: =SUM(CA54:CB54) -> 0.4 | CK54: =Matryca!Q54 -> 1 | CL54: =Matryca!R54 -> 2 | CM54: =Matryca!S54 -> 2
A55: 35 | C55: 2026/2027 | E55: 2 | F55: 2027/2028 | G55: RPS | I55: badanie okulistyczne | L55: tak | M55: =Y55+AV55 -> 75 | N55: =AS55+BP55 -> 30 | O55: =Z55+AW55 -> 45 | P55: =AA55+AX55 -> 45 | Q55: =X55+AU55 -> 3 | R55: =IFERROR((AL55+BI55)*Q55/O55," ") -> 0 | S55: =IFERROR((SUM(AE55:AL55,AQ55,BB55:BI55,BN55))*Q55/O55," ") -> 2 | T55: =IFERROR((AC55+AO55+AZ55+BL55)*Q55/O55," ") -> 1 | U55: =IFERROR((SUM(AB55,AD55:AN55,AP55:AQ55,AY55,BA55:BK55,BM55:BN55)*Q55/M55)," ") -> 1.8 | V55: zal/o | Y55: =AS55+Z55 -> 0 | Z55: =AR55+AA55 -> 0 | AA55: =(SUM(AB55:AQ55))-AC55 -> 0 | AT55: zal/o | AU55: 3 | AV55: =BP55+AW55 -> 75 | AW55: =BO55+AX55 -> 45 | AX55: =(SUM(AY55:BN55))-AZ55 -> 45 | AY55: 15 | AZ55: 15 | BH55: 30 | BP55: 30 | BQ55: =IFERROR(M55/Q55," ") -> 25 | BR55: =IF(OR(BQ55>30,BQ55<25),"1 ECTS powinien mieścić się przedziale 25-30h","Wartość prawidłowa") -> Wartość prawidłowa | BS55: =SUM(AB55,AD55:AP55,AY55,BA55:BM55)-AC55-AZ55-AO55-BL55 -> 30 | BT55: =AC55+AZ55 -> 15 | BU55: =AO55+BL55 -> 0 | BV55: =AR55+BO55 -> 0 | BW55: =N55 -> 30 | BX55: =AQ55+BN55 -> 0 | BY55: =SUM(BS55:BX55) -> 75 | BZ55: =IFERROR((BS55*Q55)/BY55," ") -> 1.2 | CA55: =IFERROR((BT55*Q55)/BY55," ") -> 0.6 | CB55: =IFERROR((BU55*Q55)/BY55," ") -> 0 | CC55: =IFERROR((BV55*Q55)/BY55," ") -> 0 | CD55: =IFERROR((BW55*Q55)/BY55," ") -> 1.2 | CE55: =IFERROR((BX55*Q55)/BY55," ") -> 0 | CF55: =IFERROR((SUM(BZ55:CE55))," ") -> 3 | CG55: =SUM(BS55:BT55,CE55) -> 45 | CH55: =SUM(BT55:BU55) -> 15 | CI55: =SUM(BZ55:CA55,CE55) -> 1.8 | CJ55: =SUM(CA55:CB55) -> 0.6 | CK55: =Matryca!Q55 -> 5 | CL55: =Matryca!R55 -> 5 | CM55: =Matryca!S55 -> 2
A56: 36 | C56: 2026/2027 | E56: 2 | F56: 2027/2028 | G56: RPS | I56: zaćma - diagnostyka i leczenie | L56: tak | M56: =Y56+AV56 -> 75 | N56: =AS56+BP56 -> 35 | O56: =Z56+AW56 -> 40 | P56: =AA56+AX56 -> 40 | Q56: =X56+AU56 -> 3 | R56: =IFERROR((AL56+BI56)*Q56/O56," ") -> 0 | S56: =IFERROR((SUM(AE56:AL56,AQ56,BB56:BI56,BN56))*Q56/O56," ") -> 2.25 | T56: =IFERROR((AC56+AO56+AZ56+BL56)*Q56/O56," ") -> 0.75 | U56: =IFERROR((SUM(AB56,AD56:AN56,AP56:AQ56,AY56,BA56:BK56,BM56:BN56)*Q56/M56)," ") -> 1.6 | V56: zal/o | Y56: =AS56+Z56 -> 0 | Z56: =AR56+AA56 -> 0 | AA56: =(SUM(AB56:AQ56))-AC56 -> 0 | AT56: zal/o | AU56: 3 | AV56: =BP56+AW56 -> 75 | AW56: =BO56+AX56 -> 40 | AX56: =(SUM(AY56:BN56))-AZ56 -> 40 | AY56: 10 | AZ56: 10 | BH56: 30 | BP56: 35 | BQ56: =IFERROR(M56/Q56," ") -> 25 | BR56: =IF(OR(BQ56>30,BQ56<25),"1 ECTS powinien mieścić się przedziale 25-30h","Wartość prawidłowa") -> Wartość prawidłowa | BS56: =SUM(AB56,AD56:AP56,AY56,BA56:BM56)-AC56-AZ56-AO56-BL56 -> 30 | BT56: =AC56+AZ56 -> 10 | BU56: =AO56+BL56 -> 0 | BV56: =AR56+BO56 -> 0 | BW56: =N56 -> 35 | BX56: =AQ56+BN56 -> 0 | BY56: =SUM(BS56:BX56) -> 75 | BZ56: =IFERROR((BS56*Q56)/BY56," ") -> 1.2 | CA56: =IFERROR((BT56*Q56)/BY56," ") -> 0.4 | CB56: =IFERROR((BU56*Q56)/BY56," ") -> 0 | CC56: =IFERROR((BV56*Q56)/BY56," ") -> 0 | CD56: =IFERROR((BW56*Q56)/BY56," ") -> 1.4 | CE56: =IFERROR((BX56*Q56)/BY56," ") -> 0 | CF56: =IFERROR((SUM(BZ56:CE56))," ") -> 3 | CG56: =SUM(BS56:BT56,CE56) -> 40 | CH56: =SUM(BT56:BU56) -> 10 | CI56: =SUM(BZ56:CA56,CE56) -> 1.6 | CJ56: =SUM(CA56:CB56) -> 0.4 | CK56: =Matryca!Q56 -> 4 | CL56: =Matryca!R56 -> 1 | CM56: =Matryca!S56 -> 1
A57: 37 | C57: 2026/2027 | E57: 2 | F57: 2027/2028 | G57: RPS | I57: farmakologia okulistyczna | L57: tak | M57: =Y57+AV57 -> 75 | N57: =AS57+BP57 -> 35 | O57: =Z57+AW57 -> 40 | P57: =AA57+AX57 -> 40 | Q57: =X57+AU57 -> 3 | R57: =IFERROR((AL57+BI57)*Q57/O57," ") -> 0 | S57: =IFERROR((SUM(AE57:AL57,AQ57,BB57:BI57,BN57))*Q57/O57," ") -> 1.875 | T57: =IFERROR((AC57+AO57+AZ57+BL57)*Q57/O57," ") -> 1.125 | U57: =IFERROR((SUM(AB57,AD57:AN57,AP57:AQ57,AY57,BA57:BK57,BM57:BN57)*Q57/M57)," ") -> 1.6 | V57: zal/o | Y57: =AS57+Z57 -> 0 | Z57: =AR57+AA57 -> 0 | AA57: =(SUM(AB57:AQ57))-AC57 -> 0 | AT57: zal/o | AU57: 3 | AV57: =BP57+AW57 -> 75 | AW57: =BO57+AX57 -> 40 | AX57: =(SUM(AY57:BN57))-AZ57 -> 40 | AY57: 15 | AZ57: 15 | BB57: 15 | BH57: 10 | BP57: 35 | BQ57: =IFERROR(M57/Q57," ") -> 25 | BR57: =IF(OR(BQ57>30,BQ57<25),"1 ECTS powinien mieścić się przedziale 25-30h","Wartość prawidłowa") -> Wartość prawidłowa | BS57: =SUM(AB57,AD57:AP57,AY57,BA57:BM57)-AC57-AZ57-AO57-BL57 -> 25 | BT57: =AC57+AZ57 -> 15 | BU57: =AO57+BL57 -> 0 | BV57: =AR57+BO57 -> 0 | BW57: =N57 -> 35 | BX57: =AQ57+BN57 -> 0 | BY57: =SUM(BS57:BX57) -> 75 | BZ57: =IFERROR((BS57*Q57)/BY57," ") -> 1 | CA57: =IFERROR((BT57*Q57)/BY57," ") -> 0.6 | CB57: =IFERROR((BU57*Q57)/BY57," ") -> 0 | CC57: =IFERROR((BV57*Q57)/BY57," ") -> 0 | CD57: =IFERROR((BW57*Q57)/BY57," ") -> 1.4 | CE57: =IFERROR((BX57*Q57)/BY57," ") -> 0 | CF57: =IFERROR((SUM(BZ57:CE57))," ") -> 3 | CG57: =SUM(BS57:BT57,CE57) -> 40 | CH57: =SUM(BT57:BU57) -> 15 | CI57: =SUM(BZ57:CA57,CE57) -> 1.6 | CJ57: =SUM(CA57:CB57) -> 0.6 | CK57: =Matryca!Q57 -> 3 | CL57: =Matryca!R57 -> 1 | CM57: =Matryca!S57 -> 1
A58: 38 | C58: 2026/2027 | E58: 2 | F58: 2027/2028 | G58: RPS | I58: zaburzenia widzenia obuocznego | L58: tak | M58: =Y58+AV58 -> 75 | N58: =AS58+BP58 -> 45 | O58: =Z58+AW58 -> 30 | P58: =AA58+AX58 -> 30 | Q58: =X58+AU58 -> 3 | R58: =IFERROR((AL58+BI58)*Q58/O58," ") -> 0 | S58: =IFERROR((SUM(AE58:AL58,AQ58,BB58:BI58,BN58))*Q58/O58," ") -> 1.5 | T58: =IFERROR((AC58+AO58+AZ58+BL58)*Q58/O58," ") -> 1.5 | U58: =IFERROR((SUM(AB58,AD58:AN58,AP58:AQ58,AY58,BA58:BK58,BM58:BN58)*Q58/M58)," ") -> 1.2 | V58: zal/o | Y58: =AS58+Z58 -> 0 | Z58: =AR58+AA58 -> 0 | AA58: =(SUM(AB58:AQ58))-AC58 -> 0 | AT58: zal/o | AU58: 3 | AV58: =BP58+AW58 -> 75 | AW58: =BO58+AX58 -> 30 | AX58: =(SUM(AY58:BN58))-AZ58 -> 30 | AY58: 15 | AZ58: 15 | BH58: 15 | BP58: 45 | BQ58: =IFERROR(M58/Q58," ") -> 25 | BR58: =IF(OR(BQ58>30,BQ58<25),"1 ECTS powinien mieścić się przedziale 25-30h","Wartość prawidłowa") -> Wartość prawidłowa | BS58: =SUM(AB58,AD58:AP58,AY58,BA58:BM58)-AC58-AZ58-AO58-BL58 -> 15 | BT58: =AC58+AZ58 -> 15 | BU58: =AO58+BL58 -> 0 | BV58: =AR58+BO58 -> 0 | BW58: =N58 -> 45 | BX58: =AQ58+BN58 -> 0 | BY58: =SUM(BS58:BX58) -> 75 | BZ58: =IFERROR((BS58*Q58)/BY58," ") -> 0.6 | CA58: =IFERROR((BT58*Q58)/BY58," ") -> 0.6 | CB58: =IFERROR((BU58*Q58)/BY58," ") -> 0 | CC58: =IFERROR((BV58*Q58)/BY58," ") -> 0 | CD58: =IFERROR((BW58*Q58)/BY58," ") -> 1.8 | CE58: =IFERROR((BX58*Q58)/BY58," ") -> 0 | CF58: =IFERROR((SUM(BZ58:CE58))," ") -> 3 | CG58: =SUM(BS58:BT58,CE58) -> 30 | CH58: =SUM(BT58:BU58) -> 15 | CI58: =SUM(BZ58:CA58,CE58) -> 1.2 | CJ58: =SUM(CA58:CB58) -> 0.6 | CK58: =Matryca!Q58 -> 1 | CL58: =Matryca!R58 -> 2 | CM58: =Matryca!S58 -> 1
A59: 39 | C59: 2026/2027 | E59: 2 | F59: 2027/2028 | G59: RPS | I59: podstawy chirurgii refrakcyjnej | L59: tak | M59: =Y59+AV59 -> 50 | N59: =AS59+BP59 -> 20 | O59: =Z59+AW59 -> 30 | P59: =AA59+AX59 -> 30 | Q59: =X59+AU59 -> 2 | R59: =IFERROR((AL59+BI59)*Q59/O59," ") -> 0 | S59: =IFERROR((SUM(AE59:AL59,AQ59,BB59:BI59,BN59))*Q59/O59," ") -> 1.3333333 | T59: =IFERROR((AC59+AO59+AZ59+BL59)*Q59/O59," ") -> 0.66666667 | U59: =IFERROR((SUM(AB59,AD59:AN59,AP59:AQ59,AY59,BA59:BK59,BM59:BN59)*Q59/M59)," ") -> 1.2 | V59: zal/o | Y59: =AS59+Z59 -> 0 | Z59: =AR59+AA59 -> 0 | AA59: =(SUM(AB59:AQ59))-AC59 -> 0 | AT59: zal/o | AU59: 2 | AV59: =BP59+AW59 -> 50 | AW59: =BO59+AX59 -> 30 | AX59: =(SUM(AY59:BN59))-AZ59 -> 30 | AY59: 10 | AZ59: 10 | BB59: 20 | BP59: 20 | BQ59: =IFERROR(M59/Q59," ") -> 25 | BR59: =IF(OR(BQ59>30,BQ59<25),"1 ECTS powinien mieścić się przedziale 25-30h","Wartość prawidłowa") -> Wartość prawidłowa | BS59: =SUM(AB59,AD59:AP59,AY59,BA59:BM59)-AC59-AZ59-AO59-BL59 -> 20 | BT59: =AC59+AZ59 -> 10 | BU59: =AO59+BL59 -> 0 | BV59: =AR59+BO59 -> 0 | BW59: =N59 -> 20 | BX59: =AQ59+BN59 -> 0 | BY59: =SUM(BS59:BX59) -> 50 | BZ59: =IFERROR((BS59*Q59)/BY59," ") -> 0.8 | CA59: =IFERROR((BT59*Q59)/BY59," ") -> 0.4 | CB59: =IFERROR((BU59*Q59)/BY59," ") -> 0 | CC59: =IFERROR((BV59*Q59)/BY59," ") -> 0 | CD59: =IFERROR((BW59*Q59)/BY59," ") -> 0.8 | CE59: =IFERROR((BX59*Q59)/BY59," ") -> 0 | CF59: =IFERROR((SUM(BZ59:CE59))," ") -> 2 | CG59: =SUM(BS59:BT59,CE59) -> 30 | CH59: =SUM(BT59:BU59) -> 10 | CI59: =SUM(BZ59:CA59,CE59) -> 1.2 | CJ59: =SUM(CA59:CB59) -> 0.4 | CK59: =Matryca!Q59 -> 2 | CL59: =Matryca!R59 -> 1 | CM59: =Matryca!S59 -> 1
A60: 40 | C60: 2026/2027 | E60: 2 | F60: 2027/2028 | G60: RPS | I60: pomiary refrakcji 4 | L60: tak | M60: =Y60+AV60 -> 100 | N60: =AS60+BP60 -> 70 | O60: =Z60+AW60 -> 30 | P60: =AA60+AX60 -> 30 | Q60: =X60+AU60 -> 4 | R60: =IFERROR((AL60+BI60)*Q60/O60," ") -> 0 | S60: =IFERROR((SUM(AE60:AL60,AQ60,BB60:BI60,BN60))*Q60/O60," ") -> 4 | T60: =IFERROR((AC60+AO60+AZ60+BL60)*Q60/O60," ") -> 0 | U60: =IFERROR((SUM(AB60,AD60:AN60,AP60:AQ60,AY60,BA60:BK60,BM60:BN60)*Q60/M60)," ") -> 1.2 | V60: egz | Y60: =AS60+Z60 -> 0 | Z60: =AR60+AA60 -> 0 | AA60: =(SUM(AB60:AQ60))-AC60 -> 0 | AT60: zal/o | AU60: 4 | AV60: =BP60+AW60 -> 100 | AW60: =BO60+AX60 -> 30 | AX60: =(SUM(AY60:BN60))-AZ60 -> 30 | BH60: 30 | BP60: 70 | BQ60: =IFERROR(M60/Q60," ") -> 25 | BR60: =IF(OR(BQ60>30,BQ60<25),"1 ECTS powinien mieścić się przedziale 25-30h","Wartość prawidłowa") -> Wartość prawidłowa | BS60: =SUM(AB60,AD60:AP60,AY60,BA60:BM60)-AC60-AZ60-AO60-BL60 -> 30 | BT60: =AC60+AZ60 -> 0 | BU60: =AO60+BL60 -> 0 | BV60: =AR60+BO60 -> 0 | BW60: =N60 -> 70 | BX60: =AQ60+BN60 -> 0 | BY60: =SUM(BS60:BX60) -> 100 | BZ60: =IFERROR((BS60*Q60)/BY60," ") -> 1.2 | CA60: =IFERROR((BT60*Q60)/BY60," ") -> 0 | CB60: =IFERROR((BU60*Q60)/BY60," ") -> 0 | CC60: =IFERROR((BV60*Q60)/BY60," ") -> 0 | CD60: =IFERROR((BW60*Q60)/BY60," ") -> 2.8 | CE60: =IFERROR((BX60*Q60)/BY60," ") -> 0 | CF60: =IFERROR((SUM(BZ60:CE60))," ") -> 4 | CG60: =SUM(BS60:BT60,CE60) -> 30 | CH60: =SUM(BT60:BU60) -> 0 | CI60: =SUM(BZ60:CA60,CE60) -> 1.2 | CJ60: =SUM(CA60:CB60) -> 0 | CK60: =Matryca!Q60 -> 2 | CL60: =Matryca!R60 -> 3 | CM60: =Matryca!S60 -> 1
A61: 41 | C61: 2026/2027 | E61: 2 | F61: 2027/2028 | G61: RPS | I61: neurobiologia procesów widzenia | L61: tak | M61: =Y61+AV61 -> 50 | N61: =AS61+BP61 -> 25 | O61: =Z61+AW61 -> 25 | P61: =AA61+AX61 -> 25 | Q61: =X61+AU61 -> 2 | R61: =IFERROR((AL61+BI61)*Q61/O61," ") -> 0 | S61: =IFERROR((SUM(AE61:AL61,AQ61,BB61:BI61,BN61))*Q61/O61," ") -> 1.2 | T61: =IFERROR((AC61+AO61+AZ61+BL61)*Q61/O61," ") -> 0.8 | U61: =IFERROR((SUM(AB61,AD61:AN61,AP61:AQ61,AY61,BA61:BK61,BM61:BN61)*Q61/M61)," ") -> 1 | V61: zal/o | Y61: =AS61+Z61 -> 0 | Z61: =AR61+AA61 -> 0 | AA61: =(SUM(AB61:AQ61))-AC61 -> 0 | AT61: zal/o | AU61: 2 | AV61: =BP61+AW61 -> 50 | AW61: =BO61+AX61 -> 25 | AX61: =(SUM(AY61:BN61))-AZ61 -> 25 | AY61: 10 | AZ61: 10 | BB61: 15 | BP61: 25 | BQ61: =IFERROR(M61/Q61," ") -> 25 | BR61: =IF(OR(BQ61>30,BQ61<25),"1 ECTS powinien mieścić się przedziale 25-30h","Wartość prawidłowa") -> Wartość prawidłowa | BS61: =SUM(AB61,AD61:AP61,AY61,BA61:BM61)-AC61-AZ61-AO61-BL61 -> 15 | BT61: =AC61+AZ61 -> 10 | BU61: =AO61+BL61 -> 0 | BV61: =AR61+BO61 -> 0 | BW61: =N61 -> 25 | BX61: =AQ61+BN61 -> 0 | BY61: =SUM(BS61:BX61) -> 50 | BZ61: =IFERROR((BS61*Q61)/BY61," ") -> 0.6 | CA61: =IFERROR((BT61*Q61)/BY61," ") -> 0.4 | CB61: =IFERROR((BU61*Q61)/BY61," ") -> 0 | CC61: =IFERROR((BV61*Q61)/BY61," ") -> 0 | CD61: =IFERROR((BW61*Q61)/BY61," ") -> 1 | CE61: =IFERROR((BX61*Q61)/BY61," ") -> 0 | CF61: =IFERROR((SUM(BZ61:CE61))," ") -> 2 | CG61: =SUM(BS61:BT61,CE61) -> 25 | CH61: =SUM(BT61:BU61) -> 10 | CI61: =SUM(BZ61:CA61,CE61) -> 1 | CJ61: =SUM(CA61:CB61) -> 0.4 | CK61: =Matryca!Q61 -> 2 | CL61: =Matryca!R61 -> 1 | CM61: =Matryca!S61 -> 1
A62: 42 | C62: 2026/2027 | E62: 2 | F62: 2027/2028 | G62: RPS | I62: diagnostyka okulistyczna – techniki soczewkowe | L62: tak | M62: =Y62+AV62 -> 75 | N62: =AS62+BP62 -> 40 | O62: =Z62+AW62 -> 35 | P62: =AA62+AX62 -> 35 | Q62: =X62+AU62 -> 3 | R62: =IFERROR((AL62+BI62)*Q62/O62," ") -> 0 | S62: =IFERROR((SUM(AE62:AL62,AQ62,BB62:BI62,BN62))*Q62/O62," ") -> 2.1428571 | T62: =IFERROR((AC62+AO62+AZ62+BL62)*Q62/O62," ") -> 0.85714286 | U62: =IFERROR((SUM(AB62,AD62:AN62,AP62:AQ62,AY62,BA62:BK62,BM62:BN62)*Q62/M62)," ") -> 1.4 | V62: zal/o | Y62: =AS62+Z62 -> 0 | Z62: =AR62+AA62 -> 0 | AA62: =(SUM(AB62:AQ62))-AC62 -> 0 | AT62: zal/o | AU62: 3 | AV62: =BP62+AW62 -> 75 | AW62: =BO62+AX62 -> 35 | AX62: =(SUM(AY62:BN62))-AZ62 -> 35 | AY62: 10 | AZ62: 10 | BE62: 5 | BH62: 20 | BP62: 40 | BQ62: =IFERROR(M62/Q62," ") -> 25 | BR62: =IF(OR(BQ62>30,BQ62<25),"1 ECTS powinien mieścić się przedziale 25-30h","Wartość prawidłowa") -> Wartość prawidłowa | BS62: =SUM(AB62,AD62:AP62,AY62,BA62:BM62)-AC62-AZ62-AO62-BL62 -> 25 | BT62: =AC62+AZ62 -> 10 | BU62: =AO62+BL62 -> 0 | BV62: =AR62+BO62 -> 0 | BW62: =N62 -> 40 | BX62: =AQ62+BN62 -> 0 | BY62: =SUM(BS62:BX62) -> 75 | BZ62: =IFERROR((BS62*Q62)/BY62," ") -> 1 | CA62: =IFERROR((BT62*Q62)/BY62," ") -> 0.4 | CB62: =IFERROR((BU62*Q62)/BY62," ") -> 0 | CC62: =IFERROR((BV62*Q62)/BY62," ") -> 0 | CD62: =IFERROR((BW62*Q62)/BY62," ") -> 1.6 | CE62: =IFERROR((BX62*Q62)/BY62," ") -> 0 | CF62: =IFERROR((SUM(BZ62:CE62))," ") -> 3 | CG62: =SUM(BS62:BT62,CE62) -> 35 | CH62: =SUM(BT62:BU62) -> 10 | CI62: =SUM(BZ62:CA62,CE62) -> 1.4 | CJ62: =SUM(CA62:CB62) -> 0.4 | CK62: =Matryca!Q62 -> 2 | CL62: =Matryca!R62 -> 3 | CM62: =Matryca!S62 -> 1
A63: 43 | C63: 2026/2027 | E63: 2 | F63: 2027/2028 | G63: POW | I63: rehabilitacja wzrokowa u dzieci i doroslych / terapeutyczny dobór korekcji | L63: tak | M63: =Y63+AV63 -> 50 | N63: =AS63+BP63 -> 20 | O63: =Z63+AW63 -> 30 | P63: =AA63+AX63 -> 30 | Q63: =X63+AU63 -> 2 | R63: =IFERROR((AL63+BI63)*Q63/O63," ") -> 0 | S63: =IFERROR((SUM(AE63:AL63,AQ63,BB63:BI63,BN63))*Q63/O63," ") -> 1.3333333 | T63: =IFERROR((AC63+AO63+AZ63+BL63)*Q63/O63," ") -> 0.66666667 | U63: =IFERROR((SUM(AB63,AD63:AN63,AP63:AQ63,AY63,BA63:BK63,BM63:BN63)*Q63/M63)," ") -> 1.2 | V63: zal/o | Y63: =AS63+Z63 -> 0 | Z63: =AR63+AA63 -> 0 | AA63: =(SUM(AB63:AQ63))-AC63 -> 0 | AT63: zal/o | AU63: 2 | AV63: =BP63+AW63 -> 50 | AW63: =BO63+AX63 -> 30 | AX63: =(SUM(AY63:BN63))-AZ63 -> 30 | AY63: 10 | AZ63: 10 | BC63: 20 | BP63: 20 | BQ63: =IFERROR(M63/Q63," ") -> 25 | BR63: =IF(OR(BQ63>30,BQ63<25),"1 ECTS powinien mieścić się przedziale 25-30h","Wartość prawidłowa") -> Wartość prawidłowa | BS63: =SUM(AB63,AD63:AP63,AY63,BA63:BM63)-AC63-AZ63-AO63-BL63 -> 20 | BT63: =AC63+AZ63 -> 10 | BU63: =AO63+BL63 -> 0 | BV63: =AR63+BO63 -> 0 | BW63: =N63 -> 20 | BX63: =AQ63+BN63 -> 0 | BY63: =SUM(BS63:BX63) -> 50 | BZ63: =IFERROR((BS63*Q63)/BY63," ") -> 0.8 | CA63: =IFERROR((BT63*Q63)/BY63," ") -> 0.4 | CB63: =IFERROR((BU63*Q63)/BY63," ") -> 0 | CC63: =IFERROR((BV63*Q63)/BY63," ") -> 0 | CD63: =IFERROR((BW63*Q63)/BY63," ") -> 0.8 | CE63: =IFERROR((BX63*Q63)/BY63," ") -> 0 | CF63: =IFERROR((SUM(BZ63:CE63))," ") -> 2 | CG63: =SUM(BS63:BT63,CE63) -> 30 | CH63: =SUM(BT63:BU63) -> 10 | CI63: =SUM(BZ63:CA63,CE63) -> 1.2 | CJ63: =SUM(CA63:CB63) -> 0.4 | CK63: =Matryca!Q63 -> 2 | CL63: =Matryca!R63 -> 2 | CM63: =Matryca!S63 -> 1
A64: 44 | C64: 2026/2027 | E64: 2 | F64: 2027/2028 | G64: POW | I64: interdyscyplinarna diagnostyka okulistyczna / ogólnoustrojowe determinanty chorób oczu | L64: tak | M64: =Y64+AV64 -> 50 | N64: =AS64+BP64 -> 20 | O64: =Z64+AW64 -> 30 | P64: =AA64+AX64 -> 30 | Q64: =X64+AU64 -> 2 | R64: =IFERROR((AL64+BI64)*Q64/O64," ") -> 0 | S64: =IFERROR((SUM(AE64:AL64,AQ64,BB64:BI64,BN64))*Q64/O64," ") -> 1.3333333 | T64: =IFERROR((AC64+AO64+AZ64+BL64)*Q64/O64," ") -> 0.66666667 | U64: =IFERROR((SUM(AB64,AD64:AN64,AP64:AQ64,AY64,BA64:BK64,BM64:BN64)*Q64/M64)," ") -> 1.2 | V64: zal/o | Y64: =AS64+Z64 -> 0 | Z64: =AR64+AA64 -> 0 | AA64: =(SUM(AB64:AQ64))-AC64 -> 0 | AT64: zal/o | AU64: 2 | AV64: =BP64+AW64 -> 50 | AW64: =BO64+AX64 -> 30 | AX64: =(SUM(AY64:BN64))-AZ64 -> 30 | AY64: 10 | AZ64: 10 | BB64: 20 | BP64: 20 | BQ64: =IFERROR(M64/Q64," ") -> 25 | BR64: =IF(OR(BQ64>30,BQ64<25),"1 ECTS powinien mieścić się przedziale 25-30h","Wartość prawidłowa") -> Wartość prawidłowa | BS64: =SUM(AB64,AD64:AP64,AY64,BA64:BM64)-AC64-AZ64-AO64-BL64 -> 20 | BT64: =AC64+AZ64 -> 10 | BU64: =AO64+BL64 -> 0 | BV64: =AR64+BO64 -> 0 | BW64: =N64 -> 20 | BX64: =AQ64+BN64 -> 0 | BY64: =SUM(BS64:BX64) -> 50 | BZ64: =IFERROR((BS64*Q64)/BY64," ") -> 0.8 | CA64: =IFERROR((BT64*Q64)/BY64," ") -> 0.4 | CB64: =IFERROR((BU64*Q64)/BY64," ") -> 0 | CC64: =IFERROR((BV64*Q64)/BY64," ") -> 0 | CD64: =IFERROR((BW64*Q64)/BY64," ") -> 0.8 | CE64: =IFERROR((BX64*Q64)/BY64," ") -> 0 | CF64: =IFERROR((SUM(BZ64:CE64))," ") -> 2 | CG64: =SUM(BS64:BT64,CE64) -> 30 | CH64: =SUM(BT64:BU64) -> 10 | CI64: =SUM(BZ64:CA64,CE64) -> 1.2 | CJ64: =SUM(CA64:CB64) -> 0.4 | CK64: =Matryca!Q64 -> 4 | CL64: =Matryca!R64 -> 1 | CM64: =Matryca!S64 -> 3
A65: 45 | C65: 2026/2027 | E65: 2 | F65: 2027/2028 | G65: POW | I65: seminarium dyplomowe 3 | L65: nie | M65: =Y65+AV65 -> 125 | N65: =AS65+BP65 -> 100 | O65: =Z65+AW65 -> 25 | P65: =AA65+AX65 -> 25 | Q65: =X65+AU65 -> 5 | R65: =IFERROR((AL65+BI65)*Q65/O65," ") -> 0 | S65: =IFERROR((SUM(AE65:AL65,AQ65,BB65:BI65,BN65))*Q65/O65," ") -> 0 | T65: =IFERROR((AC65+AO65+AZ65+BL65)*Q65/O65," ") -> 0 | U65: =IFERROR((SUM(AB65,AD65:AN65,AP65:AQ65,AY65,BA65:BK65,BM65:BN65)*Q65/M65)," ") -> 1 | V65: zal | Y65: =AS65+Z65 -> 0 | Z65: =AR65+AA65 -> 0 | AA65: =(SUM(AB65:AQ65))-AC65 -> 0 | AT65: zal | AU65: 5 | AV65: =BP65+AW65 -> 125 | AW65: =BO65+AX65 -> 25 | AX65: =(SUM(AY65:BN65))-AZ65 -> 25 | BA65: 25 | BP65: 100 | BQ65: =IFERROR(M65/Q65," ") -> 25 | BR65: =IF(OR(BQ65>30,BQ65<25),"1 ECTS powinien mieścić się przedziale 25-30h","Wartość prawidłowa") -> Wartość prawidłowa | BS65: =SUM(AB65,AD65:AP65,AY65,BA65:BM65)-AC65-AZ65-AO65-BL65 -> 25 | BT65: =AC65+AZ65 -> 0 | BU65: =AO65+BL65 -> 0 | BV65: =AR65+BO65 -> 0 | BW65: =N65 -> 100 | BX65: =AQ65+BN65 -> 0 | BY65: =SUM(BS65:BX65) -> 125 | BZ65: =IFERROR((BS65*Q65)/BY65," ") -> 1 | CA65: =IFERROR((BT65*Q65)/BY65," ") -> 0 | CB65: =IFERROR((BU65*Q65)/BY65," ") -> 0 | CC65: =IFERROR((BV65*Q65)/BY65," ") -> 0 | CD65: =IFERROR((BW65*Q65)/BY65," ") -> 4 | CE65: =IFERROR((BX65*Q65)/BY65," ") -> 0 | CF65: =IFERROR((SUM(BZ65:CE65))," ") -> 5 | CG65: =SUM(BS65:BT65,CE65) -> 25 | CH65: =SUM(BT65:BU65) -> 0 | CI65: =SUM(BZ65:CA65,CE65) -> 1 | CJ65: =SUM(CA65:CB65) -> 0 | CK65: =Matryca!Q65 -> 1 | CL65: =Matryca!R65 -> 3 | CM65: =Matryca!S65 -> 3
I66: sumy dla 2 roku | J66: =COUNTIF(J44:J65,"tak") -> 0 | K66: =COUNTIF(K44:K65,"tak") -> 1 | L66: =COUNTIF(L44:L65,"tak") -> 18 | M66: =SUM(M44:M65) -> 1505 | N66: =SUM(N44:N65) -> 765 | O66: =SUM(O44:O65) -> 740 | P66: =SUM(P44:P65) -> 740 | Q66: =SUM(Q44:Q65) -> 60 | R66: =SUM(R44:R65) -> 0 | S66: =SUM(S44:S65) -> 32.358333 | T66: =SUM(T44:T65) -> 15.108333 | ... BP66: =SUM(BP44:BP65) -> 440 | BS66: =SUM(BS44:BS65) -> 485 | BT66: =SUM(BT44:BT65) -> 205 | BU66: =SUM(BU44:BU65) -> 0 | BV66: =SUM(BV44:BV65) -> 0 | BW66: =SUM(BW44:BW65) -> 765 | BX66: =SUM(BX44:BX65) -> 50 | BY66: =SUM(BY44:BY65) -> 1505 | BZ66: =SUM(BZ44:BZ65) -> 19.35 | ... CM66: =SUM(CM44:CM65) -> 30
A67: RAZEM | J67: =COUNTIF(J20:J66,"tak") -> 0 | K67: =COUNTIF(K20:K66,"tak") -> 3 | L67: =COUNTIF(L20:L66,"tak") -> 34 | M67: =SUM(M20:M42,M44:M65) -> 3011 | N67: =SUM(N20:N42,N44:N65) -> 1510 | O67: =SUM(O20:O42,O44:O65) -> 1501 | P67: =SUM(P20:P42,P44:P65) -> 1501 | Q67: =SUM(Q20:Q42,Q44:Q65) -> 120 | R67: =SUM(R20:R42,R44:R65) -> 0 | S67: =SUM(S20:S42,S44:S65) -> 57.607143 | T67: =SUM(T20:T42,T44:T65) -> 36.17381 | ... BP67: =SUM(BP20:BP42,BP44:BP65) -> 805 | BS67: =SUM(BS20:BS42,BS44:BS65) -> 925 | BT67: =SUM(BT20:BT42,BT44:BT65) -> 470 | BU67: =SUM(BU20:BU42,BU44:BU65) -> 6 | BV67: =SUM(BV20:BV42,BV44:BV65) -> 0 | BW67: =SUM(BW20:BW42,BW44:BW65) -> 1510 | BX67: =SUM(BX20:BX42,BX44:BX65) -> 100 | BY67: =SUM(BY20:BY42,BY44:BY65) -> 3011 | BZ67: =SUM(BZ20:BZ42,BZ44:BZ65) -> 36.95 | ... CM67: =SUM(CM20:CM42,CM44:CM65) -> 57
I70: wykłady | J70: =(SUM(AB43,AY43,AB66,AY66))/O67 -> 0.31312458
H74: LP | I74: Wskażnik | M74: wg standardu | P74: realizacja wskaźnika | Q74: uwagi do realizacji
M75: % | N75: suma godz./ECTS dyd. wg regulacji | O75: wskaźnik wg regulacji
H76: 1 | I76: Liczba godzin zajęć w cyklu kształcenia (zajęcia +praktyki) | P76: =SUM(O20:O42,O44:O65) -> 1501 | Q76: =IF(P76=O76,"OK","Wartość wymaga weryfikacji") -> Wartość wymaga weryfikacji
H77: 2 | I77: Minimalna liczba punktów ECTS w cyklu kształcenia | N77: 120 | O77: 120 | P77: =SUM(Q20:Q42,Q44:Q65) -> 120 | Q77: =IF(P77=O77,"OK","Wartość wymaga weryfikacji") -> OK
H78: 3 | I78: Liczba godzin całkowitego nakładu pracy w cyklu kształcenia (zajęcia, praktyki i pracał własna studenta) | N78: =P77*25 -> 3000 | O78: =P77*30 -> 3600 | P78: =SUM(M20:M42,M44:M65) -> 3011 | Q78: =IF(P78=O78,"OK","Wartość wymaga weryfikacji") -> Wartość wymaga weryfikacji
H79: 4 | I79: Liczba godzin zajęć dydaktycznych w cyklu kształcenia- bez praktyk | P79: =P76-P87 -> 1401 | Q79: =IF(P79=O79,"OK","Wartość wymaga weryfikacji") -> Wartość wymaga weryfikacji
H80: 5 | I80: Minimalna liczba godzin z bezpośrednim udziałem nauczycieli akademickich lub innych osób prowadzących zajęcia- wg kolumny "U" | M80: 0.5 | N80: 120 | O80: =M80*N80 -> 60 | P80: =SUM(U20:U42,U44:U65) -> 59.7 | Q80: =IF(P80=O80,"OK","Wartość wymaga weryfikacji") -> Wartość wymaga weryfikacji
H81: 6 | I81: Liczba punktów ECTS przypisana do zajęć prowadzonych z wykorzystaniem metod i technik kształcenia na odległość -profil praktyczny | M81: 0.5 | N81: 120 | O81: =M81*N81 -> 60 | P81: =SUM(T20:T42,T44:T65) -> 36.17381 | Q81: =IF(P81=O81,"OK","Wartość wymaga weryfikacji") -> Wartość wymaga weryfikacji
I82: Liczba punktów ECTS przypisana do zajęć prowadzonych z wykorzystaniem metod i technik kształcenia na odległość -profil ogólnoakademicki | M82: 0.75 | N82: 120 | O82: =M82*N82 -> 90 | P82: =SUM(T20:T42,T44:T65) -> 36.17381 | Q82: =IF(P82=O82,"OK","Wartość wymaga weryfikacji") -> Wartość wymaga weryfikacji
H83: 7 | I83: Minimalna liczba ECTS za zajęcia do wyboru | M83: 0.3 | N83: 120 | O83: =M83*N83 -> 36 | P83: =(SUMIF(G20:G66,"POW",Q20:Q66))+(SUMIF(G20:G66,"PSW",Q20:Q66)) -> 37 | Q83: =IF(P83=O83,"OK","Wartość wymaga weryfikacji") -> Wartość wymaga weryfikacji
H84: 8 | I84: Liczba godzin zajęć z języka obcego | P84: =SUM(AN20:AN42,AN44:AN65,BK20:BK42,BK44:BK65) -> 60 | Q84: =IF(P84=O84,"OK","Wartość wymaga weryfikacji") -> Wartość wymaga weryfikacji
H85: 9 | I85: Liczba ECTS za zajęcia z języka obcego | P85: =SUMIF(I20:I65,"*język obcy*",Q20:Q65)+SUMIF(I20:I65,"*język angielski*",Q20:Q65)+SUMIF(I20:I65,"*lektorat*",Q20:Q65) -> 4 | Q85: =IF(P85=O85,"OK","Wartość wymaga weryfikacji") -> Wartość wymaga weryfikacji
H86: 10 | I86: Minimalna liczba punktów ECTS za zajęcia z dziedziny nauk humanistycznych lub nauk społecznych | N86: 5 | O86: 5 | P86: =SUMIF(K20:K42,"tak",Q20:Q42)+SUMIF(K44:K65,"tak",Q44:Q65) -> 6 | Q86: =IF(P86=O86,"OK","Wartość wymaga weryfikacji") -> Wartość wymaga weryfikacji
H87: 11 | I87: Liczba godzin praktyk (nie są wymagane dla profilu ogólnoakademickiego) | P87: =SUM(AQ20:AQ42,AQ44:AQ65,BN20:BN42,BN44:BN65) -> 100 | Q87: =IF(P87=O87,"OK","Wartość wymaga weryfikacji") -> Wartość wymaga weryfikacji
H88: 12 | I88: Liczba ECTS za praktyki (nie są wymagane dla profilu ogólnoakademickiego) | P88: =(SUMIF(I20:I66,"*praktyki zawodowe*",Q20:Q66))+(SUMIF(I20:I66,"*praktyka zawodowa*",Q20:Q66)) -> 4 | Q88: =IF(P88=O88,"OK","Wartość wymaga weryfikacji") -> Wartość wymaga weryfikacji
H89: 13 | I89: Liczba punktów ECTS przyporządkowana zajęciom związanym z prowadzoną w uczelni działalnością naukową w dyscyplinie lub dyscyplinach, do których przyporządkowany jest kierunek studiów w wymiarze większym niż 50% liczby punktów ECTS koniecznej do ukończenia studiów-profil ogólnoakademicki (wg. kol. "L") | M89: 0.5 | N89: 120 | O89: =M89*N89 -> 60 | P89: =(SUMIF(L20:L66,"*tak*",Q20:Q66)) -> 91 | Q89: =IF(P89=O89,"OK","Wartość wymaga weryfikacji") -> Wartość wymaga weryfikacji | S89: w kolumnie "L" należy zaznaczyć czy przdmiot jest zaliczany do tej puli
H90: 14 | I90: Średnia liczba godzin pracy studenta przypadająca na 1 ECTS | N90: 25 | O90: 30 | P90: =P78/P77 -> 25.091667 | Q90: =IF(P90=O90,"OK","Wartość wymaga weryfikacji") -> Wartość wymaga weryfikacji
C94: OBJAŚNIENIA
C95: *kod grupy wpisujemy w przypadku kierunków regulowanych- należy wpisać symbol grupy zajęć, do jakiej należy dany przedmiot, tzw. ”kod grupy”
C97: **Ścieżka- dla kierunków na których realizowane są ścieżki
C99: ***Rodzaj zajęć:
C101: POW- ograniczonego wyboru
C102: PSW- swobodnego wyboru
C107: do dyspozycji uczelni (Autorska oferta uczelni)
C109: *****Forma zakończenia przedmiotu
C111: zal/o zaliczenie na ocenę
C112: egz egzamin
C114: ******Forma zakończenia semestru
C116: zal/o zaliczenie na ocenę
... C121: W Pracowni dydaktycznej

Sheet Arkusz1
B2: Nr 2897 - program studiów dla kierunku optometria prowadzonym na Wydziale Nauk o Zdrowiu (2026/2027)
B4: Uchwała 2897/2026
B6: zm.: 2950/2026

Sheet Wskaźniki
A1: LP | B1: KOD_GPS | C1: Wskaźnik | D1: wg standardu | G1: realizacja wskaźnika | H1: uwagi do realizacji
D2: % | E2: suma godz./ECTS dyd. wg regulacji | F2: wskaźnik wg regulacji
A3: 1 | B3: GODZINY_ogolem | C3: Liczba godzin zajęć w cyklu kształcenia (zajęcia +praktyki) | G3: =SUM('OPTOMETRIA_IIst-pr. szczegółowy'!O20:O42,'OPTOMETRIA_IIst-pr. szczegółowy'!O44:O65) -> 1501 | H3: =IF(G3=F3,"OK","Wartość wymaga weryfikacji") -> Wartość wymaga weryfikacji
A4: 2 | C4: Minimalna liczba punktów ECTS w cyklu kształcenia | E4: 120 | F4: 120 | G4: =SUM('OPTOMETRIA_IIst-pr. szczegółowy'!Q20:Q42,'OPTOMETRIA_IIst-pr. szczegółowy'!Q44:Q65) -> 120 | H4: =IF(G4=F4,"OK","Wartość wymaga weryfikacji") -> OK
A5: 3 | C5: Liczba godzin całkowitego nakładu pracy w cyklu kształcenia (zajęcia, praktyki i pracał własna studenta) | E5: =G4*25 -> 3000 | F5: =G4*30 -> 3600 | G5: =SUM('OPTOMETRIA_IIst-pr. szczegółowy'!M20:M42,'OPTOMETRIA_IIst-pr. szczegółowy'!M44:M65) -> 3011 | H5: =IF(G5=F5,"OK","Wartość wymaga weryfikacji") -> Wartość wymaga weryfikacji
A6: 4 | C6: Liczba godzin zajęć dydaktycznych w cyklu kształcenia- bez praktyk | G6: =G3-G14 -> 1401 | H6: =IF(G6=F6,"OK","Wartość wymaga weryfikacji") -> Wartość wymaga weryfikacji
A7: 5 | B7: ECTS_bezposredni | C7: Minimalna liczba godzin z bezpośrednim udziałem nauczycieli akademickich lub innych osób prowadzących zajęcia- wg kolumny "U" | D7: 0.5 | E7: 120 | F7: =D7*E7 -> 60 | G7: =SUM('OPTOMETRIA_IIst-pr. szczegółowy'!U20:U42,'OPTOMETRIA_IIst-pr. szczegółowy'!U44:U65) -> 59.7 | H7: =IF(G7=F7,"OK","Wartość wymaga weryfikacji") -> Wartość wymaga weryfikacji
A8: 6 | C8: Liczba punktów ECTS przypisana do zajęć prowadzonych z wykorzystaniem metod i technik kształcenia na odległość -profil praktyczny | D8: 0.5 | E8: 120 | F8: =D8*E8 -> 60 | G8: =SUM('OPTOMETRIA_IIst-pr. szczegółowy'!T20:T42,'OPTOMETRIA_IIst-pr. szczegółowy'!T44:T65) -> 36.17381 | H8: =IF(G8=F8,"OK","Wartość wymaga weryfikacji") -> Wartość wymaga weryfikacji
B9: ECTS_online | C9: Liczba punktów ECTS przypisana do zajęć prowadzonych z wykorzystaniem metod i technik kształcenia na odległość -profil ogólnoakademicki | D9: 0.75 | E9: 120 | F9: =D9*E9 -> 90 | G9: =SUM('OPTOMETRIA_IIst-pr. szczegółowy'!T20:T42,'OPTOMETRIA_IIst-pr. szczegółowy'!T44:T65) -> 36.17381 | H9: =IF(G9=F9,"OK","Wartość wymaga weryfikacji") -> Wartość wymaga weryfikacji
A10: 7 | B10: ECTS_dyspozycja | C10: Minimalna liczba ECTS za zajęcia do wyboru | D10: 0.3 | E10: 120 | F10: =D10*E10 -> 36 | G10: =(SUMIF('OPTOMETRIA_IIst-pr. szczegółowy'!G20:G66,"POW",'OPTOMETRIA_IIst-pr. szczegółowy'!Q20:Q66))+(SUMIF('OPTOMETRIA_IIst-pr. szczegółowy'!G20:G66,"PSW",'OPTOMETRIA_IIst-pr. szczegółowy'!Q20:Q66)) -> 37 | H10: =IF(G10=F10,"OK","Wartość wymaga weryfikacji") -> Wartość wymaga weryfikacji
A11: 8 | B11: GODZINY_jezyki | C11: Liczba godzin zajęć z języka obcego | G11: =SUM('OPTOMETRIA_IIst-pr. szczegółowy'!AN20:AN42,'OPTOMETRIA_IIst-pr. szczegółowy'!AN44:AN65,'OPTOMETRIA_IIst-pr. szczegółowy'!BK20:BK42,'OPTOMETRIA_IIst-pr. szczegółowy'!BK44:BK65) -> 60 | H11: =IF(G11=F11,"OK","Wartość wymaga weryfikacji") -> Wartość wymaga weryfikacji
A12: 9 | B12: ECTS_jezyki | C12: Liczba ECTS za zajęcia z języka obcego | G12: =SUMIF('OPTOMETRIA_IIst-pr. szczegółowy'!I20:I65,"*język obcy*",'OPTOMETRIA_IIst-pr. szczegółowy'!Q20:Q65)+SUMIF('OPTOMETRIA_IIst-pr. szczegółowy'!I20:I65,"*język angielski*",'OPTOMETRIA_IIst-pr. szczegółowy'!Q20:Q65)+SUMIF('OPTOMETRIA_IIst-pr. szczegółowy'!I20:I65,"*lektorat*",'OPTOMETRIA_IIst-pr. szczegółowy'!Q20:Q65) -> 4 | H12: =IF(G12=F12,"OK","Wartość wymaga weryfikacji") -> Wartość wymaga weryfikacji
A13: 10 | B13: ECTS_humanistyczne | C13: Minimalna liczba punktów ECTS za zajęcia z dziedziny nauk humanistycznych lub nauk społecznych | E13: 5 | F13: 5 | G13: =SUMIF('OPTOMETRIA_IIst-pr. szczegółowy'!K20:K42,"tak",'OPTOMETRIA_IIst-pr. szczegółowy'!Q20:Q42)+SUMIF('OPTOMETRIA_IIst-pr. szczegółowy'!K44:K65,"tak",'OPTOMETRIA_IIst-pr. szczegółowy'!Q44:Q65) -> 6 | H13: =IF(G13=F13,"OK","Wartość wymaga weryfikacji") -> Wartość wymaga weryfikacji
A14: 11 | B14: GODZINY_praktyki | C14: Liczba godzin praktyk (nie są wymagane dla profilu ogólnoakademickiego) | G14: =SUM('OPTOMETRIA_IIst-pr. szczegółowy'!AQ20:AQ42,'OPTOMETRIA_IIst-pr. szczegółowy'!AQ44:AQ65,'OPTOMETRIA_IIst-pr. szczegółowy'!BN20:BN42,'OPTOMETRIA_IIst-pr. szczegółowy'!BN44:BN65) -> 100 | H14: =IF(G14=F14,"OK","Wartość wymaga weryfikacji") -> Wartość wymaga weryfikacji
A15: 12 | B15: ECTS_praktyki | C15: Liczba ECTS za praktyki (nie są wymagane dla profilu ogólnoakademickiego) | G15: =(SUMIF('OPTOMETRIA_IIst-pr. szczegółowy'!I20:I66,"*praktyki zawodowe*",'OPTOMETRIA_IIst-pr. szczegółowy'!Q20:Q66))+(SUMIF('OPTOMETRIA_IIst-pr. szczegółowy'!I20:I66,"*praktyka zawodowa*",'OPTOMETRIA_IIst-pr. szczegółowy'!Q20:Q66)) -> 4 | H15: =IF(G15=F15,"OK","Wartość wymaga weryfikacji") -> Wartość wymaga weryfikacji
A16: 13 | B16: ECTS_profil_ogolnoakademicki | C16: Liczba punktów ECTS przyporządkowana zajęciom związanym z prowadzoną w uczelni działalnością naukową w dyscyplinie lub dyscyplinach, do których przyporządkowany jest kierunek studiów w wymiarze większym niż 50% liczby punktów ECTS koniecznej do ukończenia studiów-profil ogólnoakademicki | D16: 0.5 | E16: 120 | F16: =D16*E16 -> 60 | G16: =(SUMIF('OPTOMETRIA_IIst-pr. szczegółowy'!L20:L66,"*tak*",'OPTOMETRIA_IIst-pr. szczegółowy'!Q20:Q66)) -> 91 | H16: =IF(G16=F16,"OK","Wartość wymaga weryfikacji") -> Wartość wymaga weryfikacji | I16: w kolumnie "L" należy zaznaczyć czy przdmiot jest zaliczany do tej puli
A17: 14 | C17: Średnia liczba godzin pracy studenta przypadająca na 1 ECTS | E17: 25 | F17: 30 | G17: =G5/G4 -> 25.091667 | H17: =IF(G17=F17,"OK","Wartość wymaga weryfikacji") -> Wartość wymaga weryfikacji

Sheet Matryca
G2: Matryca
G5: Wydział | I5: Wydział Nauk o Zdrowiu
G6: Kierunek | I6: Optometria
G7: Cykl kształcenia | I7: 2026-2028
G8: Poziom kształcenia | I8: studia drugiego stopnia
G9: Profil kształcenia | I9: ogólnoakademicki
G10: Forma studiów | I10: stacjonarne
G11: Liczba semestrów | I11: 4
G12: Łączna liczba godzin | I12: ='OPTOMETRIA_IIst-pr. szczegółowy'!P76 -> 1501
G13: Łączna liczba ECTS | I13: 120
A16: Lp. | B16: kod grupy* | C16: Cykl kształcenia (nabór) | D16: Ścieżka** | E16: Rok studiów | F16: Rok akademicki | G16: Rodzaj zajęć*** (RPS, POW, PSW) | H16: ****Pula godzin (ze standardu, do dyspozycji uczelni (Autorska oferta uczelni)) | I16: Przedmiot (nazwa) | J16: łącznie dla przedmiotu | Q16: Suma efektów w poszczególnych kategoriach
J17: SUMA GODZIN PRZEDMIOTU | O17: ECTS | P17: forma zakończenia przedmiotu
J18: NAKŁAD PRACY STUDENTA (godz. dyd. + samodzielna praca) | K18: SAMODZIELNA PRACA STUDENTA | L18: GODZINY DYDAKTYCZNE | M18: W TYM TEORIA (WY+SE) | N18: GODZINY Z NAUCZYCIELEM | Q18: Wiedza | R18: Umiejetności | S18: Kompetencje społeczne | T18: Wiedza | AJ18: Kształcenie ogólne | AP18: Umiejętności | BE18: Kompetencje społeczne | BJ18: Wiedza | EV18: Umiejętności | IH18: Kompetencje społeczne | IW18: Wiedza | IX18: Umiejetności | IY18: Kompetencje społeczne | IZ18: Proporcje poszczególnych kategorii efektów dla przedmiotu
T19: K_W01 | U19: K_W02 | V19: K_W03 | W19: K_W04 | X19: K_W05 | Y19: K_W06 | Z19: K_W07 | AA19: K_W08 | AB19: K_W09 | AC19: K_W10 | AD19: K_W11 | AE19: K_W12 | AF19: K_W13 | AG19: K_W14 | AH19: K_W15 | AI19: K_W16 | AJ19: S.W1 | AK19: S.W2 | AL19: S.W3 | AM19: P.W1 | AN19: P.W2 | AO19: P.W3 | AP19: K_U01 | AQ19: K_U02 | AR19: K_U03 | AS19: K_U04 | AT19: K_U05 | AU19: K_U06 | AV19: K_U07 | AW19: K_U08 | AX19: K_U09 | AY19: K_U10 | AZ19: K_U11 | BA19: K_U12 | BB19: K_U13 | BC19: K_U14 | BD19: K_U15 | BE19: K_K01 | BF19: K_K02 | BG19: K_K03 | BH19: K_K04 | BI19: K_K05 | BJ19: P_W01 | BK19: P_W02 | BL19: P_W03 | BM19: P_W04 | BN19: P_W05 | BO19: P_W06 | BP19: P_W07 | BQ19: P_W08 | BR19: P_W09 | BS19: P_W10 | BT19: P_W11 | BU19: P_W12 | BV19: P_W13 | BW19: P_W14 | BX19: P_W15 | BY19: P_W16 | BZ19: P_W17 | CA19: P_W18 | CB19: P_W19 | CC19: P_W20 | CD19: P_W21 | CE19: P_W22 | CF19: P_W23 | CG19: P_W24 | CH19: P_W25 | CI19: P_W26 | CJ19: P_W27 | CK19: P_W28 | CL19: P_W29 | CM19: P_W30 | CN19: P_W31 | CO19: P_W32 | CP19: P_W33 | CQ19: P_W34 | CR19: P_W35 | CS19: P_W36 | CT19: P_W37 | CU19: P_W38 | CV19: P_W39 | CW19: P_W40 | CX19: P_W41 | CY19: P_W42 | CZ19: P_W43 | DA19: P_W44 | DB19: P_W45 | DC19: P_W46 | DD19: P_W47 | DE19: P_W48 | DF19: P_W49 | DG19: P_W50 | DH19: P_W51 | DI19: P_W52 | DJ19: P_W53 | DK19: P_W54 | DL19: P_W55 | DM19: P_W56 | DN19: P_W57 | DO19: P_W58 | DP19: P_W59 | DQ19: P_W60 | DR19: P_W61 | DS19: P_W62 | DT19: P_W63 | DU19: P_W64 | DV19: P_W65 | DW19: P_W66 | DX19: P_W67 | DY19: P_W68 | DZ19: P_W69 | EA19: P_W70 | EB19: P_W71 | EC19: P_W72 | ED19: P_W73 | EE19: P_W74 | EF19: P_W75 | EG19: P_W76 | EH19: P_W77 | EI19: P_W78 | EJ19: P_W79 | EK19: P_W80 | EL19: P_W81 | EM19: P_W82 | EN19: P_W83 | EO19: P_W84 | EP19: P_W85 | EQ19: P_W86 | ER19: P_W87 | ES19: P_W88 | ET19: P_W89 | EU19: P_W90 | EV19: P_U01 | EW19: P_U02 | EX19: P_U03 | EY19: P_U04 | EZ19: P_U05 | FA19: P_U06 | FB19: P_U07 | FC19: P_U08 | FD19: P_U09 | FE19: P_U10 | FF19: P_U11 | FG19: P_U12 | FH19: P_U13 | FI19: P_U14 | FJ19: P_U15 | FK19: P_U16 | FL19: P_U17 | FM19: P_U18 | FN19: P_U19 | FO19: P_U20 | FP19: P_U21 | FQ19: P_U22 | FR19: P_U23 | FS19: P_U24 | FT19: P_U25 | FU19: P_U26 | FV19: P_U27 | FW19: P_U28 | FX19: P_U29 | FY19: P_U30 | FZ19: P_U31 | GA19: P_U32 | GB19: P_U33 | GC19: P_U34 | GD19: P_U35 | GE19: P_U36 | GF19: P_U37 | GG19: P_U38 | GH19: P_U39 | GI19: P_U40 | GJ19: P_U41 | GK19: P_U42 | GL19: P_U43 | GM19: P_U44 | GN19: P_U45 | GO19: P_U46 | GP19: P_U47 | GQ19: P_U48 | GR19: P_U49 | GS19: P_U50 | GT19: P_U51 | GU19: P_U52 | GV19: P_U53 | GW19: P_U54 | GX19: P_U55 | GY19: P_U56 | GZ19: P_U57 | HA19: P_U58 | HB19: P_U59 | HC19: P_U60 | HD19: P_U61 | HE19: P_U62 | HF19: P_U63 | HG19: P_U64 | HH19: P_U65 | HI19: P_U66 | HJ19: P_U67 | HK19: P_U68 | HL19: P_U69 | HM19: P_U70 | HN19: P_U71 | HO19: P_U72 | HP19: P_U73 | HQ19: P_U74 | HR19: P_U75 | HS19: P_U76 | HT19: P_U77 | HU19: P_U78 | HV19: P_U79 | HW19: P_U80 | HX19: P_U81 | HY19: P_U82 | HZ19: P_U83 | IA19: P_U84 | IB19: P_U85 | IC19: P_U86 | ID19: P_U87 | IE19: P_U88 | IF19: P_U89 | IG19: P_U90 | IH19: P_K01 | II19: P_K02 | IJ19: P_K03 | IK19: P_K04 | IL19: P_K05 | IM19: P_K06 | IN19: P_K07 | IO19: P_K08 | IP19: P_K09 | IQ19: P_K10 | IR19: P_K11 | IS19: P_K12 | IT19: P_K13 | IU19: P_K14 | IV19: P_K15
A20: ='OPTOMETRIA_IIst-pr. szczegółowy'!A20 -> 1 | B20: =IF('OPTOMETRIA_IIst-pr. szczegółowy'!B20>0,'OPTOMETRIA_IIst-pr. szczegółowy'!B20," ") | C20: =IF('OPTOMETRIA_IIst-pr. szczegółowy'!C20>0,'OPTOMETRIA_IIst-pr. szczegółowy'!C20," ") -> 2026/2027 | D20: =IF('OPTOMETRIA_IIst-pr. szczegółowy'!D20>0,'OPTOMETRIA_IIst-pr. szczegółowy'!D20," ") | E20: =IF('OPTOMETRIA_IIst-pr. szczegółowy'!E20>0,'OPTOMETRIA_IIst-pr. szczegółowy'!E20," ") -> 1 | F20: =IF('OPTOMETRIA_IIst-pr. szczegółowy'!F20>0,'OPTOMETRIA_IIst-pr. szczegółowy'!F20," ") -> 2026/2027 | G20: =IF('OPTOMETRIA_IIst-pr. szczegółowy'!G20>0,'OPTOMETRIA_IIst-pr. szczegółowy'!G20," ") -> RPS | H20: =IF('OPTOMETRIA_IIst-pr. szczegółowy'!H20>0,'OPTOMETRIA_IIst-pr. szczegółowy'!H20," ") | I20: =IF('OPTOMETRIA_IIst-pr. szczegółowy'!I20>0,'OPTOMETRIA_IIst-pr. szczegółowy'!I20," ") -> anatomia i fizjologia narządu wzroku | J20: ='OPTOMETRIA_IIst-pr. szczegółowy'!Y20+'OPTOMETRIA_IIst-pr. szczegółowy'!AV20 -> 75 | K20: ='OPTOMETRIA_IIst-pr. szczegółowy'!AS20+'OPTOMETRIA_IIst-pr. szczegółowy'!BP20 -> 35 | L20: ='OPTOMETRIA_IIst-pr. szczegółowy'!Z20+'OPTOMETRIA_IIst-pr. szczegółowy'!AW20 -> 40 | M20: ='OPTOMETRIA_IIst-pr. szczegółowy'!AB20+'OPTOMETRIA_IIst-pr. szczegółowy'!AD20+'OPTOMETRIA_IIst-pr. szczegółowy'!AY20+'OPTOMETRIA_IIst-pr. szczegółowy'!BA20 -> 20 | N20: ='OPTOMETRIA_IIst-pr. szczegółowy'!AA20+'OPTOMETRIA_IIst-pr. szczegółowy'!AX20 -> 40 | O20: ='OPTOMETRIA_IIst-pr. szczegółowy'!X20+'OPTOMETRIA_IIst-pr. szczegółowy'!AU20 -> 3 | P20: =IF('OPTOMETRIA_IIst-pr. szczegółowy'!V20>0,'OPTOMETRIA_IIst-pr. szczegółowy'!V20," ") -> egz | Q20: =SUM(T20:AO20) -> 3 | R20: =SUM(AP20:BD20) -> 0 | S20: =SUM(BE20:BI20) -> 1 | T20: 1 | W20: 1 | Y20: 1 | BF20: 1 | IW20: =SUM(BJ20:EU20) -> 0 | IX20: =SUM(EV20:IG20) -> 0 | IY20: =SUM(IH20:IV20) -> 0
A21: ='OPTOMETRIA_IIst-pr. szczegółowy'!A21 -> 2 | B21: =IF('OPTOMETRIA_IIst-pr. szczegółowy'!B21>0,'OPTOMETRIA_IIst-pr. szczegółowy'!B21," ") | C21: =IF('OPTOMETRIA_IIst-pr. szczegółowy'!C21>0,'OPTOMETRIA_IIst-pr. szczegółowy'!C21," ") -> 2026/2027 | D21: =IF('OPTOMETRIA_IIst-pr. szczegółowy'!D21>0,'OPTOMETRIA_IIst-pr. szczegółowy'!D21," ") | E21: =IF('OPTOMETRIA_IIst-pr. szczegółowy'!E21>0,'OPTOMETRIA_IIst-pr. szczegółowy'!E21," ") -> 1 | F21: =IF('OPTOMETRIA_IIst-pr. szczegółowy'!F21>0,'OPTOMETRIA_IIst-pr. szczegółowy'!F21," ") -> 2026/2027 | G21: =IF('OPTOMETRIA_IIst-pr. szczegółowy'!G21>0,'OPTOMETRIA_IIst-pr. szczegółowy'!G21," ") -> RPS | H21: =IF('OPTOMETRIA_IIst-pr. szczegółowy'!H21>0,'OPTOMETRIA_IIst-pr. szczegółowy'!H21," ") | I21: =IF('OPTOMETRIA_IIst-pr. szczegółowy'!I21>0,'OPTOMETRIA_IIst-pr. szczegółowy'!I21," ") -> optyka fizyczna i fizjologiczna | J21: ='OPTOMETRIA_IIst-pr. szczegółowy'!Y21+'OPTOMETRIA_IIst-pr. szczegółowy'!AV21 -> 75 | K21: ='OPTOMETRIA_IIst-pr. szczegółowy'!AS21+'OPTOMETRIA_IIst-pr. szczegółowy'!BP21 -> 45 | L21: ='OPTOMETRIA_IIst-pr. szczegółowy'!Z21+'OPTOMETRIA_IIst-pr. szczegółowy'!AW21 -> 30 | M21: ='OPTOMETRIA_IIst-pr. szczegółowy'!AB21+'OPTOMETRIA_IIst-pr. szczegółowy'!AD21+'OPTOMETRIA_IIst-pr. szczegółowy'!AY21+'OPTOMETRIA_IIst-pr. szczegółowy'!BA21 -> 15 | N21: ='OPTOMETRIA_IIst-pr. szczegółowy'!AA21+'OPTOMETRIA_IIst-pr. szczegółowy'!AX21 -> 30 | O21: ='OPTOMETRIA_IIst-pr. szczegółowy'!X21+'OPTOMETRIA_IIst-pr. szczegółowy'!AU21 -> 3 | P21: =IF('OPTOMETRIA_IIst-pr. szczegółowy'!V21>0,'OPTOMETRIA_IIst-pr. szczegółowy'!V21," ") -> egz | Q21: =SUM(T21:AO21) -> 1 | R21: =SUM(AP21:BD21) -> 0 | S21: =SUM(BE21:BI21) -> 1 | AA21: 1 | BF21: 1 | IW21: =SUM(BJ21:EU21) -> 0 | IX21: =SUM(EV21:IG21) -> 0 | IY21: =SUM(IH21:IV21) -> 0
A22: ='OPTOMETRIA_IIst-pr. szczegółowy'!A22 -> 3 | B22: =IF('OPTOMETRIA_IIst-pr. szczegółowy'!B22>0,'OPTOMETRIA_IIst-pr. szczegółowy'!B22," ") | C22: =IF('OPTOMETRIA_IIst-pr. szczegółowy'!C22>0,'OPTOMETRIA_IIst-pr. szczegółowy'!C22," ") -> 2026/2027 | D22: =IF('OPTOMETRIA_IIst-pr. szczegółowy'!D22>0,'OPTOMETRIA_IIst-pr. szczegółowy'!D22," ") | E22: =IF('OPTOMETRIA_IIst-pr. szczegółowy'!E22>0,'OPTOMETRIA_IIst-pr. szczegółowy'!E22," ") -> 1 | F22: =IF('OPTOMETRIA_IIst-pr. szczegółowy'!F22>0,'OPTOMETRIA_IIst-pr. szczegółowy'!F22," ") -> 2026/2027 | G22: =IF('OPTOMETRIA_IIst-pr. szczegółowy'!G22>0,'OPTOMETRIA_IIst-pr. szczegółowy'!G22," ") -> RPS | H22: =IF('OPTOMETRIA_IIst-pr. szczegółowy'!H22>0,'OPTOMETRIA_IIst-pr. szczegółowy'!H22," ") | I22: =IF('OPTOMETRIA_IIst-pr. szczegółowy'!I22>0,'OPTOMETRIA_IIst-pr. szczegółowy'!I22," ") -> zaburzenia widzenia obuocznego z elementami strabologii 1 | J22: ='OPTOMETRIA_IIst-pr. szczegółowy'!Y22+'OPTOMETRIA_IIst-pr. szczegółowy'!AV22 -> 75 | K22: ='OPTOMETRIA_IIst-pr. szczegółowy'!AS22+'OPTOMETRIA_IIst-pr. szczegółowy'!BP22 -> 35 | L22: ='OPTOMETRIA_IIst-pr. szczegółowy'!Z22+'OPTOMETRIA_IIst-pr. szczegółowy'!AW22 -> 40 | M22: ='OPTOMETRIA_IIst-pr. szczegółowy'!AB22+'OPTOMETRIA_IIst-pr. szczegółowy'!AD22+'OPTOMETRIA_IIst-pr. szczegółowy'!AY22+'OPTOMETRIA_IIst-pr. szczegółowy'!BA22 -> 15 | N22: ='OPTOMETRIA_IIst-pr. szczegółowy'!AA22+'OPTOMETRIA_IIst-pr. szczegółowy'!AX22 -> 40 | O22: ='OPTOMETRIA_IIst-pr. szczegółowy'!X22+'OPTOMETRIA_IIst-pr. szczegółowy'!AU22 -> 3 | P22: =IF('OPTOMETRIA_IIst-pr. szczegółowy'!V22>0,'OPTOMETRIA_IIst-pr. szczegółowy'!V22," ") -> zal/o | Q22: =SUM(T22:AO22) -> 1 | R22: =SUM(AP22:BD22) -> 1 | S22: =SUM(BE22:BI22) -> 2 | Y22: 1 | AR22: 1 | BE22: 1 | BH22: 1 | IW22: =SUM(BJ22:EU22) -> 0 | IX22: =SUM(EV22:IG22) -> 0 | IY22: =SUM(IH22:IV22) -> 0
A23: ='OPTOMETRIA_IIst-pr. szczegółowy'!A23 -> 4 | B23: =IF('OPTOMETRIA_IIst-pr. szczegółowy'!B23>0,'OPTOMETRIA_IIst-pr. szczegółowy'!B23," ") | C23: =IF('OPTOMETRIA_IIst-pr. szczegółowy'!C23>0,'OPTOMETRIA_IIst-pr. szczegółowy'!C23," ") -> 2026/2027 | D23: =IF('OPTOMETRIA_IIst-pr. szczegółowy'!D23>0,'OPTOMETRIA_IIst-pr. szczegółowy'!D23," ") | E23: =IF('OPTOMETRIA_IIst-pr. szczegółowy'!E23>0,'OPTOMETRIA_IIst-pr. szczegółowy'!E23," ") -> 1 | F23: =IF('OPTOMETRIA_IIst-pr. szczegółowy'!F23>0,'OPTOMETRIA_IIst-pr. szczegółowy'!F23," ") -> 2026/2027 | G23: =IF('OPTOMETRIA_IIst-pr. szczegółowy'!G23>0,'OPTOMETRIA_IIst-pr. szczegółowy'!G23," ") -> RPS | H23: =IF('OPTOMETRIA_IIst-pr. szczegółowy'!H23>0,'OPTOMETRIA_IIst-pr. szczegółowy'!H23," ") | I23: =IF('OPTOMETRIA_IIst-pr. szczegółowy'!I23>0,'OPTOMETRIA_IIst-pr. szczegółowy'!I23," ") -> metody diagnostyczne przedniego odcinka oka | J23: ='OPTOMETRIA_IIst-pr. szczegółowy'!Y23+'OPTOMETRIA_IIst-pr. szczegółowy'!AV23 -> 125 | K23: ='OPTOMETRIA_IIst-pr. szczegółowy'!AS23+'OPTOMETRIA_IIst-pr. szczegółowy'!BP23 -> 65 | L23: ='OPTOMETRIA_IIst-pr. szczegółowy'!Z23+'OPTOMETRIA_IIst-pr. szczegółowy'!AW23 -> 60 | M23: ='OPTOMETRIA_IIst-pr. szczegółowy'!AB23+'OPTOMETRIA_IIst-pr. szczegółowy'!AD23+'OPTOMETRIA_IIst-pr. szczegółowy'!AY23+'OPTOMETRIA_IIst-pr. szczegółowy'!BA23 -> 25 | N23: ='OPTOMETRIA_IIst-pr. szczegółowy'!AA23+'OPTOMETRIA_IIst-pr. szczegółowy'!AX23 -> 60 | O23: ='OPTOMETRIA_IIst-pr. szczegółowy'!X23+'OPTOMETRIA_IIst-pr. szczegółowy'!AU23 -> 5 | P23: =IF('OPTOMETRIA_IIst-pr. szczegółowy'!V23>0,'OPTOMETRIA_IIst-pr. szczegółowy'!V23," ") -> zal/o | Q23: =SUM(T23:AO23) -> 3 | R23: =SUM(AP23:BD23) -> 4 | S23: =SUM(BE23:BI23) -> 1 | U23: 1 | V23: 1 | AA23: 1 | AP23: 1 | AQ23: 1 | AS23: 1 | AU23: 1 | BE23: 1 | IW23: =SUM(BJ23:EU23) -> 0 | IX23: =SUM(EV23:IG23) -> 0 | IY23: =SUM(IH23:IV23) -> 0
A24: ='OPTOMETRIA_IIst-pr. szczegółowy'!A24 -> 5 | B24: =IF('OPTOMETRIA_IIst-pr. szczegółowy'!B24>0,'OPTOMETRIA_IIst-pr. szczegółowy'!B24," ") | C24: =IF('OPTOMETRIA_IIst-pr. szczegółowy'!C24>0,'OPTOMETRIA_IIst-pr. szczegółowy'!C24," ") -> 2026/2027 | D24: =IF('OPTOMETRIA_IIst-pr. szczegółowy'!D24>0,'OPTOMETRIA_IIst-pr. szczegółowy'!D24," ") | E24: =IF('OPTOMETRIA_IIst-pr. szczegółowy'!E24>0,'OPTOMETRIA_IIst-pr. szczegółowy'!E24," ") -> 1 | F24: =IF('OPTOMETRIA_IIst-pr. szczegółowy'!F24>0,'OPTOMETRIA_IIst-pr. szczegółowy'!F24," ") -> 2026/2027 | G24: =IF('OPTOMETRIA_IIst-pr. szczegółowy'!G24>0,'OPTOMETRIA_IIst-pr. szczegółowy'!G24," ") -> RPS | H24: =IF('OPTOMETRIA_IIst-pr. szczegółowy'!H24>0,'OPTOMETRIA_IIst-pr. szczegółowy'!H24," ") | I24: =IF('OPTOMETRIA_IIst-pr. szczegółowy'!I24>0,'OPTOMETRIA_IIst-pr. szczegółowy'!I24," ") -> prawo medyczne i ochrona własności intelektualnej | J24: ='OPTOMETRIA_IIst-pr. szczegółowy'!Y24+'OPTOMETRIA_IIst-pr. szczegółowy'!AV24 -> 50 | K24: ='OPTOMETRIA_IIst-pr. szczegółowy'!AS24+'OPTOMETRIA_IIst-pr. szczegółowy'!BP24 -> 25 | L24: ='OPTOMETRIA_IIst-pr. szczegółowy'!Z24+'OPTOMETRIA_IIst-pr. szczegółowy'!AW24 -> 25 | M24: ='OPTOMETRIA_IIst-pr. szczegółowy'!AB24+'OPTOMETRIA_IIst-pr. szczegółowy'!AD24+'OPTOMETRIA_IIst-pr. szczegółowy'!AY24+'OPTOMETRIA_IIst-pr. szczegółowy'!BA24 -> 25 | N24: ='OPTOMETRIA_IIst-pr. szczegółowy'!AA24+'OPTOMETRIA_IIst-pr. szczegółowy'!AX24 -> 25 | O24: ='OPTOMETRIA_IIst-pr. szczegółowy'!X24+'OPTOMETRIA_IIst-pr. szczegółowy'!AU24 -> 2 | P24: =IF('OPTOMETRIA_IIst-pr. szczegółowy'!V24>0,'OPTOMETRIA_IIst-pr. szczegółowy'!V24," ") -> zal/o | Q24: =SUM(T24:AO24) -> 2 | R24: =SUM(AP24:BD24) -> 1 | S24: =SUM(BE24:BI24) -> 2 | AE24: 1 | AF24: 1 | AX24: 1 | BH24: 1 | BI24: 1 | IW24: =SUM(BJ24:EU24) -> 0 | IX24: =SUM(EV24:IG24) -> 0 | IY24: =SUM(IH24:IV24) -> 0
A25: ='OPTOMETRIA_IIst-pr. szczegółowy'!A25 -> 6 | B25: =IF('OPTOMETRIA_IIst-pr. szczegółowy'!B25>0,'OPTOMETRIA_IIst-pr. szczegółowy'!B25," ") | C25: =IF('OPTOMETRIA_IIst-pr. szczegółowy'!C25>0,'OPTOMETRIA_IIst-pr. szczegółowy'!C25," ") -> 2026/2027 | D25: =IF('OPTOMETRIA_IIst-pr. szczegółowy'!D25>0,'OPTOMETRIA_IIst-pr. szczegółowy'!D25," ") | E25: =IF('OPTOMETRIA_IIst-pr. szczegółowy'!E25>0,'OPTOMETRIA_IIst-pr. szczegółowy'!E25," ") -> 1 | F25: =IF('OPTOMETRIA_IIst-pr. szczegółowy'!F25>0,'OPTOMETRIA_IIst-pr. szczegółowy'!F25," ") -> 2026/2027 | G25: =IF('OPTOMETRIA_IIst-pr. szczegółowy'!G25>0,'OPTOMETRIA_IIst-pr. szczegółowy'!G25," ") -> POW | H25: =IF('OPTOMETRIA_IIst-pr. szczegółowy'!H25>0,'OPTOMETRIA_IIst-pr. szczegółowy'!H25," ") | I25: =IF('OPTOMETRIA_IIst-pr. szczegółowy'!I25>0,'OPTOMETRIA_IIst-pr. szczegółowy'!I25," ") -> metody i techniki badań naukowych /evidence-based (EB) in healthcare | J25: ='OPTOMETRIA_IIst-pr. szczegółowy'!Y25+'OPTOMETRIA_IIst-pr. szczegółowy'!AV25 -> 50 | K25: ='OPTOMETRIA_IIst-pr. szczegółowy'!AS25+'OPTOMETRIA_IIst-pr. szczegółowy'!BP25 -> 25 | L25: ='OPTOMETRIA_IIst-pr. szczegółowy'!Z25+'OPTOMETRIA_IIst-pr. szczegółowy'!AW25 -> 25 | M25: ='OPTOMETRIA_IIst-pr. szczegółowy'!AB25+'OPTOMETRIA_IIst-pr. szczegółowy'!AD25+'OPTOMETRIA_IIst-pr. szczegółowy'!AY25+'OPTOMETRIA_IIst-pr. szczegółowy'!BA25 -> 25 | N25: ='OPTOMETRIA_IIst-pr. szczegółowy'!AA25+'OPTOMETRIA_IIst-pr. szczegółowy'!AX25 -> 25 | O25: ='OPTOMETRIA_IIst-pr. szczegółowy'!X25+'OPTOMETRIA_IIst-pr. szczegółowy'!AU25 -> 2 | P25: =IF('OPTOMETRIA_IIst-pr. szczegółowy'!V25>0,'OPTOMETRIA_IIst-pr. szczegółowy'!V25," ") -> zal/o | Q25: =SUM(T25:AO25) -> 1 | R25: =SUM(AP25:BD25) -> 4 | S25: =SUM(BE25:BI25) -> 2 | AC25: 1 | AV25: 1 | AZ25: 1 | BB25: 1 | BD25: 1 | BF25: 1 | BI25: 1 | IW25: =SUM(BJ25:EU25) -> 0 | IX25: =SUM(EV25:IG25) -> 0 | IY25: =SUM(IH25:IV25) -> 0
A26: ='OPTOMETRIA_IIst-pr. szczegółowy'!A26 -> 7 | B26: =IF('OPTOMETRIA_IIst-pr. szczegółowy'!B26>0,'OPTOMETRIA_IIst-pr. szczegółowy'!B26," ") | C26: =IF('OPTOMETRIA_IIst-pr. szczegółowy'!C26>0,'OPTOMETRIA_IIst-pr. szczegółowy'!C26," ") -> 2026/2027 | D26: =IF('OPTOMETRIA_IIst-pr. szczegółowy'!D26>0,'OPTOMETRIA_IIst-pr. szczegółowy'!D26," ") | E26: =IF('OPTOMETRIA_IIst-pr. szczegółowy'!E26>0,'OPTOMETRIA_IIst-pr. szczegółowy'!E26," ") -> 1 | F26: =IF('OPTOMETRIA_IIst-pr. szczegółowy'!F26>0,'OPTOMETRIA_IIst-pr. szczegółowy'!F26," ") -> 2026/2027 | G26: =IF('OPTOMETRIA_IIst-pr. szczegółowy'!G26>0,'OPTOMETRIA_IIst-pr. szczegółowy'!G26," ") -> RPS | H26: =IF('OPTOMETRIA_IIst-pr. szczegółowy'!H26>0,'OPTOMETRIA_IIst-pr. szczegółowy'!H26," ") | I26: =IF('OPTOMETRIA_IIst-pr. szczegółowy'!I26>0,'OPTOMETRIA_IIst-pr. szczegółowy'!I26," ") -> biostatystyka | J26: ='OPTOMETRIA_IIst-pr. szczegółowy'!Y26+'OPTOMETRIA_IIst-pr. szczegółowy'!AV26 -> 50 | K26: ='OPTOMETRIA_IIst-pr. szczegółowy'!AS26+'OPTOMETRIA_IIst-pr. szczegółowy'!BP26 -> 25 | L26: ='OPTOMETRIA_IIst-pr. szczegółowy'!Z26+'OPTOMETRIA_IIst-pr. szczegółowy'!AW26 -> 25 | M26: ='OPTOMETRIA_IIst-pr. szczegółowy'!AB26+'OPTOMETRIA_IIst-pr. szczegółowy'!AD26+'OPTOMETRIA_IIst-pr. szczegółowy'!AY26+'OPTOMETRIA_IIst-pr. szczegółowy'!BA26 -> 10 | N26: ='OPTOMETRIA_IIst-pr. szczegółowy'!AA26+'OPTOMETRIA_IIst-pr. szczegółowy'!AX26 -> 25 | O26: ='OPTOMETRIA_IIst-pr. szczegółowy'!X26+'OPTOMETRIA_IIst-pr. szczegółowy'!AU26 -> 2 | P26: =IF('OPTOMETRIA_IIst-pr. szczegółowy'!V26>0,'OPTOMETRIA_IIst-pr. szczegółowy'!V26," ") -> zal/o | Q26: =SUM(T26:AO26) -> 1 | R26: =SUM(AP26:BD26) -> 3 | S26: =SUM(BE26:BI26) -> 1 | AC26: 1 | AV26: 1 | AY26: 1 | AZ26: 1 | BF26: 1 | IW26: =SUM(BJ26:EU26) -> 0 | IX26: =SUM(EV26:IG26) -> 0 | IY26: =SUM(IH26:IV26) -> 0
A27: ='OPTOMETRIA_IIst-pr. szczegółowy'!A27 -> 8 | B27: =IF('OPTOMETRIA_IIst-pr. szczegółowy'!B27>0,'OPTOMETRIA_IIst-pr. szczegółowy'!B27," ") | C27: =IF('OPTOMETRIA_IIst-pr. szczegółowy'!C27>0,'OPTOMETRIA_IIst-pr. szczegółowy'!C27," ") -> 2026/2027 | D27: =IF('OPTOMETRIA_IIst-pr. szczegółowy'!D27>0,'OPTOMETRIA_IIst-pr. szczegółowy'!D27," ") | E27: =IF('OPTOMETRIA_IIst-pr. szczegółowy'!E27>0,'OPTOMETRIA_IIst-pr. szczegółowy'!E27," ") -> 1 | F27: =IF('OPTOMETRIA_IIst-pr. szczegółowy'!F27>0,'OPTOMETRIA_IIst-pr. szczegółowy'!F27," ") -> 2026/2027 | G27: =IF('OPTOMETRIA_IIst-pr. szczegółowy'!G27>0,'OPTOMETRIA_IIst-pr. szczegółowy'!G27," ") -> RPS | H27: =IF('OPTOMETRIA_IIst-pr. szczegółowy'!H27>0,'OPTOMETRIA_IIst-pr. szczegółowy'!H27," ") | I27: =IF('OPTOMETRIA_IIst-pr. szczegółowy'!I27>0,'OPTOMETRIA_IIst-pr. szczegółowy'!I27," ") -> optyczna aparatura okulistyczno-optometryczna 1 | J27: ='OPTOMETRIA_IIst-pr. szczegółowy'!Y27+'OPTOMETRIA_IIst-pr. szczegółowy'!AV27 -> 75 | K27: ='OPTOMETRIA_IIst-pr. szczegółowy'!AS27+'OPTOMETRIA_IIst-pr. szczegółowy'!BP27 -> 45 | L27: ='OPTOMETRIA_IIst-pr. szczegółowy'!Z27+'OPTOMETRIA_IIst-pr. szczegółowy'!AW27 -> 30 | M27: ='OPTOMETRIA_IIst-pr. szczegółowy'!AB27+'OPTOMETRIA_IIst-pr. szczegółowy'!AD27+'OPTOMETRIA_IIst-pr. szczegółowy'!AY27+'OPTOMETRIA_IIst-pr. szczegółowy'!BA27 -> 15 | N27: ='OPTOMETRIA_IIst-pr. szczegółowy'!AA27+'OPTOMETRIA_IIst-pr. szczegółowy'!AX27 -> 30 | O27: ='OPTOMETRIA_IIst-pr. szczegółowy'!X27+'OPTOMETRIA_IIst-pr. szczegółowy'!AU27 -> 3 | P27: =IF('OPTOMETRIA_IIst-pr. szczegółowy'!V27>0,'OPTOMETRIA_IIst-pr. szczegółowy'!V27," ") -> zal/o | Q27: =SUM(T27:AO27) -> 4 | R27: =SUM(AP27:BD27) -> 1 | S27: =SUM(BE27:BI27) -> 0 | V27: 1 | AA27: 1 | AB27: 1 | AH27: 1 | AS27: 1 | IW27: =SUM(BJ27:EU27) -> 0 | IX27: =SUM(EV27:IG27) -> 0 | IY27: =SUM(IH27:IV27) -> 0
A28: ='OPTOMETRIA_IIst-pr. szczegółowy'!A28 -> 9 | B28: =IF('OPTOMETRIA_IIst-pr. szczegółowy'!B28>0,'OPTOMETRIA_IIst-pr. szczegółowy'!B28," ") | C28: =IF('OPTOMETRIA_IIst-pr. szczegółowy'!C28>0,'OPTOMETRIA_IIst-pr. szczegółowy'!C28," ") -> 2026/2027 | D28: =IF('OPTOMETRIA_IIst-pr. szczegółowy'!D28>0,'OPTOMETRIA_IIst-pr. szczegółowy'!D28," ") | E28: =IF('OPTOMETRIA_IIst-pr. szczegółowy'!E28>0,'OPTOMETRIA_IIst-pr. szczegółowy'!E28," ") -> 1 | F28: =IF('OPTOMETRIA_IIst-pr. szczegółowy'!F28>0,'OPTOMETRIA_IIst-pr. szczegółowy'!F28," ") -> 2026/2027 | G28: =IF('OPTOMETRIA_IIst-pr. szczegółowy'!G28>0,'OPTOMETRIA_IIst-pr. szczegółowy'!G28," ") -> POW | H28: =IF('OPTOMETRIA_IIst-pr. szczegółowy'!H28>0,'OPTOMETRIA_IIst-pr. szczegółowy'!H28," ") | I28: =IF('OPTOMETRIA_IIst-pr. szczegółowy'!I28>0,'OPTOMETRIA_IIst-pr. szczegółowy'!I28," ") -> komunikacja interpersonalna/ mediacje i rozwiązywanie konfliktów | J28: ='OPTOMETRIA_IIst-pr. szczegółowy'!Y28+'OPTOMETRIA_IIst-pr. szczegółowy'!AV28 -> 50 | K28: ='OPTOMETRIA_IIst-pr. szczegółowy'!AS28+'OPTOMETRIA_IIst-pr. szczegółowy'!BP28 -> 25 | L28: ='OPTOMETRIA_IIst-pr. szczegółowy'!Z28+'OPTOMETRIA_IIst-pr. szczegółowy'!AW28 -> 25 | M28: ='OPTOMETRIA_IIst-pr. szczegółowy'!AB28+'OPTOMETRIA_IIst-pr. szczegółowy'!AD28+'OPTOMETRIA_IIst-pr. szczegółowy'!AY28+'OPTOMETRIA_IIst-pr. szczegółowy'!BA28 -> 10 | N28: ='OPTOMETRIA_IIst-pr. szczegółowy'!AA28+'OPTOMETRIA_IIst-pr. szczegółowy'!AX28 -> 25 | O28: ='OPTOMETRIA_IIst-pr. szczegółowy'!X28+'OPTOMETRIA_IIst-pr. szczegółowy'!AU28 -> 2 | P28: =IF('OPTOMETRIA_IIst-pr. szczegółowy'!V28>0,'OPTOMETRIA_IIst-pr. szczegółowy'!V28," ") -> zal/o | Q28: =SUM(T28:AO28) -> 1 | R28: =SUM(AP28:BD28) -> 4 | S28: =SUM(BE28:BI28) -> 3 | AI28: 1 | AW28: 1 | AX28: 1 | BA28: 1 | BC28: 1 | BE28: 1 | BH28: 1 | BI28: 1 | IW28: =SUM(BJ28:EU28) -> 0 | IX28: =SUM(EV28:IG28) -> 0 | IY28: =SUM(IH28:IV28) -> 0
A29: ='OPTOMETRIA_IIst-pr. szczegółowy'!A29 -> 10 | B29: =IF('OPTOMETRIA_IIst-pr. szczegółowy'!B29>0,'OPTOMETRIA_IIst-pr. szczegółowy'!B29," ") | C29: =IF('OPTOMETRIA_IIst-pr. szczegółowy'!C29>0,'OPTOMETRIA_IIst-pr. szczegółowy'!C29," ") -> 2026/2027 | D29: =IF('OPTOMETRIA_IIst-pr. szczegółowy'!D29>0,'OPTOMETRIA_IIst-pr. szczegółowy'!D29," ") | E29: =IF('OPTOMETRIA_IIst-pr. szczegółowy'!E29>0,'OPTOMETRIA_IIst-pr. szczegółowy'!E29," ") -> 1 | F29: =IF('OPTOMETRIA_IIst-pr. szczegółowy'!F29>0,'OPTOMETRIA_IIst-pr. szczegółowy'!F29," ") -> 2026/2027 | G29: =IF('OPTOMETRIA_IIst-pr. szczegółowy'!G29>0,'OPTOMETRIA_IIst-pr. szczegółowy'!G29," ") -> RPS | H29: =IF('OPTOMETRIA_IIst-pr. szczegółowy'!H29>0,'OPTOMETRIA_IIst-pr. szczegółowy'!H29," ") | I29: =IF('OPTOMETRIA_IIst-pr. szczegółowy'!I29>0,'OPTOMETRIA_IIst-pr. szczegółowy'!I29," ") -> pomiary refrakcji 1 | J29: ='OPTOMETRIA_IIst-pr. szczegółowy'!Y29+'OPTOMETRIA_IIst-pr. szczegółowy'!AV29 -> 75 | K29: ='OPTOMETRIA_IIst-pr. szczegółowy'!AS29+'OPTOMETRIA_IIst-pr. szczegółowy'!BP29 -> 35 | L29: ='OPTOMETRIA_IIst-pr. szczegółowy'!Z29+'OPTOMETRIA_IIst-pr. szczegółowy'!AW29 -> 40 | M29: ='OPTOMETRIA_IIst-pr. szczegółowy'!AB29+'OPTOMETRIA_IIst-pr. szczegółowy'!AD29+'OPTOMETRIA_IIst-pr. szczegółowy'!AY29+'OPTOMETRIA_IIst-pr. szczegółowy'!BA29 -> 20 | N29: ='OPTOMETRIA_IIst-pr. szczegółowy'!AA29+'OPTOMETRIA_IIst-pr. szczegółowy'!AX29 -> 40 | O29: ='OPTOMETRIA_IIst-pr. szczegółowy'!X29+'OPTOMETRIA_IIst-pr. szczegółowy'!AU29 -> 3 | P29: =IF('OPTOMETRIA_IIst-pr. szczegółowy'!V29>0,'OPTOMETRIA_IIst-pr. szczegółowy'!V29," ") -> zal/o | Q29: =SUM(T29:AO29) -> 2 | R29: =SUM(AP29:BD29) -> 3 | S29: =SUM(BE29:BI29) -> 1 | T29: 1 | W29: 1 | AP29: 1 | AR29: 1 | AT29: 1 | BE29: 1 | IW29: =SUM(BJ29:EU29) -> 0 | IX29: =SUM(EV29:IG29) -> 0 | IY29: =SUM(IH29:IV29) -> 0
A30: ='OPTOMETRIA_IIst-pr. szczegółowy'!A30 -> 11 | B30: =IF('OPTOMETRIA_IIst-pr. szczegółowy'!B30>0,'OPTOMETRIA_IIst-pr. szczegółowy'!B30," ") | C30: =IF('OPTOMETRIA_IIst-pr. szczegółowy'!C30>0,'OPTOMETRIA_IIst-pr. szczegółowy'!C30," ") -> 2026/2027 | D30: =IF('OPTOMETRIA_IIst-pr. szczegółowy'!D30>0,'OPTOMETRIA_IIst-pr. szczegółowy'!D30," ") | E30: =IF('OPTOMETRIA_IIst-pr. szczegółowy'!E30>0,'OPTOMETRIA_IIst-pr. szczegółowy'!E30," ") -> 1 | F30: =IF('OPTOMETRIA_IIst-pr. szczegółowy'!F30>0,'OPTOMETRIA_IIst-pr. szczegółowy'!F30," ") -> 2026/2027 | G30: =IF('OPTOMETRIA_IIst-pr. szczegółowy'!G30>0,'OPTOMETRIA_IIst-pr. szczegółowy'!G30," ") -> RPS | H30: =IF('OPTOMETRIA_IIst-pr. szczegółowy'!H30>0,'OPTOMETRIA_IIst-pr. szczegółowy'!H30," ") | I30: =IF('OPTOMETRIA_IIst-pr. szczegółowy'!I30>0,'OPTOMETRIA_IIst-pr. szczegółowy'!I30," ") -> język angielski | J30: ='OPTOMETRIA_IIst-pr. szczegółowy'!Y30+'OPTOMETRIA_IIst-pr. szczegółowy'!AV30 -> 100 | K30: ='OPTOMETRIA_IIst-pr. szczegółowy'!AS30+'OPTOMETRIA_IIst-pr. szczegółowy'!BP30 -> 40 | L30: ='OPTOMETRIA_IIst-pr. szczegółowy'!Z30+'OPTOMETRIA_IIst-pr. szczegółowy'!AW30 -> 60 | M30: ='OPTOMETRIA_IIst-pr. szczegółowy'!AB30+'OPTOMETRIA_IIst-pr. szczegółowy'!AD30+'OPTOMETRIA_IIst-pr. szczegółowy'!AY30+'OPTOMETRIA_IIst-pr. szczegółowy'!BA30 -> 0 | N30: ='OPTOMETRIA_IIst-pr. szczegółowy'!AA30+'OPTOMETRIA_IIst-pr. szczegółowy'!AX30 -> 60 | O30: ='OPTOMETRIA_IIst-pr. szczegółowy'!X30+'OPTOMETRIA_IIst-pr. szczegółowy'!AU30 -> 4 | P30: =IF('OPTOMETRIA_IIst-pr. szczegółowy'!V30>0,'OPTOMETRIA_IIst-pr. szczegółowy'!V30," ") -> zal/o | Q30: =SUM(T30:AO30) -> 0 | R30: =SUM(AP30:BD30) -> 3 | S30: =SUM(BE30:BI30) -> 1 | AV30: 1 | BA30: 1 | BB30: 1 | BE30: 1 | IW30: =SUM(BJ30:EU30) -> 0 | IX30: =SUM(EV30:IG30) -> 0 | IY30: =SUM(IH30:IV30) -> 0
A31: ='OPTOMETRIA_IIst-pr. szczegółowy'!A31 -> 12 | B31: =IF('OPTOMETRIA_IIst-pr. szczegółowy'!B31>0,'OPTOMETRIA_IIst-pr. szczegółowy'!B31," ") | C31: =IF('OPTOMETRIA_IIst-pr. szczegółowy'!C31>0,'OPTOMETRIA_IIst-pr. szczegółowy'!C31," ") -> 2026/2027 | D31: =IF('OPTOMETRIA_IIst-pr. szczegółowy'!D31>0,'OPTOMETRIA_IIst-pr. szczegółowy'!D31," ") | E31: =IF('OPTOMETRIA_IIst-pr. szczegółowy'!E31>0,'OPTOMETRIA_IIst-pr. szczegółowy'!E31," ") -> 1 | F31: =IF('OPTOMETRIA_IIst-pr. szczegółowy'!F31>0,'OPTOMETRIA_IIst-pr. szczegółowy'!F31," ") -> 2026/2027 | G31: =IF('OPTOMETRIA_IIst-pr. szczegółowy'!G31>0,'OPTOMETRIA_IIst-pr. szczegółowy'!G31," ") -> RPS | H31: =IF('OPTOMETRIA_IIst-pr. szczegółowy'!H31>0,'OPTOMETRIA_IIst-pr. szczegółowy'!H31," ") | I31: =IF('OPTOMETRIA_IIst-pr. szczegółowy'!I31>0,'OPTOMETRIA_IIst-pr. szczegółowy'!I31," ") -> pomiary refrakcji 2 | J31: ='OPTOMETRIA_IIst-pr. szczegółowy'!Y31+'OPTOMETRIA_IIst-pr. szczegółowy'!AV31 -> 75 | K31: ='OPTOMETRIA_IIst-pr. szczegółowy'!AS31+'OPTOMETRIA_IIst-pr. szczegółowy'!BP31 -> 30 | L31: ='OPTOMETRIA_IIst-pr. szczegółowy'!Z31+'OPTOMETRIA_IIst-pr. szczegółowy'!AW31 -> 45 | M31: ='OPTOMETRIA_IIst-pr. szczegółowy'!AB31+'OPTOMETRIA_IIst-pr. szczegółowy'!AD31+'OPTOMETRIA_IIst-pr. szczegółowy'!AY31+'OPTOMETRIA_IIst-pr. szczegółowy'!BA31 -> 15 | N31: ='OPTOMETRIA_IIst-pr. szczegółowy'!AA31+'OPTOMETRIA_IIst-pr. szczegółowy'!AX31 -> 45 | O31: ='OPTOMETRIA_IIst-pr. szczegółowy'!X31+'OPTOMETRIA_IIst-pr. szczegółowy'!AU31 -> 3 | P31: =IF('OPTOMETRIA_IIst-pr. szczegółowy'!V31>0,'OPTOMETRIA_IIst-pr. szczegółowy'!V31," ") -> zal/o | Q31: =SUM(T31:AO31) -> 1 | R31: =SUM(AP31:BD31) -> 3 | S31: =SUM(BE31:BI31) -> 1 | W31: 1 | AP31: 1 | AR31: 1 | AT31: 1 | BE31: 1 | IW31: =SUM(BJ31:EU31) -> 0 | IX31: =SUM(EV31:IG31) -> 0 | IY31: =SUM(IH31:IV31) -> 0
A32: ='OPTOMETRIA_IIst-pr. szczegółowy'!A32 -> 13 | B32: =IF('OPTOMETRIA_IIst-pr. szczegółowy'!B32>0,'OPTOMETRIA_IIst-pr. szczegółowy'!B32," ") | C32: =IF('OPTOMETRIA_IIst-pr. szczegółowy'!C32>0,'OPTOMETRIA_IIst-pr. szczegółowy'!C32," ") -> 2026/2027 | D32: =IF('OPTOMETRIA_IIst-pr. szczegółowy'!D32>0,'OPTOMETRIA_IIst-pr. szczegółowy'!D32," ") | E32: =IF('OPTOMETRIA_IIst-pr. szczegółowy'!E32>0,'OPTOMETRIA_IIst-pr. szczegółowy'!E32," ") -> 1 | F32: =IF('OPTOMETRIA_IIst-pr. szczegółowy'!F32>0,'OPTOMETRIA_IIst-pr. szczegółowy'!F32," ") -> 2026/2027 | G32: =IF('OPTOMETRIA_IIst-pr. szczegółowy'!G32>0,'OPTOMETRIA_IIst-pr. szczegółowy'!G32," ") -> RPS | H32: =IF('OPTOMETRIA_IIst-pr. szczegółowy'!H32>0,'OPTOMETRIA_IIst-pr. szczegółowy'!H32," ") | I32: =IF('OPTOMETRIA_IIst-pr. szczegółowy'!I32>0,'OPTOMETRIA_IIst-pr. szczegółowy'!I32," ") -> zaburzenia widzenia obuocznego z elementami strabologii 2 | J32: ='OPTOMETRIA_IIst-pr. szczegółowy'!Y32+'OPTOMETRIA_IIst-pr. szczegółowy'!AV32 -> 100 | K32: ='OPTOMETRIA_IIst-pr. szczegółowy'!AS32+'OPTOMETRIA_IIst-pr. szczegółowy'!BP32 -> 65 | L32: ='OPTOMETRIA_IIst-pr. szczegółowy'!Z32+'OPTOMETRIA_IIst-pr. szczegółowy'!AW32 -> 35 | M32: ='OPTOMETRIA_IIst-pr. szczegółowy'!AB32+'OPTOMETRIA_IIst-pr. szczegółowy'!AD32+'OPTOMETRIA_IIst-pr. szczegółowy'!AY32+'OPTOMETRIA_IIst-pr. szczegółowy'!BA32 -> 15 | N32: ='OPTOMETRIA_IIst-pr. szczegółowy'!AA32+'OPTOMETRIA_IIst-pr. szczegółowy'!AX32 -> 35 | O32: ='OPTOMETRIA_IIst-pr. szczegółowy'!X32+'OPTOMETRIA_IIst-pr. szczegółowy'!AU32 -> 4 | P32: =IF('OPTOMETRIA_IIst-pr. szczegółowy'!V32>0,'OPTOMETRIA_IIst-pr. szczegółowy'!V32," ") -> egz | Q32: =SUM(T32:AO32) -> 1 | R32: =SUM(AP32:BD32) -> 2 | S32: =SUM(BE32:BI32) -> 1 | Y32: 1 | AR32: 1 | AW32: 1 | BH32: 1 | IW32: =SUM(BJ32:EU32) -> 0 | IX32: =SUM(EV32:IG32) -> 0 | IY32: =SUM(IH32:IV32) -> 0
A33: ='OPTOMETRIA_IIst-pr. szczegółowy'!A33 -> 14 | B33: =IF('OPTOMETRIA_IIst-pr. szczegółowy'!B33>0,'OPTOMETRIA_IIst-pr. szczegółowy'!B33," ") | C33: =IF('OPTOMETRIA_IIst-pr. szczegółowy'!C33>0,'OPTOMETRIA_IIst-pr. szczegółowy'!C33," ") -> 2026/2027 | D33: =IF('OPTOMETRIA_IIst-pr. szczegółowy'!D33>0,'OPTOMETRIA_IIst-pr. szczegółowy'!D33," ") | E33: =IF('OPTOMETRIA_IIst-pr. szczegółowy'!E33>0,'OPTOMETRIA_IIst-pr. szczegółowy'!E33," ") -> 1 | F33: =IF('OPTOMETRIA_IIst-pr. szczegółowy'!F33>0,'OPTOMETRIA_IIst-pr. szczegółowy'!F33," ") -> 2026/2027 | G33: =IF('OPTOMETRIA_IIst-pr. szczegółowy'!G33>0,'OPTOMETRIA_IIst-pr. szczegółowy'!G33," ") -> RPS | H33: =IF('OPTOMETRIA_IIst-pr. szczegółowy'!H33>0,'OPTOMETRIA_IIst-pr. szczegółowy'!H33," ") | I33: =IF('OPTOMETRIA_IIst-pr. szczegółowy'!I33>0,'OPTOMETRIA_IIst-pr. szczegółowy'!I33," ") -> soczewki kontaktowe | J33: ='OPTOMETRIA_IIst-pr. szczegółowy'!Y33+'OPTOMETRIA_IIst-pr. szczegółowy'!AV33 -> 75 | K33: ='OPTOMETRIA_IIst-pr. szczegółowy'!AS33+'OPTOMETRIA_IIst-pr. szczegółowy'!BP33 -> 40 | L33: ='OPTOMETRIA_IIst-pr. szczegółowy'!Z33+'OPTOMETRIA_IIst-pr. szczegółowy'!AW33 -> 35 | M33: ='OPTOMETRIA_IIst-pr. szczegółowy'!AB33+'OPTOMETRIA_IIst-pr. szczegółowy'!AD33+'OPTOMETRIA_IIst-pr. szczegółowy'!AY33+'OPTOMETRIA_IIst-pr. szczegółowy'!BA33 -> 15 | N33: ='OPTOMETRIA_IIst-pr. szczegółowy'!AA33+'OPTOMETRIA_IIst-pr. szczegółowy'!AX33 -> 35 | O33: ='OPTOMETRIA_IIst-pr. szczegółowy'!X33+'OPTOMETRIA_IIst-pr. szczegółowy'!AU33 -> 3 | P33: =IF('OPTOMETRIA_IIst-pr. szczegółowy'!V33>0,'OPTOMETRIA_IIst-pr. szczegółowy'!V33," ") -> egz | Q33: =SUM(T33:AO33) -> 3 | R33: =SUM(AP33:BD33) -> 1 | S33: =SUM(BE33:BI33) -> 1 | W33: 1 | X33: 1 | AG33: 1 | AT33: 1 | BH33: 1 | IW33: =SUM(BJ33:EU33) -> 0 | IX33: =SUM(EV33:IG33) -> 0 | IY33: =SUM(IH33:IV33) -> 0
A34: ='OPTOMETRIA_IIst-pr. szczegółowy'!A34 -> 15 | B34: =IF('OPTOMETRIA_IIst-pr. szczegółowy'!B34>0,'OPTOMETRIA_IIst-pr. szczegółowy'!B34," ") | C34: =IF('OPTOMETRIA_IIst-pr. szczegółowy'!C34>0,'OPTOMETRIA_IIst-pr. szczegółowy'!C34," ") -> 2026/2027 | D34: =IF('OPTOMETRIA_IIst-pr. szczegółowy'!D34>0,'OPTOMETRIA_IIst-pr. szczegółowy'!D34," ") | E34: =IF('OPTOMETRIA_IIst-pr. szczegółowy'!E34>0,'OPTOMETRIA_IIst-pr. szczegółowy'!E34," ") -> 1 | F34: =IF('OPTOMETRIA_IIst-pr. szczegółowy'!F34>0,'OPTOMETRIA_IIst-pr. szczegółowy'!F34," ") -> 2026/2027 | G34: =IF('OPTOMETRIA_IIst-pr. szczegółowy'!G34>0,'OPTOMETRIA_IIst-pr. szczegółowy'!G34," ") -> RPS | H34: =IF('OPTOMETRIA_IIst-pr. szczegółowy'!H34>0,'OPTOMETRIA_IIst-pr. szczegółowy'!H34," ") | I34: =IF('OPTOMETRIA_IIst-pr. szczegółowy'!I34>0,'OPTOMETRIA_IIst-pr. szczegółowy'!I34," ") -> optyczna aparatura okulistyczno-optometryczna 2 | J34: ='OPTOMETRIA_IIst-pr. szczegółowy'!Y34+'OPTOMETRIA_IIst-pr. szczegółowy'!AV34 -> 75 | K34: ='OPTOMETRIA_IIst-pr. szczegółowy'!AS34+'OPTOMETRIA_IIst-pr. szczegółowy'!BP34 -> 40 | L34: ='OPTOMETRIA_IIst-pr. szczegółowy'!Z34+'OPTOMETRIA_IIst-pr. szczegółowy'!AW34 -> 35 | M34: ='OPTOMETRIA_IIst-pr. szczegółowy'!AB34+'OPTOMETRIA_IIst-pr. szczegółowy'!AD34+'OPTOMETRIA_IIst-pr. szczegółowy'!AY34+'OPTOMETRIA_IIst-pr. szczegółowy'!BA34 -> 15 | N34: ='OPTOMETRIA_IIst-pr. szczegółowy'!AA34+'OPTOMETRIA_IIst-pr. szczegółowy'!AX34 -> 35 | O34: ='OPTOMETRIA_IIst-pr. szczegółowy'!X34+'OPTOMETRIA_IIst-pr. szczegółowy'!AU34 -> 3 | P34: =IF('OPTOMETRIA_IIst-pr. szczegółowy'!V34>0,'OPTOMETRIA_IIst-pr. szczegółowy'!V34," ") -> zal/o | Q34: =SUM(T34:AO34) -> 3 | R34: =SUM(AP34:BD34) -> 1 | S34: =SUM(BE34:BI34) -> 1 | V34: 1 | AA34: 1 | AH34: 1 | AS34: 1 | BH34: 1 | IW34: =SUM(BJ34:EU34) -> 0 | IX34: =SUM(EV34:IG34) -> 0 | IY34: =SUM(IH34:IV34) -> 0
A35: ='OPTOMETRIA_IIst-pr. szczegółowy'!A35 -> 16 | B35: =IF('OPTOMETRIA_IIst-pr. szczegółowy'!B35>0,'OPTOMETRIA_IIst-pr. szczegółowy'!B35," ") | C35: =IF('OPTOMETRIA_IIst-pr. szczegółowy'!C35>0,'OPTOMETRIA_IIst-pr. szczegółowy'!C35," ") -> 2026/2027 | D35: =IF('OPTOMETRIA_IIst-pr. szczegółowy'!D35>0,'OPTOMETRIA_IIst-pr. szczegółowy'!D35," ") | E35: =IF('OPTOMETRIA_IIst-pr. szczegółowy'!E35>0,'OPTOMETRIA_IIst-pr. szczegółowy'!E35," ") -> 1 | F35: =IF('OPTOMETRIA_IIst-pr. szczegółowy'!F35>0,'OPTOMETRIA_IIst-pr. szczegółowy'!F35," ") -> 2026/2027 | G35: =IF('OPTOMETRIA_IIst-pr. szczegółowy'!G35>0,'OPTOMETRIA_IIst-pr. szczegółowy'!G35," ") -> POW | H35: =IF('OPTOMETRIA_IIst-pr. szczegółowy'!H35>0,'OPTOMETRIA_IIst-pr. szczegółowy'!H35," ") | I35: =IF('OPTOMETRIA_IIst-pr. szczegółowy'!I35>0,'OPTOMETRIA_IIst-pr. szczegółowy'!I35," ") -> seminarium dyplomowe 1 | J35: ='OPTOMETRIA_IIst-pr. szczegółowy'!Y35+'OPTOMETRIA_IIst-pr. szczegółowy'!AV35 -> 125 | K35: ='OPTOMETRIA_IIst-pr. szczegółowy'!AS35+'OPTOMETRIA_IIst-pr. szczegółowy'!BP35 -> 100 | L35: ='OPTOMETRIA_IIst-pr. szczegółowy'!Z35+'OPTOMETRIA_IIst-pr. szczegółowy'!AW35 -> 25 | M35: ='OPTOMETRIA_IIst-pr. szczegółowy'!AB35+'OPTOMETRIA_IIst-pr. szczegółowy'!AD35+'OPTOMETRIA_IIst-pr. szczegółowy'!AY35+'OPTOMETRIA_IIst-pr. szczegółowy'!BA35 -> 25 | N35: ='OPTOMETRIA_IIst-pr. szczegółowy'!AA35+'OPTOMETRIA_IIst-pr. szczegółowy'!AX35 -> 25 | O35: ='OPTOMETRIA_IIst-pr. szczegółowy'!X35+'OPTOMETRIA_IIst-pr. szczegółowy'!AU35 -> 5 | P35: =IF('OPTOMETRIA_IIst-pr. szczegółowy'!V35>0,'OPTOMETRIA_IIst-pr. szczegółowy'!V35," ") -> zal | Q35: =SUM(T35:AO35) -> 1 | R35: =SUM(AP35:BD35) -> 4 | S35: =SUM(BE35:BI35) -> 1 | AC35: 1 | AV35: 1 | AZ35: 1 | BB35: 1 | BD35: 1 | BF35: 1 | IW35: =SUM(BJ35:EU35) -> 0 | IX35: =SUM(EV35:IG35) -> 0 | IY35: =SUM(IH35:IV35) -> 0
A36: ='OPTOMETRIA_IIst-pr. szczegółowy'!A36 -> 17 | B36: =IF('OPTOMETRIA_IIst-pr. szczegółowy'!B36>0,'OPTOMETRIA_IIst-pr. szczegółowy'!B36," ") | C36: =IF('OPTOMETRIA_IIst-pr. szczegółowy'!C36>0,'OPTOMETRIA_IIst-pr. szczegółowy'!C36," ") -> 2026/2027 | D36: =IF('OPTOMETRIA_IIst-pr. szczegółowy'!D36>0,'OPTOMETRIA_IIst-pr. szczegółowy'!D36," ") | E36: =IF('OPTOMETRIA_IIst-pr. szczegółowy'!E36>0,'OPTOMETRIA_IIst-pr. szczegółowy'!E36," ") -> 1 | F36: =IF('OPTOMETRIA_IIst-pr. szczegółowy'!F36>0,'OPTOMETRIA_IIst-pr. szczegółowy'!F36," ") -> 2026/2027 | G36: =IF('OPTOMETRIA_IIst-pr. szczegółowy'!G36>0,'OPTOMETRIA_IIst-pr. szczegółowy'!G36," ") -> POW | H36: =IF('OPTOMETRIA_IIst-pr. szczegółowy'!H36>0,'OPTOMETRIA_IIst-pr. szczegółowy'!H36," ") | I36: =IF('OPTOMETRIA_IIst-pr. szczegółowy'!I36>0,'OPTOMETRIA_IIst-pr. szczegółowy'!I36," ") -> problematyka zdrowia publicznego / organizacja systemu ochrony zdrowia | J36: ='OPTOMETRIA_IIst-pr. szczegółowy'!Y36+'OPTOMETRIA_IIst-pr. szczegółowy'!AV36 -> 50 | K36: ='OPTOMETRIA_IIst-pr. szczegółowy'!AS36+'OPTOMETRIA_IIst-pr. szczegółowy'!BP36 -> 15 | L36: ='OPTOMETRIA_IIst-pr. szczegółowy'!Z36+'OPTOMETRIA_IIst-pr. szczegółowy'!AW36 -> 35 | M36: ='OPTOMETRIA_IIst-pr. szczegółowy'!AB36+'OPTOMETRIA_IIst-pr. szczegółowy'!AD36+'OPTOMETRIA_IIst-pr. szczegółowy'!AY36+'OPTOMETRIA_IIst-pr. szczegółowy'!BA36 -> 35 | N36: ='OPTOMETRIA_IIst-pr. szczegółowy'!AA36+'OPTOMETRIA_IIst-pr. szczegółowy'!AX36 -> 35 | O36: ='OPTOMETRIA_IIst-pr. szczegółowy'!X36+'OPTOMETRIA_IIst-pr. szczegółowy'!AU36 -> 2 | P36: =IF('OPTOMETRIA_IIst-pr. szczegółowy'!V36>0,'OPTOMETRIA_IIst-pr. szczegółowy'!V36," ") -> zal/o | Q36: =SUM(T36:AO36) -> 3 | R36: =SUM(AP36:BD36) -> 2 | S36: =SUM(BE36:BI36) -> 1 | AD36: 1 | AE36: 1 | AF36: 1 | AX36: 1 | AY36: 1 | BG36: 1 | IW36: =SUM(BJ36:EU36) -> 0 | IX36: =SUM(EV36:IG36) -> 0 | IY36: =SUM(IH36:IV36) -> 0
A37: ='OPTOMETRIA_IIst-pr. szczegółowy'!A37 -> 18 | B37: =IF('OPTOMETRIA_IIst-pr. szczegółowy'!B37>0,'OPTOMETRIA_IIst-pr. szczegółowy'!B37," ") | C37: =IF('OPTOMETRIA_IIst-pr. szczegółowy'!C37>0,'OPTOMETRIA_IIst-pr. szczegółowy'!C37," ") -> 2026/2027 | D37: =IF('OPTOMETRIA_IIst-pr. szczegółowy'!D37>0,'OPTOMETRIA_IIst-pr. szczegółowy'!D37," ") | E37: =IF('OPTOMETRIA_IIst-pr. szczegółowy'!E37>0,'OPTOMETRIA_IIst-pr. szczegółowy'!E37," ") -> 1 | F37: =IF('OPTOMETRIA_IIst-pr. szczegółowy'!F37>0,'OPTOMETRIA_IIst-pr. szczegółowy'!F37," ") -> 2026/2027 | G37: =IF('OPTOMETRIA_IIst-pr. szczegółowy'!G37>0,'OPTOMETRIA_IIst-pr. szczegółowy'!G37," ") -> POW | H37: =IF('OPTOMETRIA_IIst-pr. szczegółowy'!H37>0,'OPTOMETRIA_IIst-pr. szczegółowy'!H37," ") | I37: =IF('OPTOMETRIA_IIst-pr. szczegółowy'!I37>0,'OPTOMETRIA_IIst-pr. szczegółowy'!I37," ") -> zdrowie środowiskowe / zagrożenia epidemiologiczne | J37: ='OPTOMETRIA_IIst-pr. szczegółowy'!Y37+'OPTOMETRIA_IIst-pr. szczegółowy'!AV37 -> 50 | K37: ='OPTOMETRIA_IIst-pr. szczegółowy'!AS37+'OPTOMETRIA_IIst-pr. szczegółowy'!BP37 -> 15 | L37: ='OPTOMETRIA_IIst-pr. szczegółowy'!Z37+'OPTOMETRIA_IIst-pr. szczegółowy'!AW37 -> 35 | M37: ='OPTOMETRIA_IIst-pr. szczegółowy'!AB37+'OPTOMETRIA_IIst-pr. szczegółowy'!AD37+'OPTOMETRIA_IIst-pr. szczegółowy'!AY37+'OPTOMETRIA_IIst-pr. szczegółowy'!BA37 -> 35 | N37: ='OPTOMETRIA_IIst-pr. szczegółowy'!AA37+'OPTOMETRIA_IIst-pr. szczegółowy'!AX37 -> 35 | O37: ='OPTOMETRIA_IIst-pr. szczegółowy'!X37+'OPTOMETRIA_IIst-pr. szczegółowy'!AU37 -> 2 | P37: =IF('OPTOMETRIA_IIst-pr. szczegółowy'!V37>0,'OPTOMETRIA_IIst-pr. szczegółowy'!V37," ") -> zal/o | Q37: =SUM(T37:AO37) -> 1 | R37: =SUM(AP37:BD37) -> 1 | S37: =SUM(BE37:BI37) -> 1 | AD37: 1 | AY37: 1 | BG37: 1 | IW37: =SUM(BJ37:EU37) -> 0 | IX37: =SUM(EV37:IG37) -> 0 | IY37: =SUM(IH37:IV37) -> 0
A38: ='OPTOMETRIA_IIst-pr. szczegółowy'!A38 -> 19 | B38: =IF('OPTOMETRIA_IIst-pr. szczegółowy'!B38>0,'OPTOMETRIA_IIst-pr. szczegółowy'!B38," ") | C38: =IF('OPTOMETRIA_IIst-pr. szczegółowy'!C38>0,'OPTOMETRIA_IIst-pr. szczegółowy'!C38," ") -> 2026/2027 | D38: =IF('OPTOMETRIA_IIst-pr. szczegółowy'!D38>0,'OPTOMETRIA_IIst-pr. szczegółowy'!D38," ") | E38: =IF('OPTOMETRIA_IIst-pr. szczegółowy'!E38>0,'OPTOMETRIA_IIst-pr. szczegółowy'!E38," ") -> 1 | F38: =IF('OPTOMETRIA_IIst-pr. szczegółowy'!F38>0,'OPTOMETRIA_IIst-pr. szczegółowy'!F38," ") -> 2026/2027 | G38: =IF('OPTOMETRIA_IIst-pr. szczegółowy'!G38>0,'OPTOMETRIA_IIst-pr. szczegółowy'!G38," ") -> POW | H38: =IF('OPTOMETRIA_IIst-pr. szczegółowy'!H38>0,'OPTOMETRIA_IIst-pr. szczegółowy'!H38," ") | I38: =IF('OPTOMETRIA_IIst-pr. szczegółowy'!I38>0,'OPTOMETRIA_IIst-pr. szczegółowy'!I38," ") -> telemedycyna i e-zdrowie / wprowadzenie do praktycznego zastosowania sztucznej inteligencji w ochronie zdrowia | J38: ='OPTOMETRIA_IIst-pr. szczegółowy'!Y38+'OPTOMETRIA_IIst-pr. szczegółowy'!AV38 -> 50 | K38: ='OPTOMETRIA_IIst-pr. szczegółowy'!AS38+'OPTOMETRIA_IIst-pr. szczegółowy'!BP38 -> 15 | L38: ='OPTOMETRIA_IIst-pr. szczegółowy'!Z38+'OPTOMETRIA_IIst-pr. szczegółowy'!AW38 -> 35 | M38: ='OPTOMETRIA_IIst-pr. szczegółowy'!AB38+'OPTOMETRIA_IIst-pr. szczegółowy'!AD38+'OPTOMETRIA_IIst-pr. szczegółowy'!AY38+'OPTOMETRIA_IIst-pr. szczegółowy'!BA38 -> 15 | N38: ='OPTOMETRIA_IIst-pr. szczegółowy'!AA38+'OPTOMETRIA_IIst-pr. szczegółowy'!AX38 -> 35 | O38: ='OPTOMETRIA_IIst-pr. szczegółowy'!X38+'OPTOMETRIA_IIst-pr. szczegółowy'!AU38 -> 2 | P38: =IF('OPTOMETRIA_IIst-pr. szczegółowy'!V38>0,'OPTOMETRIA_IIst-pr. szczegółowy'!V38," ") -> zal/o | Q38: =SUM(T38:AO38) -> 1 | R38: =SUM(AP38:BD38) -> 1 | S38: =SUM(BE38:BI38) -> 2 | AH38: 1 | AS38: 1 | BF38: 1 | BG38: 1 | IW38: =SUM(BJ38:EU38) -> 0 | IX38: =SUM(EV38:IG38) -> 0 | IY38: =SUM(IH38:IV38) -> 0
A39: ='OPTOMETRIA_IIst-pr. szczegółowy'!A39 -> 20 | B39: =IF('OPTOMETRIA_IIst-pr. szczegółowy'!B39>0,'OPTOMETRIA_IIst-pr. szczegółowy'!B39," ") | C39: =IF('OPTOMETRIA_IIst-pr. szczegółowy'!C39>0,'OPTOMETRIA_IIst-pr. szczegółowy'!C39," ") -> 2026/2027 | D39: =IF('OPTOMETRIA_IIst-pr. szczegółowy'!D39>0,'OPTOMETRIA_IIst-pr. szczegółowy'!D39," ") | E39: =IF('OPTOMETRIA_IIst-pr. szczegółowy'!E39>0,'OPTOMETRIA_IIst-pr. szczegółowy'!E39," ") -> 1 | F39: =IF('OPTOMETRIA_IIst-pr. szczegółowy'!F39>0,'OPTOMETRIA_IIst-pr. szczegółowy'!F39," ") -> 2026/2027 | G39: =IF('OPTOMETRIA_IIst-pr. szczegółowy'!G39>0,'OPTOMETRIA_IIst-pr. szczegółowy'!G39," ") -> POW | H39: =IF('OPTOMETRIA_IIst-pr. szczegółowy'!H39>0,'OPTOMETRIA_IIst-pr. szczegółowy'!H39," ") | I39: =IF('OPTOMETRIA_IIst-pr. szczegółowy'!I39>0,'OPTOMETRIA_IIst-pr. szczegółowy'!I39," ") -> pierwsza pomoc / bezpieczeństwo i reagowanie w stanach zagrożenia życia | J39: ='OPTOMETRIA_IIst-pr. szczegółowy'!Y39+'OPTOMETRIA_IIst-pr. szczegółowy'!AV39 -> 50 | K39: ='OPTOMETRIA_IIst-pr. szczegółowy'!AS39+'OPTOMETRIA_IIst-pr. szczegółowy'!BP39 -> 25 | L39: ='OPTOMETRIA_IIst-pr. szczegółowy'!Z39+'OPTOMETRIA_IIst-pr. szczegółowy'!AW39 -> 25 | M39: ='OPTOMETRIA_IIst-pr. szczegółowy'!AB39+'OPTOMETRIA_IIst-pr. szczegółowy'!AD39+'OPTOMETRIA_IIst-pr. szczegółowy'!AY39+'OPTOMETRIA_IIst-pr. szczegółowy'!BA39 -> 10 | N39: ='OPTOMETRIA_IIst-pr. szczegółowy'!AA39+'OPTOMETRIA_IIst-pr. szczegółowy'!AX39 -> 25 | O39: ='OPTOMETRIA_IIst-pr. szczegółowy'!X39+'OPTOMETRIA_IIst-pr. szczegółowy'!AU39 -> 2 | P39: =IF('OPTOMETRIA_IIst-pr. szczegółowy'!V39>0,'OPTOMETRIA_IIst-pr. szczegółowy'!V39," ") -> zal/o | Q39: =SUM(T39:AO39) -> 1 | R39: =SUM(AP39:BD39) -> 2 | S39: =SUM(BE39:BI39) -> 1 | AG39: 1 | AU39: 1 | BA39: 1 | BE39: 1 | IW39: =SUM(BJ39:EU39) -> 0 | IX39: =SUM(EV39:IG39) -> 0 | IY39: =SUM(IH39:IV39) -> 0
A40: ='OPTOMETRIA_IIst-pr. szczegółowy'!A40 -> 21 | B40: =IF('OPTOMETRIA_IIst-pr. szczegółowy'!B40>0,'OPTOMETRIA_IIst-pr. szczegółowy'!B40," ") | C40: =IF('OPTOMETRIA_IIst-pr. szczegółowy'!C40>0,'OPTOMETRIA_IIst-pr. szczegółowy'!C40," ") -> 2026/2027 | D40: =IF('OPTOMETRIA_IIst-pr. szczegółowy'!D40>0,'OPTOMETRIA_IIst-pr. szczegółowy'!D40," ") | E40: =IF('OPTOMETRIA_IIst-pr. szczegółowy'!E40>0,'OPTOMETRIA_IIst-pr. szczegółowy'!E40," ") -> 1 | F40: =IF('OPTOMETRIA_IIst-pr. szczegółowy'!F40>0,'OPTOMETRIA_IIst-pr. szczegółowy'!F40," ") -> 2026/2027 | G40: =IF('OPTOMETRIA_IIst-pr. szczegółowy'!G40>0,'OPTOMETRIA_IIst-pr. szczegółowy'!G40," ") -> RPS | H40: =IF('OPTOMETRIA_IIst-pr. szczegółowy'!H40>0,'OPTOMETRIA_IIst-pr. szczegółowy'!H40," ") | I40: =IF('OPTOMETRIA_IIst-pr. szczegółowy'!I40>0,'OPTOMETRIA_IIst-pr. szczegółowy'!I40," ") -> praktyka zawodowa 1 | J40: ='OPTOMETRIA_IIst-pr. szczegółowy'!Y40+'OPTOMETRIA_IIst-pr. szczegółowy'!AV40 -> 50 | K40: ='OPTOMETRIA_IIst-pr. szczegółowy'!AS40+'OPTOMETRIA_IIst-pr. szczegółowy'!BP40 -> 0 | L40: ='OPTOMETRIA_IIst-pr. szczegółowy'!Z40+'OPTOMETRIA_IIst-pr. szczegółowy'!AW40 -> 50 | M40: ='OPTOMETRIA_IIst-pr. szczegółowy'!AB40+'OPTOMETRIA_IIst-pr. szczegółowy'!AD40+'OPTOMETRIA_IIst-pr. szczegółowy'!AY40+'OPTOMETRIA_IIst-pr. szczegółowy'!BA40 -> 0 | N40: ='OPTOMETRIA_IIst-pr. szczegółowy'!AA40+'OPTOMETRIA_IIst-pr. szczegółowy'!AX40 -> 50 | O40: ='OPTOMETRIA_IIst-pr. szczegółowy'!X40+'OPTOMETRIA_IIst-pr. szczegółowy'!AU40 -> 2 | P40: =IF('OPTOMETRIA_IIst-pr. szczegółowy'!V40>0,'OPTOMETRIA_IIst-pr. szczegółowy'!V40," ") -> zal | Q40: =SUM(T40:AO40) -> 1 | R40: =SUM(AP40:BD40) -> 7 | S40: =SUM(BE40:BI40) -> 2 | AA40: 1 | AP40: 1 | AQ40: 1 | AS40: 1 | AT40: 1 | AU40: 1 | AW40: 1 | AX40: 1 | BE40: 1 | BH40: 1 | IW40: =SUM(BJ40:EU40) -> 0 | IX40: =SUM(EV40:IG40) -> 0 | IY40: =SUM(IH40:IV40) -> 0
A41: ='OPTOMETRIA_IIst-pr. szczegółowy'!A41 -> 22 | B41: =IF('OPTOMETRIA_IIst-pr. szczegółowy'!B41>0,'OPTOMETRIA_IIst-pr. szczegółowy'!B41," ") | C41: =IF('OPTOMETRIA_IIst-pr. szczegółowy'!C41>0,'OPTOMETRIA_IIst-pr. szczegółowy'!C41," ") -> 2026/2027 | D41: =IF('OPTOMETRIA_IIst-pr. szczegółowy'!D41>0,'OPTOMETRIA_IIst-pr. szczegółowy'!D41," ") | E41: =IF('OPTOMETRIA_IIst-pr. szczegółowy'!E41>0,'OPTOMETRIA_IIst-pr. szczegółowy'!E41," ") -> 1 | F41: =IF('OPTOMETRIA_IIst-pr. szczegółowy'!F41>0,'OPTOMETRIA_IIst-pr. szczegółowy'!F41," ") -> 2026/2027 | G41: =IF('OPTOMETRIA_IIst-pr. szczegółowy'!G41>0,'OPTOMETRIA_IIst-pr. szczegółowy'!G41," ") -> RPS | H41: =IF('OPTOMETRIA_IIst-pr. szczegółowy'!H41>0,'OPTOMETRIA_IIst-pr. szczegółowy'!H41," ") | I41: =IF('OPTOMETRIA_IIst-pr. szczegółowy'!I41>0,'OPTOMETRIA_IIst-pr. szczegółowy'!I41," ") -> szkolenie BHP i Ppoż | J41: ='OPTOMETRIA_IIst-pr. szczegółowy'!Y41+'OPTOMETRIA_IIst-pr. szczegółowy'!AV41 -> 4 | K41: ='OPTOMETRIA_IIst-pr. szczegółowy'!AS41+'OPTOMETRIA_IIst-pr. szczegółowy'!BP41 -> 0 | L41: ='OPTOMETRIA_IIst-pr. szczegółowy'!Z41+'OPTOMETRIA_IIst-pr. szczegółowy'!AW41 -> 4 | M41: ='OPTOMETRIA_IIst-pr. szczegółowy'!AB41+'OPTOMETRIA_IIst-pr. szczegółowy'!AD41+'OPTOMETRIA_IIst-pr. szczegółowy'!AY41+'OPTOMETRIA_IIst-pr. szczegółowy'!BA41 -> 0 | N41: ='OPTOMETRIA_IIst-pr. szczegółowy'!AA41+'OPTOMETRIA_IIst-pr. szczegółowy'!AX41 -> 4 | O41: ='OPTOMETRIA_IIst-pr. szczegółowy'!X41+'OPTOMETRIA_IIst-pr. szczegółowy'!AU41 -> 0 | P41: =IF('OPTOMETRIA_IIst-pr. szczegółowy'!V41>0,'OPTOMETRIA_IIst-pr. szczegółowy'!V41," ") -> zal | Q41: =SUM(T41:AO41) -> 3 | R41: =SUM(AP41:BD41) -> 0 | S41: =SUM(BE41:BI41) -> 0 | AJ41: 1 | AK41: 1 | AL41: 1 | IW41: =SUM(BJ41:EU41) -> 0 | IX41: =SUM(EV41:IG41) -> 0 | IY41: =SUM(IH41:IV41) -> 0
A42: ='OPTOMETRIA_IIst-pr. szczegółowy'!A42 -> 23 | B42: =IF('OPTOMETRIA_IIst-pr. szczegółowy'!B42>0,'OPTOMETRIA_IIst-pr. szczegółowy'!B42," ") | C42: =IF('OPTOMETRIA_IIst-pr. szczegółowy'!C42>0,'OPTOMETRIA_IIst-pr. szczegółowy'!C42," ") -> 2026/2027 | D42: =IF('OPTOMETRIA_IIst-pr. szczegółowy'!D42>0,'OPTOMETRIA_IIst-pr. szczegółowy'!D42," ") | E42: =IF('OPTOMETRIA_IIst-pr. szczegółowy'!E42>0,'OPTOMETRIA_IIst-pr. szczegółowy'!E42," ") -> 1 | F42: =IF('OPTOMETRIA_IIst-pr. szczegółowy'!F42>0,'OPTOMETRIA_IIst-pr. szczegółowy'!F42," ") -> 2026/2027 | G42: =IF('OPTOMETRIA_IIst-pr. szczegółowy'!G42>0,'OPTOMETRIA_IIst-pr. szczegółowy'!G42," ") -> RPS | H42: =IF('OPTOMETRIA_IIst-pr. szczegółowy'!H42>0,'OPTOMETRIA_IIst-pr. szczegółowy'!H42," ") | I42: =IF('OPTOMETRIA_IIst-pr. szczegółowy'!I42>0,'OPTOMETRIA_IIst-pr. szczegółowy'!I42," ") -> szkolenie biblioteczne | J42: ='OPTOMETRIA_IIst-pr. szczegółowy'!Y42+'OPTOMETRIA_IIst-pr. szczegółowy'!AV42 -> 2 | K42: ='OPTOMETRIA_IIst-pr. szczegółowy'!AS42+'OPTOMETRIA_IIst-pr. szczegółowy'!BP42 -> 0 | L42: ='OPTOMETRIA_IIst-pr. szczegółowy'!Z42+'OPTOMETRIA_IIst-pr. szczegółowy'!AW42 -> 2 | M42: ='OPTOMETRIA_IIst-pr. szczegółowy'!AB42+'OPTOMETRIA_IIst-pr. szczegółowy'!AD42+'OPTOMETRIA_IIst-pr. szczegółowy'!AY42+'OPTOMETRIA_IIst-pr. szczegółowy'!BA42 -> 0 | N42: ='OPTOMETRIA_IIst-pr. szczegółowy'!AA42+'OPTOMETRIA_IIst-pr. szczegółowy'!AX42 -> 2 | O42: ='OPTOMETRIA_IIst-pr. szczegółowy'!X42+'OPTOMETRIA_IIst-pr. szczegółowy'!AU42 -> 0 | P42: =IF('OPTOMETRIA_IIst-pr. szczegółowy'!V42>0,'OPTOMETRIA_IIst-pr. szczegółowy'!V42," ") -> zal | Q42: =SUM(T42:AO42) -> 3 | R42: =SUM(AP42:BD42) -> 0 | S42: =SUM(BE42:BI42) -> 0 | AM42: 1 | AN42: 1 | AO42: 1 | IW42: =SUM(BJ42:EU42) -> 0 | IX42: =SUM(EV42:IG42) -> 0 | IY42: =SUM(IH42:IV42) -> 0
B43: =IF('OPTOMETRIA_IIst-pr. szczegółowy'!B43>0,'OPTOMETRIA_IIst-pr. szczegółowy'!B43," ") | C43: =IF('OPTOMETRIA_IIst-pr. szczegółowy'!C43>0,'OPTOMETRIA_IIst-pr. szczegółowy'!C43," ") | D43: =IF('OPTOMETRIA_IIst-pr. szczegółowy'!D43>0,'OPTOMETRIA_IIst-pr. szczegółowy'!D43," ") | E43: =IF('OPTOMETRIA_IIst-pr. szczegółowy'!E43>0,'OPTOMETRIA_IIst-pr. szczegółowy'!E43," ") | F43: =IF('OPTOMETRIA_IIst-pr. szczegółowy'!F43>0,'OPTOMETRIA_IIst-pr. szczegółowy'!F43," ") | G43: =IF('OPTOMETRIA_IIst-pr. szczegółowy'!G43>0,'OPTOMETRIA_IIst-pr. szczegółowy'!G43," ") | H43: =IF('OPTOMETRIA_IIst-pr. szczegółowy'!H43>0,'OPTOMETRIA_IIst-pr. szczegółowy'!H43," ") | I43: =IF('OPTOMETRIA_IIst-pr. szczegółowy'!I43>0,'OPTOMETRIA_IIst-pr. szczegółowy'!I43," ") -> sumy dla 1 roku | J43: ='OPTOMETRIA_IIst-pr. szczegółowy'!Y43+'OPTOMETRIA_IIst-pr. szczegółowy'!AV43 -> 1506 | K43: ='OPTOMETRIA_IIst-pr. szczegółowy'!AS43+'OPTOMETRIA_IIst-pr. szczegółowy'!BP43 -> 745 | L43: ='OPTOMETRIA_IIst-pr. szczegółowy'!Z43+'OPTOMETRIA_IIst-pr. szczegółowy'!AW43 -> 761 | M43: ='OPTOMETRIA_IIst-pr. szczegółowy'!AB43+'OPTOMETRIA_IIst-pr. szczegółowy'!AD43 -> 180 | N43: ='OPTOMETRIA_IIst-pr. szczegółowy'!AA43+'OPTOMETRIA_IIst-pr. szczegółowy'!AX43 -> 761 | O43: ='OPTOMETRIA_IIst-pr. szczegółowy'!X43+'OPTOMETRIA_IIst-pr. szczegółowy'!AU43 -> 60 | P43: =IF('OPTOMETRIA_IIst-pr. szczegółowy'!V43>0,'OPTOMETRIA_IIst-pr. szczegółowy'!V43," ") | Q43: =SUM(Q20:Q42) -> 41 | R43: =SUM(R20:R42) -> 48 | S43: =SUM(S20:S42) -> 27 | T43: =SUM(T20:T42) -> 2 | U43: =SUM(U20:U42) -> 1 | V43: =SUM(V20:V42) -> 3 | W43: =SUM(W20:W42) -> 4 | X43: =SUM(X20:X42) -> 1 | ... IY43: =SUM(IY20:IY42) -> 0
A44: ='OPTOMETRIA_IIst-pr. szczegółowy'!A44 -> 24 | B44: =IF('OPTOMETRIA_IIst-pr. szczegółowy'!B44>0,'OPTOMETRIA_IIst-pr. szczegółowy'!B44," ") | C44: =IF('OPTOMETRIA_IIst-pr. szczegółowy'!C44>0,'OPTOMETRIA_IIst-pr. szczegółowy'!C44," ") -> 2026/2027 | D44: =IF('OPTOMETRIA_IIst-pr. szczegółowy'!D44>0,'OPTOMETRIA_IIst-pr. szczegółowy'!D44," ") | E44: =IF('OPTOMETRIA_IIst-pr. szczegółowy'!E44>0,'OPTOMETRIA_IIst-pr. szczegółowy'!E44," ") -> 2 | F44: =IF('OPTOMETRIA_IIst-pr. szczegółowy'!F44>0,'OPTOMETRIA_IIst-pr. szczegółowy'!F44," ") -> 2027/2028 | G44: =IF('OPTOMETRIA_IIst-pr. szczegółowy'!G44>0,'OPTOMETRIA_IIst-pr. szczegółowy'!G44," ") -> RPS | H44: =IF('OPTOMETRIA_IIst-pr. szczegółowy'!H44>0,'OPTOMETRIA_IIst-pr. szczegółowy'!H44," ") | I44: =IF('OPTOMETRIA_IIst-pr. szczegółowy'!I44>0,'OPTOMETRIA_IIst-pr. szczegółowy'!I44," ") -> choroby oczu u dorosłych | J44: ='OPTOMETRIA_IIst-pr. szczegółowy'!Y44+'OPTOMETRIA_IIst-pr. szczegółowy'!AV44 -> 80 | K44: ='OPTOMETRIA_IIst-pr. szczegółowy'!AS44+'OPTOMETRIA_IIst-pr. szczegółowy'!BP44 -> 40 | L44: ='OPTOMETRIA_IIst-pr. szczegółowy'!Z44+'OPTOMETRIA_IIst-pr. szczegółowy'!AW44 -> 40 | M44: ='OPTOMETRIA_IIst-pr. szczegółowy'!AB44+'OPTOMETRIA_IIst-pr. szczegółowy'!AD44+'OPTOMETRIA_IIst-pr. szczegółowy'!AY44+'OPTOMETRIA_IIst-pr. szczegółowy'!BA44 -> 20 | N44: ='OPTOMETRIA_IIst-pr. szczegółowy'!AA44+'OPTOMETRIA_IIst-pr. szczegółowy'!AX44 -> 40 | O44: ='OPTOMETRIA_IIst-pr. szczegółowy'!X44+'OPTOMETRIA_IIst-pr. szczegółowy'!AU44 -> 3 | P44: =IF('OPTOMETRIA_IIst-pr. szczegółowy'!V44>0,'OPTOMETRIA_IIst-pr. szczegółowy'!V44," ") -> egz | Q44: =SUM(T44:AO44) -> 3 | R44: =SUM(AP44:BD44) -> 3 | S44: =SUM(BE44:BI44) -> 1 | T44: 1 | U44: 1 | Z44: 1 | AQ44: 1 | AU44: 1 | BA44: 1 | BH44: 1 | IW44: =SUM(BJ44:EU44) -> 0 | IX44: =SUM(EV44:IG44) -> 0 | IY44: =SUM(IH44:IV44) -> 0
A45: ='OPTOMETRIA_IIst-pr. szczegółowy'!A45 -> 25 | B45: =IF('OPTOMETRIA_IIst-pr. szczegółowy'!B45>0,'OPTOMETRIA_IIst-pr. szczegółowy'!B45," ") | C45: =IF('OPTOMETRIA_IIst-pr. szczegółowy'!C45>0,'OPTOMETRIA_IIst-pr. szczegółowy'!C45," ") -> 2026/2027 | D45: =IF('OPTOMETRIA_IIst-pr. szczegółowy'!D45>0,'OPTOMETRIA_IIst-pr. szczegółowy'!D45," ") | E45: =IF('OPTOMETRIA_IIst-pr. szczegółowy'!E45>0,'OPTOMETRIA_IIst-pr. szczegółowy'!E45," ") -> 2 | F45: =IF('OPTOMETRIA_IIst-pr. szczegółowy'!F45>0,'OPTOMETRIA_IIst-pr. szczegółowy'!F45," ") -> 2027/2028 | G45: =IF('OPTOMETRIA_IIst-pr. szczegółowy'!G45>0,'OPTOMETRIA_IIst-pr. szczegółowy'!G45," ") -> RPS | H45: =IF('OPTOMETRIA_IIst-pr. szczegółowy'!H45>0,'OPTOMETRIA_IIst-pr. szczegółowy'!H45," ") | I45: =IF('OPTOMETRIA_IIst-pr. szczegółowy'!I45>0,'OPTOMETRIA_IIst-pr. szczegółowy'!I45," ") -> choroby oczu u dzieci | J45: ='OPTOMETRIA_IIst-pr. szczegółowy'!Y45+'OPTOMETRIA_IIst-pr. szczegółowy'!AV45 -> 75 | K45: ='OPTOMETRIA_IIst-pr. szczegółowy'!AS45+'OPTOMETRIA_IIst-pr. szczegółowy'!BP45 -> 35 | L45: ='OPTOMETRIA_IIst-pr. szczegółowy'!Z45+'OPTOMETRIA_IIst-pr. szczegółowy'!AW45 -> 40 | M45: ='OPTOMETRIA_IIst-pr. szczegółowy'!AB45+'OPTOMETRIA_IIst-pr. szczegółowy'!AD45+'OPTOMETRIA_IIst-pr. szczegółowy'!AY45+'OPTOMETRIA_IIst-pr. szczegółowy'!BA45 -> 20 | N45: ='OPTOMETRIA_IIst-pr. szczegółowy'!AA45+'OPTOMETRIA_IIst-pr. szczegółowy'!AX45 -> 40 | O45: ='OPTOMETRIA_IIst-pr. szczegółowy'!X45+'OPTOMETRIA_IIst-pr. szczegółowy'!AU45 -> 3 | P45: =IF('OPTOMETRIA_IIst-pr. szczegółowy'!V45>0,'OPTOMETRIA_IIst-pr. szczegółowy'!V45," ") -> egz | Q45: =SUM(T45:AO45) -> 4 | R45: =SUM(AP45:BD45) -> 4 | S45: =SUM(BE45:BI45) -> 1 | T45: 1 | U45: 1 | W45: 1 | Y45: 1 | AQ45: 1 | AU45: 1 | AY45: 1 | BA45: 1 | BH45: 1 | IW45: =SUM(BJ45:EU45) -> 0 | IX45: =SUM(EV45:IG45) -> 0 | IY45: =SUM(IH45:IV45) -> 0
A46: ='OPTOMETRIA_IIst-pr. szczegółowy'!A46 -> 26 | B46: =IF('OPTOMETRIA_IIst-pr. szczegółowy'!B46>0,'OPTOMETRIA_IIst-pr. szczegółowy'!B46," ") | C46: =IF('OPTOMETRIA_IIst-pr. szczegółowy'!C46>0,'OPTOMETRIA_IIst-pr. szczegółowy'!C46," ") -> 2026/2027 | D46: =IF('OPTOMETRIA_IIst-pr. szczegółowy'!D46>0,'OPTOMETRIA_IIst-pr. szczegółowy'!D46," ") | E46: =IF('OPTOMETRIA_IIst-pr. szczegółowy'!E46>0,'OPTOMETRIA_IIst-pr. szczegółowy'!E46," ") -> 2 | F46: =IF('OPTOMETRIA_IIst-pr. szczegółowy'!F46>0,'OPTOMETRIA_IIst-pr. szczegółowy'!F46," ") -> 2027/2028 | G46: =IF('OPTOMETRIA_IIst-pr. szczegółowy'!G46>0,'OPTOMETRIA_IIst-pr. szczegółowy'!G46," ") -> RPS | H46: =IF('OPTOMETRIA_IIst-pr. szczegółowy'!H46>0,'OPTOMETRIA_IIst-pr. szczegółowy'!H46," ") | I46: =IF('OPTOMETRIA_IIst-pr. szczegółowy'!I46>0,'OPTOMETRIA_IIst-pr. szczegółowy'!I46," ") -> choroby siatkówki - metody diagnostyczne | J46: ='OPTOMETRIA_IIst-pr. szczegółowy'!Y46+'OPTOMETRIA_IIst-pr. szczegółowy'!AV46 -> 50 | K46: ='OPTOMETRIA_IIst-pr. szczegółowy'!AS46+'OPTOMETRIA_IIst-pr. szczegółowy'!BP46 -> 15 | L46: ='OPTOMETRIA_IIst-pr. szczegółowy'!Z46+'OPTOMETRIA_IIst-pr. szczegółowy'!AW46 -> 35 | M46: ='OPTOMETRIA_IIst-pr. szczegółowy'!AB46+'OPTOMETRIA_IIst-pr. szczegółowy'!AD46+'OPTOMETRIA_IIst-pr. szczegółowy'!AY46+'OPTOMETRIA_IIst-pr. szczegółowy'!BA46 -> 10 | N46: ='OPTOMETRIA_IIst-pr. szczegółowy'!AA46+'OPTOMETRIA_IIst-pr. szczegółowy'!AX46 -> 35 | O46: ='OPTOMETRIA_IIst-pr. szczegółowy'!X46+'OPTOMETRIA_IIst-pr. szczegółowy'!AU46 -> 2 | P46: =IF('OPTOMETRIA_IIst-pr. szczegółowy'!V46>0,'OPTOMETRIA_IIst-pr. szczegółowy'!V46," ") -> zal/o | Q46: =SUM(T46:AO46) -> 3 | R46: =SUM(AP46:BD46) -> 2 | S46: =SUM(BE46:BI46) -> 1 | U46: 1 | V46: 1 | X46: 1 | AQ46: 1 | AS46: 1 | BH46: 1 | IW46: =SUM(BJ46:EU46) -> 0 | IX46: =SUM(EV46:IG46) -> 0 | IY46: =SUM(IH46:IV46) -> 0
A47: ='OPTOMETRIA_IIst-pr. szczegółowy'!A47 -> 27 | B47: =IF('OPTOMETRIA_IIst-pr. szczegółowy'!B47>0,'OPTOMETRIA_IIst-pr. szczegółowy'!B47," ") | C47: =IF('OPTOMETRIA_IIst-pr. szczegółowy'!C47>0,'OPTOMETRIA_IIst-pr. szczegółowy'!C47," ") -> 2026/2027 | D47: =IF('OPTOMETRIA_IIst-pr. szczegółowy'!D47>0,'OPTOMETRIA_IIst-pr. szczegółowy'!D47," ") | E47: =IF('OPTOMETRIA_IIst-pr. szczegółowy'!E47>0,'OPTOMETRIA_IIst-pr. szczegółowy'!E47," ") -> 2 | F47: =IF('OPTOMETRIA_IIst-pr. szczegółowy'!F47>0,'OPTOMETRIA_IIst-pr. szczegółowy'!F47," ") -> 2027/2028 | G47: =IF('OPTOMETRIA_IIst-pr. szczegółowy'!G47>0,'OPTOMETRIA_IIst-pr. szczegółowy'!G47," ") -> RPS | H47: =IF('OPTOMETRIA_IIst-pr. szczegółowy'!H47>0,'OPTOMETRIA_IIst-pr. szczegółowy'!H47," ") | I47: =IF('OPTOMETRIA_IIst-pr. szczegółowy'!I47>0,'OPTOMETRIA_IIst-pr. szczegółowy'!I47," ") -> jaskra - metody diagnostyczne i leczenie | J47: ='OPTOMETRIA_IIst-pr. szczegółowy'!Y47+'OPTOMETRIA_IIst-pr. szczegółowy'!AV47 -> 50 | K47: ='OPTOMETRIA_IIst-pr. szczegółowy'!AS47+'OPTOMETRIA_IIst-pr. szczegółowy'!BP47 -> 15 | L47: ='OPTOMETRIA_IIst-pr. szczegółowy'!Z47+'OPTOMETRIA_IIst-pr. szczegółowy'!AW47 -> 35 | M47: ='OPTOMETRIA_IIst-pr. szczegółowy'!AB47+'OPTOMETRIA_IIst-pr. szczegółowy'!AD47+'OPTOMETRIA_IIst-pr. szczegółowy'!AY47+'OPTOMETRIA_IIst-pr. szczegółowy'!BA47 -> 10 | N47: ='OPTOMETRIA_IIst-pr. szczegółowy'!AA47+'OPTOMETRIA_IIst-pr. szczegółowy'!AX47 -> 35 | O47: ='OPTOMETRIA_IIst-pr. szczegółowy'!X47+'OPTOMETRIA_IIst-pr. szczegółowy'!AU47 -> 2 | P47: =IF('OPTOMETRIA_IIst-pr. szczegółowy'!V47>0,'OPTOMETRIA_IIst-pr. szczegółowy'!V47," ") -> zal/o | Q47: =SUM(T47:AO47) -> 3 | R47: =SUM(AP47:BD47) -> 2 | S47: =SUM(BE47:BI47) -> 1 | U47: 1 | V47: 1 | Z47: 1 | AQ47: 1 | AS47: 1 | BE47: 1 | IW47: =SUM(BJ47:EU47) -> 0 | IX47: =SUM(EV47:IG47) -> 0 | IY47: =SUM(IH47:IV47) -> 0 | JD47: {=+BG4BG47:JD50} -> #NAME?
A48: ='OPTOMETRIA_IIst-pr. szczegółowy'!A48 -> 28 | B48: =IF('OPTOMETRIA_IIst-pr. szczegółowy'!B48>0,'OPTOMETRIA_IIst-pr. szczegółowy'!B48," ") | C48: =IF('OPTOMETRIA_IIst-pr. szczegółowy'!C48>0,'OPTOMETRIA_IIst-pr. szczegółowy'!C48," ") -> 2026/2027 | D48: =IF('OPTOMETRIA_IIst-pr. szczegółowy'!D48>0,'OPTOMETRIA_IIst-pr. szczegółowy'!D48," ") | E48: =IF('OPTOMETRIA_IIst-pr. szczegółowy'!E48>0,'OPTOMETRIA_IIst-pr. szczegółowy'!E48," ") -> 2 | F48: =IF('OPTOMETRIA_IIst-pr. szczegółowy'!F48>0,'OPTOMETRIA_IIst-pr. szczegółowy'!F48," ") -> 2027/2028 | G48: =IF('OPTOMETRIA_IIst-pr. szczegółowy'!G48>0,'OPTOMETRIA_IIst-pr. szczegółowy'!G48," ") -> RPS | H48: =IF('OPTOMETRIA_IIst-pr. szczegółowy'!H48>0,'OPTOMETRIA_IIst-pr. szczegółowy'!H48," ") | I48: =IF('OPTOMETRIA_IIst-pr. szczegółowy'!I48>0,'OPTOMETRIA_IIst-pr. szczegółowy'!I48," ") -> pomiary refrakcji 3 | J48: ='OPTOMETRIA_IIst-pr. szczegółowy'!Y48+'OPTOMETRIA_IIst-pr. szczegółowy'!AV48 -> 75 | K48: ='OPTOMETRIA_IIst-pr. szczegółowy'!AS48+'OPTOMETRIA_IIst-pr. szczegółowy'!BP48 -> 30 | L48: ='OPTOMETRIA_IIst-pr. szczegółowy'!Z48+'OPTOMETRIA_IIst-pr. szczegółowy'!AW48 -> 45 | M48: ='OPTOMETRIA_IIst-pr. szczegółowy'!AB48+'OPTOMETRIA_IIst-pr. szczegółowy'!AD48+'OPTOMETRIA_IIst-pr. szczegółowy'!AY48+'OPTOMETRIA_IIst-pr. szczegółowy'!BA48 -> 0 | N48: ='OPTOMETRIA_IIst-pr. szczegółowy'!AA48+'OPTOMETRIA_IIst-pr. szczegółowy'!AX48 -> 45 | O48: ='OPTOMETRIA_IIst-pr. szczegółowy'!X48+'OPTOMETRIA_IIst-pr. szczegółowy'!AU48 -> 3 | P48: =IF('OPTOMETRIA_IIst-pr. szczegółowy'!V48>0,'OPTOMETRIA_IIst-pr. szczegółowy'!V48," ") -> zal/o | Q48: =SUM(T48:AO48) -> 2 | R48: =SUM(AP48:BD48) -> 3 | S48: =SUM(BE48:BI48) -> 1 | W48: 1 | X48: 1 | AP48: 1 | AR48: 1 | AT48: 1 | BE48: 1 | IW48: =SUM(BJ48:EU48) -> 0 | IX48: =SUM(EV48:IG48) -> 0 | IY48: =SUM(IH48:IV48) -> 0
A49: ='OPTOMETRIA_IIst-pr. szczegółowy'!A49 -> 29 | B49: =IF('OPTOMETRIA_IIst-pr. szczegółowy'!B49>0,'OPTOMETRIA_IIst-pr. szczegółowy'!B49," ") | C49: =IF('OPTOMETRIA_IIst-pr. szczegółowy'!C49>0,'OPTOMETRIA_IIst-pr. szczegółowy'!C49," ") -> 2026/2027 | D49: =IF('OPTOMETRIA_IIst-pr. szczegółowy'!D49>0,'OPTOMETRIA_IIst-pr. szczegółowy'!D49," ") | E49: =IF('OPTOMETRIA_IIst-pr. szczegółowy'!E49>0,'OPTOMETRIA_IIst-pr. szczegółowy'!E49," ") -> 2 | F49: =IF('OPTOMETRIA_IIst-pr. szczegółowy'!F49>0,'OPTOMETRIA_IIst-pr. szczegółowy'!F49," ") -> 2027/2028 | G49: =IF('OPTOMETRIA_IIst-pr. szczegółowy'!G49>0,'OPTOMETRIA_IIst-pr. szczegółowy'!G49," ") -> POW | H49: =IF('OPTOMETRIA_IIst-pr. szczegółowy'!H49>0,'OPTOMETRIA_IIst-pr. szczegółowy'!H49," ") | I49: =IF('OPTOMETRIA_IIst-pr. szczegółowy'!I49>0,'OPTOMETRIA_IIst-pr. szczegółowy'!I49," ") -> seminarium dyplomowe 2 | J49: ='OPTOMETRIA_IIst-pr. szczegółowy'!Y49+'OPTOMETRIA_IIst-pr. szczegółowy'!AV49 -> 125 | K49: ='OPTOMETRIA_IIst-pr. szczegółowy'!AS49+'OPTOMETRIA_IIst-pr. szczegółowy'!BP49 -> 100 | L49: ='OPTOMETRIA_IIst-pr. szczegółowy'!Z49+'OPTOMETRIA_IIst-pr. szczegółowy'!AW49 -> 25 | M49: ='OPTOMETRIA_IIst-pr. szczegółowy'!AB49+'OPTOMETRIA_IIst-pr. szczegółowy'!AD49+'OPTOMETRIA_IIst-pr. szczegółowy'!AY49+'OPTOMETRIA_IIst-pr. szczegółowy'!BA49 -> 25 | N49: ='OPTOMETRIA_IIst-pr. szczegółowy'!AA49+'OPTOMETRIA_IIst-pr. szczegółowy'!AX49 -> 25 | O49: ='OPTOMETRIA_IIst-pr. szczegółowy'!X49+'OPTOMETRIA_IIst-pr. szczegółowy'!AU49 -> 5 | P49: =IF('OPTOMETRIA_IIst-pr. szczegółowy'!V49>0,'OPTOMETRIA_IIst-pr. szczegółowy'!V49," ") -> zal/o | Q49: =SUM(T49:AO49) -> 1 | R49: =SUM(AP49:BD49) -> 4 | S49: =SUM(BE49:BI49) -> 1 | AC49: 1 | AU49: 1 | AV49: 1 | AZ49: 1 | BD49: 1 | BF49: 1 | IW49: =SUM(BJ49:EU49) -> 0 | IX49: =SUM(EV49:IG49) -> 0 | IY49: =SUM(IH49:IV49) -> 0
A50: ='OPTOMETRIA_IIst-pr. szczegółowy'!A50 -> 30 | B50: =IF('OPTOMETRIA_IIst-pr. szczegółowy'!B50>0,'OPTOMETRIA_IIst-pr. szczegółowy'!B50," ") | C50: =IF('OPTOMETRIA_IIst-pr. szczegółowy'!C50>0,'OPTOMETRIA_IIst-pr. szczegółowy'!C50," ") -> 2026/2027 | D50: =IF('OPTOMETRIA_IIst-pr. szczegółowy'!D50>0,'OPTOMETRIA_IIst-pr. szczegółowy'!D50," ") | E50: =IF('OPTOMETRIA_IIst-pr. szczegółowy'!E50>0,'OPTOMETRIA_IIst-pr. szczegółowy'!E50," ") -> 2 | F50: =IF('OPTOMETRIA_IIst-pr. szczegółowy'!F50>0,'OPTOMETRIA_IIst-pr. szczegółowy'!F50," ") -> 2027/2028 | G50: =IF('OPTOMETRIA_IIst-pr. szczegółowy'!G50>0,'OPTOMETRIA_IIst-pr. szczegółowy'!G50," ") -> RPS | H50: =IF('OPTOMETRIA_IIst-pr. szczegółowy'!H50>0,'OPTOMETRIA_IIst-pr. szczegółowy'!H50," ") | I50: =IF('OPTOMETRIA_IIst-pr. szczegółowy'!I50>0,'OPTOMETRIA_IIst-pr. szczegółowy'!I50," ") -> praktyka zawodowa 2 | J50: ='OPTOMETRIA_IIst-pr. szczegółowy'!Y50+'OPTOMETRIA_IIst-pr. szczegółowy'!AV50 -> 50 | K50: ='OPTOMETRIA_IIst-pr. szczegółowy'!AS50+'OPTOMETRIA_IIst-pr. szczegółowy'!BP50 -> 0 | L50: ='OPTOMETRIA_IIst-pr. szczegółowy'!Z50+'OPTOMETRIA_IIst-pr. szczegółowy'!AW50 -> 50 | M50: ='OPTOMETRIA_IIst-pr. szczegółowy'!AB50+'OPTOMETRIA_IIst-pr. szczegółowy'!AD50+'OPTOMETRIA_IIst-pr. szczegółowy'!AY50+'OPTOMETRIA_IIst-pr. szczegółowy'!BA50 -> 0 | N50: ='OPTOMETRIA_IIst-pr. szczegółowy'!AA50+'OPTOMETRIA_IIst-pr. szczegółowy'!AX50 -> 50 | O50: ='OPTOMETRIA_IIst-pr. szczegółowy'!X50+'OPTOMETRIA_IIst-pr. szczegółowy'!AU50 -> 2 | P50: =IF('OPTOMETRIA_IIst-pr. szczegółowy'!V50>0,'OPTOMETRIA_IIst-pr. szczegółowy'!V50," ") -> zal/o | Q50: =SUM(T50:AO50) -> 2 | R50: =SUM(AP50:BD50) -> 8 | S50: =SUM(BE50:BI50) -> 1 | AA50: 1 | AB50: 1 | AP50: 1 | AQ50: 1 | AS50: 1 | AT50: 1 | AW50: 1 | AX50: 1 | BC50: 1 | BD50: 1 | BH50: 1 | IW50: =SUM(BJ50:EU50) -> 0 | IX50: =SUM(EV50:IG50) -> 0 | IY50: =SUM(IH50:IV50) -> 0
A51: ='OPTOMETRIA_IIst-pr. szczegółowy'!A51 -> 31 | B51: =IF('OPTOMETRIA_IIst-pr. szczegółowy'!B51>0,'OPTOMETRIA_IIst-pr. szczegółowy'!B51," ") | C51: =IF('OPTOMETRIA_IIst-pr. szczegółowy'!C51>0,'OPTOMETRIA_IIst-pr. szczegółowy'!C51," ") -> 2026/2027 | D51: =IF('OPTOMETRIA_IIst-pr. szczegółowy'!D51>0,'OPTOMETRIA_IIst-pr. szczegółowy'!D51," ") | E51: =IF('OPTOMETRIA_IIst-pr. szczegółowy'!E51>0,'OPTOMETRIA_IIst-pr. szczegółowy'!E51," ") -> 2 | F51: =IF('OPTOMETRIA_IIst-pr. szczegółowy'!F51>0,'OPTOMETRIA_IIst-pr. szczegółowy'!F51," ") -> 2027/2028 | G51: =IF('OPTOMETRIA_IIst-pr. szczegółowy'!G51>0,'OPTOMETRIA_IIst-pr. szczegółowy'!G51," ") -> POW | H51: =IF('OPTOMETRIA_IIst-pr. szczegółowy'!H51>0,'OPTOMETRIA_IIst-pr. szczegółowy'!H51," ") | I51: =IF('OPTOMETRIA_IIst-pr. szczegółowy'!I51>0,'OPTOMETRIA_IIst-pr. szczegółowy'!I51," ") -> bezpieczeństwo pacjenta i personelu medycznego / zarządzanie ryzykiem klinicznym | J51: ='OPTOMETRIA_IIst-pr. szczegółowy'!Y51+'OPTOMETRIA_IIst-pr. szczegółowy'!AV51 -> 50 | K51: ='OPTOMETRIA_IIst-pr. szczegółowy'!AS51+'OPTOMETRIA_IIst-pr. szczegółowy'!BP51 -> 25 | L51: ='OPTOMETRIA_IIst-pr. szczegółowy'!Z51+'OPTOMETRIA_IIst-pr. szczegółowy'!AW51 -> 25 | M51: ='OPTOMETRIA_IIst-pr. szczegółowy'!AB51+'OPTOMETRIA_IIst-pr. szczegółowy'!AD51+'OPTOMETRIA_IIst-pr. szczegółowy'!AY51+'OPTOMETRIA_IIst-pr. szczegółowy'!BA51 -> 25 | N51: ='OPTOMETRIA_IIst-pr. szczegółowy'!AA51+'OPTOMETRIA_IIst-pr. szczegółowy'!AX51 -> 25 | O51: ='OPTOMETRIA_IIst-pr. szczegółowy'!X51+'OPTOMETRIA_IIst-pr. szczegółowy'!AU51 -> 2 | P51: =IF('OPTOMETRIA_IIst-pr. szczegółowy'!V51>0,'OPTOMETRIA_IIst-pr. szczegółowy'!V51," ") -> zal/o | Q51: =SUM(T51:AO51) -> 3 | R51: =SUM(AP51:BD51) -> 2 | S51: =SUM(BE51:BI51) -> 2 | AE51: 1 | AF51: 1 | AG51: 1 | AX51: 1 | BC51: 1 | BE51: 1 | BH51: 1 | IW51: =SUM(BJ51:EU51) -> 0 | IX51: =SUM(EV51:IG51) -> 0 | IY51: =SUM(IH51:IV51) -> 0
A52: ='OPTOMETRIA_IIst-pr. szczegółowy'!A52 -> 32 | B52: =IF('OPTOMETRIA_IIst-pr. szczegółowy'!B52>0,'OPTOMETRIA_IIst-pr. szczegółowy'!B52," ") | C52: =IF('OPTOMETRIA_IIst-pr. szczegółowy'!C52>0,'OPTOMETRIA_IIst-pr. szczegółowy'!C52," ") -> 2026/2027 | D52: =IF('OPTOMETRIA_IIst-pr. szczegółowy'!D52>0,'OPTOMETRIA_IIst-pr. szczegółowy'!D52," ") | E52: =IF('OPTOMETRIA_IIst-pr. szczegółowy'!E52>0,'OPTOMETRIA_IIst-pr. szczegółowy'!E52," ") -> 2 | F52: =IF('OPTOMETRIA_IIst-pr. szczegółowy'!F52>0,'OPTOMETRIA_IIst-pr. szczegółowy'!F52," ") -> 2027/2028 | G52: =IF('OPTOMETRIA_IIst-pr. szczegółowy'!G52>0,'OPTOMETRIA_IIst-pr. szczegółowy'!G52," ") -> POW | H52: =IF('OPTOMETRIA_IIst-pr. szczegółowy'!H52>0,'OPTOMETRIA_IIst-pr. szczegółowy'!H52," ") | I52: =IF('OPTOMETRIA_IIst-pr. szczegółowy'!I52>0,'OPTOMETRIA_IIst-pr. szczegółowy'!I52," ") -> fizjoprofilaktyka narządu wzroku / profilaktyka zaburzeń wzroku | J52: ='OPTOMETRIA_IIst-pr. szczegółowy'!Y52+'OPTOMETRIA_IIst-pr. szczegółowy'!AV52 -> 50 | K52: ='OPTOMETRIA_IIst-pr. szczegółowy'!AS52+'OPTOMETRIA_IIst-pr. szczegółowy'!BP52 -> 25 | L52: ='OPTOMETRIA_IIst-pr. szczegółowy'!Z52+'OPTOMETRIA_IIst-pr. szczegółowy'!AW52 -> 25 | M52: ='OPTOMETRIA_IIst-pr. szczegółowy'!AB52+'OPTOMETRIA_IIst-pr. szczegółowy'!AD52+'OPTOMETRIA_IIst-pr. szczegółowy'!AY52+'OPTOMETRIA_IIst-pr. szczegółowy'!BA52 -> 10 | N52: ='OPTOMETRIA_IIst-pr. szczegółowy'!AA52+'OPTOMETRIA_IIst-pr. szczegółowy'!AX52 -> 25 | O52: ='OPTOMETRIA_IIst-pr. szczegółowy'!X52+'OPTOMETRIA_IIst-pr. szczegółowy'!AU52 -> 2 | P52: =IF('OPTOMETRIA_IIst-pr. szczegółowy'!V52>0,'OPTOMETRIA_IIst-pr. szczegółowy'!V52," ") -> zal/o | Q52: =SUM(T52:AO52) -> 3 | R52: =SUM(AP52:BD52) -> 3 | S52: =SUM(BE52:BI52) -> 1 | W52: 1 | AB52: 1 | AD52: 1 | AW52: 1 | AY52: 1 | AZ52: 1 | BG52: 1 | IW52: =SUM(BJ52:EU52) -> 0 | IX52: =SUM(EV52:IG52) -> 0 | IY52: =SUM(IH52:IV52) -> 0
A53: ='OPTOMETRIA_IIst-pr. szczegółowy'!A53 -> 33 | B53: =IF('OPTOMETRIA_IIst-pr. szczegółowy'!B53>0,'OPTOMETRIA_IIst-pr. szczegółowy'!B53," ") | C53: =IF('OPTOMETRIA_IIst-pr. szczegółowy'!C53>0,'OPTOMETRIA_IIst-pr. szczegółowy'!C53," ") -> 2026/2027 | D53: =IF('OPTOMETRIA_IIst-pr. szczegółowy'!D53>0,'OPTOMETRIA_IIst-pr. szczegółowy'!D53," ") | E53: =IF('OPTOMETRIA_IIst-pr. szczegółowy'!E53>0,'OPTOMETRIA_IIst-pr. szczegółowy'!E53," ") -> 2 | F53: =IF('OPTOMETRIA_IIst-pr. szczegółowy'!F53>0,'OPTOMETRIA_IIst-pr. szczegółowy'!F53," ") -> 2027/2028 | G53: =IF('OPTOMETRIA_IIst-pr. szczegółowy'!G53>0,'OPTOMETRIA_IIst-pr. szczegółowy'!G53," ") -> POW | H53: =IF('OPTOMETRIA_IIst-pr. szczegółowy'!H53>0,'OPTOMETRIA_IIst-pr. szczegółowy'!H53," ") | I53: =IF('OPTOMETRIA_IIst-pr. szczegółowy'!I53>0,'OPTOMETRIA_IIst-pr. szczegółowy'!I53," ") -> pomoce wzrokowe dla osób słabowidzących / wspomaganie funkcjonowania osób słabowidzących | J53: ='OPTOMETRIA_IIst-pr. szczegółowy'!Y53+'OPTOMETRIA_IIst-pr. szczegółowy'!AV53 -> 50 | K53: ='OPTOMETRIA_IIst-pr. szczegółowy'!AS53+'OPTOMETRIA_IIst-pr. szczegółowy'!BP53 -> 20 | L53: ='OPTOMETRIA_IIst-pr. szczegółowy'!Z53+'OPTOMETRIA_IIst-pr. szczegółowy'!AW53 -> 30 | M53: ='OPTOMETRIA_IIst-pr. szczegółowy'!AB53+'OPTOMETRIA_IIst-pr. szczegółowy'!AD53+'OPTOMETRIA_IIst-pr. szczegółowy'!AY53+'OPTOMETRIA_IIst-pr. szczegółowy'!BA53 -> 10 | N53: ='OPTOMETRIA_IIst-pr. szczegółowy'!AA53+'OPTOMETRIA_IIst-pr. szczegółowy'!AX53 -> 30 | O53: ='OPTOMETRIA_IIst-pr. szczegółowy'!X53+'OPTOMETRIA_IIst-pr. szczegółowy'!AU53 -> 2 | P53: =IF('OPTOMETRIA_IIst-pr. szczegółowy'!V53>0,'OPTOMETRIA_IIst-pr. szczegółowy'!V53," ") -> zal/o | Q53: =SUM(T53:AO53) -> 2 | R53: =SUM(AP53:BD53) -> 2 | S53: =SUM(BE53:BI53) -> 2 | X53: 1 | AB53: 1 | AT53: 1 | AW53: 1 | BE53: 1 | BH53: 1 | IW53: =SUM(BJ53:EU53) -> 0 | IX53: =SUM(EV53:IG53) -> 0 | IY53: =SUM(IH53:IV53) -> 0
A54: ='OPTOMETRIA_IIst-pr. szczegółowy'!A54 -> 34 | B54: =IF('OPTOMETRIA_IIst-pr. szczegółowy'!B54>0,'OPTOMETRIA_IIst-pr. szczegółowy'!B54," ") | C54: =IF('OPTOMETRIA_IIst-pr. szczegółowy'!C54>0,'OPTOMETRIA_IIst-pr. szczegółowy'!C54," ") -> 2026/2027 | D54: =IF('OPTOMETRIA_IIst-pr. szczegółowy'!D54>0,'OPTOMETRIA_IIst-pr. szczegółowy'!D54," ") | E54: =IF('OPTOMETRIA_IIst-pr. szczegółowy'!E54>0,'OPTOMETRIA_IIst-pr. szczegółowy'!E54," ") -> 2 | F54: =IF('OPTOMETRIA_IIst-pr. szczegółowy'!F54>0,'OPTOMETRIA_IIst-pr. szczegółowy'!F54," ") -> 2027/2028 | G54: =IF('OPTOMETRIA_IIst-pr. szczegółowy'!G54>0,'OPTOMETRIA_IIst-pr. szczegółowy'!G54," ") -> RPS | H54: =IF('OPTOMETRIA_IIst-pr. szczegółowy'!H54>0,'OPTOMETRIA_IIst-pr. szczegółowy'!H54," ") | I54: =IF('OPTOMETRIA_IIst-pr. szczegółowy'!I54>0,'OPTOMETRIA_IIst-pr. szczegółowy'!I54," ") -> psychologia poznawcza | J54: ='OPTOMETRIA_IIst-pr. szczegółowy'!Y54+'OPTOMETRIA_IIst-pr. szczegółowy'!AV54 -> 50 | K54: ='OPTOMETRIA_IIst-pr. szczegółowy'!AS54+'OPTOMETRIA_IIst-pr. szczegółowy'!BP54 -> 20 | L54: ='OPTOMETRIA_IIst-pr. szczegółowy'!Z54+'OPTOMETRIA_IIst-pr. szczegółowy'!AW54 -> 30 | M54: ='OPTOMETRIA_IIst-pr. szczegółowy'!AB54+'OPTOMETRIA_IIst-pr. szczegółowy'!AD54+'OPTOMETRIA_IIst-pr. szczegółowy'!AY54+'OPTOMETRIA_IIst-pr. szczegółowy'!BA54 -> 30 | N54: ='OPTOMETRIA_IIst-pr. szczegółowy'!AA54+'OPTOMETRIA_IIst-pr. szczegółowy'!AX54 -> 30 | O54: ='OPTOMETRIA_IIst-pr. szczegółowy'!X54+'OPTOMETRIA_IIst-pr. szczegółowy'!AU54 -> 2 | P54: =IF('OPTOMETRIA_IIst-pr. szczegółowy'!V54>0,'OPTOMETRIA_IIst-pr. szczegółowy'!V54," ") -> zal/o | Q54: =SUM(T54:AO54) -> 1 | R54: =SUM(AP54:BD54) -> 2 | S54: =SUM(BE54:BI54) -> 2 | AI54: 1 | BA54: 1 | BC54: 1 | BE54: 1 | BH54: 1 | IW54: =SUM(BJ54:EU54) -> 0 | IX54: =SUM(EV54:IG54) -> 0 | IY54: =SUM(IH54:IV54) -> 0
A55: ='OPTOMETRIA_IIst-pr. szczegółowy'!A55 -> 35 | B55: =IF('OPTOMETRIA_IIst-pr. szczegółowy'!B55>0,'OPTOMETRIA_IIst-pr. szczegółowy'!B55," ") | C55: =IF('OPTOMETRIA_IIst-pr. szczegółowy'!C55>0,'OPTOMETRIA_IIst-pr. szczegółowy'!C55," ") -> 2026/2027 | D55: =IF('OPTOMETRIA_IIst-pr. szczegółowy'!D55>0,'OPTOMETRIA_IIst-pr. szczegółowy'!D55," ") | E55: =IF('OPTOMETRIA_IIst-pr. szczegółowy'!E55>0,'OPTOMETRIA_IIst-pr. szczegółowy'!E55," ") -> 2 | F55: =IF('OPTOMETRIA_IIst-pr. szczegółowy'!F55>0,'OPTOMETRIA_IIst-pr. szczegółowy'!F55," ") -> 2027/2028 | G55: =IF('OPTOMETRIA_IIst-pr. szczegółowy'!G55>0,'OPTOMETRIA_IIst-pr. szczegółowy'!G55," ") -> RPS | H55: =IF('OPTOMETRIA_IIst-pr. szczegółowy'!H55>0,'OPTOMETRIA_IIst-pr. szczegółowy'!H55," ") | I55: =IF('OPTOMETRIA_IIst-pr. szczegółowy'!I55>0,'OPTOMETRIA_IIst-pr. szczegółowy'!I55," ") -> badanie okulistyczne | J55: ='OPTOMETRIA_IIst-pr. szczegółowy'!Y55+'OPTOMETRIA_IIst-pr. szczegółowy'!AV55 -> 75 | K55: ='OPTOMETRIA_IIst-pr. szczegółowy'!AS55+'OPTOMETRIA_IIst-pr. szczegółowy'!BP55 -> 30 | L55: ='OPTOMETRIA_IIst-pr. szczegółowy'!Z55+'OPTOMETRIA_IIst-pr. szczegółowy'!AW55 -> 45 | M55: ='OPTOMETRIA_IIst-pr. szczegółowy'!AB55+'OPTOMETRIA_IIst-pr. szczegółowy'!AD55+'OPTOMETRIA_IIst-pr. szczegółowy'!AY55+'OPTOMETRIA_IIst-pr. szczegółowy'!BA55 -> 15 | N55: ='OPTOMETRIA_IIst-pr. szczegółowy'!AA55+'OPTOMETRIA_IIst-pr. szczegółowy'!AX55 -> 45 | O55: ='OPTOMETRIA_IIst-pr. szczegółowy'!X55+'OPTOMETRIA_IIst-pr. szczegółowy'!AU55 -> 3 | P55: =IF('OPTOMETRIA_IIst-pr. szczegółowy'!V55>0,'OPTOMETRIA_IIst-pr. szczegółowy'!V55," ") -> zal/o | Q55: =SUM(T55:AO55) -> 5 | R55: =SUM(AP55:BD55) -> 5 | S55: =SUM(BE55:BI55) -> 2 | U55: 1 | V55: 1 | Z55: 1 | AG55: 1 | AI55: 1 | AP55: 1 | AQ55: 1 | AR55: 1 | AU55: 1 | AX55: 1 | BE55: 1 | BH55: 1 | IW55: =SUM(BJ55:EU55) -> 0 | IX55: =SUM(EV55:IG55) -> 0 | IY55: =SUM(IH55:IV55) -> 0
A56: ='OPTOMETRIA_IIst-pr. szczegółowy'!A56 -> 36 | B56: =IF('OPTOMETRIA_IIst-pr. szczegółowy'!B56>0,'OPTOMETRIA_IIst-pr. szczegółowy'!B56," ") | C56: =IF('OPTOMETRIA_IIst-pr. szczegółowy'!C56>0,'OPTOMETRIA_IIst-pr. szczegółowy'!C56," ") -> 2026/2027 | D56: =IF('OPTOMETRIA_IIst-pr. szczegółowy'!D56>0,'OPTOMETRIA_IIst-pr. szczegółowy'!D56," ") | E56: =IF('OPTOMETRIA_IIst-pr. szczegółowy'!E56>0,'OPTOMETRIA_IIst-pr. szczegółowy'!E56," ") -> 2 | F56: =IF('OPTOMETRIA_IIst-pr. szczegółowy'!F56>0,'OPTOMETRIA_IIst-pr. szczegółowy'!F56," ") -> 2027/2028 | G56: =IF('OPTOMETRIA_IIst-pr. szczegółowy'!G56>0,'OPTOMETRIA_IIst-pr. szczegółowy'!G56," ") -> RPS | H56: =IF('OPTOMETRIA_IIst-pr. szczegółowy'!H56>0,'OPTOMETRIA_IIst-pr. szczegółowy'!H56," ") | I56: =IF('OPTOMETRIA_IIst-pr. szczegółowy'!I56>0,'OPTOMETRIA_IIst-pr. szczegółowy'!I56," ") -> zaćma - diagnostyka i leczenie | J56: ='OPTOMETRIA_IIst-pr. szczegółowy'!Y56+'OPTOMETRIA_IIst-pr. szczegółowy'!AV56 -> 75 | K56: ='OPTOMETRIA_IIst-pr. szczegółowy'!AS56+'OPTOMETRIA_IIst-pr. szczegółowy'!BP56 -> 35 | L56: ='OPTOMETRIA_IIst-pr. szczegółowy'!Z56+'OPTOMETRIA_IIst-pr. szczegółowy'!AW56 -> 40 | M56: ='OPTOMETRIA_IIst-pr. szczegółowy'!AB56+'OPTOMETRIA_IIst-pr. szczegółowy'!AD56+'OPTOMETRIA_IIst-pr. szczegółowy'!AY56+'OPTOMETRIA_IIst-pr. szczegółowy'!BA56 -> 10 | N56: ='OPTOMETRIA_IIst-pr. szczegółowy'!AA56+'OPTOMETRIA_IIst-pr. szczegółowy'!AX56 -> 40 | O56: ='OPTOMETRIA_IIst-pr. szczegółowy'!X56+'OPTOMETRIA_IIst-pr. szczegółowy'!AU56 -> 3 | P56: =IF('OPTOMETRIA_IIst-pr. szczegółowy'!V56>0,'OPTOMETRIA_IIst-pr. szczegółowy'!V56," ") -> zal/o | Q56: =SUM(T56:AO56) -> 4 | R56: =SUM(AP56:BD56) -> 1 | S56: =SUM(BE56:BI56) -> 1 | U56: 1 | V56: 1 | X56: 1 | Z56: 1 | AQ56: 1 | BE56: 1 | IW56: =SUM(BJ56:EU56) -> 0 | IX56: =SUM(EV56:IG56) -> 0 | IY56: =SUM(IH56:IV56) -> 0
A57: ='OPTOMETRIA_IIst-pr. szczegółowy'!A57 -> 37 | B57: =IF('OPTOMETRIA_IIst-pr. szczegółowy'!B57>0,'OPTOMETRIA_IIst-pr. szczegółowy'!B57," ") | C57: =IF('OPTOMETRIA_IIst-pr. szczegółowy'!C57>0,'OPTOMETRIA_IIst-pr. szczegółowy'!C57," ") -> 2026/2027 | D57: =IF('OPTOMETRIA_IIst-pr. szczegółowy'!D57>0,'OPTOMETRIA_IIst-pr. szczegółowy'!D57," ") | E57: =IF('OPTOMETRIA_IIst-pr. szczegółowy'!E57>0,'OPTOMETRIA_IIst-pr. szczegółowy'!E57," ") -> 2 | F57: =IF('OPTOMETRIA_IIst-pr. szczegółowy'!F57>0,'OPTOMETRIA_IIst-pr. szczegółowy'!F57," ") -> 2027/2028 | G57: =IF('OPTOMETRIA_IIst-pr. szczegółowy'!G57>0,'OPTOMETRIA_IIst-pr. szczegółowy'!G57," ") -> RPS | H57: =IF('OPTOMETRIA_IIst-pr. szczegółowy'!H57>0,'OPTOMETRIA_IIst-pr. szczegółowy'!H57," ") | I57: =IF('OPTOMETRIA_IIst-pr. szczegółowy'!I57>0,'OPTOMETRIA_IIst-pr. szczegółowy'!I57," ") -> farmakologia okulistyczna | J57: ='OPTOMETRIA_IIst-pr. szczegółowy'!Y57+'OPTOMETRIA_IIst-pr. szczegółowy'!AV57 -> 75 | K57: ='OPTOMETRIA_IIst-pr. szczegółowy'!AS57+'OPTOMETRIA_IIst-pr. szczegółowy'!BP57 -> 35 | L57: ='OPTOMETRIA_IIst-pr. szczegółowy'!Z57+'OPTOMETRIA_IIst-pr. szczegółowy'!AW57 -> 40 | M57: ='OPTOMETRIA_IIst-pr. szczegółowy'!AB57+'OPTOMETRIA_IIst-pr. szczegółowy'!AD57+'OPTOMETRIA_IIst-pr. szczegółowy'!AY57+'OPTOMETRIA_IIst-pr. szczegółowy'!BA57 -> 15 | N57: ='OPTOMETRIA_IIst-pr. szczegółowy'!AA57+'OPTOMETRIA_IIst-pr. szczegółowy'!AX57 -> 40 | O57: ='OPTOMETRIA_IIst-pr. szczegółowy'!X57+'OPTOMETRIA_IIst-pr. szczegółowy'!AU57 -> 3 | P57: =IF('OPTOMETRIA_IIst-pr. szczegółowy'!V57>0,'OPTOMETRIA_IIst-pr. szczegółowy'!V57," ") -> zal/o | Q57: =SUM(T57:AO57) -> 3 | R57: =SUM(AP57:BD57) -> 1 | S57: =SUM(BE57:BI57) -> 1 | U57: 1 | Z57: 1 | AG57: 1 | AU57: 1 | BE57: 1 | IW57: =SUM(BJ57:EU57) -> 0 | IX57: =SUM(EV57:IG57) -> 0 | IY57: =SUM(IH57:IV57) -> 0
A58: ='OPTOMETRIA_IIst-pr. szczegółowy'!A58 -> 38 | B58: =IF('OPTOMETRIA_IIst-pr. szczegółowy'!B58>0,'OPTOMETRIA_IIst-pr. szczegółowy'!B58," ") | C58: =IF('OPTOMETRIA_IIst-pr. szczegółowy'!C58>0,'OPTOMETRIA_IIst-pr. szczegółowy'!C58," ") -> 2026/2027 | D58: =IF('OPTOMETRIA_IIst-pr. szczegółowy'!D58>0,'OPTOMETRIA_IIst-pr. szczegółowy'!D58," ") | E58: =IF('OPTOMETRIA_IIst-pr. szczegółowy'!E58>0,'OPTOMETRIA_IIst-pr. szczegółowy'!E58," ") -> 2 | F58: =IF('OPTOMETRIA_IIst-pr. szczegółowy'!F58>0,'OPTOMETRIA_IIst-pr. szczegółowy'!F58," ") -> 2027/2028 | G58: =IF('OPTOMETRIA_IIst-pr. szczegółowy'!G58>0,'OPTOMETRIA_IIst-pr. szczegółowy'!G58," ") -> RPS | H58: =IF('OPTOMETRIA_IIst-pr. szczegółowy'!H58>0,'OPTOMETRIA_IIst-pr. szczegółowy'!H58," ") | I58: =IF('OPTOMETRIA_IIst-pr. szczegółowy'!I58>0,'OPTOMETRIA_IIst-pr. szczegółowy'!I58," ") -> zaburzenia widzenia obuocznego | J58: ='OPTOMETRIA_IIst-pr. szczegółowy'!Y58+'OPTOMETRIA_IIst-pr. szczegółowy'!AV58 -> 75 | K58: ='OPTOMETRIA_IIst-pr. szczegółowy'!AS58+'OPTOMETRIA_IIst-pr. szczegółowy'!BP58 -> 45 | L58: ='OPTOMETRIA_IIst-pr. szczegółowy'!Z58+'OPTOMETRIA_IIst-pr. szczegółowy'!AW58 -> 30 | M58: ='OPTOMETRIA_IIst-pr. szczegółowy'!AB58+'OPTOMETRIA_IIst-pr. szczegółowy'!AD58+'OPTOMETRIA_IIst-pr. szczegółowy'!AY58+'OPTOMETRIA_IIst-pr. szczegółowy'!BA58 -> 15 | N58: ='OPTOMETRIA_IIst-pr. szczegółowy'!AA58+'OPTOMETRIA_IIst-pr. szczegółowy'!AX58 -> 30 | O58: ='OPTOMETRIA_IIst-pr. szczegółowy'!X58+'OPTOMETRIA_IIst-pr. szczegółowy'!AU58 -> 3 | P58: =IF('OPTOMETRIA_IIst-pr. szczegółowy'!V58>0,'OPTOMETRIA_IIst-pr. szczegółowy'!V58," ") -> zal/o | Q58: =SUM(T58:AO58) -> 1 | R58: =SUM(AP58:BD58) -> 2 | S58: =SUM(BE58:BI58) -> 1 | Y58: 1 | AP58: 1 | AR58: 1 | BF58: 1 | IW58: =SUM(BJ58:EU58) -> 0 | IX58: =SUM(EV58:IG58) -> 0 | IY58: =SUM(IH58:IV58) -> 0
A59: ='OPTOMETRIA_IIst-pr. szczegółowy'!A59 -> 39 | B59: =IF('OPTOMETRIA_IIst-pr. szczegółowy'!B59>0,'OPTOMETRIA_IIst-pr. szczegółowy'!B59," ") | C59: =IF('OPTOMETRIA_IIst-pr. szczegółowy'!C59>0,'OPTOMETRIA_IIst-pr. szczegółowy'!C59," ") -> 2026/2027 | D59: =IF('OPTOMETRIA_IIst-pr. szczegółowy'!D59>0,'OPTOMETRIA_IIst-pr. szczegółowy'!D59," ") | E59: =IF('OPTOMETRIA_IIst-pr. szczegółowy'!E59>0,'OPTOMETRIA_IIst-pr. szczegółowy'!E59," ") -> 2 | F59: =IF('OPTOMETRIA_IIst-pr. szczegółowy'!F59>0,'OPTOMETRIA_IIst-pr. szczegółowy'!F59," ") -> 2027/2028 | G59: =IF('OPTOMETRIA_IIst-pr. szczegółowy'!G59>0,'OPTOMETRIA_IIst-pr. szczegółowy'!G59," ") -> RPS | H59: =IF('OPTOMETRIA_IIst-pr. szczegółowy'!H59>0,'OPTOMETRIA_IIst-pr. szczegółowy'!H59," ") | I59: =IF('OPTOMETRIA_IIst-pr. szczegółowy'!I59>0,'OPTOMETRIA_IIst-pr. szczegółowy'!I59," ") -> podstawy chirurgii refrakcyjnej | J59: ='OPTOMETRIA_IIst-pr. szczegółowy'!Y59+'OPTOMETRIA_IIst-pr. szczegółowy'!AV59 -> 50 | K59: ='OPTOMETRIA_IIst-pr. szczegółowy'!AS59+'OPTOMETRIA_IIst-pr. szczegółowy'!BP59 -> 20 | L59: ='OPTOMETRIA_IIst-pr. szczegółowy'!Z59+'OPTOMETRIA_IIst-pr. szczegółowy'!AW59 -> 30 | M59: ='OPTOMETRIA_IIst-pr. szczegółowy'!AB59+'OPTOMETRIA_IIst-pr. szczegółowy'!AD59+'OPTOMETRIA_IIst-pr. szczegółowy'!AY59+'OPTOMETRIA_IIst-pr. szczegółowy'!BA59 -> 10 | N59: ='OPTOMETRIA_IIst-pr. szczegółowy'!AA59+'OPTOMETRIA_IIst-pr. szczegółowy'!AX59 -> 30 | O59: ='OPTOMETRIA_IIst-pr. szczegółowy'!X59+'OPTOMETRIA_IIst-pr. szczegółowy'!AU59 -> 2 | P59: =IF('OPTOMETRIA_IIst-pr. szczegółowy'!V59>0,'OPTOMETRIA_IIst-pr. szczegółowy'!V59," ") -> zal/o | Q59: =SUM(T59:AO59) -> 2 | R59: =SUM(AP59:BD59) -> 1 | S59: =SUM(BE59:BI59) -> 1 | W59: 1 | X59: 1 | AS59: 1 | BF59: 1 | IW59: =SUM(BJ59:EU59) -> 0 | IX59: =SUM(EV59:IG59) -> 0 | IY59: =SUM(IH59:IV59) -> 0
A60: ='OPTOMETRIA_IIst-pr. szczegółowy'!A60 -> 40 | B60: =IF('OPTOMETRIA_IIst-pr. szczegółowy'!B60>0,'OPTOMETRIA_IIst-pr. szczegółowy'!B60," ") | C60: =IF('OPTOMETRIA_IIst-pr. szczegółowy'!C60>0,'OPTOMETRIA_IIst-pr. szczegółowy'!C60," ") -> 2026/2027 | D60: =IF('OPTOMETRIA_IIst-pr. szczegółowy'!D60>0,'OPTOMETRIA_IIst-pr. szczegółowy'!D60," ") | E60: =IF('OPTOMETRIA_IIst-pr. szczegółowy'!E60>0,'OPTOMETRIA_IIst-pr. szczegółowy'!E60," ") -> 2 | F60: =IF('OPTOMETRIA_IIst-pr. szczegółowy'!F60>0,'OPTOMETRIA_IIst-pr. szczegółowy'!F60," ") -> 2027/2028 | G60: =IF('OPTOMETRIA_IIst-pr. szczegółowy'!G60>0,'OPTOMETRIA_IIst-pr. szczegółowy'!G60," ") -> RPS | H60: =IF('OPTOMETRIA_IIst-pr. szczegółowy'!H60>0,'OPTOMETRIA_IIst-pr. szczegółowy'!H60," ") | I60: =IF('OPTOMETRIA_IIst-pr. szczegółowy'!I60>0,'OPTOMETRIA_IIst-pr. szczegółowy'!I60," ") -> pomiary refrakcji 4 | J60: ='OPTOMETRIA_IIst-pr. szczegółowy'!Y60+'OPTOMETRIA_IIst-pr. szczegółowy'!AV60 -> 100 | K60: ='OPTOMETRIA_IIst-pr. szczegółowy'!AS60+'OPTOMETRIA_IIst-pr. szczegółowy'!BP60 -> 70 | L60: ='OPTOMETRIA_IIst-pr. szczegółowy'!Z60+'OPTOMETRIA_IIst-pr. szczegółowy'!AW60 -> 30 | M60: ='OPTOMETRIA_IIst-pr. szczegółowy'!AB60+'OPTOMETRIA_IIst-pr. szczegółowy'!AD60+'OPTOMETRIA_IIst-pr. szczegółowy'!AY60+'OPTOMETRIA_IIst-pr. szczegółowy'!BA60 -> 0 | N60: ='OPTOMETRIA_IIst-pr. szczegółowy'!AA60+'OPTOMETRIA_IIst-pr. szczegółowy'!AX60 -> 30 | O60: ='OPTOMETRIA_IIst-pr. szczegółowy'!X60+'OPTOMETRIA_IIst-pr. szczegółowy'!AU60 -> 4 | P60: =IF('OPTOMETRIA_IIst-pr. szczegółowy'!V60>0,'OPTOMETRIA_IIst-pr. szczegółowy'!V60," ") -> egz | Q60: =SUM(T60:AO60) -> 2 | R60: =SUM(AP60:BD60) -> 3 | S60: =SUM(BE60:BI60) -> 1 | W60: 1 | X60: 1 | AP60: 1 | AR60: 1 | AT60: 1 | BE60: 1 | IW60: =SUM(BJ60:EU60) -> 0 | IX60: =SUM(EV60:IG60) -> 0 | IY60: =SUM(IH60:IV60) -> 0
A61: ='OPTOMETRIA_IIst-pr. szczegółowy'!A61 -> 41 | B61: =IF('OPTOMETRIA_IIst-pr. szczegółowy'!B61>0,'OPTOMETRIA_IIst-pr. szczegółowy'!B61," ") | C61: =IF('OPTOMETRIA_IIst-pr. szczegółowy'!C61>0,'OPTOMETRIA_IIst-pr. szczegółowy'!C61," ") -> 2026/2027 | D61: =IF('OPTOMETRIA_IIst-pr. szczegółowy'!D61>0,'OPTOMETRIA_IIst-pr. szczegółowy'!D61," ") | E61: =IF('OPTOMETRIA_IIst-pr. szczegółowy'!E61>0,'OPTOMETRIA_IIst-pr. szczegółowy'!E61," ") -> 2 | F61: =IF('OPTOMETRIA_IIst-pr. szczegółowy'!F61>0,'OPTOMETRIA_IIst-pr. szczegółowy'!F61," ") -> 2027/2028 | G61: =IF('OPTOMETRIA_IIst-pr. szczegółowy'!G61>0,'OPTOMETRIA_IIst-pr. szczegółowy'!G61," ") -> RPS | H61: =IF('OPTOMETRIA_IIst-pr. szczegółowy'!H61>0,'OPTOMETRIA_IIst-pr. szczegółowy'!H61," ") | I61: =IF('OPTOMETRIA_IIst-pr. szczegółowy'!I61>0,'OPTOMETRIA_IIst-pr. szczegółowy'!I61," ") -> neurobiologia procesów widzenia | J61: ='OPTOMETRIA_IIst-pr. szczegółowy'!Y61+'OPTOMETRIA_IIst-pr. szczegółowy'!AV61 -> 50 | K61: ='OPTOMETRIA_IIst-pr. szczegółowy'!AS61+'OPTOMETRIA_IIst-pr. szczegółowy'!BP61 -> 25 | L61: ='OPTOMETRIA_IIst-pr. szczegółowy'!Z61+'OPTOMETRIA_IIst-pr. szczegółowy'!AW61 -> 25 | M61: ='OPTOMETRIA_IIst-pr. szczegółowy'!AB61+'OPTOMETRIA_IIst-pr. szczegółowy'!AD61+'OPTOMETRIA_IIst-pr. szczegółowy'!AY61+'OPTOMETRIA_IIst-pr. szczegółowy'!BA61 -> 10 | N61: ='OPTOMETRIA_IIst-pr. szczegółowy'!AA61+'OPTOMETRIA_IIst-pr. szczegółowy'!AX61 -> 25 | O61: ='OPTOMETRIA_IIst-pr. szczegółowy'!X61+'OPTOMETRIA_IIst-pr. szczegółowy'!AU61 -> 2 | P61: =IF('OPTOMETRIA_IIst-pr. szczegółowy'!V61>0,'OPTOMETRIA_IIst-pr. szczegółowy'!V61," ") -> zal/o | Q61: =SUM(T61:AO61) -> 2 | R61: =SUM(AP61:BD61) -> 1 | S61: =SUM(BE61:BI61) -> 1 | T61: 1 | Y61: 1 | AV61: 1 | BF61: 1 | IW61: =SUM(BJ61:EU61) -> 0 | IX61: =SUM(EV61:IG61) -> 0 | IY61: =SUM(IH61:IV61) -> 0
A62: ='OPTOMETRIA_IIst-pr. szczegółowy'!A62 -> 42 | B62: =IF('OPTOMETRIA_IIst-pr. szczegółowy'!B62>0,'OPTOMETRIA_IIst-pr. szczegółowy'!B62," ") | C62: =IF('OPTOMETRIA_IIst-pr. szczegółowy'!C62>0,'OPTOMETRIA_IIst-pr. szczegółowy'!C62," ") -> 2026/2027 | D62: =IF('OPTOMETRIA_IIst-pr. szczegółowy'!D62>0,'OPTOMETRIA_IIst-pr. szczegółowy'!D62," ") | E62: =IF('OPTOMETRIA_IIst-pr. szczegółowy'!E62>0,'OPTOMETRIA_IIst-pr. szczegółowy'!E62," ") -> 2 | F62: =IF('OPTOMETRIA_IIst-pr. szczegółowy'!F62>0,'OPTOMETRIA_IIst-pr. szczegółowy'!F62," ") -> 2027/2028 | G62: =IF('OPTOMETRIA_IIst-pr. szczegółowy'!G62>0,'OPTOMETRIA_IIst-pr. szczegółowy'!G62," ") -> RPS | H62: =IF('OPTOMETRIA_IIst-pr. szczegółowy'!H62>0,'OPTOMETRIA_IIst-pr. szczegółowy'!H62," ") | I62: =IF('OPTOMETRIA_IIst-pr. szczegółowy'!I62>0,'OPTOMETRIA_IIst-pr. szczegółowy'!I62," ") -> diagnostyka okulistyczna – techniki soczewkowe | J62: ='OPTOMETRIA_IIst-pr. szczegółowy'!Y62+'OPTOMETRIA_IIst-pr. szczegółowy'!AV62 -> 75 | K62: ='OPTOMETRIA_IIst-pr. szczegółowy'!AS62+'OPTOMETRIA_IIst-pr. szczegółowy'!BP62 -> 40 | L62: ='OPTOMETRIA_IIst-pr. szczegółowy'!Z62+'OPTOMETRIA_IIst-pr. szczegółowy'!AW62 -> 35 | M62: ='OPTOMETRIA_IIst-pr. szczegółowy'!AB62+'OPTOMETRIA_IIst-pr. szczegółowy'!AD62+'OPTOMETRIA_IIst-pr. szczegółowy'!AY62+'OPTOMETRIA_IIst-pr. szczegółowy'!BA62 -> 10 | N62: ='OPTOMETRIA_IIst-pr. szczegółowy'!AA62+'OPTOMETRIA_IIst-pr. szczegółowy'!AX62 -> 35 | O62: ='OPTOMETRIA_IIst-pr. szczegółowy'!X62+'OPTOMETRIA_IIst-pr. szczegółowy'!AU62 -> 3 | P62: =IF('OPTOMETRIA_IIst-pr. szczegółowy'!V62>0,'OPTOMETRIA_IIst-pr. szczegółowy'!V62," ") -> zal/o | Q62: =SUM(T62:AO62) -> 2 | R62: =SUM(AP62:BD62) -> 3 | S62: =SUM(BE62:BI62) -> 1 | V62: 1 | AA62: 1 | AQ62: 1 | AR62: 1 | AS62: 1 | BE62: 1 | IW62: =SUM(BJ62:EU62) -> 0 | IX62: =SUM(EV62:IG62) -> 0 | IY62: =SUM(IH62:IV62) -> 0
A63: ='OPTOMETRIA_IIst-pr. szczegółowy'!A63 -> 43 | B63: =IF('OPTOMETRIA_IIst-pr. szczegółowy'!B63>0,'OPTOMETRIA_IIst-pr. szczegółowy'!B63," ") | C63: =IF('OPTOMETRIA_IIst-pr. szczegółowy'!C63>0,'OPTOMETRIA_IIst-pr. szczegółowy'!C63," ") -> 2026/2027 | D63: =IF('OPTOMETRIA_IIst-pr. szczegółowy'!D63>0,'OPTOMETRIA_IIst-pr. szczegółowy'!D63," ") | E63: =IF('OPTOMETRIA_IIst-pr. szczegółowy'!E63>0,'OPTOMETRIA_IIst-pr. szczegółowy'!E63," ") -> 2 | F63: =IF('OPTOMETRIA_IIst-pr. szczegółowy'!F63>0,'OPTOMETRIA_IIst-pr. szczegółowy'!F63," ") -> 2027/2028 | G63: =IF('OPTOMETRIA_IIst-pr. szczegółowy'!G63>0,'OPTOMETRIA_IIst-pr. szczegółowy'!G63," ") -> POW | H63: =IF('OPTOMETRIA_IIst-pr. szczegółowy'!H63>0,'OPTOMETRIA_IIst-pr. szczegółowy'!H63," ") | I63: =IF('OPTOMETRIA_IIst-pr. szczegółowy'!I63>0,'OPTOMETRIA_IIst-pr. szczegółowy'!I63," ") -> rehabilitacja wzrokowa u dzieci i doroslych / terapeutyczny dobór korekcji | J63: ='OPTOMETRIA_IIst-pr. szczegółowy'!Y63+'OPTOMETRIA_IIst-pr. szczegółowy'!AV63 -> 50 | K63: ='OPTOMETRIA_IIst-pr. szczegółowy'!AS63+'OPTOMETRIA_IIst-pr. szczegółowy'!BP63 -> 20 | L63: ='OPTOMETRIA_IIst-pr. szczegółowy'!Z63+'OPTOMETRIA_IIst-pr. szczegółowy'!AW63 -> 30 | M63: ='OPTOMETRIA_IIst-pr. szczegółowy'!AB63+'OPTOMETRIA_IIst-pr. szczegółowy'!AD63+'OPTOMETRIA_IIst-pr. szczegółowy'!AY63+'OPTOMETRIA_IIst-pr. szczegółowy'!BA63 -> 10 | N63: ='OPTOMETRIA_IIst-pr. szczegółowy'!AA63+'OPTOMETRIA_IIst-pr. szczegółowy'!AX63 -> 30 | O63: ='OPTOMETRIA_IIst-pr. szczegółowy'!X63+'OPTOMETRIA_IIst-pr. szczegółowy'!AU63 -> 2 | P63: =IF('OPTOMETRIA_IIst-pr. szczegółowy'!V62>0,'OPTOMETRIA_IIst-pr. szczegółowy'!V62," ") -> zal/o | Q63: =SUM(T63:AO63) -> 2 | R63: =SUM(AP63:BD63) -> 2 | S63: =SUM(BE63:BI63) -> 1 | X63: 1 | AB63: 1 | AT63: 1 | AW63: 1 | BG63: 1 | IW63: =SUM(BJ63:EU63) -> 0 | IX63: =SUM(EV63:IG63) -> 0 | IY63: =SUM(IH63:IV63) -> 0
A64: ='OPTOMETRIA_IIst-pr. szczegółowy'!A64 -> 44 | B64: =IF('OPTOMETRIA_IIst-pr. szczegółowy'!B64>0,'OPTOMETRIA_IIst-pr. szczegółowy'!B64," ") | C64: =IF('OPTOMETRIA_IIst-pr. szczegółowy'!C64>0,'OPTOMETRIA_IIst-pr. szczegółowy'!C64," ") -> 2026/2027 | D64: =IF('OPTOMETRIA_IIst-pr. szczegółowy'!D64>0,'OPTOMETRIA_IIst-pr. szczegółowy'!D64," ") | E64: =IF('OPTOMETRIA_IIst-pr. szczegółowy'!E64>0,'OPTOMETRIA_IIst-pr. szczegółowy'!E64," ") -> 2 | F64: =IF('OPTOMETRIA_IIst-pr. szczegółowy'!F64>0,'OPTOMETRIA_IIst-pr. szczegółowy'!F64," ") -> 2027/2028 | G64: =IF('OPTOMETRIA_IIst-pr. szczegółowy'!G64>0,'OPTOMETRIA_IIst-pr. szczegółowy'!G64," ") -> POW | H64: =IF('OPTOMETRIA_IIst-pr. szczegółowy'!H64>0,'OPTOMETRIA_IIst-pr. szczegółowy'!H64," ") | I64: =IF('OPTOMETRIA_IIst-pr. szczegółowy'!I64>0,'OPTOMETRIA_IIst-pr. szczegółowy'!I64," ") -> interdyscyplinarna diagnostyka okulistyczna / ogólnoustrojowe determinanty chorób oczu | J64: ='OPTOMETRIA_IIst-pr. szczegółowy'!Y64+'OPTOMETRIA_IIst-pr. szczegółowy'!AV64 -> 50 | K64: ='OPTOMETRIA_IIst-pr. szczegółowy'!AS64+'OPTOMETRIA_IIst-pr. szczegółowy'!BP64 -> 20 | L64: ='OPTOMETRIA_IIst-pr. szczegółowy'!Z64+'OPTOMETRIA_IIst-pr. szczegółowy'!AW64 -> 30 | M64: ='OPTOMETRIA_IIst-pr. szczegółowy'!AB64+'OPTOMETRIA_IIst-pr. szczegółowy'!AD64+'OPTOMETRIA_IIst-pr. szczegółowy'!AY64+'OPTOMETRIA_IIst-pr. szczegółowy'!BA64 -> 10 | N64: ='OPTOMETRIA_IIst-pr. szczegółowy'!AA64+'OPTOMETRIA_IIst-pr. szczegółowy'!AX64 -> 30 | O64: ='OPTOMETRIA_IIst-pr. szczegółowy'!X64+'OPTOMETRIA_IIst-pr. szczegółowy'!AU64 -> 2 | P64: =IF('OPTOMETRIA_IIst-pr. szczegółowy'!V64>0,'OPTOMETRIA_IIst-pr. szczegółowy'!V64," ") -> zal/o | Q64: =SUM(T64:AO64) -> 4 | R64: =SUM(AP64:BD64) -> 1 | S64: =SUM(BE64:BI64) -> 3 | T64: 1 | U64: 1 | AD64: 1 | AE64: 1 | BC64: 1 | BE64: 1 | BG64: 1 | BH64: 1 | IW64: =SUM(BJ64:EU64) -> 0 | IX64: =SUM(EV64:IG64) -> 0 | IY64: =SUM(IH64:IV64) -> 0
A65: ='OPTOMETRIA_IIst-pr. szczegółowy'!A65 -> 45 | B65: =IF('OPTOMETRIA_IIst-pr. szczegółowy'!B65>0,'OPTOMETRIA_IIst-pr. szczegółowy'!B65," ") | C65: =IF('OPTOMETRIA_IIst-pr. szczegółowy'!C65>0,'OPTOMETRIA_IIst-pr. szczegółowy'!C65," ") -> 2026/2027 | D65: =IF('OPTOMETRIA_IIst-pr. szczegółowy'!D65>0,'OPTOMETRIA_IIst-pr. szczegółowy'!D65," ") | E65: =IF('OPTOMETRIA_IIst-pr. szczegółowy'!E65>0,'OPTOMETRIA_IIst-pr. szczegółowy'!E65," ") -> 2 | F65: =IF('OPTOMETRIA_IIst-pr. szczegółowy'!F65>0,'OPTOMETRIA_IIst-pr. szczegółowy'!F65," ") -> 2027/2028 | G65: =IF('OPTOMETRIA_IIst-pr. szczegółowy'!G65>0,'OPTOMETRIA_IIst-pr. szczegółowy'!G65," ") -> POW | H65: =IF('OPTOMETRIA_IIst-pr. szczegółowy'!H65>0,'OPTOMETRIA_IIst-pr. szczegółowy'!H65," ") | I65: =IF('OPTOMETRIA_IIst-pr. szczegółowy'!I65>0,'OPTOMETRIA_IIst-pr. szczegółowy'!I65," ") -> seminarium dyplomowe 3 | J65: ='OPTOMETRIA_IIst-pr. szczegółowy'!Y65+'OPTOMETRIA_IIst-pr. szczegółowy'!AV65 -> 125 | K65: ='OPTOMETRIA_IIst-pr. szczegółowy'!AS65+'OPTOMETRIA_IIst-pr. szczegółowy'!BP65 -> 100 | L65: ='OPTOMETRIA_IIst-pr. szczegółowy'!Z65+'OPTOMETRIA_IIst-pr. szczegółowy'!AW65 -> 25 | M65: ='OPTOMETRIA_IIst-pr. szczegółowy'!AB65+'OPTOMETRIA_IIst-pr. szczegółowy'!AD65+'OPTOMETRIA_IIst-pr. szczegółowy'!AY65+'OPTOMETRIA_IIst-pr. szczegółowy'!BA65 -> 25 | N65: ='OPTOMETRIA_IIst-pr. szczegółowy'!AA65+'OPTOMETRIA_IIst-pr. szczegółowy'!AX65 -> 25 | O65: ='OPTOMETRIA_IIst-pr. szczegółowy'!X65+'OPTOMETRIA_IIst-pr. szczegółowy'!AU65 -> 5 | P65: =IF('OPTOMETRIA_IIst-pr. szczegółowy'!V65>0,'OPTOMETRIA_IIst-pr. szczegółowy'!V65," ") -> zal | Q65: =SUM(T65:AO65) -> 1 | R65: =SUM(AP65:BD65) -> 3 | S65: =SUM(BE65:BI65) -> 3 | AC65: 1 | AV65: 1 | BA65: 1 | BD65: 1 | BF65: 1 | BH65: 1 | BI65: 1 | IW65: =SUM(BJ65:EU65) -> 0 | IX65: =SUM(EV65:IG65) -> 0 | IY65: =SUM(IH65:IV65) -> 0
A66: ='OPTOMETRIA_IIst-pr. szczegółowy'!A66 -> 0 | B66: =IF('OPTOMETRIA_IIst-pr. szczegółowy'!B66>0,'OPTOMETRIA_IIst-pr. szczegółowy'!B66," ") | C66: =IF('OPTOMETRIA_IIst-pr. szczegółowy'!C66>0,'OPTOMETRIA_IIst-pr. szczegółowy'!C66," ") | D66: =IF('OPTOMETRIA_IIst-pr. szczegółowy'!D66>0,'OPTOMETRIA_IIst-pr. szczegółowy'!D66," ") | E66: =IF('OPTOMETRIA_IIst-pr. szczegółowy'!E66>0,'OPTOMETRIA_IIst-pr. szczegółowy'!E66," ") | F66: =IF('OPTOMETRIA_IIst-pr. szczegółowy'!F66>0,'OPTOMETRIA_IIst-pr. szczegółowy'!F66," ") | G66: =IF('OPTOMETRIA_IIst-pr. szczegółowy'!G66>0,'OPTOMETRIA_IIst-pr. szczegółowy'!G66," ") | H66: =IF('OPTOMETRIA_IIst-pr. szczegółowy'!H66>0,'OPTOMETRIA_IIst-pr. szczegółowy'!H66," ") | I66: =IF('OPTOMETRIA_IIst-pr. szczegółowy'!I66>0,'OPTOMETRIA_IIst-pr. szczegółowy'!I66," ") -> sumy dla 2 roku | J66: ='OPTOMETRIA_IIst-pr. szczegółowy'!Y66+'OPTOMETRIA_IIst-pr. szczegółowy'!AV66 -> 1505 | K66: ='OPTOMETRIA_IIst-pr. szczegółowy'!AS66+'OPTOMETRIA_IIst-pr. szczegółowy'!BP66 -> 765 | L66: ='OPTOMETRIA_IIst-pr. szczegółowy'!Z66+'OPTOMETRIA_IIst-pr. szczegółowy'!AW66 -> 740 | M66: ='OPTOMETRIA_IIst-pr. szczegółowy'!AB66+'OPTOMETRIA_IIst-pr. szczegółowy'!AD66+'OPTOMETRIA_IIst-pr. szczegółowy'!AY66+'OPTOMETRIA_IIst-pr. szczegółowy'!BA66 -> 290 | N66: ='OPTOMETRIA_IIst-pr. szczegółowy'!AA66+'OPTOMETRIA_IIst-pr. szczegółowy'!AX66 -> 740 | O66: ='OPTOMETRIA_IIst-pr. szczegółowy'!X66+'OPTOMETRIA_IIst-pr. szczegółowy'!AU66 -> 60 | P66: =IF('OPTOMETRIA_IIst-pr. szczegółowy'!V66>0,'OPTOMETRIA_IIst-pr. szczegółowy'!V66," ") | Q66: =SUM(Q44:Q65) -> 55 | R66: =SUM(R44:R65) -> 58 | S66: =SUM(S44:S65) -> 30 | T66: =SUM(T44:T65) -> 4 | U66: =SUM(U44:U65) -> 8 | V66: =SUM(V44:V65) -> 5 | W66: =SUM(W44:W65) -> 5 | X66: =SUM(X44:X65) -> 7 | ... IY66: =SUM(IY44:IY65) -> 0
A67: RAZEM | J67: ='OPTOMETRIA_IIst-pr. szczegółowy'!M67 -> 3011 | K67: ='OPTOMETRIA_IIst-pr. szczegółowy'!N67 -> 1510 | L67: ='OPTOMETRIA_IIst-pr. szczegółowy'!O67 -> 1501 | M67: ='OPTOMETRIA_IIst-pr. szczegółowy'!P67 -> 1501 | N67: ='OPTOMETRIA_IIst-pr. szczegółowy'!Q67 -> 120 | O67: ='OPTOMETRIA_IIst-pr. szczegółowy'!R67 -> 0 | P67: ='OPTOMETRIA_IIst-pr. szczegółowy'!S67 -> 57.607143 | Q67: =SUM(Q20:Q42,Q44:Q65) -> 96 | R67: =SUM(R20:R42,R44:R65) -> 106 | S67: =SUM(S20:S42,S44:S65) -> 57 | T67: =SUM(T20:T42,T44:T65) -> 6 | U67: =SUM(U20:U42,U44:U65) -> 9 | V67: =SUM(V20:V42,V44:V65) -> 8 | W67: =SUM(W20:W42,W44:W65) -> 9 | X67: =SUM(X20:X42,X44:X65) -> 8 | ... IY67: =SUM(IY20:IY42,IY44:IY65) -> 0

Sheet Efekty
A1: Oznaczenie kategorii efektu (Kierunkowy/Przedmiotowy) | B1: Numer efektu uczenia się | C1: Efekty uczenia się po ukończeniu studiów absolwent (w zakresie WIEDZY zna i rozumie/ w zakresie UMIEJĘTNOŚCI potrafi/ w zakresie KOMPETENCJI SPOŁECZNYCH jest gotów do): | D1: PRK
A2: Kierunkowy | B2: K_W01 | C2: w pogłębionym stopniu anatomię, fizjologię i patofizjologię narządu wzroku oraz ich znaczenie w diagnostyce z uwzględnieniem zmian zachodzących w procesie dojrzewania i przebiegu procesów starzenia | D2: P7S_WG
A3: Kierunkowy | B3: K_W02 | C3: etiopatogenezę i obraz kliniczny najczęstszych chorób narządu wzroku oraz kryteria wczesnego rozpoznawania stanów patologicznych koniecznych do skierowania pacjenta do okulisty | D3: P7S_WG
A4: Kierunkowy | B4: K_W03 | C4: zasady działania, możliwości diagnostyczne oraz ograniczenia interpretacyjne metod badania przedniego i tylnego odcinka oka, umożliwiające właściwą analizę wyników badań i dobór adekwatnych procedur optometrycznych | D4: P7S_WG
A5: Kierunkowy | B5: K_W04 | C5: zasady i specyfikę badania refrakcji i funkcji wzrokowych w różnych grupach wiekowych, normy rozwojowe układu wzrokowego oraz strategie wczesnego wykrywania wad wzroku i zaburzeń widzenia obuocznego | D5: P7S_WG
A6: Kierunkowy | B6: K_W05 | C6: zaawansowane metody korekcji wad refrakcji, w tym zasady, wskazania i przeciwwskazania chirurgii refrakcyjnej, zasady doboru form zaawansowanej korekcji optycznej oraz sprawowania opieki optometrycznej przed- i pooperacyjnej. | D6: P7S_WG
A7: Kierunkowy | B7: K_W06 | C7: w pogłębionym stopniu zaawansowane mechanizmy widzenia obuocznego, akomodacji i procesów strabologicznych oraz współczesne strategie diagnostyczno‑terapeutyczne | D7: P7S_WG
A8: Kierunkowy | B8: K_W07 | C8: mechanizmy działania i stosowania farmakologii okulistycznej oraz zasady stosowania preparatów diagnostycznych, interakcji leków i interpretacji wyników badań prowadzonych w warunkach farmakologicznej modyfikacji funkcji oka. | D8: P7S_WG
A9: Kierunkowy | B9: K_W08 | C9: w pogłębionym stopniu zasady działania, możliwości i ograniczenia zastosowania aparatury wykorzystywanej w diagnostyce i terapii optometrycznej, w tym zaawansowane techniki obrazowania, z uwzględnienim zasad bezpieczństwa. | D9: P7S_WG
A10: Kierunkowy | B10: K_W09 | C10: zaawansowane metody i narzędzia rehabilitacji wzrokowej pacjentów słabowidzących, ergonomii stanowiska pracy i nauki dla osób z dysfunkcją wzroku oraz organizacji kompleksowej opieki rehabilitacyjnej. | D10: P7S_WG
A11: Kierunkowy | B11: K_W10 | C11: interdyscyplinarne powiązania optometrii z naukami medycznymi i naukami o zdrowiu oraz główne tendencje rozwojowe w tych obszarach, a także metodologię badań naukowych, obejmującą biostatystykę, zasady Evidence-Based Medicine (EBM) i etykę badań. | D11: P7S_WG
A12: Kierunkowy | B12: K_W11 | C12: uwarunkowania zdrowia publicznego oraz epidemiologię chorób narządu wzroku, w tym czynniki ryzyka i główne przyczyny utraty widzenia, a także strategie promocji zdrowia i profilaktyki zaburzeń wizenia. | D12: P7S_WG
... A17: Kierunkowy | B17: K_W16 | C17: wybrane mechanizmy psychologii poznawczej istotne dla skutecznej komunikacji z pacjentem i zespołem oraz refleksyjnej oceny własnych kompetencji i planowania dalszego rozwoju zawodowego | D17: P7S_WK
A18: Przedmiotowy | B18: S.W1 | C18: podstawowe zagrożenia dla zdrowia i życia, które mogą wystąpić w środowisku nauki i pracy, w tym zagrożeń pożarowych, chemicznych, fizycznych i biologicznych,
A19: Przedmiotowy | B19: S.W2 | C19: zasady zapobiegania tym zagrożeniom oraz procedur postępowania w sytuacjach niebezpiecznych,
A20: Przedmiotowy | B20: S.W3 | C20: podstawowe zasady udzielania pierwszej pomocy przedmedycznej w nagłych wypadkach.
A21: Przedmiotowy | B21: P.W1 | C21: zasoby i usługi biblioteczne, w tym bazy danych, katalogi oraz narzędzia wyszukiwania informacji naukowej na poziomie zaawansowanym.
A22: Przedmiotowy | B22: P.W2 | C22: zasady etycznego korzystania z informacji, w tym prawa autorskiego i zasady cytowania źródeł.
A23: Przedmiotowy | B23: P.W3 | C23: metody wyszukiwania, selekcji i oceny wiarygodności źródeł informacji naukowej.
A24: Przedmiotowy | B24: P_W01
A25: Przedmiotowy | B25: P_W02
A26: Przedmiotowy | B26: P_W03
A27: Przedmiotowy | B27: P_W04
A28: Przedmiotowy | B28: P_W05
A29: Przedmiotowy | B29: P_W06
A30: Przedmiotowy | B30: P_W07
A31: Przedmiotowy | B31: P_W08
A32: Przedmiotowy | B32: P_W09
A33: Przedmiotowy | B33: P_W10
A34: Przedmiotowy | B34: P_W11
A35: Przedmiotowy | B35: P_W12
... A70: Przedmiotowy | B70: P_W47
A71: Kierunkowy | B71: K_U01 | C71: samodzielnie zaplanować i przeprowadzić kompleksowe badanie optometryczne pacjentów z różnych grup wiekowych z wykorzystaniem zaawansowanych technik diagnostycznych. | D71: P7S_UW
A72: Kierunkowy | B72: K_U02 | C72: przeprowadzać rozszerzoną ocenę przedniego odcinka i dna oka z wykorzystaniem zaawansowanych technik optometrycznych, różnicować zmiany fizjologiczne od patologicznych oraz formułować wnioski dotyczące dalszego postępowania optometrycznego i konieczności konsultacji specjalistycznej. | D72: P7S_UW
A73: Kierunkowy | B73: K_U03 | C73: wykonywać i krytycznie interpretować złożone pomiary refrakcji, integrować wyniki z innymi danymi klinicznymi oraz dobierać optymalną korekcję w przypadkach typowych i nietypowych, wymagających zaawansowanego różnicowania optometrycznego | D73: P7S_UW
A74: Kierunkowy | B74: K_U04 | C74: obsługiwać specjalistyczną aparaturę okulistyczno-optometryczną oraz posługiwać się zaawansowanym oprogramowaniem do analizy danych klinicznych, interpretacji badań obrazowych i prowadzenia konsultacji optometrycznych z wykorzystaniem nowoczesnych technologii. | D74: P7S_UW
A75: Kierunkowy | B75: K_U05 | C75: zaprojektować, dobrać i dopasować specjalistyczną korekcję okularową i kontaktową oraz monitorować przebieg adaptacji i modyfikować parametry korekcji, także w przypadkach złożonych wymagających zaawansowanej analizy klinicznej i różnicowania optometrycznego | D75: P7S_UW
A76: Kierunkowy | B76: K_U06 | C76: rozpoznawać objawy stanów nagłych podczas badania optometrycznego, krytycznie oceniać ich znaczenie kliniczne oraz samodzielnie podejmować decyzję o pilnym skierowaniu pacjenta do lekarza | D76: P7S_UW
A77: Kierunkowy | B77: K_U07 | C77: w sposób samodzielny i odpowiedzialny dokonywać właściwego doboru źródeł i informacji klinicznych, przeprowadzać ich ocenę, krytyczną analizę, syntezę oraz twórczą interpretację, a następnie na tej podstawie podejmować decyzje diagnostyczne w warunkach niepewności | D77: P7S_UW
A78: Kierunkowy | B78: K_U08 | C78: zaplanować, prowadzić i nadzorować rehabilitację funkcji wzrokowych oraz adaptację środowiska domowego i zawodowego pacjenta w celu poprawy sprawności widzenia, a także prowadzić ocenę skuteczności i modyfikację podjętych działań | D78: P7S_UW
A79: Kierunkowy | B79: K_U09 | C79: samodzielnie prowadzić dokumentację medyczną oraz redagować profesjonalną korespondencję kliniczną, zapewniając efektywną wymianę informacji z lekarzam oraz racjonalnego wykorzystania zasobów diagnostycznych i organizacyjnych | D79: P7S_UW
A80: Kierunkowy | B80: K_U10 | C80: samodzielnie projektować, organizować i ewaluować programy przesiewowych badań wzrokowych w populacjach różnych grup wiekowych, dobierać i oceniać narzędzia przesiewowe, analizować dane populacyjne oraz formułować rekomendacje dotyczące profilaktyki i dalszych działań zdrowotnych | D80: P7S_UW
A81: Kierunkowy | B81: K_U11 | C81: samodzielnie projektować i realizować badania naukowe w obszarze optometrii i zdrowia wzrokowego, obejmujące formułowanie problemu i hipotez, dobór i uzasadnienie metod, gromadzenie oraz analizę danych statystycznych i krytyczną interpretację wyników | D81: P7S_UW
A82: Kierunkowy | B82: K_U12 | C82: prowadzić profesjonalną komunikację ze zróżnicowanymi kręgami odbiorców, w tym prowadzić debatę, przekazywać informacje o wynikach badań, ryzyku zdrowotnym i konieczności konsultacji lekarskiej w sposób zrozumiały, empatyczny i adekwatny do wieku oraz stanu pacjenta | D82: P7S_UK
... A85: Kierunkowy | B85: K_U15 | C85: samodzielnie planować i realizować własny rozwój zawodowy i naukowy, identyfikować własne luki kompetencyjne, korzystając z najnowszych źródeł wiedzy naukowej i wytycznych klinicznych oraz wspierać rozwój innych członków zespołu optometrycznego. | D85: P7S_UU
A86: Przedmiotowy | B86: P_U01
A87: Przedmiotowy | B87: P_U02
A88: Przedmiotowy | B88: P_U03
A89: Przedmiotowy | B89: P_U04
A90: Przedmiotowy | B90: P_U05
A91: Przedmiotowy | B91: P_U06
A92: Przedmiotowy | B92: P_U07
A93: Przedmiotowy | B93: P_U08
A94: Przedmiotowy | B94: P_U09
A95: Przedmiotowy | B95: P_U10
A96: Przedmiotowy | B96: P_U11
A97: Przedmiotowy | B97: P_U12
... A115: Przedmiotowy | B115: P_U30
A116: Kierunkowy | B116: K_K1 | C116: refleksyjnej oceny własnych kompetencji oraz odpowiedzialnego zasięgania opinii ekspertów i kierowania pacjenta do specjalisty w sytuacjach wymagających szerszej diagnostyki lub interwencji medycznej | D116: P7S_KK
A117: Kierunkowy | B117: K_K2 | C117: krytycznej oceny źródeł informacji i znaczenia aktualnej wiedzy w rozwiązywaniu problemów klinicznych i praktycznych w optometrii oraz podejmowania decyzji w sposób odpowiedzialny i oparty na rzetelnych danych | D117: P7S_KK
A118: Kierunkowy | B118: K_K3 | C118: prowadzenia działań z zakresu promocji zdrowia i profilaktyki, inicjowania i realizowania działań na rzecz interesu publicznego, inspirowania i organizowania działalności na rzecz środowiska społecznego w obszarze ochrony zdrowia, a także myślenia i działania w spośób przedsiębiorczy. | D118: P7S_KO
A119: Kierunkowy | B119: K_K4 | C119: odpowiedzialnego pełnienia roli zawodowej optometrysty, z poszanowaniem zasad etyki, praw i autonomii pacjenta, rzetelnego i zrozumiałego przekazywania informacji oraz przestrzegania tajemnicy zawodowej. | D119: P7S_KR
A120: Kierunkowy | B120: K_K5 | C120: rozwijania dorobku i podtrzymywania etosu zawodu optometrysty oraz aktywnego działania na rzecz przestrzegania zasad etyki zawodowej z uwzględnieniem zmienających się potrzeb społecznych. | D120: P7S_KR
A121: Przedmiotowy | B121: P_K01
A122: Przedmiotowy | B122: P_K02
A123: Przedmiotowy | B123: P_K03
A124: Przedmiotowy | B124: P_K04
A125: Przedmiotowy | B125: P_K05
A126: Przedmiotowy | B126: P_K06
A127: Przedmiotowy | B127: P_K07
A128: Przedmiotowy | B128: P_K08
A129: Przedmiotowy | B129: P_K09
A130: Przedmiotowy | B130: P_K10
A131: Przedmiotowy | B131: P_K11
A132: Przedmiotowy | B132: P_K12
... A135: Przedmiotowy | B135: P_K15

Sheet Efekty uczenia się
A1: szczegółowy numer efektu uczenia się | B1: Efekty uczenia się po ukończeniu studiów absolwent:
B2: WIEDZA (zna i rozumie)
A3: K_W01
A4: K_W02
A5: K_W03
A6: K_W04
A7: K_W05
A8: K_W06
A9: K_W07
A10: K_W08
A11: K_W09
A12: K_W10
A13: K_W11
A14: K_W12
... A66: K_W64
B67: UMIEJĘTNOŚCI (potrafi)
A68: K_U01
A69: K_U02
A70: K_U03
A71: K_U04
A72: K_U05
A73: K_U06
A74: K_U07
A75: K_U08
A76: K_U09
A77: K_U10
A78: K_U11
A79: K_U12
... A129: K_U62
B130: KOMPETENCJE SPOŁECZNE (jest gotów do)
A131: K_K01
A132: K_K02
A133: K_K03
A134: K_K04
A135: K_K05
A136: K_K06
A137: K_K07
A138: K_K08
A139: K_K09

Sheet Słowniki
A1: *kod grupy | B1: Nazwa grupy zajęć | D1: ***Rodzaj zajęć: | E1: Nazwa godzaju zajęć | G1: *******Forma zakończenia semestru | H1: Nazwa formy zakończenia | J1: ****Pula godzin | L1: ******Forma zakończenia przedmiotu | M1: Nazwa formy zakończenia | O1: *Czy przedmiot kształtuje kompetencje komunikacyjne *Czy przedmiot humanistyczny lub społeczny | Q1: PRK
A2: - | B2: nie dotyczy | D2: RPS | E2: obowiązkowe | G2: zal | H2: zaliczenie (zal/nzal) | J2: ze standardu | L2: zal | M2: zaliczenie (zal/nzal) | O2: tak | Q2: P7S_WG | R2: wiedza- zakres i głębia
D3: POW | E3: przedmiot ograniczonego wyboru | G3: zal/o | H3: zaliczenie na ocenę | J3: do dyspozycji uczelni (Autorska oferta uczelni) | L3: zal/o | M3: zaliczenie na ocenę | O3: nie | Q3: P7S_WK | R3: wiedza- kontekst - uwarunkowania, skutki
D4: PSW | E4: przedmiot swobodnego wyboru | L4: egz | M4: egzamin | Q4: P7S_UW | R4: umiejętności- wykorzystanie wiedzy - rozwiązywanie problemów i wykonywanie zadań
Q5: P7S_UK | R5: umiejętności- komunikowanie się - odbieranie i tworzenie wypowiedzi, upowszechnianie wiedzy w środowisku naukowym i posługiwanie się językiem obcym
Q6: P7S_UO | R6: umiejętności- organizacja pracy - planowanie i praca zespołowa
Q7: P7S_UU | R7: umiejętności- uczenie się - planowanie własnego rozwoju i rozwoju innych osób
Q8: P7S_KK | R8: Kompetencje społeczne - oceny- krytyczne podejście
Q9: P7S_KO | R9: Kompetencje społeczne - odpowiedzialność - wypełnianie zobowiązań społecznych i działanie na rzecz interesu publicznego
Q10: P7S_KR | R10: Kompetencje społeczne - rola zawodowa - niezależność i rozwój etosu
Q13: Oznaczenie kategorii efektu
R14: Kierunkowy
R15: Przedmiotowy
