Workbook

Sheet OPTOMETRIA_IIst-pr. szczegółowy
G5: Wydział | I5: Wydział Nauk o Zdrowiu
G6: Kierunek | I6: Optometria | AM6: Szczegółowy Program Studiów dla cyklu kształcenia rozpoczynającego się w roku akademickim: 20../20..
G7: Cykl kształcenia | I7: 2026-2028 | AN7: uchwała Senatu nr…. z dnia …..202….
G8: Poziom kształcenia | I8: studia drugiego stopnia | AW8: Uniwersytetu Medycznego we Wrocławiu
G9: Profil kształcenia | I9: ogólnoakademicki | AW9: z dnia …..20.. r.
G10: Forma studiów | I10: stacjonarne/ niestacjonarne
G11: Liczba semestrów | I11: 4
G12: Łączna liczba godzin | I12: =P76 -> 1501
G13: Łączna liczba ECTS | I13: 120
A15: Lp. | B15: kod grupy* | C15: Cykl kształcenia (nabór) | D15: Ścieżka** | E15: Rok studiów | F15: Rok akademicki | G15: Rodzaj zajęć*** (RPS, POW, PSW) | H15: ****Pula godzin (ze standardu, do dyspozycji uczelni (Autorska oferta uczelni)) | I15: Przedmiot (nazwa) | J15: Czy przedmiot kształtuje kompetencje komunikacyjne | K15: Czy przedmiot humanistyczny lub społeczny | L15: Czy przedmiot związany z prowadzoną w uczelni działalnością naukową | M15: łącznie dla przedmiotu | W15: semestr zimowy - I | AT15: semestr letni - II | BQ15: LICZBA GODZIN W PRZELICZENIU NA 1 ECTS | BS15: Nakład pracy- liczba godzin | BZ15: Nakład pracy- punktów ECTS | CG15: Wskaźiki- liczba godzin | CI15: Wskaźiki- punktów ECTS | CK15: Suma efektów w poszczególnych kategoriach
M16: SUMA GODZIN PRZEDMIOTU | Q16: SUMA PUNKTÓW ECTS ZA PRZEDMIOT | V16: forma zakończenia przedmiotu ***** | W16: forma zakończenia semestru ****** | X16: punkty ECTS w semestrze | Y16: nakład pracy studenta (godz. dyd. + samodzielna praca) | Z16: ogólna liczba godzin dydaktycznych | AA16: liczba godzin z nauczycielem | AB16: wykład (WY) | AD16: seminarium (SE) | AE16: ćwiczenia audytoryjne (CA) | AF16: ćwiczenia kierunkowe - niekliniczne (CN) | AG16: ćwiczenia w warunkach symulowanych (CS)******* | AJ16: ćwiczenia laboratoryjne (CL) | AK16: ćwiczenia kliniczne (CK) | AL16: zajęcia praktyczne przy pacjencie (PP) | AM16: ćwiczenia specjalistyczne - magisterskie (CM) | AN16: lektoraty (LE) | AO16: e-learning (EL) | AP16: zajęcia wychowania fizycznego (WF) | AQ16: praktyka zawodowa (PZ) | AR16: samokształcenie kierowane (SK) | AS16: samodzielna praca studenta | AT16: forma zakończenia semestru ****** | AU16: punkty ECTS w semestrze | AV16: całkowity nakład pracy studenta | AW16: ogólna liczba godzin dydaktycznych | AX16: liczba godzin z nauczycielem | AY16: wykład (WY) | BA16: seminarium (SE) | BB16: ćwiczenia audytoryjne CA) | BC16: ćwiczenia kierunkowe - niekliniczne (CN) | BD16: ćwiczenia w warunkach symulowanych (CS)******* | BG16: ćwiczenia laboratoryjne (CL) | BH16: ćwiczenia kliniczne (CK) | BI16: zajęcia praktyczne przy pacjencie (PP) | BJ16: ćwiczenia specjalistyczne - magisterskie (CM) | BK16: lektoraty (LE) | BL16: e-learning (EL) | BM16: zajęcia wychowania fizycznego (WF) | BN16: praktyka zawodowa (PZ) | BO16: samokształcenie kierowane (SK) | BP16: samodzielna praca studenta | BS16: Kształcenie bezpośrednie stacjonarne | BT16: Kształcenie bezpośrednie z wykorzystaniem metod i technik kształcenia na odległość (synchroniczne) | BU16: Kształcenie asynchroniczne z wykorzystaniem metod i technik kształcenia na odległość | BV16: Samokształcenie kierowane (dotyczy tylko kierunków pielęgniarstwo i położnictwo) | BW16: Indywidualna praca własna studenta | BX16: Praktyka zawodowa | BY16: Łączny nakład pracy studenta | BZ16: Kształcenie bezpośrednie stacjonarne | CA16: Kształcenie bezpośrednie z wykorzystaniem metod i technik kształcenia na odległość (synchroniczne) | CB16: Kształcenie asynchroniczne z wykorzystaniem metod i technik kształcenia na odległość | CC16: Samokształcenie kierowane (dotyczy tylko kierunków pielęgniarstwo i położnictwo) | CD16: Indywidualna praca własna studenta | CE16: Praktyka zawodowa | CF16: Łączny nakład pracy studenta | CG16: Łącznie kształcenie bezpośrednie | CH16: Łącznie kształcenie z użyciem metod i technik kształcenia na odległość | CI16: Łącznie kształcenie bezpośrednie | CJ16: Łącznie kształcenie z użyciem metod i technik kształcenia na odległość
M17: NAKŁAD PRACY STUDENTA (godz. dyd. + samodzielna praca) | N17: SAMODZIELNA PRACA STUDENTA | O17: GODZINY DYDAKTYCZNE | P17: GODZINY Z NAUCZYCIELEM | Q17: Łącznie | R17: za zajecia praktyczne (PP) | S17: za zajęcia kształtujące umiejętności praktyczne jeżeli | T17: za zajęcia z wykorzystaniem met i technik na odl. | U17: za zajęcia z bezpośrednim udziałem prowadzących | AB17: łącznie | AC17: w tym on-line | AG17: CSM WW | AH17: CSM NW | AI17: CSP NW | AY17: łącznie | AZ17: w tym on-line | BD17: CSM WW | BE17: CSM NW | BF17: CSP NW | BQ17: wartość | BR17: UWAGI | CK17: Wiedza | CL17: Umiejetności | CM17: Kompetencje społeczne
M18: 1 | N18: 2 | O18: 3 | P18: 4 | Q18: 5 | R18: 6 | S18: 7 | T18: 8 | U18: 9 | V18: 10 | W18: 11 | X18: 12 | Y18: 13 | Z18: 14 | AA18: 15 | AB18: 16 | AC18: 17 | AD18: 18 | AE18: 19 | AF18: 20 | AG18: 21 | AH18: 22 | AI18: 23 | AJ18: 24 | AK18: 25 | AL18: 26 | AM18: 27 | AN18: 28 | AO18: 29 | AP18: 30 | AQ18: 31 | AR18: 32 | AS18: 33 | AT18: 34 | AU18: 35 | AV18: 36 | AW18: 37 | AX18: 38 | AY18: 39 | AZ18: 40 | BA18: 41 | BB18: 42 | BC18: 43 | BD18: 44 | BE18: 45 | BF18: 46 | BG18: 47 | BH18: 48 | BI18: 49 | BJ18: 50 | BK18: 51 | BL18: 52 | BM18: 53 | BN18: 54 | BO18: 55 | BP18: 56 | BQ18: 57 | BR18: 58
M19: 13+36 | N19: 33+56 | O19: 14+37 | P19: 15+38 | Q19: 12+35 | R19: (26+49)*5/3 | S19: (19:26;31;42:49;54) | T19: (17+29+40+52)*5/3 | U19: (suma(16;18:28;30:31)+suma(39;41:51;53:54))*5/1 | Y19: 14+33 | Z19: 15+32 | AA19: (suma 16-31)-17 | AV19: 37+56 | AW19: 38+55 | AX19: (suma 39-54)-40 | BQ19: 1/5
A20: 1 | C20: 2026/2027 | E20: 1 | F20: 2026/2027 | G20: RPS | I20: anatomia i fizjologia narządu wzroku | L20: tak | M20: =Y20+AV20 -> 75 | N20: =AS20+BP20 -> 35 | O20: =Z20+AW20 -> 40 | P20: =AA20+AX20 -> 40 | Q20: =X20+AU20 -> 3 | R20: =IFERROR((AL20+BI20)*Q20/O20," ") -> 0 | S20: =IFERROR((SUM(AE20:AL20,AQ20,BB20:BI20,BN20))*Q20/O20," ") -> 1.5 | T20: =IFERROR((AC20+AO20+AZ20+BL20)*Q20/O20," ") -> 1.5 | U20: =IFERROR((SUM(AB20,AD20:AN20,AP20:AQ20,AY20,BA20:BK20,BM20:BN20)*Q20/M20)," ") -> 1.6 | V20: egz | W20: zal/o | X20: 3 | Y20: =AS20+Z20 -> 75 | Z20: =AR20+AA20 -> 40 | AA20: =(SUM(AB20:AQ20))-AC20 -> 40 | AB20: 20 | AC20: 20 | AE20: 20 | AS20: 35 | AV20: =BP20+AW20 -> 0 | AW20: =BO20+AX20 -> 0 | AX20: =(SUM(AY20:BN20))-AZ20 -> 0 | BQ20: =IFERROR(M20/Q20," ") -> 25 | BR20: =IF(OR(BQ20>30,BQ20<25),"1 ECTS powinien mieścić się przedziale 25-30h","Wartość prawidłowa") -> Wartość prawidłowa | BS20: =SUM(AB20,AD20:AP20,AY20,BA20:BM20)-AC20-AZ20-AO20-BL20 -> 20 | BT20: =AC20+AZ20 -> 20 | BU20: =AO20+BL20 -> 0 | BV20: =AR20+BO20 -> 0 | BW20: =N20 -> 35 | BX20: =AQ20+BN20 -> 0 | BY20: =SUM(BS20:BX20) -> 75 | BZ20: =IFERROR((BS20*Q20)/BY20," ") -> 0.8 | CA20: =IFERROR((BT20*Q20)/BY20," ") -> 0.8 | CB20: =IFERROR((BU20*Q20)/BY20," ") -> 0 | CC20: =IFERROR((BV20*Q20)/BY20," ") -> 0 | CD20: =IFERROR((BW20*Q20)/BY20," ") -> 1.4 | CE20: =IFERROR((BX20*Q20)/BY20," ") -> 0 | CF20: =IFERROR((SUM(BZ20:CE20))," ") -> 3 | CG20: =SUM(BS20:BT20,CE20) -> 40 | CH20: =SUM(BT20:BU20) -> 20 | CI20: =SUM(BZ20:CA20,CE20) -> 1.6 | CJ20: =SUM(CA20:CB20) -> 0.8 | CK20: =Matryca!Q20 -> 3 | CL20: =Matryca!R20 -> 0 | CM20: =Matryca!S20 -> 1
A21: 2 | C21: 2026/2027 | E21: 1 | F21: 2026/2027 | G21: RPS | I21: optyka fizyczna i fizjologiczna | L21: tak | M21: =Y21+AV21 -> 75 | N21: =AS21+BP21 -> 45 | O21: =Z21+AW21 -> 30 | P21: =AA21+AX21 -> 30 | Q21: =X21+AU21 -> 3 | R21: =IFERROR((AL21+BI21)*Q21/O21," ") -> 0 | S21: =IFERROR((SUM(AE21:AL21,AQ21,BB21:BI21,BN21))*Q21/O21," ") -> 1.5 | T21: =IFERROR((AC21+AO21+AZ21+BL21)*Q21/O21," ") -> 1.5 | U21: =IFERROR((SUM(AB21,AD21:AN21,AP21:AQ21,AY21,BA21:BK21,BM21:BN21)*Q21/M21)," ") -> 1.2 | V21: egz | W21: zal/o | X21: 3 | Y21: =AS21+Z21 -> 75 | Z21: =AR21+AA21 -> 30 | AA21: =(SUM(AB21:AQ21))-AC21 -> 30 | AB21: 15 | AC21: 15 | AE21: 15 | AS21: 45 | AV21: =BP21+AW21 -> 0 | AW21: =BO21+AX21 -> 0 | AX21: =(SUM(AY21:BN21))-AZ21 -> 0 | BQ21: =IFERROR(M21/Q21," ") -> 25 | BR21: =IF(OR(BQ21>30,BQ21<25),"1 ECTS powinien mieścić się przedziale 25-30h","Wartość prawidłowa") -> Wartość prawidłowa | BS21: =SUM(AB21,AD21:AP21,AY21,BA21:BM21)-AC21-AZ21-AO21-BL21 -> 15 | BT21: =AC21+AZ21 -> 15 | BU21: =AO21+BL21 -> 0 | BV21: =AR21+BO21 -> 0 | BW21: =N21 -> 45 | BX21: =AQ21+BN21 -> 0 | BY21: =SUM(BS21:BX21) -> 75 | BZ21: =IFERROR((BS21*Q21)/BY21," ") -> 0.6 | CA21: =IFERROR((BT21*Q21)/BY21," ") -> 0.6 | CB21: =IFERROR((BU21*Q21)/BY21," ") -> 0 | CC21: =IFERROR((BV21*Q21)/BY21," ") -> 0 | CD21: =IFERROR((BW21*Q21)/BY21," ") -> 1.8 | CE21: =IFERROR((BX21*Q21)/BY21," ") -> 0 | CF21: =IFERROR((SUM(BZ21:CE21))," ") -> 3 | CG21: =SUM(BS21:BT21,CE21) -> 30 | CH21: =SUM(BT21:BU21) -> 15 | CI21: =SUM(BZ21:CA21,CE21) -> 1.2 | CJ21: =SUM(CA21:CB21) -> 0.6 | CK21: =Matryca!Q21 -> 1 | CL21: =Matryca!R21 -> 0 | CM21: =Matryca!S21 -> 1
A22: 3 | C22: 2026/2027 | E22: 1 | F22: 2026/2027 | G22: RPS | I22: zaburzenia widzenia obuocznego z elementami strabologii 1 | L22: tak | M22: =Y22+AV22 -> 75 | N22: =AS22+BP22 -> 35 | O22: =Z22+AW22 -> 40 | P22: =AA22+AX22 -> 40 | Q22: =X22+AU22 -> 3 | R22: =IFERROR((AL22+BI22)*Q22/O22," ") -> 0 | S22: =IFERROR((SUM(AE22:AL22,AQ22,BB22:BI22,BN22))*Q22/O22," ") -> 1.875 | T22: =IFERROR((AC22+AO22+AZ22+BL22)*Q22/O22," ") -> 1.125 | U22: =IFERROR((SUM(AB22,AD22:AN22,AP22:AQ22,AY22,BA22:BK22,BM22:BN22)*Q22/M22)," ") -> 1.6 | V22: zal/o | W22: zal/o | X22: 3 | Y22: =AS22+Z22 -> 75 | Z22: =AR22+AA22 -> 40 | AA22: =(SUM(AB22:AQ22))-AC22 -> 40 | AB22: 15 | AC22: 15 | AE22: 10 | AF22: 15 | AS22: 35 | AV22: =BP22+AW22 -> 0 | AW22: =BO22+AX22 -> 0 | AX22: =(SUM(AY22:BN22))-AZ22 -> 0 | BQ22: =IFERROR(M22/Q22," ") -> 25 | BR22: =IF(OR(BQ22>30,BQ22<25),"1 ECTS powinien mieścić się przedziale 25-30h","Wartość prawidłowa") -> Wartość prawidłowa | BS22: =SUM(AB22,AD22:AP22,AY22,BA22:BM22)-AC22-AZ22-AO22-BL22 -> 25 | BT22: =AC22+AZ22 -> 15 | BU22: =AO22+BL22 -> 0 | BV22: =AR22+BO22 -> 0 | BW22: =N22 -> 35 | BX22: =AQ22+BN22 -> 0 | BY22: =SUM(BS22:BX22) -> 75 | BZ22: =IFERROR((BS22*Q22)/BY22," ") -> 1 | CA22: =IFERROR((BT22*Q22)/BY22," ") -> 0.6 | CB22: =IFERROR((BU22*Q22)/BY22," ") -> 0 | CC22: =IFERROR((BV22*Q22)/BY22," ") -> 0 | CD22: =IFERROR((BW22*Q22)/BY22," ") -> 1.4 | CE22: =IFERROR((BX22*Q22)/BY22," ") -> 0 | CF22: =IFERROR((SUM(BZ22:CE22))," ") -> 3 | CG22: =SUM(BS22:BT22,CE22) -> 40 | CH22: =SUM(BT22:BU22) -> 15 | CI22: =SUM(BZ22:CA22,CE22) -> 1.6 | CJ22: =SUM(CA22:CB22) -> 0.6 | CK22: =Matryca!Q22 -> 1 | CL22: =Matryca!R22 -> 1 | CM22: =Matryca!S22 -> 2
A23: 4 | C23: 2026/2027 | E23: 1 | F23: 2026/2027 | G23: RPS | I23: metody diagnostyczne przedniego odcinka oka | L23: tak | M23: =Y23+AV23 -> 125 | N23: =AS23+BP23 -> 65 | O23: =Z23+AW23 -> 60 | P23: =AA23+AX23 -> 60 | Q23: =X23+AU23 -> 5 | R23: =IFERROR((AL23+BI23)*Q23/O23," ") -> 0 | S23: =IFERROR((SUM(AE23:AL23,AQ23,BB23:BI23,BN23))*Q23/O23," ") -> 2.9166667 | T23: =IFERROR((AC23+AO23+AZ23+BL23)*Q23/O23," ") -> 2.0833333 | U23: =IFERROR((SUM(AB23,AD23:AN23,AP23:AQ23,AY23,BA23:BK23,BM23:BN23)*Q23/M23)," ") -> 2.4 | V23: zal/o | W23: zal/o | X23: 5 | Y23: =AS23+Z23 -> 125 | Z23: =AR23+AA23 -> 60 | AA23: =(SUM(AB23:AQ23))-AC23 -> 60 | AB23: 25 | AC23: 25 | AF23: 35 | AS23: 65 | AV23: =BP23+AW23 -> 0 | AW23: =BO23+AX23 -> 0 | AX23: =(SUM(AY23:BN23))-AZ23 -> 0 | BQ23: =IFERROR(M23/Q23," ") -> 25 | BR23: =IF(OR(BQ23>30,BQ23<25),"1 ECTS powinien mieścić się przedziale 25-30h","Wartość prawidłowa") -> Wartość prawidłowa | BS23: =SUM(AB23,AD23:AP23,AY23,BA23:BM23)-AC23-AZ23-AO23-BL23 -> 35 | BT23: =AC23+AZ23 -> 25 | BU23: =AO23+BL23 -> 0 | BV23: =AR23+BO23 -> 0 | BW23: =N23 -> 65 | BX23: =AQ23+BN23 -> 0 | BY23: =SUM(BS23:BX23) -> 125 | BZ23: =IFERROR((BS23*Q23)/BY23," ") -> 1.4 | CA23: =IFERROR((BT23*Q23)/BY23," ") -> 1 | CB23: =IFERROR((BU23*Q23)/BY23," ") -> 0 | CC23: =IFERROR((BV23*Q23)/BY23," ") -> 0 | CD23: =IFERROR((BW23*Q23)/BY23," ") -> 2.6 | CE23: =IFERROR((BX23*Q23)/BY23," ") -> 0 | CF23: =IFERROR((SUM(BZ23:CE23))," ") -> 5 | CG23: =SUM(BS23:BT23,CE23) -> 60 | CH23: =SUM(BT23:BU23) -> 25 | CI23: =SUM(BZ23:CA23,CE23) -> 2.4 | CJ23: =SUM(CA23:CB23) -> 1 | CK23: =Matryca!Q23 -> 3 | CL23: =Matryca!R23 -> 4 | CM23: =Matryca!S23 -> 1
A24: 5 | C24: 2026/2027 | E24: 1 | F24: 2026/2027 | G24: RPS | I24: prawo medyczne i ochrona własności intelektualnej | K24: tak | L24: nie | M24: =Y24+AV24 -> 50 | N24: =AS24+BP24 -> 25 | O24: =Z24+AW24 -> 25 | P24: =AA24+AX24 -> 25 | Q24: =X24+AU24 -> 2 | R24: =IFERROR((AL24+BI24)*Q24/O24," ") -> 0 | S24: =IFERROR((SUM(AE24:AL24,AQ24,BB24:BI24,BN24))*Q24/O24," ") -> 0 | T24: =IFERROR((AC24+AO24+AZ24+BL24)*Q24/O24," ") -> 0.8 | U24: =IFERROR((SUM(AB24,AD24:AN24,AP24:AQ24,AY24,BA24:BK24,BM24:BN24)*Q24/M24)," ") -> 1 | V24: zal/o | W24: zal/o | X24: 2 | Y24: =AS24+Z24 -> 50 | Z24: =AR24+AA24 -> 25 | AA24: =(SUM(AB24:AQ24))-AC24 -> 25 | AB24: 10 | AC24: 10 | AD24: 15 | AS24: 25 | AV24: =BP24+AW24 -> 0 | AW24: =BO24+AX24 -> 0 | AX24: =(SUM(AY24:BN24))-AZ24 -> 0 | BQ24: =IFERROR(M24/Q24," ") -> 25 | BR24: =IF(OR(BQ24>30,BQ24<25),"1 ECTS powinien mieścić się przedziale 25-30h","Wartość prawidłowa") -> Wartość prawidłowa | BS24: =SUM(AB24,AD24:AP24,AY24,BA24:BM24)-AC24-AZ24-AO24-BL24 -> 15 | BT24: =AC24+AZ24 -> 10 | BU24: =AO24+BL24 -> 0 | BV24: =AR24+BO24 -> 0 | BW24: =N24 -> 25 | BX24: =AQ24+BN24 -> 0 | BY24: =SUM(BS24:BX24) -> 50 | BZ24: =IFERROR((BS24*Q24)/BY24," ") -> 0.6 | CA24: =IFERROR((BT24*Q24)/BY24," ") -> 0.4 | CB24: =IFERROR((BU24*Q24)/BY24," ") -> 0 | CC24: =IFERROR((BV24*Q24)/BY24," ") -> 0 | CD24: =IFERROR((BW24*Q24)/BY24," ") -> 1 | CE24: =IFERROR((BX24*Q24)/BY24," ") -> 0 | CF24: =IFERROR((SUM(BZ24:CE24))," ") -> 2 | CG24: =SUM(BS24:BT24,CE24) -> 25 | CH24: =SUM(BT24:BU24) -> 10 | CI24: =SUM(BZ24:CA24,CE24) -> 1 | CJ24: =SUM(CA24:CB24) -> 0.4 | CK24: =Matryca!Q24 -> 2 | CL24: =Matryca!R24 -> 1 | CM24: =Matryca!S24 -> 2
A25: 6 | C25: 2026/2027 | E25: 1 | F25: 2026/2027 | G25: POW | I25: metody i techniki badań naukowych /evidence-based (EB) in healthcare | L25: tak | M25: =Y25+AV25 -> 50 | N25: =AS25+BP25 -> 25 | O25: =Z25+AW25 -> 25 | P25: =AA25+AX25 -> 25 | Q25: =X25+AU25 -> 2 | R25: =IFERROR((AL25+BI25)*Q25/O25," ") -> 0 | S25: =IFERROR((SUM(AE25:AL25,AQ25,BB25:BI25,BN25))*Q25/O25," ") -> 0 | T25: =IFERROR((AC25+AO25+AZ25+BL25)*Q25/O25," ") -> 0.8 | U25: =IFERROR((SUM(AB25,AD25:AN25,AP25:AQ25,AY25,BA25:BK25,BM25:BN25)*Q25/M25)," ") -> 1 | V25: zal/o | W25: zal/o | X25: 2 | Y25: =AS25+Z25 -> 50 | Z25: =AR25+AA25 -> 25 | AA25: =(SUM(AB25:AQ25))-AC25 -> 25 | AB25: 10 | AC25: 10 | AD25: 15 | AS25: 25 | AV25: =BP25+AW25 -> 0 | AW25: =BO25+AX25 -> 0 | AX25: =(SUM(AY25:BN25))-AZ25 -> 0 | BQ25: =IFERROR(M25/Q25," ") -> 25 | BR25: =IF(OR(BQ25>30,BQ25<25),"1 ECTS powinien mieścić się przedziale 25-30h","Wartość prawidłowa") -> Wartość prawidłowa | BS25: =SUM(AB25,AD25:AP25,AY25,BA25:BM25)-AC25-AZ25-AO25-BL25 -> 15 | BT25: =AC25+AZ25 -> 10 | BU25: =AO25+BL25 -> 0 | BV25: =AR25+BO25 -> 0 | BW25: =N25 -> 25 | BX25: =AQ25+BN25 -> 0 | BY25: =SUM(BS25:BX25) -> 50 | BZ25: =IFERROR((BS25*Q25)/BY25," ") -> 0.6 | CA25: =IFERROR((BT25*Q25)/BY25," ") -> 0.4 | CB25: =IFERROR((BU25*Q25)/BY25," ") -> 0 | CC25: =IFERROR((BV25*Q25)/BY25," ") -> 0 | CD25: =IFERROR((BW25*Q25)/BY25," ") -> 1 | CE25: =IFERROR((BX25*Q25)/BY25," ") -> 0 | CF25: =IFERROR((SUM(BZ25:CE25))," ") -> 2 | CG25: =SUM(BS25:BT25,CE25) -> 25 | CH25: =SUM(BT25:BU25) -> 10 | CI25: =SUM(BZ25:CA25,CE25) -> 1 | CJ25: =SUM(CA25:CB25) -> 0.4 | CK25: =Matryca!Q25 -> 1 | CL25: =Matryca!R25 -> 4 | CM25: =Matryca!S25 -> 2
A26: 7 | C26: 2026/2027 | E26: 1 | F26: 2026/2027 | G26: RPS | I26: biostatystyka | L26: tak | M26: =Y26+AV26 -> 50 | N26: =AS26+BP26 -> 25 | O26: =Z26+AW26 -> 25 | P26: =AA26+AX26 -> 25 | Q26: =X26+AU26 -> 2 | R26: =IFERROR((AL26+BI26)*Q26/O26," ") -> 0 | S26: =IFERROR((SUM(AE26:AL26,AQ26,BB26:BI26,BN26))*Q26/O26," ") -> 1.2 | T26: =IFERROR((AC26+AO26+AZ26+BL26)*Q26/O26," ") -> 0.8 | U26: =IFERROR((SUM(AB26,AD26:AN26,AP26:AQ26,AY26,BA26:BK26,BM26:BN26)*Q26/M26)," ") -> 1 | V26: zal/o | W26: zal/o | X26: 2 | Y26: =AS26+Z26 -> 50 | Z26: =AR26+AA26 -> 25 | AA26: =(SUM(AB26:AQ26))-AC26 -> 25 | AB26: 10 | AC26: 10 | AF26: 15 | AS26: 25 | AV26: =BP26+AW26 -> 0 | AW26: =BO26+AX26 -> 0 | AX26: =(SUM(AY26:BN26))-AZ26 -> 0 | BQ26: =IFERROR(M26/Q26," ") -> 25 | BR26: =IF(OR(BQ26>30,BQ26<25),"1 ECTS powinien mieścić się przedziale 25-30h","Wartość prawidłowa") -> Wartość prawidłowa | BS26: =SUM(AB26,AD26:AP26,AY26,BA26:BM26)-AC26-AZ26-AO26-BL26 -> 15 | BT26: =AC26+AZ26 -> 10 | BU26: =AO26+BL26 -> 0 | BV26: =AR26+BO26 -> 0 | BW26: =N26 -> 25 | BX26: =AQ26+BN26 -> 0 | BY26: =SUM(BS26:BX26) -> 50 | BZ26: =IFERROR((BS26*Q26)/BY26," ") -> 0.6 | CA26: =IFERROR((BT26*Q26)/BY26," ") -> 0.4 | CB26: =IFERROR((BU26*Q26)/BY26," ") -> 0 | CC26: =IFERROR((BV26*Q26)/BY26," ") -> 0 | CD26: =IFERROR((BW26*Q26)/BY26," ") -> 1 | CE26: =IFERROR((BX26*Q26)/BY26," ") -> 0 | CF26: =IFERROR((SUM(BZ26:CE26))," ") -> 2 | CG26: =SUM(BS26:BT26,CE26) -> 25 | CH26: =SUM(BT26:BU26) -> 10 | CI26: =SUM(BZ26:CA26,CE26) -> 1 | CJ26: =SUM(CA26:CB26) -> 0.4 | CK26: =Matryca!Q26 -> 1 | CL26: =Matryca!R26 -> 3 | CM26: =Matryca!S26 -> 1
A27: 8 | C27: 2026/2027 | E27: 1 | F27: 2026/2027 | G27: RPS | I27: optyczna aparatura okulistyczno-optometryczna 1 | L27: tak | M27: =Y27+AV27 -> 75 | N27: =AS27+BP27 -> 45 | O27: =Z27+AW27 -> 30 | P27: =AA27+AX27 -> 30 | Q27: =X27+AU27 -> 3 | R27: =IFERROR((AL27+BI27)*Q27/O27," ") -> 0 | S27: =IFERROR((SUM(AE27:AL27,AQ27,BB27:BI27,BN27))*Q27/O27," ") -> 1.5 | T27: =IFERROR((AC27+AO27+AZ27+BL27)*Q27/O27," ") -> 1.5 | U27: =IFERROR((SUM(AB27,AD27:AN27,AP27:AQ27,AY27,BA27:BK27,BM27:BN27)*Q27/M27)," ") -> 1.2 | V27: zal/o | W27: zal/o | X27: 3 | Y27: =AS27+Z27 -> 75 | Z27: =AR27+AA27 -> 30 | AA27: =(SUM(AB27:AQ27))-AC27 -> 30 | AB27: 15 | AC27: 15 | AF27: 15 | AS27: 45 | AV27: =BP27+AW27 -> 0 | AW27: =BO27+AX27 -> 0 | AX27: =(SUM(AY27:BN27))-AZ27 -> 0 | BQ27: =IFERROR(M27/Q27," ") -> 25 | BR27: =IF(OR(BQ27>30,BQ27<25),"1 ECTS powinien mieścić się przedziale 25-30h","Wartość prawidłowa") -> Wartość prawidłowa | BS27: =SUM(AB27,AD27:AP27,AY27,BA27:BM27)-AC27-AZ27-AO27-BL27 -> 15 | BT27: =AC27+AZ27 -> 15 | BU27: =AO27+BL27 -> 0 | BV27: =AR27+BO27 -> 0 | BW27: =N27 -> 45 | BX27: =AQ27+BN27 -> 0 | BY27: =SUM(BS27:BX27) -> 75 | BZ27: =IFERROR((BS27*Q27)/BY27," ") -> 0.6 | CA27: =IFERROR((BT27*Q27)/BY27," ") -> 0.6 | CB27: =IFERROR((BU27*Q27)/BY27," ") -> 0 | CC27: =IFERROR((BV27*Q27)/BY27," ") -> 0 | CD27: =IFERROR((BW27*Q27)/BY27," ") -> 1.8 | CE27: =IFERROR((BX27*Q27)/BY27," ") -> 0 | CF27: =IFERROR((SUM(BZ27:CE27))," ") -> 3 | CG27: =SUM(BS27:BT27,CE27) -> 30 | CH27: =SUM(BT27:BU27) -> 15 | CI27: =SUM(BZ27:CA27,CE27) -> 1.2 | CJ27: =SUM(CA27:CB27) -> 0.6 | CK27: =Matryca!Q27 -> 4 | CL27: =Matryca!R27 -> 1 | CM27: =Matryca!S27 -> 0
A28: 9 | C28: 2026/2027 | E28: 1 | F28: 2026/2027 | G28: POW | I28: komunikacja interpersonalna/ mediacje i rozwiązywanie konfliktów | K28: tak | L28: nie | M28: =Y28+AV28 -> 50 | N28: =AS28+BP28 -> 25 | O28: =Z28+AW28 -> 25 | P28: =AA28+AX28 -> 25 | Q28: =X28+AU28 -> 2 | R28: =IFERROR((AL28+BI28)*Q28/O28," ") -> 0 | S28: =IFERROR((SUM(AE28:AL28,AQ28,BB28:BI28,BN28))*Q28/O28," ") -> 1.2 | T28: =IFERROR((AC28+AO28+AZ28+BL28)*Q28/O28," ") -> 0.8 | U28: =IFERROR((SUM(AB28,AD28:AN28,AP28:AQ28,AY28,BA28:BK28,BM28:BN28)*Q28/M28)," ") -> 1 | V28: zal/o | W28: zal/o | X28: 2 | Y28: =AS28+Z28 -> 50 | Z28: =AR28+AA28 -> 25 | AA28: =(SUM(AB28:AQ28))-AC28 -> 25 | AB28: 10 | AC28: 10 | AE28: 15 | AS28: 25 | AV28: =BP28+AW28 -> 0 | AW28: =BO28+AX28 -> 0 | AX28: =(SUM(AY28:BN28))-AZ28 -> 0 | BQ28: =IFERROR(M28/Q28," ") -> 25 | BR28: =IF(OR(BQ28>30,BQ28<25),"1 ECTS powinien mieścić się przedziale 25-30h","Wartość prawidłowa") -> Wartość prawidłowa | BS28: =SUM(AB28,AD28:AP28,AY28,BA28:BM28)-AC28-AZ28-AO28-BL28 -> 15 | BT28: =AC28+AZ28 -> 10 | BU28: =AO28+BL28 -> 0 | BV28: =AR28+BO28 -> 0 | BW28: =N28 -> 25 | BX28: =AQ28+BN28 -> 0 | BY28: =SUM(BS28:BX28) -> 50 | BZ28: =IFERROR((BS28*Q28)/BY28," ") -> 0.6 | CA28: =IFERROR((BT28*Q28)/BY28," ") -> 0.4 | CB28: =IFERROR((BU28*Q28)/BY28," ") -> 0 | CC28: =IFERROR((BV28*Q28)/BY28," ") -> 0 | CD28: =IFERROR((BW28*Q28)/BY28," ") -> 1 | CE28: =IFERROR((BX28*Q28)/BY28," ") -> 0 | CF28: =IFERROR((SUM(BZ28:CE28))," ") -> 2 | CG28: =SUM(BS28:BT28,CE28) -> 25 | CH28: =SUM(BT28:BU28) -> 10 | CI28: =SUM(BZ28:CA28,CE28) -> 1 | CJ28: =SUM(CA28:CB28) -> 0.4 | CK28: =Matryca!Q28 -> 1 | CL28: =Matryca!R28 -> 4 | CM28: =Matryca!S28 -> 3
A29: 10 | C29: 2026/2027 | E29: 1 | F29: 2026/2027 | G29: RPS | I29: pomiary refrakcji 1 | L29: tak | M29: =Y29+AV29 -> 75 | N29: =AS29+BP29 -> 35 | O29: =Z29+AW29 -> 40 | P29: =AA29+AX29 -> 40 | Q29: =X29+AU29 -> 3 | R29: =IFERROR((AL29+BI29)*Q29/O29," ") -> 0 | S29: =IFERROR((SUM(AE29:AL29,AQ29,BB29:BI29,BN29))*Q29/O29," ") -> 1.5 | T29: =IFERROR((AC29+AO29+AZ29+BL29)*Q29/O29," ") -> 1.5 | U29: =IFERROR((SUM(AB29,AD29:AN29,AP29:AQ29,AY29,BA29:BK29,BM29:BN29)*Q29/M29)," ") -> 1.6 | V29: zal/o | W29: zal/o | X29: 3 | Y29: =AS29+Z29 -> 75 | Z29: =AR29+AA29 -> 40 | AA29: =(SUM(AB29:AQ29))-AC29 -> 40 | AB29: 20 | AC29: 20 | AF29: 20 | AS29: 35 | AV29: =BP29+AW29 -> 0 | AW29: =BO29+AX29 -> 0 | AX29: =(SUM(AY29:BN29))-AZ29 -> 0 | BQ29: =IFERROR(M29/Q29," ") -> 25 | BR29: =IF(OR(BQ29>30,BQ29<25),"1 ECTS powinien mieścić się przedziale 25-30h","Wartość prawidłowa") -> Wartość prawidłowa | BS29: =SUM(AB29,AD29:AP29,AY29,BA29:BM29)-AC29-AZ29-AO29-BL29 -> 20 | BT29: =AC29+AZ29 -> 20 | BU29: =AO29+BL29 -> 0 | BV29: =AR29+BO29 -> 0 | BW29: =N29 -> 35 | BX29: =AQ29+BN29 -> 0 | BY29: =SUM(BS29:BX29) -> 75 | BZ29: =IFERROR((BS29*Q29)/BY29," ") -> 0.8 | CA29: =IFERROR((BT29*Q29)/BY29," ") -> 0.8 | CB29: =IFERROR((BU29*Q29)/BY29," ") -> 0 | CC29: =IFERROR((BV29*Q29)/BY29," ") -> 0 | CD29: =IFERROR((BW29*Q29)/BY29," ") -> 1.4 | CE29: =IFERROR((BX29*Q29)/BY29," ") -> 0 | CF29: =IFERROR((SUM(BZ29:CE29))," ") -> 3 | CG29: =SUM(BS29:BT29,CE29) -> 40 | CH29: =SUM(BT29:BU29) -> 20 | CI29: =SUM(BZ29:CA29,CE29) -> 1.6 | CJ29: =SUM(CA29:CB29) -> 0.8 | CK29: =Matryca!Q29 -> 2 | CL29: =Matryca!R29 -> 3 | CM29: =Matryca!S29 -> 1
A30: 11 | C30: 2026/2027 | E30: 1 | F30: 2026/2027 | G30: RPS | I30: język angielski | L30: nie | M30: =Y30+AV30 -> 100 | N30: =AS30+BP30 -> 40 | O30: =Z30+AW30 -> 60 | P30: =AA30+AX30 -> 60 | Q30: =X30+AU30 -> 4 | R30: =IFERROR((AL30+BI30)*Q30/O30," ") -> 0 | S30: =IFERROR((SUM(AE30:AL30,AQ30,BB30:BI30,BN30))*Q30/O30," ") -> 0 | T30: =IFERROR((AC30+AO30+AZ30+BL30)*Q30/O30," ") -> 0 | U30: =IFERROR((SUM(AB30,AD30:AN30,AP30:AQ30,AY30,BA30:BK30,BM30:BN30)*Q30/M30)," ") -> 2.4 | V30: zal/o | W30: zal/o | X30: 2 | Y30: =AS30+Z30 -> 50 | Z30: =AR30+AA30 -> 30 | AA30: =(SUM(AB30:AQ30))-AC30 -> 30 | AN30: 30 | AS30: 20 | AT30: zal/o | AU30: 2 | AV30: =BP30+AW30 -> 50 | AW30: =BO30+AX30 -> 30 | AX30: =(SUM(AY30:BN30))-AZ30 -> 30 | BK30: 30 | BP30: 20 | BQ30: =IFERROR(M30/Q30," ") -> 25 | BR30: =IF(OR(BQ30>30,BQ30<25),"1 ECTS powinien mieścić się przedziale 25-30h","Wartość prawidłowa") -> Wartość prawidłowa | BS30: =SUM(AB30,AD30:AP30,AY30,BA30:BM30)-AC30-AZ30-AO30-BL30 -> 60 | BT30: =AC30+AZ30 -> 0 | BU30: =AO30+BL30 -> 0 | BV30: =AR30+BO30 -> 0 | BW30: =N30 -> 40 | BX30: =AQ30+BN30 -> 0 | BY30: =SUM(BS30:BX30) -> 100 | BZ30: =IFERROR((BS30*Q30)/BY30," ") -> 2.4 | CA30: =IFERROR((BT30*Q30)/BY30," ") -> 0 | CB30: =IFERROR((BU30*Q30)/BY30," ") -> 0 | CC30: =IFERROR((BV30*Q30)/BY30," ") -> 0 | CD30: =IFERROR((BW30*Q30)/BY30," ") -> 1.6 | CE30: =IFERROR((BX30*Q30)/BY30," ") -> 0 | CF30: =IFERROR((SUM(BZ30:CE30))," ") -> 4 | CG30: =SUM(BS30:BT30,CE30) -> 60 | CH30: =SUM(BT30:BU30) -> 0 | CI30: =SUM(BZ30:CA30,CE30) -> 2.4 | CJ30: =SUM(CA30:CB30) -> 0 | CK30: =Matryca!Q30 -> 0 | CL30: =Matryca!R30 -> 3 | CM30: =Matryca!S30 -> 1
A31: 12 | C31: 2026/2027 | E31: 1 | F31: 2026/2027 | G31: RPS | I31: pomiary refrakcji 2 | L31: tak | M31: =Y31+AV31 -> 75 | N31: =AS31+BP31 -> 30 | O31: =Z31+AW31 -> 45 | P31: =AA31+AX31 -> 45 | Q31: =X31+AU31 -> 3 | R31: =IFERROR((AL31+BI31)*Q31/O31," ") -> 0 | S31: =IFERROR((SUM(AE31:AL31,AQ31,BB31:BI31,BN31))*Q31/O31," ") -> 2 | T31: =IFERROR((AC31+AO31+AZ31+BL31)*Q31/O31," ") -> 1 | U31: =IFERROR((SUM(AB31,AD31:AN31,AP31:AQ31,AY31,BA31:BK31,BM31:BN31)*Q31/M31)," ") -> 1.8 | V31: zal/o | Y31: =AS31+Z31 -> 0 | Z31: =AR31+AA31 -> 0 | AA31: =(SUM(AB31:AQ31))-AC31 -> 0 | AT31: zal/o | AU31: 3 | AV31: =BP31+AW31 -> 75 | AW31: =BO31+AX31 -> 45 | AX31: =(SUM(AY31:BN31))-AZ31 -> 45 | AY31: 15 | AZ31: 15 | BC31: 30 | BP31: 30 | BQ31: =IFERROR(M31/Q31," ") -> 25 | BR31: =IF(OR(BQ31>30,BQ31<25),"1 ECTS powinien mieścić się przedziale 25-30h","Wartość prawidłowa") -> Wartość prawidłowa | BS31: =SUM(AB31,AD31:AP31,AY31,BA31:BM31)-AC31-AZ31-AO31-BL31 -> 30 | BT31: =AC31+AZ31 -> 15 | BU31: =AO31+BL31 -> 0 | BV31: =AR31+BO31 -> 0 | BW31: =N31 -> 30 | BX31: =AQ31+BN31 -> 0 | BY31: =SUM(BS31:BX31) -> 75 | BZ31: =IFERROR((BS31*Q31)/BY31," ") -> 1.2 | CA31: =IFERROR((BT31*Q31)/BY31," ") -> 0.6 | CB31: =IFERROR((BU31*Q31)/BY31," ") -> 0 | CC31: =IFERROR((BV31*Q31)/BY31," ") -> 0 | CD31: =IFERROR((BW31*Q31)/BY31," ") -> 1.2 | CE31: =IFERROR((BX31*Q31)/BY31," ") -> 0 | CF31: =IFERROR((SUM(BZ31:CE31))," ") -> 3 | CG31: =SUM(BS31:BT31,CE31) -> 45 | CH31: =SUM(BT31:BU31) -> 15 | CI31: =SUM(BZ31:CA31,CE31) -> 1.8 | CJ31: =SUM(CA31:CB31) -> 0.6 | CK31: =Matryca!Q31 -> 1 | CL31: =Matryca!R31 -> 3 | CM31: =Matryca!S31 -> 1
A32: 13 | C32: 2026/2027 | E32: 1 | F32: 2026/2027 | G32: RPS | I32: zaburzenia widzenia obuocznego z elementami strabologii 2 | L32: tak | M32: =Y32+AV32 -> 100 | N32: =AS32+BP32 -> 65 | O32: =Z32+AW32 -> 35 | P32: =AA32+AX32 -> 35 | Q32: =X32+AU32 -> 4 | R32: =IFERROR((AL32+BI32)*Q32/O32," ") -> 0 | S32: =IFERROR((SUM(AE32:AL32,AQ32,BB32:BI32,BN32))*Q32/O32," ") -> 2.2857143 | T32: =IFERROR((AC32+AO32+AZ32+BL32)*Q32/O32," ") -> 1.7142857 | U32: =IFERROR((SUM(AB32,AD32:AN32,AP32:AQ32,AY32,BA32:BK32,BM32:BN32)*Q32/M32)," ") -> 1.4 | V32: egz | Y32: =AS32+Z32 -> 0 | Z32: =AR32+AA32 -> 0 | AA32: =(SUM(AB32:AQ32))-AC32 -> 0 | AT32: zal/o | AU32: 4 | AV32: =BP32+AW32 -> 100 | AW32: =BO32+AX32 -> 35 | AX32: =(SUM(AY32:BN32))-AZ32 -> 35 | AY32: 15 | AZ32: 15 | BC32: 20 | BP32: 65 | BQ32: =IFERROR(M32/Q32," ") -> 25 | BR32: =IF(OR(BQ32>30,BQ32<25),"1 ECTS powinien mieścić się przedziale 25-30h","Wartość prawidłowa") -> Wartość prawidłowa | BS32: =SUM(AB32,AD32:AP32,AY32,BA32:BM32)-AC32-AZ32-AO32-BL32 -> 20 | BT32: =AC32+AZ32 -> 15 | BU32: =AO32+BL32 -> 0 | BV32: =AR32+BO32 -> 0 | BW32: =N32 -> 65 | BX32: =AQ32+BN32 -> 0 | BY32: =SUM(BS32:BX32) -> 100 | BZ32: =IFERROR((BS32*Q32)/BY32," ") -> 0.8 | CA32: =IFERROR((BT32*Q32)/BY32," ") -> 0.6 | CB32: =IFERROR((BU32*Q32)/BY32," ") -> 0 | CC32: =IFERROR((BV32*Q32)/BY32," ") -> 0 | CD32: =IFERROR((BW32*Q32)/BY32," ") -> 2.6 | CE32: =IFERROR((BX32*Q32)/BY32," ") -> 0 | CF32: =IFERROR((SUM(BZ32:CE32))," ") -> 4 | CG32: =SUM(BS32:BT32,CE32) -> 35 | CH32: =SUM(BT32:BU32) -> 15 | CI32: =SUM(BZ32:CA32,CE32) -> 1.4 | CJ32: =SUM(CA32:CB32) -> 0.6 | CK32: =Matryca!Q32 -> 1 | CL32: =Matryca!R32 -> 2 | CM32: =Matryca!S32 -> 1
A33: 14 | C33: 2026/2027 | E33: 1 | F33: 2026/2027 | G33: RPS | I33: soczewki kontaktowe | L33: tak | M33: =Y33+AV33 -> 75 | N33: =AS33+BP33 -> 40 | O33: =Z33+AW33 -> 35 | P33: =AA33+AX33 -> 35 | Q33: =X33+AU33 -> 3 | R33: =IFERROR((AL33+BI33)*Q33/O33," ") -> 0 | S33: =IFERROR((SUM(AE33:AL33,AQ33,BB33:BI33,BN33))*Q33/O33," ") -> 1.7142857 | T33: =IFERROR((AC33+AO33+AZ33+BL33)*Q33/O33," ") -> 1.2857143 | U33: =IFERROR((SUM(AB33,AD33:AN33,AP33:AQ33,AY33,BA33:BK33,BM33:BN33)*Q33/M33)," ") -> 1.4 | V33: egz | Y33: =AS33+Z33 -> 0 | Z33: =AR33+AA33 -> 0 | AA33: =(SUM(AB33:AQ33))-AC33 -> 0 | AT33: zal/o | AU33: 3 | AV33: =BP33+AW33 -> 75 | AW33: =BO33+AX33 -> 35 | AX33: =(SUM(AY33:BN33))-AZ33 -> 35 | AY33: 15 | AZ33: 15 | BC33: 20 | BP33: 40 | BQ33: =IFERROR(M33/Q33," ") -> 25 | BR33: =IF(OR(BQ33>30,BQ33<25),"1 ECTS powinien mieścić się przedziale 25-30h","Wartość prawidłowa") -> Wartość prawidłowa | BS33: =SUM(AB33,AD33:AP33,AY33,BA33:BM33)-AC33-AZ33-AO33-BL33 -> 20 | BT33: =AC33+AZ33 -> 15 | BU33: =AO33+BL33 -> 0 | BV33: =AR33+BO33 -> 0 | BW33: =N33 -> 40 | BX33: =AQ33+BN33 -> 0 | BY33: =SUM(BS33:BX33) -> 75 | BZ33: =IFERROR((BS33*Q33)/BY33," ") -> 0.8 | CA33: =IFERROR((BT33*Q33)/BY33," ") -> 0.6 | CB33: =IFERROR((BU33*Q33)/BY33," ") -> 0 | CC33: =IFERROR((BV33*Q33)/BY33," ") -> 0 | CD33: =IFERROR((BW33*Q33)/BY33," ") -> 1.6 | CE33: =IFERROR((BX33*Q33)/BY33," ") -> 0 | CF33: =IFERROR((SUM(BZ33:CE33))," ") -> 3 | CG33: =SUM(BS33:BT33,CE33) -> 35 | CH33: =SUM(BT33:BU33) -> 15 | CI33: =SUM(BZ33:CA33,CE33) -> 1.4 | CJ33: =SUM(CA33:CB33) -> 0.6 | CK33: =Matryca!Q33 -> 3 | CL33: =Matryca!R33 -> 1 | CM33: =Matryca!S33 -> 1
A34: 15 | C34: 2026/2027 | E34: 1 | F34: 2026/2027 | G34: RPS | I34: optyczna aparatura okulistyczno-optometryczna 2 | L34: tak | M34: =Y34+AV34 -> 75 | N34: =AS34+BP34 -> 40 | O34: =Z34+AW34 -> 35 | P34: =AA34+AX34 -> 35 | Q34: =X34+AU34 -> 3 | R34: =IFERROR((AL34+BI34)*Q34/O34," ") -> 0 | S34: =IFERROR((SUM(AE34:AL34,AQ34,BB34:BI34,BN34))*Q34/O34," ") -> 1.7142857 | T34: =IFERROR((AC34+AO34+AZ34+BL34)*Q34/O34," ") -> 1.2857143 | U34: =IFERROR((SUM(AB34,AD34:AN34,AP34:AQ34,AY34,BA34:BK34,BM34:BN34)*Q34/M34)," ") -> 1.4 | V34: zal/o | Y34: =AS34+Z34 -> 0 | Z34: =AR34+AA34 -> 0 | AA34: =(SUM(AB34:AQ34))-AC34 -> 0 | AT34: zal/o | AU34: 3 | AV34: =BP34+AW34 -> 75 | AW34: =BO34+AX34 -> 35 | AX34: =(SUM(AY34:BN34))-AZ34 -> 35 | AY34: 15 | AZ34: 15 | BH34: 20 | BP34: 40 | BQ34: =IFERROR(M34/Q34," ") -> 25 | BR34: =IF(OR(BQ34>30,BQ34<25),"1 ECTS powinien mieścić się przedziale 25-30h","Wartość prawidłowa") -> Wartość prawidłowa | BS34: =SUM(AB34,AD34:AP34,AY34,BA34:BM34)-AC34-AZ34-AO34-BL34 -> 20 | BT34: =AC34+AZ34 -> 15 | BU34: =AO34+BL34 -> 0 | BV34: =AR34+BO34 -> 0 | BW34: =N34 -> 40 | BX34: =AQ34+BN34 -> 0 | BY34: =SUM(BS34:BX34) -> 75 | BZ34: =IFERROR((BS34*Q34)/BY34," ") -> 0.8 | CA34: =IFERROR((BT34*Q34)/BY34," ") -> 0.6 | CB34: =IFERROR((BU34*Q34)/BY34," ") -> 0 | CC34: =IFERROR((BV34*Q34)/BY34," ") -> 0 | CD34: =IFERROR((BW34*Q34)/BY34," ") -> 1.6 | CE34: =IFERROR((BX34*Q34)/BY34," ") -> 0 | CF34: =IFERROR((SUM(BZ34:CE34))," ") -> 3 | CG34: =SUM(BS34:BT34,CE34) -> 35 | CH34: =SUM(BT34:BU34) -> 15 | CI34: =SUM(BZ34:CA34,CE34) -> 1.4 | CJ34: =SUM(CA34:CB34) -> 0.6 | CK34: =Matryca!Q34 -> 3 | CL34: =Matryca!R34 -> 1 | CM34: =Matryca!S34 -> 1
A35: 16 | C35: 2026/2027 | E35: 1 | F35: 2026/2027 | G35: POW | I35: seminarium dyplomowe 1 | L35: nie | M35: =Y35+AV35 -> 125 | N35: =AS35+BP35 -> 100 | O35: =Z35+AW35 -> 25 | P35: =AA35+AX35 -> 25 | Q35: =X35+AU35 -> 5 | R35: =IFERROR((AL35+BI35)*Q35/O35," ") -> 0 | S35: =IFERROR((SUM(AE35:AL35,AQ35,BB35:BI35,BN35))*Q35/O35," ") -> 0 | T35: =IFERROR((AC35+AO35+AZ35+BL35)*Q35/O35," ") -> 0 | U35: =IFERROR((SUM(AB35,AD35:AN35,AP35:AQ35,AY35,BA35:BK35,BM35:BN35)*Q35/M35)," ") -> 1 | V35: zal | Y35: =AS35+Z35 -> 0 | Z35: =AR35+AA35 -> 0 | AA35: =(SUM(AB35:AQ35))-AC35 -> 0 | AT35: zal | AU35: 5 | AV35: =BP35+AW35 -> 125 | AW35: =BO35+AX35 -> 25 | AX35: =(SUM(AY35:BN35))-AZ35 -> 25 | BA35: 25 | BP35: 100 | BQ35: =IFERROR(M35/Q35," ") -> 25 | BR35: =IF(OR(BQ35>30,BQ35<25),"1 ECTS powinien mieścić się przedziale 25-30h","Wartość prawidłowa") -> Wartość prawidłowa | BS35: =SUM(AB35,AD35:AP35,AY35,BA35:BM35)-AC35-AZ35-AO35-BL35 -> 25 | BT35: =AC35+AZ35 -> 0 | BU35: =AO35+BL35 -> 0 | BV35: =AR35+BO35 -> 0 | BW35: =N35 -> 100 | BX35: =AQ35+BN35 -> 0 | BY35: =SUM(BS35:BX35) -> 125 | BZ35: =IFERROR((BS35*Q35)/BY35," ") -> 1 | CA35: =IFERROR((BT35*Q35)/BY35," ") -> 0 | CB35: =IFERROR((BU35*Q35)/BY35," ") -> 0 | CC35: =IFERROR((BV35*Q35)/BY35," ") -> 0 | CD35: =IFERROR((BW35*Q35)/BY35," ") -> 4 | CE35: =IFERROR((BX35*Q35)/BY35," ") -> 0 | CF35: =IFERROR((SUM(BZ35:CE35))," ") -> 5 | CG35: =SUM(BS35:BT35,CE35) -> 25 | CH35: =SUM(BT35:BU35) -> 0 | CI35: =SUM(BZ35:CA35,CE35) -> 1 | CJ35: =SUM(CA35:CB35) -> 0 | CK35: =Matryca!Q35 -> 1 | CL35: =Matryca!R35 -> 4 | CM35: =Matryca!S35 -> 1
A36: 17 | C36: 2026/2027 | E36: 1 | F36: 2026/2027 | G36: POW | I36: problematyka zdrowia publicznego / organizacja systemu ochrony zdrowia | L36: tak | M36: =Y36+AV36 -> 50 | N36: =AS36+BP36 -> 15 | O36: =Z36+AW36 -> 35 | P36: =AA36+AX36 -> 35 | Q36: =X36+AU36 -> 2 | R36: =IFERROR((AL36+BI36)*Q36/O36," ") -> 0 | S36: =IFERROR((SUM(AE36:AL36,AQ36,BB36:BI36,BN36))*Q36/O36," ") -> 0 | T36: =IFERROR((AC36+AO36+AZ36+BL36)*Q36/O36," ") -> 0.85714286 | U36: =IFERROR((SUM(AB36,AD36:AN36,AP36:AQ36,AY36,BA36:BK36,BM36:BN36)*Q36/M36)," ") -> 1.4 | V36: zal/o | Y36: =AS36+Z36 -> 0 | Z36: =AR36+AA36 -> 0 | AA36: =(SUM(AB36:AQ36))-AC36 -> 0 | AT36: zal/o | AU36: 2 | AV36: =BP36+AW36 -> 50 | AW36: =BO36+AX36 -> 35 | AX36: =(SUM(AY36:BN36))-AZ36 -> 35 | AY36: 15 | AZ36: 15 | BA36: 20 | BP36: 15 | BQ36: =IFERROR(M36/Q36," ") -> 25 | BR36: =IF(OR(BQ36>30,BQ36<25),"1 ECTS powinien mieścić się przedziale 25-30h","Wartość prawidłowa") -> Wartość prawidłowa | BS36: =SUM(AB36,AD36:AP36,AY36,BA36:BM36)-AC36-AZ36-AO36-BL36 -> 20 | BT36: =AC36+AZ36 -> 15 | BU36: =AO36+BL36 -> 0 | BV36: =AR36+BO36 -> 0 | BW36: =N36 -> 15 | BX36: =AQ36+BN36 -> 0 | BY36: =SUM(BS36:BX36) -> 50 | BZ36: =IFERROR((BS36*Q36)/BY36," ") -> 0.8 | CA36: =IFERROR((BT36*Q36)/BY36," ") -> 0.6 | CB36: =IFERROR((BU36*Q36)/BY36," ") -> 0 | CC36: =IFERROR((BV36*Q36)/BY36," ") -> 0 | CD36: =IFERROR((BW36*Q36)/BY36," ") -> 0.6 | CE36: =IFERROR((BX36*Q36)/BY36," ") -> 0 | CF36: =IFERROR((SUM(BZ36:CE36))," ") -> 2 | CG36: =SUM(BS36:BT36,CE36) -> 35 | CH36: =SUM(BT36:BU36) -> 15 | CI36: =SUM(BZ36:CA36,CE36) -> 1.4 | CJ36: =SUM(CA36:CB36) -> 0.6 | CK36: =Matryca!Q36 -> 3 | CL36: =Matryca!R36 -> 2 | CM36: =Matryca!S36 -> 1
A37: 18 | C37: 2026/2027 | E37: 1 | F37: 2026/2027 | G37: POW | I37: zdrowie środowiskowe / zagrożenia epidemiologiczne | L37: tak | M37: =Y37+AV37 -> 50 | N37: =AS37+BP37 -> 15 | O37: =Z37+AW37 -> 35 | P37: =AA37+AX37 -> 35 | Q37: =X37+AU37 -> 2 | R37: =IFERROR((AL37+BI37)*Q37/O37," ") -> 0 | S37: =IFERROR((SUM(AE37:AL37,AQ37,BB37:BI37,BN37))*Q37/O37," ") -> 0 | T37: =IFERROR((AC37+AO37+AZ37+BL37)*Q37/O37," ") -> 0.85714286 | U37: =IFERROR((SUM(AB37,AD37:AN37,AP37:AQ37,AY37,BA37:BK37,BM37:BN37)*Q37/M37)," ") -> 1.4 | V37: zal/o | Y37: =AS37+Z37 -> 0 | Z37: =AR37+AA37 -> 0 | AA37: =(SUM(AB37:AQ37))-AC37 -> 0 | AT37: zal/o | AU37: 2 | AV37: =BP37+AW37 -> 50 | AW37: =BO37+AX37 -> 35 | AX37: =(SUM(AY37:BN37))-AZ37 -> 35 | AY37: 15 | AZ37: 15 | BA37: 20 | BP37: 15 | BQ37: =IFERROR(M37/Q37," ") -> 25 | BR37: =IF(OR(BQ37>30,BQ37<25),"1 ECTS powinien mieścić się przedziale 25-30h","Wartość prawidłowa") -> Wartość prawidłowa | BS37: =SUM(AB37,AD37:AP37,AY37,BA37:BM37)-AC37-AZ37-AO37-BL37 -> 20 | BT37: =AC37+AZ37 -> 15 | BU37: =AO37+BL37 -> 0 | BV37: =AR37+BO37 -> 0 | BW37: =N37 -> 15 | BX37: =AQ37+BN37 -> 0 | BY37: =SUM(BS37:BX37) -> 50 | BZ37: =IFERROR((BS37*Q37)/BY37," ") -> 0.8 | CA37: =IFERROR((BT37*Q37)/BY37," ") -> 0.6 | CB37: =IFERROR((BU37*Q37)/BY37," ") -> 0 | CC37: =IFERROR((BV37*Q37)/BY37," ") -> 0 | CD37: =IFERROR((BW37*Q37)/BY37," ") -> 0.6 | CE37: =IFERROR((BX37*Q37)/BY37," ") -> 0 | CF37: =IFERROR((SUM(BZ37:CE37))," ") -> 2 | CG37: =SUM(BS37:BT37,CE37) -> 35 | CH37: =SUM(BT37:BU37) -> 15 | CI37: =SUM(BZ37:CA37,CE37) -> 1.4 | CJ37: =SUM(CA37:CB37) -> 0.6 | CK37: =Matryca!Q37 -> 1 | CL37: =Matryca!R37 -> 1 | CM37: =Matryca!S37 -> 1
A38: 19 | C38: 2026/2027 | E38: 1 | F38: 2026/2027 | G38: POW | I38: telemedycyna i e-zdrowie / wprowadzenie do praktycznego zastosowania sztucznej inteligencji w ochronie zdrowia | L38: tak | M38: =Y38+AV38 -> 50 | N38: =AS38+BP38 -> 15 | O38: =Z38+AW38 -> 35 | P38: =AA38+AX38 -> 35 | Q38: =X38+AU38 -> 2 | R38: =IFERROR((AL38+BI38)*Q38/O38," ") -> 0 | S38: =IFERROR((SUM(AE38:AL38,AQ38,BB38:BI38,BN38))*Q38/O38," ") -> 1.1428571 | T38: =IFERROR((AC38+AO38+AZ38+BL38)*Q38/O38," ") -> 0.85714286 | U38: =IFERROR((SUM(AB38,AD38:AN38,AP38:AQ38,AY38,BA38:BK38,BM38:BN38)*Q38/M38)," ") -> 1.4 | V38: zal/o | Y38: =AS38+Z38 -> 0 | Z38: =AR38+AA38 -> 0 | AA38: =(SUM(AB38:AQ38))-AC38 -> 0 | AT38: zal/o | AU38: 2 | AV38: =BP38+AW38 -> 50 | AW38: =BO38+AX38 -> 35 | AX38: =(SUM(AY38:BN38))-AZ38 -> 35 | AY38: 15 | AZ38: 15 | BB38: 20 | BP38: 15 | BQ38: =IFERROR(M38/Q38," ") -> 25 | BR38: =IF(OR(BQ38>30,BQ38<25),"1 ECTS powinien mieścić się przedziale 25-30h","Wartość prawidłowa") -> Wartość prawidłowa | BS38: =SUM(AB38,AD38:AP38,AY38,BA38:BM38)-AC38-AZ38-AO38-BL38 -> 20 | BT38: =AC38+AZ38 -> 15 | BU38: =AO38+BL38 -> 0 | BV38: =AR38+BO38 -> 0 | BW38: =N38 -> 15 | BX38: =AQ38+BN38 -> 0 | BY38: =SUM(BS38:BX38) -> 50 | BZ38: =IFERROR((BS38*Q38)/BY38," ") -> 0.8 | CA38: =IFERROR((BT38*Q38)/BY38," ") -> 0.6 | CB38: =IFERROR((BU38*Q38)/BY38," ") -> 0 | CC38: =IFERROR((BV38*Q38)/BY38," ") -> 0 | CD38: =IFERROR((BW38*Q38)/BY38," ") -> 0.6 | CE38: =IFERROR((BX38*Q38)/BY38," ") -> 0 | CF38: =IFERROR((SUM(BZ38:CE38))," ") -> 2 | CG38: =SUM(BS38:BT38,CE38) -> 35 | CH38: =SUM(BT38:BU38) -> 15 | CI38: =SUM(BZ38:CA38,CE38) -> 1.4 | CJ38: =SUM(CA38:CB38) -> 0.6 | CK38: =Matryca!Q38 -> 1 | CL38: =Matryca!R38 -> 1 | CM38: =Matryca!S38 -> 2
A39: 20 | C39: 2026/2027 | E39: 1 | F39: 2026/2027 | G39: POW | I39: pierwsza pomoc / bezpieczeństwo i reagowanie w stanach zagrożenia życia | L39: tak | M39: =Y39+AV39 -> 50 | N39: =AS39+BP39 -> 25 | O39: =Z39+AW39 -> 25 | P39: =AA39+AX39 -> 25 | Q39: =X39+AU39 -> 2 | R39: =IFERROR((AL39+BI39)*Q39/O39," ") -> 0 | S39: =IFERROR((SUM(AE39:AL39,AQ39,BB39:BI39,BN39))*Q39/O39," ") -> 1.2 | T39: =IFERROR((AC39+AO39+AZ39+BL39)*Q39/O39," ") -> 0.8 | U39: =IFERROR((SUM(AB39,AD39:AN39,AP39:AQ39,AY39,BA39:BK39,BM39:BN39)*Q39/M39)," ") -> 1 | V39: zal/o | Y39: =AS39+Z39 -> 0 | Z39: =AR39+AA39 -> 0 | AA39: =(SUM(AB39:AQ39))-AC39 -> 0 | AT39: zal/o | AU39: 2 | AV39: =BP39+AW39 -> 50 | AW39: =BO39+AX39 -> 25 | AX39: =(SUM(AY39:BN39))-AZ39 -> 25 | AY39: 10 | AZ39: 10 | BE39: 15 | BP39: 25 | BQ39: =IFERROR(M39/Q39," ") -> 25 | BR39: =IF(OR(BQ39>30,BQ39<25),"1 ECTS powinien mieścić się przedziale 25-30h","Wartość prawidłowa") -> Wartość prawidłowa | BS39: =SUM(AB39,AD39:AP39,AY39,BA39:BM39)-AC39-AZ39-AO39-BL39 -> 15 | BT39: =AC39+AZ39 -> 10 | BU39: =AO39+BL39 -> 0 | BV39: =AR39+BO39 -> 0 | BW39: =N39 -> 25 | BX39: =AQ39+BN39 -> 0 | BY39: =SUM(BS39:BX39) -> 50 | BZ39: =IFERROR((BS39*Q39)/BY39," ") -> 0.6 | CA39: =IFERROR((BT39*Q39)/BY39," ") -> 0.4 | CB39: =IFERROR((BU39*Q39)/BY39," ") -> 0 | CC39: =IFERROR((BV39*Q39)/BY39," ") -> 0 | CD39: =IFERROR((BW39*Q39)/BY39," ") -> 1 | CE39: =IFERROR((BX39*Q39)/BY39," ") -> 0 | CF39: =IFERROR((SUM(BZ39:CE39))," ") -> 2 | CG39: =SUM(BS39:BT39,CE39) -> 25 | CH39: =SUM(BT39:BU39) -> 10 | CI39: =SUM(BZ39:CA39,CE39) -> 1 | CJ39: =SUM(CA39:CB39) -> 0.4 | CK39: =Matryca!Q39 -> 1 | CL39: =Matryca!R39 -> 2 | CM39: =Matryca!S39 -> 1
A40: 21 | C40: 2026/2027 | E40: 1 | F40: 2026/2027 | G40: RPS | I40: praktyka zawodowa 1 | L40: nie | M40: =Y40+AV40 -> 50 | N40: =AS40+BP40 -> 0 | O40: =Z40+AW40 -> 50 | P40: =AA40+AX40 -> 50 | Q40: =X40+AU40 -> 2 | R40: =IFERROR((AL40+BI40)*Q40/O40," ") -> 0 | S40: =IFERROR((SUM(AE40:AL40,AQ40,BB40:BI40,BN40))*Q40/O40," ") -> 2 | T40: =IFERROR((AC40+AO40+AZ40+BL40)*Q40/O40," ") -> 0 | U40: =IFERROR((SUM(AB40,AD40:AN40,AP40:AQ40,AY40,BA40:BK40,BM40:BN40)*Q40/M40)," ") -> 2 | V40: zal | Y40: =AS40+Z40 -> 0 | Z40: =AR40+AA40 -> 0 | AA40: =(SUM(AB40:AQ40))-AC40 -> 0 | AT40: zal | AU40: 2 | AV40: =BP40+AW40 -> 50 | AW40: =BO40+AX40 -> 50 | AX40: =(SUM(AY40:BN40))-AZ40 -> 50 | BN40: 50 | BQ40: =IFERROR(M40/Q40," ") -> 25 | BR40: =IF(OR(BQ40>30,BQ40<25),"1 ECTS powinien mieścić się przedziale 25-30h","Wartość prawidłowa") -> Wartość prawidłowa | BS40: =SUM(AB40,AD40:AP40,AY40,BA40:BM40)-AC40-AZ40-AO40-BL40 -> 0 | BT40: =AC40+AZ40 -> 0 | BU40: =AO40+BL40 -> 0 | BV40: =AR40+BO40 -> 0 | BW40: =N40 -> 0 | BX40: =AQ40+BN40 -> 50 | BY40: =SUM(BS40:BX40) -> 50 | BZ40: =IFERROR((BS40*Q40)/BY40," ") -> 0 | CA40: =IFERROR((BT40*Q40)/BY40," ") -> 0 | CB40: =IFERROR((BU40*Q40)/BY40," ") -> 0 | CC40: =IFERROR((BV40*Q40)/BY40," ") -> 0 | CD40: =IFERROR((BW40*Q40)/BY40," ") -> 0 | CE40: =IFERROR((BX40*Q40)/BY40," ") -> 2 | CF40: =IFERROR((SUM(BZ40:CE40))," ") -> 2 | CG40: =SUM(BS40:BT40,CE40) -> 2 | CH40: =SUM(BT40:BU40) -> 0 | CI40: =SUM(BZ40:CA40,CE40) -> 2 | CJ40: =SUM(CA40:CB40) -> 0 | CK40: =Matryca!Q40 -> 1 | CL40: =Matryca!R40 -> 7 | CM40: =Matryca!S40 -> 2
A41: 22 | C41: 2026/2027 | E41: 1 | F41: 2026/2027 | G41: RPS | I41: szkolenie BHP i Ppoż | L41: nie | M41: =Y41+AV41 -> 4 | N41: =AS41+BP41 -> 0 | O41: =Z41+AW41 -> 4 | P41: =AA41+AX41 -> 4 | Q41: =X41+AU41 -> 0 | R41: =IFERROR((AL41+BI41)*Q41/O41," ") -> 0 | S41: =IFERROR((SUM(AE41:AL41,AQ41,BB41:BI41,BN41))*Q41/O41," ") -> 0 | T41: =IFERROR((AC41+AO41+AZ41+BL41)*Q41/O41," ") -> 0 | U41: =IFERROR((SUM(AB41,AD41:AN41,AP41:AQ41,AY41,BA41:BK41,BM41:BN41)*Q41/M41)," ") -> 0 | V41: zal | W41: zal | Y41: =AS41+Z41 -> 4 | Z41: =AR41+AA41 -> 4 | AA41: =(SUM(AB41:AQ41))-AC41 -> 4 | AO41: 4 | AV41: =BP41+AW41 -> 0 | AW41: =BO41+AX41 -> 0 | AX41: =(SUM(AY41:BN41))-AZ41 -> 0 | BQ41: =IFERROR(M41/Q41," ") | BR41: =IF(OR(BQ41>30,BQ41<25),"1 ECTS powinien mieścić się przedziale 25-30h","Wartość prawidłowa") -> 1 ECTS powinien mieścić się przedziale 25-30h | BS41: =SUM(AB41,AD41:AP41,AY41,BA41:BM41)-AC41-AZ41-AO41-BL41 -> 0 | BT41: =AC41+AZ41 -> 0 | BU41: =AO41+BL41 -> 4 | BV41: =AR41+BO41 -> 0 | BW41: =N41 -> 0 | BX41: =AQ41+BN41 -> 0 | BY41: =SUM(BS41:BX41) -> 4 | BZ41: =IFERROR((BS41*Q41)/BY41," ") -> 0 | CA41: =IFERROR((BT41*Q41)/BY41," ") -> 0 | CB41: =IFERROR((BU41*Q41)/BY41," ") -> 0 | CC41: =IFERROR((BV41*Q41)/BY41," ") -> 0 | CD41: =IFERROR((BW41*Q41)/BY41," ") -> 0 | CE41: =IFERROR((BX41*Q41)/BY41," ") -> 0 | CF41: =IFERROR((SUM(BZ41:CE41))," ") -> 0 | CG41: =SUM(BS41:BT41,CE41) -> 0 | CH41: =SUM(BT41:BU41) -> 4 | CI41: =SUM(BZ41:CA41,CE41) -> 0 | CJ41: =SUM(CA41:CB41) -> 0 | CK41: =Matryca!Q41 -> 3 | CL41: =Matryca!R41 -> 0 | CM41: =Matryca!S41 -> 0
A42: 23 | C42: 2026/2027 | E42: 1 | F42: 2026/2027 | G42: RPS | I42: szkolenie biblioteczne | L42: nie | M42: =Y42+AV42 -> 2 | N42: =AS42+BP42 -> 0 | O42: =Z42+AW42 -> 2 | P42: =AA42+AX42 -> 2 | Q42: =X42+AU42 -> 0 | R42: =IFERROR((AL42+BI42)*Q42/O42," ") -> 0 | S42: =IFERROR((SUM(AE42:AL42,AQ42,BB42:BI42,BN42))*Q42/O42," ") -> 0 | T42: =IFERROR((AC42+AO42+AZ42+BL42)*Q42/O42," ") -> 0 | U42: =IFERROR((SUM(AB42,AD42:AN42,AP42:AQ42,AY42,BA42:BK42,BM42:BN42)*Q42/M42)," ") -> 0 | V42: zal | W42: zal | Y42: =AS42+Z42 -> 2 | Z42: =AR42+AA42 -> 2 | AA42: =(SUM(AB42:AQ42))-AC42 -> 2 | AO42: 2 | AV42: =BP42+AW42 -> 0 | AW42: =BO42+AX42 -> 0 | AX42: =(SUM(AY42:BN42))-AZ42 -> 0 | BQ42: =IFERROR(M42/Q42," ") | BR42: =IF(OR(BQ42>30,BQ42<25),"1 ECTS powinien mieścić się przedziale 25-30h","Wartość prawidłowa") -> 1 ECTS powinien mieścić się przedziale 25-30h | BS42: =SUM(AB42,AD42:AP42,AY42,BA42:BM42)-AC42-AZ42-AO42-BL42 -> 0 | BT42: =AC42+AZ42 -> 0 | BU42: =AO42+BL42 -> 2 | BV42: =AR42+BO42 -> 0 | BW42: =N42 -> 0 | BX42: =AQ42+BN42 -> 0 | BY42: =SUM(BS42:BX42) -> 2 | BZ42: =IFERROR((BS42*Q42)/BY42," ") -> 0 | CA42: =IFERROR((BT42*Q42)/BY42," ") -> 0 | CB42: =IFERROR((BU42*Q42)/BY42," ") -> 0 | CC42: =IFERROR((BV42*Q42)/BY42," ") -> 0 | CD42: =IFERROR((BW42*Q42)/BY42," ") -> 0 | CE42: =IFERROR((BX42*Q42)/BY42," ") -> 0 | CF42: =IFERROR((SUM(BZ42:CE42))," ") -> 0 | CG42: =SUM(BS42:BT42,CE42) -> 0 | CH42: =SUM(BT42:BU42) -> 2 | CI42: =SUM(BZ42:CA42,CE42) -> 0 | CJ42: =SUM(CA42:CB42) -> 0 | CK42: =Matryca!Q42 -> 3 | CL42: =Matryca!R42 -> 0 | CM42: =Matryca!S42 -> 0
I43: sumy dla 1 roku | J43: =COUNTIF(J20:J42,"tak") -> 0 | K43: =COUNTIF(K20:K42,"tak") -> 2 | L43: =COUNTIF(L20:L42,"tak") -> 16 | M43: =SUM(M20:M42) -> 1506 | N43: =SUM(N20:N42) -> 745 | O43: =SUM(O20:O42) -> 761 | P43: =SUM(P20:P42) -> 761 | Q43: =SUM(Q20:Q42) -> 60 | R43: =SUM(R20:R42) -> 0 | S43: =SUM(S20:S42) -> 25.24881 | T43: =SUM(T20:T42) -> 21.065476 | ... BP43: =SUM(BP20:BP42) -> 365 | BS43: =SUM(BS20:BS42) -> 440 | BT43: =SUM(BT20:BT42) -> 265 | BU43: =SUM(BU20:BU42) -> 6 | BV43: =SUM(BV20:BV42) -> 0 | BW43: =SUM(BW20:BW42) -> 745 | BX43: =SUM(BX20:BX42) -> 50 | BY43: =SUM(BY20:BY42) -> 1506 | BZ43: =SUM(BZ20:BZ42) -> 17.6 | ... CM43: =SUM(CM20:CM42) -> 27
A44: 24 | C44: 2026/2027 | E44: 2 | F44: 2027/2028 | G44: RPS | I44: choroby oczu u dorosłych | L44: tak | M44: =Y44+AV44 -> 80 | N44: =AS44+BP44 -> 40 | O44: =Z44+AW44 -> 40 | P44: =AA44+AX44 -> 40 | Q44: =X44+AU44 -> 3 | R44: =IFERROR((AL44+BI44)*Q44/O44," ") -> 0 | S44: =IFERROR((SUM(AE44:AL44,AQ44,BB44:BI44,BN44))*Q44/O44," ") -> 1.5 | T44: =IFERROR((AC44+AO44+AZ44+BL44)*Q44/O44," ") -> 1.5 | U44: =IFERROR((SUM(AB44,AD44:AN44,AP44:AQ44,AY44,BA44:BK44,BM44:BN44)*Q44/M44)," ") -> 1.5 | V44: egz | W44: zal/o | X44: 3 | Y44: =AS44+Z44 -> 80 | Z44: =AR44+AA44 -> 40 | AA44: =(SUM(AB44:AQ44))-AC44 -> 40 | AB44: 20 | AC44: 20 | AE44: 15 | AK44: 5 | AS44: 40 | AV44: =BP44+AW44 -> 0 | AW44: =BO44+AX44 -> 0 | AX44: =(SUM(AY44:BN44))-AZ44 -> 0 | BQ44: =IFERROR(M44/Q44," ") -> 26.666667 | BR44: =IF(OR(BQ44>30,BQ44<25),"1 ECTS powinien mieścić się przedziale 25-30h","Wartość prawidłowa") -> Wartość prawidłowa | BS44: =SUM(AB44,AD44:AP44,AY44,BA44:BM44)-AC44-AZ44-AO44-BL44 -> 20 | BT44: =AC44+AZ44 -> 20 | BU44: =AO44+BL44 -> 0 | BV44: =AR44+BO44 -> 0 | BW44: =N44 -> 40 | BX44: =AQ44+BN44 -> 0 | BY44: =SUM(BS44:BX44) -> 80 | BZ44: =IFERROR((BS44*Q44)/BY44," ") -> 0.75 | CA44: =IFERROR((BT44*Q44)/BY44," ") -> 0.75 | CB44: =IFERROR((BU44*Q44)/BY44," ") -> 0 | CC44: =IFERROR((BV44*Q44)/BY44," ") -> 0 | CD44: =IFERROR((BW44*Q44)/BY44," ") -> 1.5 | CE44: =IFERROR((BX44*Q44)/BY44," ") -> 0 | CF44: =IFERROR((SUM(BZ44:CE44))," ") -> 3 | CG44: =SUM(BS44:BT44,CE44) -> 40 | CH44: =SUM(BT44:BU44) -> 20 | CI44: =SUM(BZ44:CA44,CE44) -> 1.5 | CJ44: =SUM(CA44:CB44) -> 0.75 | CK44: =Matryca!Q44 -> 3 | CL44: =Matryca!R44 -> 3 | CM44: =Matryca!S44 -> 1
A45: 25 | C45: 2026/2027 | E45: 2 | F45: 2027/2028 | G45: RPS | I45: choroby oczu u dzieci | L45: tak | M45: =Y45+AV45 -> 75 | N45: =AS45+BP45 -> 35 | O45: =Z45+AW45 -> 40 | P45: =AA45+AX45 -> 40 | Q45: =X45+AU45 -> 3 | R45: =IFERROR((AL45+BI45)*Q45/O45," ") -> 0 | S45: =IFERROR((SUM(AE45:AL45,AQ45,BB45:BI45,BN45))*Q45/O45," ") -> 1.5 | T45: =IFERROR((AC45+AO45+AZ45+BL45)*Q45/O45," ") -> 1.5 | U45: =IFERROR((SUM(AB45,AD45:AN45,AP45:AQ45,AY45,BA45:BK45,BM45:BN45)*Q45/M45)," ") -> 1.6 | V45: egz | W45: zal/o | X45: 3 | Y45: =AS45+Z45 -> 75 | Z45: =AR45+AA45 -> 40 | AA45: =(SUM(AB45:AQ45))-AC45 -> 40 | AB45: 20 | AC45: 20 | AE45: 15 | AK45: 5 | AS45: 35 | AV45: =BP45+AW45 -> 0 | AW45: =BO45+AX45 -> 0 | AX45: =(SUM(AY45:BN45))-AZ45 -> 0 | BQ45: =IFERROR(M45/Q45," ") -> 25 | BR45: =IF(OR(BQ45>30,BQ45<25),"1 ECTS powinien mieścić się przedziale 25-30h","Wartość prawidłowa") -> Wartość prawidłowa | BS45: =SUM(AB45,AD45:AP45,AY45,BA45:BM45)-AC45-AZ45-AO45-BL45 -> 20 | BT45: =AC45+AZ45 -> 20 | BU45: =AO45+BL45 -> 0 | BV45: =AR45+BO45 -> 0 | BW45: =N45 -> 35 | BX45: =AQ45+BN45 -> 0 | BY45: =SUM(BS45:BX45) -> 75 | BZ45: =IFERROR((BS45*Q45)/BY45," ") -> 0.8 | CA45: =IFERROR((BT45*Q45)/BY45," ") -> 0.8 | CB45: =IFERROR((BU45*Q45)/BY45," ") -> 0 | CC45: =IFERROR((BV45*Q45)/BY45," ") -> 0 | CD45: =IFERROR((BW45*Q45)/BY45," ") -> 1.4 | CE45: =IFERROR((BX45*Q45)/BY45," ") -> 0 | CF45: =IFERROR((SUM(BZ45:CE45))," ") -> 3 | CG45: =SUM(BS45:BT45,CE45) -> 40 | CH45: =SUM(BT45:BU45) -> 20 | CI45: =SUM(BZ45:CA45,CE45) -> 1.6 | CJ45: =SUM(CA45:CB45) -> 0.8 | CK45: =Matryca!Q45 -> 4 | CL45: =Matryca!R45 -> 4 | CM45: =Matryca!S45 -> 1
...

Sheet Arkusz1
B2: Nr 2897 - program studiów dla kierunku optometria prowadzonym na Wydziale Nauk o Zdrowiu (2026/2027)
B4: Uchwała 2897/2026
B6: zm.: 2950/2026

Sheet Wskaźniki
A1: LP | B1: KOD_GPS | C1: Wskaźnik | D1: wg standardu | G1: realizacja wskaźnika | H1: uwagi do realizacji
D2: % | E2: suma godz./ECTS dyd. wg regulacji | F2: wskaźnik wg regulacji
A3: 1 | B3: GODZINY_ogolem | C3: Liczba godzin zajęć w cyklu kształcenia (zajęcia +praktyki) | G3: =SUM('OPTOMETRIA_IIst-pr. szczegółowy'!O20:O42,'OPTOMETRIA_IIst-pr. szczegółowy'!O44:O65) -> 1501 | H3: =IF(G3=F3,"OK","Wartość wymaga weryfikacji") -> Wartość wymaga weryfikacji
A4: 2 | C4: Minimalna liczba punktów ECTS w cyklu kształcenia | E4: 120 | F4: 120 | G4: =SUM('OPTOMETRIA_IIst-pr. szczegółowy'!Q20:Q42,'OPTOMETRIA_IIst-pr. szczegółowy'!Q44:Q65) -> 120 | H4: =IF(G4=F4,"OK","Wartość wymaga weryfikacji") -> OK
A5: 3 | C5: Liczba godzin całkowitego nakładu pracy w cyklu kształcenia (zajęcia, praktyki i pracał własna studenta) | E5: =G4*25 -> 3000 | F5: =G4*30 -> 3600 | G5: =SUM('OPTOMETRIA_IIst-pr. szczegółowy'!M20:M42,'OPTOMETRIA_IIst-pr. szczegółowy'!M44:M65) -> 3011 | H5: =IF(G5=F5,"OK","Wartość wymaga weryfikacji") -> Wartość wymaga weryfikacji
A6: 4 | C6: Liczba godzin zajęć dydaktycznych w cyklu kształcenia- bez praktyk | G6: =G3-G14 -> 1401 | H6: =IF(G6=F6,"OK","Wartość wymaga weryfikacji") -> Wartość wymaga weryfikacji
A7: 5 | B7: ECTS_bezposredni | C7: Minimalna liczba godzin z bezpośrednim udziałem nauczycieli akademickich lub innych osób prowadzących zajęcia- wg kolumny "U" | D7: 0.5 | E7: 120 | F7: =D7*E7 -> 60 | G7: =SUM('OPTOMETRIA_IIst-pr. szczegółowy'!U20:U42,'OPTOMETRIA_IIst-pr. szczegółowy'!U44:U65) -> 59.7 | H7: =IF(G7=F7,"OK","Wartość wymaga weryfikacji") -> Wartość wymaga weryfikacji
A8: 6 | C8: Liczba punktów ECTS przypisana do zajęć prowadzonych z wykorzystaniem metod i technik kształcenia na odległość -profil praktyczny | D8: 0.5 | E8: 120 | F8: =D8*E8 -> 60 | G8: =SUM('OPTOMETRIA_IIst-pr. szczegółowy'!T20:T42,'OPTOMETRIA_IIst-pr. szczegółowy'!T44:T65) -> 36.17381 | H8: =IF(G8=F8,"OK","Wartość wymaga weryfikacji") -> Wartość wymaga weryfikacji
B9: ECTS_online | C9: Liczba punktów ECTS przypisana do zajęć prowadzonych z wykorzystaniem metod i technik kształcenia na odległość -profil ogólnoakademicki | D9: 0.75 | E9: 120 | F9: =D9*E9 -> 90 | G9: =SUM('OPTOMETRIA_IIst-pr. szczegółowy'!T20:T42,'OPTOMETRIA_IIst-pr. szczegółowy'!T44:T65) -> 36.17381 | H9: =IF(G9=F9,"OK","Wartość wymaga weryfikacji") -> Wartość wymaga weryfikacji
A10: 7 | B10: ECTS_dyspozycja | C10: Minimalna liczba ECTS za zajęcia do wyboru | D10: 0.3 | E10: 120 | F10: =D10*E10 -> 36 | G10: =(SUMIF('OPTOMETRIA_IIst-pr. szczegółowy'!G20:G66,"POW",'OPTOMETRIA_IIst-pr. szczegółowy'!Q20:Q66))+(SUMIF('OPTOMETRIA_IIst-pr. szczegółowy'!G20:G66,"PSW",'OPTOMETRIA_IIst-pr. szczegółowy'!Q20:Q66)) -> 37 | H10: =IF(G10=F10,"OK","Wartość wymaga weryfikacji") -> Wartość wymaga weryfikacji
A11: 8 | B11: GODZINY_jezyki | C11: Liczba godzin zajęć z języka obcego | G11: =SUM('OPTOMETRIA_IIst-pr. szczegółowy'!AN20:AN42,'OPTOMETRIA_IIst-pr. szczegółowy'!AN44:AN65,'OPTOMETRIA_IIst-pr. szczegółowy'!BK20:BK42,'OPTOMETRIA_IIst-pr. szczegółowy'!BK44:BK65) -> 60 | H11: =IF(G11=F11,"OK","Wartość wymaga weryfikacji") -> Wartość wymaga weryfikacji
A12: 9 | B12: ECTS_jezyki | C12: Liczba ECTS za zajęcia z języka obcego | G12: =SUMIF('OPTOMETRIA_IIst-pr. szczegółowy'!I20:I65,"*język obcy*",'OPTOMETRIA_IIst-pr. szczegółowy'!Q20:Q65)+SUMIF('OPTOMETRIA_IIst-pr. szczegółowy'!I20:I65,"*język angielski*",'OPTOMETRIA_IIst-pr. szczegółowy'!Q20:Q65)+SUMIF('OPTOMETRIA_IIst-pr. szczegółowy'!I20:I65,"*lektorat*",'OPTOMETRIA_IIst-pr. szczegółowy'!Q20:Q65) -> 4 | H12: =IF(G12=F12,"OK","Wartość wymaga weryfikacji") -> Wartość wymaga weryfikacji
A13: 10 | B13: ECTS_humanistyczne | C13: Minimalna liczba punktów ECTS za zajęcia z dziedziny nauk humanistycznych lub nauk społecznych | E13: 5 | F13: 5 | G13: =SUMIF('OPTOMETRIA_IIst-pr. szczegółowy'!K20:K42,"tak",'OPTOMETRIA_IIst-pr. szczegółowy'!Q20:Q42)+SUMIF('OPTOMETRIA_IIst-pr. szczegółowy'!K44:K65,"tak",'OPTOMETRIA_IIst-pr. szczegółowy'!Q44:Q65) -> 6 | H13: =IF(G13=F13,"OK","Wartość wymaga weryfikacji") -> Wartość wymaga weryfikacji
A14: 11 | B14: GODZINY_praktyki | C14: Liczba godzin praktyk (nie są wymagane dla profilu ogólnoakademickiego) | G14: =SUM('OPTOMETRIA_IIst-pr. szczegółowy'!AQ20:AQ42,'OPTOMETRIA_IIst-pr. szczegółowy'!AQ44:AQ65,'OPTOMETRIA_IIst-pr. szczegółowy'!BN20:BN42,'OPTOMETRIA_IIst-pr. szczegółowy'!BN44:BN65) -> 100 | H14: =IF(G14=F14,"OK","Wartość wymaga weryfikacji") -> Wartość wymaga weryfikacji
A15: 12 | B15: ECTS_praktyki | C15: Liczba ECTS za praktyki (nie są wymagane dla profilu ogólnoakademickiego) | G15: =(SUMIF('OPTOMETRIA_IIst-pr. szczegółowy'!I20:I66,"*praktyki zawodowe*",'OPTOMETRIA_IIst-pr. szczegółowy'!Q20:Q66))+(SUMIF('OPTOMETRIA_IIst-pr. szczegółowy'!I20:I66,"*praktyka zawodowa*",'OPTOMETRIA_IIst-pr. szczegółowy'!Q20:Q66)) -> 4 | H15: =IF(G15=F15,"OK","Wartość wymaga weryfikacji") -> Wartość wymaga weryfikacji
A16: 13 | B16: ECTS_profil_ogolnoakademicki | C16: Liczba punktów ECTS przyporządkowana zajęciom związanym z prowadzoną w uczelni działalnością naukową w dyscyplinie lub dyscyplinach, do których przyporządkowany jest kierunek studiów w wymiarze większym niż 50% liczby punktów ECTS koniecznej do ukończenia studiów-profil ogólnoakademicki | D16: 0.5 | E16: 120 | F16: =D16*E16 -> 60 | G16: =(SUMIF('OPTOMETRIA_IIst-pr. szczegółowy'!L20:L66,"*tak*",'OPTOMETRIA_IIst-pr. szczegółowy'!Q20:Q66)) -> 91 | H16: =IF(G16=F16,"OK","Wartość wymaga weryfikacji") -> Wartość wymaga weryfikacji | I16: w kolumnie "L" należy zaznaczyć czy przdmiot jest zaliczany do tej puli
A17: 14 | C17: Średnia liczba godzin pracy studenta przypadająca na 1 ECTS | E17: 25 | F17: 30 | G17: =G5/G4 -> 25.091667 | H17: =IF(G17=F17,"OK","Wartość wymaga weryfikacji") -> Wartość wymaga weryfikacji

Sheet Matryca
G2: Matryca
G5: Wydział | I5: Wydział Nauk o Zdrowiu
G6: Kierunek | I6: Optometria
G7: Cykl kształcenia | I7: 2026-2028
G8: Poziom kształcenia | I8: studia drugiego stopnia
G9: Profil kształcenia | I9: ogólnoakademicki
G10: Forma studiów | I10: stacjonarne
G11: Liczba semestrów | I11: 4
G12: Łączna liczba godzin | I12: ='OPTOMETRIA_IIst-pr. szczegółowy'!P76 -> 1501
G13: Łączna liczba ECTS | I13: 120
A16: Lp. | B16: kod grupy* | C16: Cykl kształcenia (nabór) | D16: Ścieżka** | E16: Rok studiów | F16: Rok akademicki | G16: Rodzaj zajęć*** (RPS, POW, PSW) | H16: ****Pula godzin (ze standardu, do dyspozycji uczelni (Autorska oferta uczelni)) | I16: Przedmiot (nazwa) | J16: łącznie dla przedmiotu | Q16: Suma efektów w poszczególnych kategoriach
J17: SUMA GODZIN PRZEDMIOTU | O17: ECTS | P17: forma zakończenia przedmiotu
J18: NAKŁAD PRACY STUDENTA (godz. dyd. + samodzielna praca) | K18: SAMODZIELNA PRACA STUDENTA | L18: GODZINY DYDAKTYCZNE | M18: W TYM TEORIA (WY+SE) | N18: GODZINY Z NAUCZYCIELEM | Q18: Wiedza | R18: Umiejetności | S18: Kompetencje społeczne | T18: Wiedza | AJ18: Kształcenie ogólne | AP18: Umiejętności | BE18: Kompetencje społeczne | BJ18: Wiedza | EV18: Umiejętności | IH18: Kompetencje społeczne | IW18: Wiedza | IX18: Umiejetności | IY18: Kompetencje społeczne | IZ18: Proporcje poszczególnych kategorii efektów dla przedmiotu
T19: K_W01 | U19: K_W02 | V19: K_W03 | W19: K_W04 | X19: K_W05 | Y19: K_W06 | Z19: K_W07 | AA19: K_W08 | AB19: K_W09 | AC19: K_W10 | AD19: K_W11 | AE19: K_W12 | AF19: K_W13 | AG19: K_W14 | AH19: K_W15 | AI19: K_W16 | AJ19: S.W1 | AK19: S.W2 | AL19: S.W3 | AM19: P.W1 | AN19: P.W2 | AO19: P.W3 | AP19: K_U01 | AQ19: K_U02 | AR19: K_U03 | AS19: K_U04 | AT19: K_U05 | AU19: K_U06 | AV19: K_U07 | AW19: K_U08 | AX19: K_U09 | AY19: K_U10 | AZ19: K_U11 | BA19: K_U12 | BB19: K_U13 | BC19: K_U14 | BD19: K_U15 | BE19: K_K01 | BF19: K_K02 | BG19: K_K03 | BH19: K_K04 | BI19: K_K05 | BJ19: P_W01 | BK19: P_W02 | BL19: P_W03 | BM19: P_W04 | BN19: P_W05 | BO19: P_W06 | BP19: P_W07 | BQ19: P_W08 | BR19: P_W09 | BS19: P_W10 | BT19: P_W11 | BU19: P_W12 | BV19: P_W13 | BW19: P_W14 | BX19: P_W15 | BY19: P_W16 | BZ19: P_W17 | CA19: P_W18 | CB19: P_W19 | CC19: P_W20 | CD19: P_W21 | CE19: P_W22 | CF19: P_W23 | CG19: P_W24 | CH19: P_W25 | CI19: P_W26 | CJ19: P_W27 | CK19: P_W28 | CL19: P_W29 | CM19: P_W30 | CN19: P_W31 | CO19: P_W32 | CP19: P_W33 | CQ19: P_W34 | CR19: P_W35 | CS19: P_W36 | CT19: P_W37 | CU19: P_W38 | CV19: P_W39 | CW19: P_W40 | CX19: P_W41 | CY19: P_W42 | CZ19: P_W43 | DA19: P_W44 | DB19: P_W45 | DC19: P_W46 | DD19: P_W47 | DE19: P_W48 | DF19: P_W49 | DG19: P_W50 | DH19: P_W51 | DI19: P_W52 | DJ19: P_W53 | DK19: P_W54 | DL19: P_W55 | DM19: P_W56 | DN19: P_W57 | DO19: P_W58 | DP19: P_W59 | DQ19: P_W60 | DR19: P_W61 | DS19: P_W62 | DT19: P_W63 | DU19: P_W64 | DV19: P_W65 | DW19: P_W66 | DX19: P_W67 | DY19: P_W68 | DZ19: P_W69 | EA19: P_W70 | EB19: P_W71 | EC19: P_W72 | ED19: P_W73 | EE19: P_W74 | EF19: P_W75 | EG19: P_W76 | EH19: P_W77 | EI19: P_W78 | EJ19: P_W79 | EK19: P_W80 | EL19: P_W81 | EM19: P_W82 | EN19: P_W83 | EO19: P_W84 | EP19: P_W85 | EQ19: P_W86 | ER19: P_W87 | ES19: P_W88 | ET19: P_W89 | EU19: P_W90 | EV19: P_U01 | EW19: P_U02 | EX19: P_U03 | EY19: P_U04 | EZ19: P_U05 | FA19: P_U06 | FB19: P_U07 | FC19: P_U08 | FD19: P_U09 | FE19: P_U10 | FF19: P_U11 | FG19: P_U12 | FH19: P_U13 | FI19: P_U14 | FJ19: P_U15 | FK19: P_U16 | FL19: P_U17 | FM19: P_U18 | FN19: P_U19 | FO19: P_U20 | FP19: P_U21 | FQ19: P_U22 | FR19: P_U23 | FS19: P_U24 | FT19: P_U25 | FU19: P_U26 | FV19: P_U27 | FW19: P_U28 | FX19: P_U29 | FY19: P_U30 | FZ19: P_U31 | GA19: P_U32 | GB19: P_U33 | GC19: P_U34 | GD19: P_U35 | GE19: P_U36 | GF19: P_U37 | GG19: P_U38 | GH19: P_U39 | GI19: P_U40 | GJ19: P_U41 | GK19: P_U42 | GL19: P_U43 | GM19: P_U44 | GN19: P_U45 | GO19: P_U46 | GP19: P_U47 | GQ19: P_U48 | GR19: P_U49 | GS19: P_U50 | GT19: P_U51 | GU19: P_U52 | GV19: P_U53 | GW19: P_U54 | GX19: P_U55 | GY19: P_U56 | GZ19: P_U57 | HA19: P_U58 | HB19: P_U59 | HC19: P_U60 | HD19: P_U61 | HE19: P_U62 | HF19: P_U63 | HG19: P_U64 | HH19: P_U65 | HI19: P_U66 | HJ19: P_U67 | HK19: P_U68 | HL19: P_U69 | HM19: P_U70 | HN19: P_U71 | HO19: P_U72 | HP19: P_U73 | HQ19: P_U74 | HR19: P_U75 | HS19: P_U76 | HT19: P_U77 | HU19: P_U78 | HV19: P_U79 | HW19: P_U80 | HX19: P_U81 | HY19: P_U82 | HZ19: P_U83 | IA19: P_U84 | IB19: P_U85 | IC19: P_U86 | ID19: P_U87 | IE19: P_U88 | IF19: P_U89 | IG19: P_U90 | IH19: P_K01 | II19: P_K02 | IJ19: P_K03 | IK19: P_K04 | IL19: P_K05 | IM19: P_K06 | IN19: P_K07 | IO19: P_K08 | IP19: P_K09 | IQ19: P_K10 | IR19: P_K11 | IS19: P_K12 | IT19: P_K13 | IU19: P_K14 | IV19: P_K15
A20: ='OPTOMETRIA_IIst-pr. szczegółowy'!A20 -> 1 | B20: =IF('OPTOMETRIA_IIst-pr. szczegółowy'!B20>0,'OPTOMETRIA_IIst-pr. szczegółowy'!B20," ") | C20: =IF('OPTOMETRIA_IIst-pr. szczegółowy'!C20>0,'OPTOMETRIA_IIst-pr. szczegółowy'!C20," ") -> 2026/2027 | D20: =IF('OPTOMETRIA_IIst-pr. szczegółowy'!D20>0,'OPTOMETRIA_IIst-pr. szczegółowy'!D20," ") | E20: =IF('OPTOMETRIA_IIst-pr. szczegółowy'!E20>0,'OPTOMETRIA_IIst-pr. szczegółowy'!E20," ") -> 1 | F20: =IF('OPTOMETRIA_IIst-pr. szczegółowy'!F20>0,'OPTOMETRIA_IIst-pr. szczegółowy'!F20," ") -> 2026/2027 | G20: =IF('OPTOMETRIA_IIst-pr. szczegółowy'!G20>0,'OPTOMETRIA_IIst-pr. szczegółowy'!G20," ") -> RPS | H20: =IF('OPTOMETRIA_IIst-pr. szczegółowy'!H20>0,'OPTOMETRIA_IIst-pr. szczegółowy'!H20," ") | I20: =IF('OPTOMETRIA_IIst-pr. szczegółowy'!I20>0,'OPTOMETRIA_IIst-pr. szczegółowy'!I20," ") -> anatomia i fizjologia narządu wzroku | J20: ='OPTOMETRIA_IIst-pr. szczegółowy'!Y20+'OPTOMETRIA_IIst-pr. szczegółowy'!AV20 -> 75 | K20: ='OPTOMETRIA_IIst-pr. szczegółowy'!AS20+'OPTOMETRIA_IIst-pr. szczegółowy'!BP20 -> 35 | L20: ='OPTOMETRIA_IIst-pr. szczegółowy'!Z20+'OPTOMETRIA_IIst-pr. szczegółowy'!AW20 -> 40 | M20: ='OPTOMETRIA_IIst-pr. szczegółowy'!AB20+'OPTOMETRIA_IIst-pr. szczegółowy'!AD20+'OPTOMETRIA_IIst-pr. szczegółowy'!AY20+'OPTOMETRIA_IIst-pr. szczegółowy'!BA20 -> 20 | N20: ='OPTOMETRIA_IIst-pr. szczegółowy'!AA20+'OPTOMETRIA_IIst-pr. szczegółowy'!AX20 -> 40 | O20: ='OPTOMETRIA_IIst-pr. szczegółowy'!X20+'OPTOMETRIA_IIst-pr. szczegółowy'!AU20 -> 3 | P20: =IF('OPTOMETRIA_IIst-pr. szczegółowy'!V20>0,'OPTOMETRIA_IIst-pr. szczegółowy'!V20," ") -> egz | Q20: =SUM(T20:AO20) -> 3 | R20: =SUM(AP20:BD20) -> 0 | S20: =SUM(BE20:BI20) -> 1 | T20: 1 | W20: 1 | Y20: 1 | BF20: 1 | IW20: =SUM(BJ20:EU20) -> 0 | IX20: =SUM(EV20:IG20) -> 0 | IY20: =SUM(IH20:IV20) -> 0
