Workbook

Sheet Arkusz2
B1: 2 | C1: 3 | D1: 8 | E1: 5 | F1: 6 | G1: 4 | H1: 7 | I1: 12 | J1: 13
A2: 24 osoby | B2: 24 osoby
A3: 24 osoby Suma
A4: SE_1 | B4: CA_1
A5: SE_1 Suma
A6: SE_10 | B6: CA_10
A7: SE_10 Suma
A8: SE_11 | B8: CA_11
A9: SE_11 Suma
A10: SE_12 | B10: CA_12
A11: SE_12 Suma
A12: SE_13 | B12: CA_13
A13: SE_13 Suma
A14: SE_14 | B14: CA_14
A15: SE_14 Suma
A16: SE_15 | B16: CA_15
A17: SE_15 Suma
A18: SE_2 | B18: CA_1
B19: CA_2
A20: SE_2 Suma
A21: SE_3 | B21: CA_3
A22: SE_3 Suma
A23: SE_4 | B23: CA_4
A24: SE_4 Suma
A25: SE_5 | B25: CA_5
A26: SE_5 Suma
A27: SE_6 | B27: CA_6
A28: SE_6 Suma
A29: SE_7 | B29: CA_7
A30: SE_7 Suma
A31: SE_8 | B31: CA_8
A32: SE_8 Suma
A33: SE_9 | B33: CA_9
A34: SE_9 Suma
A35: Suma końcowa

Sheet grupy
C2: 24 osoby | D2: 24 osoby | E2: 12 osób | F2: 9 osób | G2: 6 osób | H2: 12 osób | I2: 9 osób | J2: 5/4 osób | K2: 5 osób | L2: 8 osób | M2: 4 osoby | N2: 24 osoby | O2: 24 osoby
A3: LP | B3: do wyszukiwania | C3: SE | D3: CA | E3: CN | F3: CS | G3: CS_(wysoka_wierność) | H3: CS_(niska_wierność) | I3: CL | J3: CK | K3: CK_(V_WL-S) | L3: PP | M3: PP_(WNoZ_-_zajęcia_na_oddziałach_intensywnej_trapii,_neonatologicznych_i_sali_porodowej) | N3: LE | O3: WF | P3: WY
A4: 1 | B4: =CONCATENATE(#REF!," ",#REF!," ",#REF!) -> #REF! | C4: SE_1 | D4: CA_1 | E4: CN_1A | F4: CS_1 | G4: CS_1A | H4: CS_1A | I4: CL_1 | J4: CK_1A | K4: CK_1A | L4: PP_1B | M4: PP_1A | N4: LE_1 | O4: WF_1 | P4: WY
A5: 2 | B5: =CONCATENATE(#REF!," ",#REF!," ",#REF!) -> #REF! | C5: SE_1 | D5: CA_1 | E5: CN_1A | F5: CS_1 | G5: CS_1A | H5: CS_1A | I5: CL_1 | J5: CK_1A | K5: CK_1A | L5: PP_1B | M5: PP_1A | N5: LE_1 | O5: WF_1 | P5: WY
A6: 3 | B6: =CONCATENATE(#REF!," ",#REF!," ",#REF!) -> #REF! | C6: SE_1 | D6: CA_1 | E6: CN_1A | F6: CS_1 | G6: CS_1A | H6: CS_1A | I6: CL_1 | J6: CK_1A | K6: CK_1A | L6: PP_1B | M6: PP_1A | N6: LE_1 | O6: WF_1 | P6: WY
A7: 4 | B7: =CONCATENATE(#REF!," ",#REF!," ",#REF!) -> #REF! | C7: SE_1 | D7: CA_1 | E7: CN_1A | F7: CS_1 | G7: CS_1A | H7: CS_1A | I7: CL_1 | J7: CK_1A | K7: CK_1A | L7: PP_1B | M7: PP_1A | N7: LE_1 | O7: WF_1 | P7: WY
A8: 5 | B8: =CONCATENATE(#REF!," ",#REF!," ",#REF!) -> #REF! | C8: SE_2 | D8: CA_1 | E8: CN_1A | F8: CS_1 | G8: CS_1A | H8: CS_1A | I8: CL_1 | J8: CK_1A | K8: CK_1A | L8: PP_1B | M8: PP_1B | N8: LE_2 | O8: WF_1 | P8: WY
A9: 6 | B9: =CONCATENATE(#REF!," ",#REF!," ",#REF!) -> #REF! | C9: SE_2 | D9: CA_1 | E9: CN_1A | F9: CS_1 | G9: CS_1A | H9: CS_1A | I9: CL_1 | J9: CK_1B | K9: CK_1B | L9: PP_1D | M9: PP_1B | N9: LE_2 | O9: WF_1 | P9: WY
A10: 7 | B10: =CONCATENATE(#REF!," ",#REF!," ",#REF!) -> #REF! | C10: SE_2 | D10: CA_1 | E10: CN_1A | F10: CS_1 | G10: CS_1B | H10: CS_1A | I10: CL_1 | J10: CK_1B | K10: CK_1B | L10: PP_1D | M10: PP_1B | N10: LE_2 | O10: WF_1 | P10: WY
A11: 8 | B11: =CONCATENATE(#REF!," ",#REF!," ",#REF!) -> #REF! | C11: SE_2 | D11: CA_1 | E11: CN_1A | F11: CS_1 | G11: CS_1B | H11: CS_1A | I11: CL_1 | J11: CK_1B | K11: CK_1B | L11: PP_1D | M11: PP_1B | N11: LE_2 | O11: WF_1 | P11: WY
A12: 9 | B12: =CONCATENATE(#REF!," ",#REF!," ",#REF!) -> #REF! | C12: SE_2 | D12: CA_1 | E12: CN_1A | F12: CS_1 | G12: CS_1B | H12: CS_1A | I12: CL_1 | J12: CK_1B | K12: CK_1B | L12: PP_1D | M12: PP_1C | N12: LE_2 | O12: WF_1 | P12: WY
A13: 10 | B13: =CONCATENATE(#REF!," ",#REF!," ",#REF!) -> #REF! | C13: SE_2 | D13: CA_1 | E13: CN_1A | F13: CS_2 | G13: CS_1B | H13: CS_1A | I13: CL_2 | J13: CK_1C | K13: CK_1B | L13: PP_1E | M13: PP_1C | N13: LE_2 | O13: WF_1 | P13: WY
A14: 11 | B14: =CONCATENATE(#REF!," ",#REF!," ",#REF!) -> #REF! | C14: SE_2 | D14: CA_1 | E14: CN_1A | F14: CS_2 | G14: CS_1B | H14: CS_1A | I14: CL_2 | J14: CK_1C | K14: CK_1C | L14: PP_1E | M14: PP_1C | N14: LE_2 | O14: WF_1 | P14: WY
A15: 12 | B15: =CONCATENATE(#REF!," ",#REF!," ",#REF!) -> #REF! | C15: SE_1 | D15: CA_1 | E15: CN_1A | F15: CS_2 | G15: CS_1B | H15: CS_1A | I15: CL_2 | J15: CK_1C | K15: CK_1C | L15: PP_1A | M15: PP_1C | N15: LE_1 | O15: WF_1 | P15: WY
... A39: 36 | B39: =CONCATENATE(#REF!," ",#REF!," ",#REF!) -> #REF! | C39: SE_2 | D39: CA_1 | E39: CN_2A | F39: CS_4 | G39: CS_2B | H39: CS_2A | I39: CL_4 | J39: CK_1H | K39: CK_2C | L39: PP_1B | M39: PP_2C | N39: LE_2 | O39: WF_2 | P39: WY
A40: 37 | B40: =CONCATENATE(#REF!," ",#REF!," ",#REF!) -> #REF! | O40: WF_2 | P40: WY
A41: 38 | B41: =CONCATENATE(#REF!," ",#REF!," ",#REF!) -> #REF! | O41: WF_2 | P41: WY
A42: 39 | B42: =CONCATENATE(#REF!," ",#REF!," ",#REF!) -> #REF! | O42: WF_2 | P42: WY
A43: 40 | B43: =CONCATENATE(#REF!," ",#REF!," ",#REF!) -> #REF! | O43: WF_2 | P43: WY
A44: 41 | B44: =CONCATENATE(#REF!," ",#REF!," ",#REF!) -> #REF! | O44: WF_2 | P44: WY
A45: 42 | B45: =CONCATENATE(#REF!," ",#REF!," ",#REF!) -> #REF! | C45: SE_2 | D45: CA_2 | E45: CN_2B | F45: CS_5 | G45: CS_2C | H45: CS_2B | I45: CL_5 | J45: CK_2C | K45: CK_2D | L45: PP_2B | M45: PP_2E | N45: LE_2 | O45: WF_2
A46: 43 | B46: =CONCATENATE(#REF!," ",#REF!," ",#REF!) -> #REF! | C46: SE_2 | D46: CA_2 | E46: CN_2B | F46: CS_5 | G46: CS_2D | H46: CS_2B | I46: CL_5 | J46: CK_2D | K46: CK_2D | L46: PP_2B | M46: PP_2E | N46: LE_2 | O46: WF_2
A47: 44 | B47: =CONCATENATE(#REF!," ",#REF!," ",#REF!) -> #REF! | C47: SE_2 | D47: CA_2 | E47: CN_2B | F47: CS_5 | G47: CS_2D | H47: CS_2B | I47: CL_5 | J47: CK_2D | K47: CK_2D | L47: PP_2B | M47: PP_2E | N47: LE_2 | O47: WF_2
A48: 45 | B48: =CONCATENATE(#REF!," ",#REF!," ",#REF!) -> #REF! | C48: SE_2 | D48: CA_2 | E48: CN_2B | F48: CS_5 | G48: CS_2D | H48: CS_2B | I48: CL_5 | J48: CK_2D | K48: CK_2D | L48: PP_2B | M48: PP_2F | N48: LE_2 | O48: WF_2
A49: 46 | B49: =CONCATENATE(#REF!," ",#REF!," ",#REF!) -> #REF! | C49: SE_2 | D49: CA_2 | E49: CN_2B | F49: CS_6 | G49: CS_2D | H49: CS_2B | I49: CL_6 | J49: CK_2D | K49: CK_2E | L49: PP_2B | M49: PP_2F | N49: LE_2 | O49: WF_2
A50: 47 | B50: =CONCATENATE(#REF!," ",#REF!," ",#REF!) -> #REF! | C50: SE_2 | D50: CA_2 | E50: CN_2B | F50: CS_6 | G50: CS_2D | H50: CS_2B | I50: CL_6 | J50: CK_2D | K50: CK_2E | L50: PP_2B | M50: PP_2F | N50: LE_2 | O50: WF_2
A51: 48 | B51: =CONCATENATE(#REF!," ",#REF!," ",#REF!) -> #REF! | C51: SE_2 | D51: CA_2 | E51: CN_2B | F51: CS_6 | G51: CS_2D | H51: CS_2B | I51: CL_6 | J51: CK_2D | K51: CK_2E | L51: PP_2B | M51: PP_2F | N51: LE_2 | O51: WF_2
A52: 49 | B52: =CONCATENATE(#REF!," ",#REF!," ",#REF!) -> #REF! | C52: SE_3 | D52: CA_3 | E52: CN_3A | F52: CS_6 | G52: CS_3A | H52: CS_3A | I52: CL_6 | J52: CK_3A | K52: CK_2E | L52: PP_2C | M52: PP_3A | N52: LE_3 | O52: WF_3
A53: 50 | B53: =CONCATENATE(#REF!," ",#REF!," ",#REF!) -> #REF! | C53: SE_3 | D53: CA_3 | E53: CN_3A | F53: CS_6 | G53: CS_3A | H53: CS_3A | I53: CL_6 | J53: CK_3A | K53: CK_2E | L53: PP_2C | M53: PP_3A | N53: LE_3 | O53: WF_3
A54: 51 | B54: =CONCATENATE(#REF!," ",#REF!," ",#REF!) -> #REF! | C54: SE_3 | D54: CA_3 | E54: CN_3A | F54: CS_6 | G54: CS_3A | H54: CS_3A | I54: CL_6 | J54: CK_3A | K54: CK_3A | L54: PP_2C | M54: PP_3A | N54: LE_3 | O54: WF_3
A55: 52 | B55: =CONCATENATE(#REF!," ",#REF!," ",#REF!) -> #REF! | C55: SE_3 | D55: CA_3 | E55: CN_3A | F55: CS_6 | G55: CS_3A | H55: CS_3A | I55: CL_6 | J55: CK_3A | K55: CK_3A | L55: PP_2C | M55: PP_3A | N55: LE_3 | O55: WF_3
A56: 53 | B56: =CONCATENATE(#REF!," ",#REF!," ",#REF!) -> #REF! | C56: SE_3 | D56: CA_3 | E56: CN_3A | F56: CS_6 | G56: CS_3A | H56: CS_3A | I56: CL_6 | J56: CK_3A | K56: CK_3A | L56: PP_2C | M56: PP_3B | N56: LE_3 | O56: WF_3
... A163: 160 | B163: =CONCATENATE(#REF!," ",#REF!," ",#REF!) -> #REF! | C163: SE_7 | D163: CA_7 | E163: CN_7B | F163: CS_18 | G163: CS_7C | H163: CS_7B | I163: CL_18 | J163: CK_7C | K163: CK_7B | L163: PP_5D | M163: PP_7D | N163: LE_7 | O163: WF_7
A164: 161 | B164: =CONCATENATE(#REF!," ",#REF!," ",#REF!) -> #REF! | C164: SE_7 | D164: CA_7 | E164: CN_7B | F164: CS_18 | G164: CS_7C | H164: CS_7B | I164: CL_18 | J164: CK_7C | K164: CK_7C | M164: PP_7E | N164: LE_7 | O164: WF_7
A165: 162 | B165: =CONCATENATE(#REF!," ",#REF!," ",#REF!) -> #REF! | C165: SE_7 | D165: CA_7 | E165: CN_7B | F165: CS_18 | G165: CS_7C | H165: CS_7B | I165: CL_18 | J165: CK_7C | K165: CK_7C | M165: PP_7E | N165: LE_7 | O165: WF_7
A166: 163 | B166: =CONCATENATE(#REF!," ",#REF!," ",#REF!) -> #REF! | C166: SE_7 | D166: CA_7 | E166: CN_7B | F166: CS_19 | G166: CS_7D | H166: CS_7B | I166: CL_19 | J166: CK_7D | K166: CK_7C | M166: PP_7E | N166: LE_7 | O166: WF_7
A167: 164 | B167: =CONCATENATE(#REF!," ",#REF!," ",#REF!) -> #REF! | C167: SE_7 | D167: CA_7 | E167: CN_7B | F167: CS_19 | G167: CS_7D | H167: CS_7B | I167: CL_19 | J167: CK_7D | K167: CK_7C | M167: PP_7E | N167: LE_7 | O167: WF_7
A168: 165 | B168: =CONCATENATE(#REF!," ",#REF!," ",#REF!) -> #REF! | C168: SE_7 | D168: CA_7 | E168: CN_7B | F168: CS_19 | G168: CS_7D | H168: CS_7B | I168: CL_19 | J168: CK_7D | K168: CK_7C | M168: PP_7F | N168: LE_7 | O168: WF_7
A169: 166 | B169: =CONCATENATE(#REF!," ",#REF!," ",#REF!) -> #REF! | C169: SE_7 | D169: CA_7 | E169: CN_7B | F169: CS_19 | G169: CS_7D | H169: CS_7B | I169: CL_19 | J169: CK_7D | K169: CK_7D | M169: PP_7F | N169: LE_7 | O169: WF_7
A170: 167 | B170: =CONCATENATE(#REF!," ",#REF!," ",#REF!) -> #REF! | C170: SE_7 | D170: CA_7 | E170: CN_7B | F170: CS_19 | G170: CS_7D | H170: CS_7B | I170: CL_19 | J170: CK_7D | K170: CK_7D | M170: PP_7F | N170: LE_7 | O170: WF_7
A171: 168 | B171: =CONCATENATE(#REF!," ",#REF!," ",#REF!) -> #REF! | C171: SE_7 | D171: CA_7 | E171: CN_7B | F171: CS_19 | G171: CS_7D | H171: CS_7B | I171: CL_19 | J171: CK_7D | K171: CK_7D | M171: PP_7F | N171: LE_7 | O171: WF_7
A172: 169 | B172: =CONCATENATE(#REF!," ",#REF!," ",#REF!) -> #REF! | C172: SE_8 | D172: CA_8 | E172: CN_8A | F172: CS_19 | G172: CS_8A | H172: CS_8A | I172: CL_19 | J172: CK_8A | K172: CK_7D | M172: PP_8A | N172: LE_8 | O172: WF_8
A173: 170 | B173: =CONCATENATE(#REF!," ",#REF!," ",#REF!) -> #REF! | C173: SE_8 | D173: CA_8 | E173: CN_8A | F173: CS_19 | G173: CS_8A | H173: CS_8A | I173: CL_19 | J173: CK_8A | K173: CK_7D | M173: PP_8A | N173: LE_8 | O173: WF_8
A174: 171 | B174: =CONCATENATE(#REF!," ",#REF!," ",#REF!) -> #REF! | C174: SE_8 | D174: CA_8 | E174: CN_8A | F174: CS_19 | G174: CS_8A | H174: CS_8A | I174: CL_19 | J174: CK_8A | K174: CK_7E | M174: PP_8A | N174: LE_8 | O174: WF_8
A175: 172 | B175: =CONCATENATE(#REF!," ",#REF!," ",#REF!) -> #REF! | C175: SE_8 | D175: CA_8 | E175: CN_8A | F175: CS_20 | G175: CS_8A | H175: CS_8A | I175: CL_20 | J175: CK_8A | K175: CK_7E | M175: PP_8A | N175: LE_8 | O175: WF_8
... A462: 459 | B462: =CONCATENATE(#REF!," ",#REF!," ",#REF!) -> #REF! | C462: SE_19 | D462: CA_19 | E462: CN_19B | F462: CS_51 | G462: CS_19D | H462: CS_19B | I462: CL_51 | J462: CK_19D | K462: CK_19B | M462: PP_19F | N462: LE_19 | O462: WF_19

Sheet sprawdzenie
A1: mniejsza liczba studentów
A2: większa liczba studentów
A4: grupa | B4: liczba studentów | C4: grupa | D4: liczba studentów | E4: grupa | F4: liczba studentów | G4: grupa | H4: liczba studentów | I4: grupa (wysoka wierność) | J4: liczba studentów | K4: grupa (niska wierność) | L4: liczba studentów | M4: grupa | N4: liczba studentów | O4: grupa | P4: liczba studentów | Q4: grupa (V WL-S) | R4: liczba studentów | S4: grupa | T4: liczba studentów | U4: grupa (WNoZ wybrane) | V4: liczba studentów | W4: grupa | X4: liczba studentów | Y4: grupa | Z4: liczba studentów
A5: SE_1 | B5: =COUNTIFS(grupy!C:C,sprawdzenie!A5,grupy!#REF!,"<>") -> #REF! | C5: CA_1 | D5: =COUNTIFS(grupy!D:D,sprawdzenie!C5,grupy!#REF!,"<>") -> #REF! | E5: CN_1A | F5: =COUNTIFS(grupy!E:E,sprawdzenie!E5,grupy!#REF!,"<>") -> #REF! | G5: CS_1 | H5: =COUNTIFS(grupy!F:F,sprawdzenie!G5,grupy!#REF!,"<>") -> #REF! | I5: CS_1A | J5: =COUNTIFS(grupy!G:G,sprawdzenie!I5,grupy!#REF!,"<>") -> #REF! | K5: CS_1A | L5: =COUNTIFS(grupy!H:H,sprawdzenie!K5,grupy!#REF!,"<>") -> #REF! | M5: CL_1 | N5: =COUNTIFS(grupy!I:I,sprawdzenie!M5,grupy!#REF!,"<>") -> #REF! | O5: CK_1A | P5: =COUNTIFS(grupy!J:J,sprawdzenie!O5,grupy!#REF!,"<>") -> #REF! | Q5: CK_1A | R5: =COUNTIFS(grupy!K:K,sprawdzenie!Q5,grupy!#REF!,"<>") -> #REF! | S5: PP_1A | T5: =COUNTIFS(grupy!L:L,sprawdzenie!S5,grupy!#REF!,"<>") -> #REF! | U5: PP_1A | V5: =COUNTIFS(grupy!M:M,sprawdzenie!U5,grupy!#REF!,"<>") -> #REF! | W5: LE_1 | X5: =COUNTIFS(grupy!N:N,sprawdzenie!W5,grupy!#REF!,"<>") -> #REF! | Y5: WF_1 | Z5: =COUNTIFS(grupy!O:O,sprawdzenie!Y5,grupy!#REF!,"<>") -> #REF!
A6: SE_2 | B6: =COUNTIFS(grupy!C:C,sprawdzenie!A6,grupy!#REF!,"<>") -> #REF! | C6: CA_2 | D6: =COUNTIFS(grupy!D:D,sprawdzenie!C6,grupy!#REF!,"<>") -> #REF! | E6: CN_1B | F6: =COUNTIFS(grupy!E:E,sprawdzenie!E6,grupy!#REF!,"<>") -> #REF! | G6: CS_2 | H6: =COUNTIFS(grupy!F:F,sprawdzenie!G6,grupy!#REF!,"<>") -> #REF! | I6: CS_1B | J6: =COUNTIFS(grupy!G:G,sprawdzenie!I6,grupy!#REF!,"<>") -> #REF! | K6: CS_1B | L6: =COUNTIFS(grupy!H:H,sprawdzenie!K6,grupy!#REF!,"<>") -> #REF! | M6: CL_2 | N6: =COUNTIFS(grupy!I:I,sprawdzenie!M6,grupy!#REF!,"<>") -> #REF! | O6: CK_1B | P6: =COUNTIFS(grupy!J:J,sprawdzenie!O6,grupy!#REF!,"<>") -> #REF! | Q6: CK_1B | R6: =COUNTIFS(grupy!K:K,sprawdzenie!Q6,grupy!#REF!,"<>") -> #REF! | S6: PP_1B | T6: =COUNTIFS(grupy!L:L,sprawdzenie!S6,grupy!#REF!,"<>") -> #REF! | U6: PP_1B | V6: =COUNTIFS(grupy!M:M,sprawdzenie!U6,grupy!#REF!,"<>") -> #REF! | W6: LE_2 | X6: =COUNTIFS(grupy!N:N,sprawdzenie!W6,grupy!#REF!,"<>") -> #REF! | Y6: WF_2 | Z6: =COUNTIFS(grupy!O:O,sprawdzenie!Y6,grupy!#REF!,"<>") -> #REF!
A7: SE_3 | B7: =COUNTIFS(grupy!C:C,sprawdzenie!A7,grupy!#REF!,"<>") -> #REF! | C7: CA_3 | D7: =COUNTIFS(grupy!D:D,sprawdzenie!C7,grupy!#REF!,"<>") -> #REF! | E7: CN_2A | F7: =COUNTIFS(grupy!E:E,sprawdzenie!E7,grupy!#REF!,"<>") -> #REF! | G7: CS_3 | H7: =COUNTIFS(grupy!F:F,sprawdzenie!G7,grupy!#REF!,"<>") -> #REF! | I7: CS_1C | J7: =COUNTIFS(grupy!G:G,sprawdzenie!I7,grupy!#REF!,"<>") -> #REF! | K7: CS_2A | L7: =COUNTIFS(grupy!H:H,sprawdzenie!K7,grupy!#REF!,"<>") -> #REF! | M7: CL_3 | N7: =COUNTIFS(grupy!I:I,sprawdzenie!M7,grupy!#REF!,"<>") -> #REF! | O7: CK_1C | P7: =COUNTIFS(grupy!J:J,sprawdzenie!O7,grupy!#REF!,"<>") -> #REF! | Q7: CK_1C | R7: =COUNTIFS(grupy!K:K,sprawdzenie!Q7,grupy!#REF!,"<>") -> #REF! | S7: PP_1C | T7: =COUNTIFS(grupy!L:L,sprawdzenie!S7,grupy!#REF!,"<>") -> #REF! | U7: PP_1C | V7: =COUNTIFS(grupy!M:M,sprawdzenie!U7,grupy!#REF!,"<>") -> #REF! | W7: LE_3 | X7: =COUNTIFS(grupy!N:N,sprawdzenie!W7,grupy!#REF!,"<>") -> #REF! | Y7: WF_3 | Z7: =COUNTIFS(grupy!O:O,sprawdzenie!Y7,grupy!#REF!,"<>") -> #REF!
A8: SE_4 | B8: =COUNTIFS(grupy!C:C,sprawdzenie!A8,grupy!#REF!,"<>") -> #REF! | C8: CA_4 | D8: =COUNTIFS(grupy!D:D,sprawdzenie!C8,grupy!#REF!,"<>") -> #REF! | E8: CN_2B | F8: =COUNTIFS(grupy!E:E,sprawdzenie!E8,grupy!#REF!,"<>") -> #REF! | G8: CS_4 | H8: =COUNTIFS(grupy!F:F,sprawdzenie!G8,grupy!#REF!,"<>") -> #REF! | I8: CS_1D | J8: =COUNTIFS(grupy!G:G,sprawdzenie!I8,grupy!#REF!,"<>") -> #REF! | K8: CS_2B | L8: =COUNTIFS(grupy!H:H,sprawdzenie!K8,grupy!#REF!,"<>") -> #REF! | M8: CL_4 | N8: =COUNTIFS(grupy!I:I,sprawdzenie!M8,grupy!#REF!,"<>") -> #REF! | O8: CK_1D | P8: =COUNTIFS(grupy!J:J,sprawdzenie!O8,grupy!#REF!,"<>") -> #REF! | Q8: CK_1D | R8: =COUNTIFS(grupy!K:K,sprawdzenie!Q8,grupy!#REF!,"<>") -> #REF! | S8: PP_1D | T8: =COUNTIFS(grupy!L:L,sprawdzenie!S8,grupy!#REF!,"<>") -> #REF! | U8: PP_1D | V8: =COUNTIFS(grupy!M:M,sprawdzenie!U8,grupy!#REF!,"<>") -> #REF! | W8: LE_4 | X8: =COUNTIFS(grupy!N:N,sprawdzenie!W8,grupy!#REF!,"<>") -> #REF! | Y8: WF_4 | Z8: =COUNTIFS(grupy!O:O,sprawdzenie!Y8,grupy!#REF!,"<>") -> #REF!
A9: SE_5 | B9: =COUNTIFS(grupy!C:C,sprawdzenie!A9,grupy!#REF!,"<>") -> #REF! | C9: CA_5 | D9: =COUNTIFS(grupy!D:D,sprawdzenie!C9,grupy!#REF!,"<>") -> #REF! | E9: CN_3A | F9: =COUNTIFS(grupy!E:E,sprawdzenie!E9,grupy!#REF!,"<>") -> #REF! | G9: CS_5 | H9: =COUNTIFS(grupy!F:F,sprawdzenie!G9,grupy!#REF!,"<>") -> #REF! | I9: CS_2A | J9: =COUNTIFS(grupy!G:G,sprawdzenie!I9,grupy!#REF!,"<>") -> #REF! | K9: CS_3A | L9: =COUNTIFS(grupy!H:H,sprawdzenie!K9,grupy!#REF!,"<>") -> #REF! | M9: CL_5 | N9: =COUNTIFS(grupy!I:I,sprawdzenie!M9,grupy!#REF!,"<>") -> #REF! | O9: CK_1E | P9: =COUNTIFS(grupy!J:J,sprawdzenie!O9,grupy!#REF!,"<>") -> #REF! | Q9: CK_1E | R9: =COUNTIFS(grupy!K:K,sprawdzenie!Q9,grupy!#REF!,"<>") -> #REF! | S9: PP_2A | T9: =COUNTIFS(grupy!L:L,sprawdzenie!S9,grupy!#REF!,"<>") -> #REF! | U9: PP_1E | V9: =COUNTIFS(grupy!M:M,sprawdzenie!U9,grupy!#REF!,"<>") -> #REF! | W9: LE_5 | X9: =COUNTIFS(grupy!N:N,sprawdzenie!W9,grupy!#REF!,"<>") -> #REF! | Y9: WF_5 | Z9: =COUNTIFS(grupy!O:O,sprawdzenie!Y9,grupy!#REF!,"<>") -> #REF!
A10: SE_6 | B10: =COUNTIFS(grupy!C:C,sprawdzenie!A10,grupy!#REF!,"<>") -> #REF! | C10: CA_6 | D10: =COUNTIFS(grupy!D:D,sprawdzenie!C10,grupy!#REF!,"<>") -> #REF! | E10: CN_3B | F10: =COUNTIFS(grupy!E:E,sprawdzenie!E10,grupy!#REF!,"<>") -> #REF! | G10: CS_6 | H10: =COUNTIFS(grupy!F:F,sprawdzenie!G10,grupy!#REF!,"<>") -> #REF! | I10: CS_2B | J10: =COUNTIFS(grupy!G:G,sprawdzenie!I10,grupy!#REF!,"<>") -> #REF! | K10: CS_3B | L10: =COUNTIFS(grupy!H:H,sprawdzenie!K10,grupy!#REF!,"<>") -> #REF! | M10: CL_6 | N10: =COUNTIFS(grupy!I:I,sprawdzenie!M10,grupy!#REF!,"<>") -> #REF! | O10: CK_1F | P10: =COUNTIFS(grupy!J:J,sprawdzenie!O10,grupy!#REF!,"<>") -> #REF! | Q10: CK_2A | R10: =COUNTIFS(grupy!K:K,sprawdzenie!Q10,grupy!#REF!,"<>") -> #REF! | S10: PP_2B | T10: =COUNTIFS(grupy!L:L,sprawdzenie!S10,grupy!#REF!,"<>") -> #REF! | U10: PP_1F | V10: =COUNTIFS(grupy!M:M,sprawdzenie!U10,grupy!#REF!,"<>") -> #REF! | W10: LE_6 | X10: =COUNTIFS(grupy!N:N,sprawdzenie!W10,grupy!#REF!,"<>") -> #REF! | Y10: WF_6 | Z10: =COUNTIFS(grupy!O:O,sprawdzenie!Y10,grupy!#REF!,"<>") -> #REF!
A11: SE_7 | B11: =COUNTIFS(grupy!C:C,sprawdzenie!A11,grupy!#REF!,"<>") -> #REF! | C11: CA_7 | D11: =COUNTIFS(grupy!D:D,sprawdzenie!C11,grupy!#REF!,"<>") -> #REF! | E11: CN_4A | F11: =COUNTIFS(grupy!E:E,sprawdzenie!E11,grupy!#REF!,"<>") -> #REF! | G11: CS_7 | H11: =COUNTIFS(grupy!F:F,sprawdzenie!G11,grupy!#REF!,"<>") -> #REF! | I11: CS_2C | J11: =COUNTIFS(grupy!G:G,sprawdzenie!I11,grupy!#REF!,"<>") -> #REF! | K11: CS_4A | L11: =COUNTIFS(grupy!H:H,sprawdzenie!K11,grupy!#REF!,"<>") -> #REF! | M11: CL_7 | N11: =COUNTIFS(grupy!I:I,sprawdzenie!M11,grupy!#REF!,"<>") -> #REF! | O11: CK_1G | P11: =COUNTIFS(grupy!J:J,sprawdzenie!O11,grupy!#REF!,"<>") -> #REF! | Q11: CK_2B | R11: =COUNTIFS(grupy!K:K,sprawdzenie!Q11,grupy!#REF!,"<>") -> #REF! | S11: PP_2C | T11: =COUNTIFS(grupy!L:L,sprawdzenie!S11,grupy!#REF!,"<>") -> #REF! | U11: PP_2A | V11: =COUNTIFS(grupy!M:M,sprawdzenie!U11,grupy!#REF!,"<>") -> #REF! | W11: LE_7 | X11: =COUNTIFS(grupy!N:N,sprawdzenie!W11,grupy!#REF!,"<>") -> #REF! | Y11: WF_7 | Z11: =COUNTIFS(grupy!O:O,sprawdzenie!Y11,grupy!#REF!,"<>") -> #REF!
A12: SE_8 | B12: =COUNTIFS(grupy!C:C,sprawdzenie!A12,grupy!#REF!,"<>") -> #REF! | C12: CA_8 | D12: =COUNTIFS(grupy!D:D,sprawdzenie!C12,grupy!#REF!,"<>") -> #REF! | E12: CN_4B | F12: =COUNTIFS(grupy!E:E,sprawdzenie!E12,grupy!#REF!,"<>") -> #REF! | G12: CS_8 | H12: =COUNTIFS(grupy!F:F,sprawdzenie!G12,grupy!#REF!,"<>") -> #REF! | I12: CS_2D | J12: =COUNTIFS(grupy!G:G,sprawdzenie!I12,grupy!#REF!,"<>") -> #REF! | K12: CS_4B | L12: =COUNTIFS(grupy!H:H,sprawdzenie!K12,grupy!#REF!,"<>") -> #REF! | M12: CL_8 | N12: =COUNTIFS(grupy!I:I,sprawdzenie!M12,grupy!#REF!,"<>") -> #REF! | O12: CK_1H | P12: =COUNTIFS(grupy!J:J,sprawdzenie!O12,grupy!#REF!,"<>") -> #REF! | Q12: CK_2C | R12: =COUNTIFS(grupy!K:K,sprawdzenie!Q12,grupy!#REF!,"<>") -> #REF! | S12: PP_2D | T12: =COUNTIFS(grupy!L:L,sprawdzenie!S12,grupy!#REF!,"<>") -> #REF! | U12: PP_2B | V12: =COUNTIFS(grupy!M:M,sprawdzenie!U12,grupy!#REF!,"<>") -> #REF! | W12: LE_8 | X12: =COUNTIFS(grupy!N:N,sprawdzenie!W12,grupy!#REF!,"<>") -> #REF! | Y12: WF_8 | Z12: =COUNTIFS(grupy!O:O,sprawdzenie!Y12,grupy!#REF!,"<>") -> #REF!
A13: SE_9 | B13: =COUNTIFS(grupy!C:C,sprawdzenie!A13,grupy!#REF!,"<>") -> #REF! | C13: CA_9 | D13: =COUNTIFS(grupy!D:D,sprawdzenie!C13,grupy!#REF!,"<>") -> #REF! | E13: CN_5A | F13: =COUNTIFS(grupy!E:E,sprawdzenie!E13,grupy!#REF!,"<>") -> #REF! | G13: CS_9 | H13: =COUNTIFS(grupy!F:F,sprawdzenie!G13,grupy!#REF!,"<>") -> #REF! | I13: CS_3A | J13: =COUNTIFS(grupy!G:G,sprawdzenie!I13,grupy!#REF!,"<>") -> #REF! | K13: CS_5A | L13: =COUNTIFS(grupy!H:H,sprawdzenie!K13,grupy!#REF!,"<>") -> #REF! | M13: CL_9 | N13: =COUNTIFS(grupy!I:I,sprawdzenie!M13,grupy!#REF!,"<>") -> #REF! | O13: CK_3A | P13: =COUNTIFS(grupy!J:J,sprawdzenie!O13,grupy!#REF!,"<>") -> #REF! | Q13: CK_2D | R13: =COUNTIFS(grupy!K:K,sprawdzenie!Q13,grupy!#REF!,"<>") -> #REF! | S13: PP_3A | T13: =COUNTIFS(grupy!L:L,sprawdzenie!S13,grupy!#REF!,"<>") -> #REF! | U13: PP_2C | V13: =COUNTIFS(grupy!M:M,sprawdzenie!U13,grupy!#REF!,"<>") -> #REF! | W13: LE_9 | X13: =COUNTIFS(grupy!N:N,sprawdzenie!W13,grupy!#REF!,"<>") -> #REF! | Y13: WF_9 | Z13: =COUNTIFS(grupy!O:O,sprawdzenie!Y13,grupy!#REF!,"<>") -> #REF!
A14: SE_10 | B14: =COUNTIFS(grupy!C:C,sprawdzenie!A14,grupy!#REF!,"<>") -> #REF! | C14: CA_10 | D14: =COUNTIFS(grupy!D:D,sprawdzenie!C14,grupy!#REF!,"<>") -> #REF! | E14: CN_5B | F14: =COUNTIFS(grupy!E:E,sprawdzenie!E14,grupy!#REF!,"<>") -> #REF! | G14: CS_10 | H14: =COUNTIFS(grupy!F:F,sprawdzenie!G14,grupy!#REF!,"<>") -> #REF! | I14: CS_3B | J14: =COUNTIFS(grupy!G:G,sprawdzenie!I14,grupy!#REF!,"<>") -> #REF! | K14: CS_5B | L14: =COUNTIFS(grupy!H:H,sprawdzenie!K14,grupy!#REF!,"<>") -> #REF! | M14: CL_10 | N14: =COUNTIFS(grupy!I:I,sprawdzenie!M14,grupy!#REF!,"<>") -> #REF! | O14: CK_3B | P14: =COUNTIFS(grupy!J:J,sprawdzenie!O14,grupy!#REF!,"<>") -> #REF! | Q14: CK_2E | R14: =COUNTIFS(grupy!K:K,sprawdzenie!Q14,grupy!#REF!,"<>") -> #REF! | S14: PP_3B | T14: =COUNTIFS(grupy!L:L,sprawdzenie!S14,grupy!#REF!,"<>") -> #REF! | U14: PP_2D | V14: =COUNTIFS(grupy!M:M,sprawdzenie!U14,grupy!#REF!,"<>") -> #REF! | W14: LE_10 | X14: =COUNTIFS(grupy!N:N,sprawdzenie!W14,grupy!#REF!,"<>") -> #REF! | Y14: WF_10 | Z14: =COUNTIFS(grupy!O:O,sprawdzenie!Y14,grupy!#REF!,"<>") -> #REF!
A15: SE_11 | B15: =COUNTIFS(grupy!C:C,sprawdzenie!A15,grupy!#REF!,"<>") -> #REF! | C15: CA_11 | D15: =COUNTIFS(grupy!D:D,sprawdzenie!C15,grupy!#REF!,"<>") -> #REF! | E15: CN_6A | F15: =COUNTIFS(grupy!E:E,sprawdzenie!E15,grupy!#REF!,"<>") -> #REF! | G15: CS_11 | H15: =COUNTIFS(grupy!F:F,sprawdzenie!G15,grupy!#REF!,"<>") -> #REF! | I15: CS_3C | J15: =COUNTIFS(grupy!G:G,sprawdzenie!I15,grupy!#REF!,"<>") -> #REF! | K15: CS_6A | L15: =COUNTIFS(grupy!H:H,sprawdzenie!K15,grupy!#REF!,"<>") -> #REF! | M15: CL_11 | N15: =COUNTIFS(grupy!I:I,sprawdzenie!M15,grupy!#REF!,"<>") -> #REF! | O15: CK_3C | P15: =COUNTIFS(grupy!J:J,sprawdzenie!O15,grupy!#REF!,"<>") -> #REF! | Q15: CK_3A | R15: =COUNTIFS(grupy!K:K,sprawdzenie!Q15,grupy!#REF!,"<>") -> #REF! | S15: PP_3C | T15: =COUNTIFS(grupy!L:L,sprawdzenie!S15,grupy!#REF!,"<>") -> #REF! | U15: PP_2E | V15: =COUNTIFS(grupy!M:M,sprawdzenie!U15,grupy!#REF!,"<>") -> #REF! | W15: LE_11 | X15: =COUNTIFS(grupy!N:N,sprawdzenie!W15,grupy!#REF!,"<>") -> #REF! | Y15: WF_11 | Z15: =COUNTIFS(grupy!O:O,sprawdzenie!Y15,grupy!#REF!,"<>") -> #REF!
A16: SE_12 | B16: =COUNTIFS(grupy!C:C,sprawdzenie!A16,grupy!#REF!,"<>") -> #REF! | C16: CA_12 | D16: =COUNTIFS(grupy!D:D,sprawdzenie!C16,grupy!#REF!,"<>") -> #REF! | E16: CN_6B | F16: =COUNTIFS(grupy!E:E,sprawdzenie!E16,grupy!#REF!,"<>") -> #REF! | G16: CS_12 | H16: =COUNTIFS(grupy!F:F,sprawdzenie!G16,grupy!#REF!,"<>") -> #REF! | I16: CS_3D | J16: =COUNTIFS(grupy!G:G,sprawdzenie!I16,grupy!#REF!,"<>") -> #REF! | K16: CS_6B | L16: =COUNTIFS(grupy!H:H,sprawdzenie!K16,grupy!#REF!,"<>") -> #REF! | M16: CL_12 | N16: =COUNTIFS(grupy!I:I,sprawdzenie!M16,grupy!#REF!,"<>") -> #REF! | O16: CK_3D | P16: =COUNTIFS(grupy!J:J,sprawdzenie!O16,grupy!#REF!,"<>") -> #REF! | Q16: CK_3B | R16: =COUNTIFS(grupy!K:K,sprawdzenie!Q16,grupy!#REF!,"<>") -> #REF! | S16: PP_3D | T16: =COUNTIFS(grupy!L:L,sprawdzenie!S16,grupy!#REF!,"<>") -> #REF! | U16: PP_2F | V16: =COUNTIFS(grupy!M:M,sprawdzenie!U16,grupy!#REF!,"<>") -> #REF! | W16: LE_12 | X16: =COUNTIFS(grupy!N:N,sprawdzenie!W16,grupy!#REF!,"<>") -> #REF! | Y16: WF_12 | Z16: =COUNTIFS(grupy!O:O,sprawdzenie!Y16,grupy!#REF!,"<>") -> #REF!
... A23: SE_19 | B23: =COUNTIFS(grupy!C:C,sprawdzenie!A23,grupy!#REF!,"<>") -> #REF! | C23: CA_19 | D23: =COUNTIFS(grupy!D:D,sprawdzenie!C23,grupy!#REF!,"<>") -> #REF! | E23: CN_10A | F23: =COUNTIFS(grupy!E:E,sprawdzenie!E23,grupy!#REF!,"<>") -> #REF! | G23: CS_19 | H23: =COUNTIFS(grupy!F:F,sprawdzenie!G23,grupy!#REF!,"<>") -> #REF! | I23: CS_5C | J23: =COUNTIFS(grupy!G:G,sprawdzenie!I23,grupy!#REF!,"<>") -> #REF! | K23: CS_10A | L23: =COUNTIFS(grupy!H:H,sprawdzenie!K23,grupy!#REF!,"<>") -> #REF! | M23: CL_19 | N23: =COUNTIFS(grupy!I:I,sprawdzenie!M23,grupy!#REF!,"<>") -> #REF! | O23: CK_5C | P23: =COUNTIFS(grupy!J:J,sprawdzenie!O23,grupy!#REF!,"<>") -> #REF! | Q23: CK_4D | R23: =COUNTIFS(grupy!K:K,sprawdzenie!Q23,grupy!#REF!,"<>") -> #REF! | S23: PP_5C | T23: =COUNTIFS(grupy!L:L,sprawdzenie!S23,grupy!#REF!,"<>") -> #REF! | U23: PP_4A | V23: =COUNTIFS(grupy!M:M,sprawdzenie!U23,grupy!#REF!,"<>") -> #REF! | W23: LE_19 | X23: =COUNTIFS(grupy!N:N,sprawdzenie!W23,grupy!#REF!,"<>") -> #REF! | Y23: WF_19 | Z23: =COUNTIFS(grupy!O:O,sprawdzenie!Y23,grupy!#REF!,"<>") -> #REF!
B24: =SUM(B5:B23) -> #REF! | D24: =SUM(D5:D23) -> #REF! | E24: CN_10B | F24: =COUNTIFS(grupy!E:E,sprawdzenie!E24,grupy!#REF!,"<>") -> #REF! | G24: CS_20 | H24: =COUNTIFS(grupy!F:F,sprawdzenie!G24,grupy!#REF!,"<>") -> #REF! | I24: CS_5D | J24: =COUNTIFS(grupy!G:G,sprawdzenie!I24,grupy!#REF!,"<>") -> #REF! | K24: CS_10B | L24: =COUNTIFS(grupy!H:H,sprawdzenie!K24,grupy!#REF!,"<>") -> #REF! | M24: CL_20 | N24: =COUNTIFS(grupy!I:I,sprawdzenie!M24,grupy!#REF!,"<>") -> #REF! | O24: CK_5D | P24: =COUNTIFS(grupy!J:J,sprawdzenie!O24,grupy!#REF!,"<>") -> #REF! | Q24: CK_4E | R24: =COUNTIFS(grupy!K:K,sprawdzenie!Q24,grupy!#REF!,"<>") -> #REF! | S24: PP_5D | T24: =COUNTIFS(grupy!L:L,sprawdzenie!S24,grupy!#REF!,"<>") -> #REF! | U24: PP_4B | V24: =COUNTIFS(grupy!M:M,sprawdzenie!U24,grupy!#REF!,"<>") -> #REF! | X24: =SUM(X5:X23) -> #REF! | Z24: =SUM(Z5:Z23) -> #REF!
E25: CN_11A | F25: =COUNTIFS(grupy!E:E,sprawdzenie!E25,grupy!#REF!,"<>") -> #REF! | G25: CS_21 | H25: =COUNTIFS(grupy!F:F,sprawdzenie!G25,grupy!#REF!,"<>") -> #REF! | I25: CS_6A | J25: =COUNTIFS(grupy!G:G,sprawdzenie!I25,grupy!#REF!,"<>") -> #REF! | K25: CS_11A | L25: =COUNTIFS(grupy!H:H,sprawdzenie!K25,grupy!#REF!,"<>") -> #REF! | M25: CL_21 | N25: =COUNTIFS(grupy!I:I,sprawdzenie!M25,grupy!#REF!,"<>") -> #REF! | O25: CK_6A | P25: =COUNTIFS(grupy!J:J,sprawdzenie!O25,grupy!#REF!,"<>") -> #REF! | Q25: CK_5A | R25: =COUNTIFS(grupy!K:K,sprawdzenie!Q25,grupy!#REF!,"<>") -> #REF! | S25: PP_6A | T25: =COUNTIFS(grupy!L:L,sprawdzenie!S25,grupy!#REF!,"<>") -> #REF! | U25: PP_4C | V25: =COUNTIFS(grupy!M:M,sprawdzenie!U25,grupy!#REF!,"<>") -> #REF!
E26: CN_11B | F26: =COUNTIFS(grupy!E:E,sprawdzenie!E26,grupy!#REF!,"<>") -> #REF! | G26: CS_22 | H26: =COUNTIFS(grupy!F:F,sprawdzenie!G26,grupy!#REF!,"<>") -> #REF! | I26: CS_6B | J26: =COUNTIFS(grupy!G:G,sprawdzenie!I26,grupy!#REF!,"<>") -> #REF! | K26: CS_11B | L26: =COUNTIFS(grupy!H:H,sprawdzenie!K26,grupy!#REF!,"<>") -> #REF! | M26: CL_22 | N26: =COUNTIFS(grupy!I:I,sprawdzenie!M26,grupy!#REF!,"<>") -> #REF! | O26: CK_6B | P26: =COUNTIFS(grupy!J:J,sprawdzenie!O26,grupy!#REF!,"<>") -> #REF! | Q26: CK_5B | R26: =COUNTIFS(grupy!K:K,sprawdzenie!Q26,grupy!#REF!,"<>") -> #REF! | S26: PP_6B | T26: =COUNTIFS(grupy!L:L,sprawdzenie!S26,grupy!#REF!,"<>") -> #REF! | U26: PP_4D | V26: =COUNTIFS(grupy!M:M,sprawdzenie!U26,grupy!#REF!,"<>") -> #REF!
E27: CN_12A | F27: =COUNTIFS(grupy!E:E,sprawdzenie!E27,grupy!#REF!,"<>") -> #REF! | G27: CS_23 | H27: =COUNTIFS(grupy!F:F,sprawdzenie!G27,grupy!#REF!,"<>") -> #REF! | I27: CS_6C | J27: =COUNTIFS(grupy!G:G,sprawdzenie!I27,grupy!#REF!,"<>") -> #REF! | K27: CS_12A | L27: =COUNTIFS(grupy!H:H,sprawdzenie!K27,grupy!#REF!,"<>") -> #REF! | M27: CL_23 | N27: =COUNTIFS(grupy!I:I,sprawdzenie!M27,grupy!#REF!,"<>") -> #REF! | O27: CK_6C | P27: =COUNTIFS(grupy!J:J,sprawdzenie!O27,grupy!#REF!,"<>") -> #REF! | Q27: CK_5C | R27: =COUNTIFS(grupy!K:K,sprawdzenie!Q27,grupy!#REF!,"<>") -> #REF! | S27: PP_6C | T27: =COUNTIFS(grupy!L:L,sprawdzenie!S27,grupy!#REF!,"<>") -> #REF! | U27: PP_4E | V27: =COUNTIFS(grupy!M:M,sprawdzenie!U27,grupy!#REF!,"<>") -> #REF!
E28: CN_12B | F28: =COUNTIFS(grupy!E:E,sprawdzenie!E28,grupy!#REF!,"<>") -> #REF! | G28: CS_24 | H28: =COUNTIFS(grupy!F:F,sprawdzenie!G28,grupy!#REF!,"<>") -> #REF! | I28: CS_6D | J28: =COUNTIFS(grupy!G:G,sprawdzenie!I28,grupy!#REF!,"<>") -> #REF! | K28: CS_12B | L28: =COUNTIFS(grupy!H:H,sprawdzenie!K28,grupy!#REF!,"<>") -> #REF! | M28: CL_24 | N28: =COUNTIFS(grupy!I:I,sprawdzenie!M28,grupy!#REF!,"<>") -> #REF! | O28: CK_6D | P28: =COUNTIFS(grupy!J:J,sprawdzenie!O28,grupy!#REF!,"<>") -> #REF! | Q28: CK_5D | R28: =COUNTIFS(grupy!K:K,sprawdzenie!Q28,grupy!#REF!,"<>") -> #REF! | S28: PP_6D | T28: =COUNTIFS(grupy!L:L,sprawdzenie!S28,grupy!#REF!,"<>") -> #REF! | U28: PP_4F | V28: =COUNTIFS(grupy!M:M,sprawdzenie!U28,grupy!#REF!,"<>") -> #REF!
E29: CN_13A | F29: =COUNTIFS(grupy!E:E,sprawdzenie!E29,grupy!#REF!,"<>") -> #REF! | G29: CS_25 | H29: =COUNTIFS(grupy!F:F,sprawdzenie!G29,grupy!#REF!,"<>") -> #REF! | I29: CS_7A | J29: =COUNTIFS(grupy!G:G,sprawdzenie!I29,grupy!#REF!,"<>") -> #REF! | K29: CS_13A | L29: =COUNTIFS(grupy!H:H,sprawdzenie!K29,grupy!#REF!,"<>") -> #REF! | M29: CL_25 | N29: =COUNTIFS(grupy!I:I,sprawdzenie!M29,grupy!#REF!,"<>") -> #REF! | O29: CK_7A | P29: =COUNTIFS(grupy!J:J,sprawdzenie!O29,grupy!#REF!,"<>") -> #REF! | Q29: CK_5E | R29: =COUNTIFS(grupy!K:K,sprawdzenie!Q29,grupy!#REF!,"<>") -> #REF! | S29: PP_7A | T29: =COUNTIFS(grupy!L:L,sprawdzenie!S29,grupy!#REF!,"<>") -> #REF! | U29: PP_5A | V29: =COUNTIFS(grupy!M:M,sprawdzenie!U29,grupy!#REF!,"<>") -> #REF!
E30: CN_13B | F30: =COUNTIFS(grupy!E:E,sprawdzenie!E30,grupy!#REF!,"<>") -> #REF! | G30: CS_26 | H30: =COUNTIFS(grupy!F:F,sprawdzenie!G30,grupy!#REF!,"<>") -> #REF! | I30: CS_7B | J30: =COUNTIFS(grupy!G:G,sprawdzenie!I30,grupy!#REF!,"<>") -> #REF! | K30: CS_13B | L30: =COUNTIFS(grupy!H:H,sprawdzenie!K30,grupy!#REF!,"<>") -> #REF! | M30: CL_26 | N30: =COUNTIFS(grupy!I:I,sprawdzenie!M30,grupy!#REF!,"<>") -> #REF! | O30: CK_7B | P30: =COUNTIFS(grupy!J:J,sprawdzenie!O30,grupy!#REF!,"<>") -> #REF! | Q30: CK_6A | R30: =COUNTIFS(grupy!K:K,sprawdzenie!Q30,grupy!#REF!,"<>") -> #REF! | S30: PP_7B | T30: =COUNTIFS(grupy!L:L,sprawdzenie!S30,grupy!#REF!,"<>") -> #REF! | U30: PP_5B | V30: =COUNTIFS(grupy!M:M,sprawdzenie!U30,grupy!#REF!,"<>") -> #REF!
E31: CN_14A | F31: =COUNTIFS(grupy!E:E,sprawdzenie!E31,grupy!#REF!,"<>") -> #REF! | G31: CS_27 | H31: =COUNTIFS(grupy!F:F,sprawdzenie!G31,grupy!#REF!,"<>") -> #REF! | I31: CS_7C | J31: =COUNTIFS(grupy!G:G,sprawdzenie!I31,grupy!#REF!,"<>") -> #REF! | K31: CS_14A | L31: =COUNTIFS(grupy!H:H,sprawdzenie!K31,grupy!#REF!,"<>") -> #REF! | M31: CL_27 | N31: =COUNTIFS(grupy!I:I,sprawdzenie!M31,grupy!#REF!,"<>") -> #REF! | O31: CK_7C | P31: =COUNTIFS(grupy!J:J,sprawdzenie!O31,grupy!#REF!,"<>") -> #REF! | Q31: CK_6B | R31: =COUNTIFS(grupy!K:K,sprawdzenie!Q31,grupy!#REF!,"<>") -> #REF! | S31: PP_7C | T31: =COUNTIFS(grupy!L:L,sprawdzenie!S31,grupy!#REF!,"<>") -> #REF! | U31: PP_5C | V31: =COUNTIFS(grupy!M:M,sprawdzenie!U31,grupy!#REF!,"<>") -> #REF!
E32: CN_14B | F32: =COUNTIFS(grupy!E:E,sprawdzenie!E32,grupy!#REF!,"<>") -> #REF! | G32: CS_28 | H32: =COUNTIFS(grupy!F:F,sprawdzenie!G32,grupy!#REF!,"<>") -> #REF! | I32: CS_7D | J32: =COUNTIFS(grupy!G:G,sprawdzenie!I32,grupy!#REF!,"<>") -> #REF! | K32: CS_14B | L32: =COUNTIFS(grupy!H:H,sprawdzenie!K32,grupy!#REF!,"<>") -> #REF! | M32: CL_28 | N32: =COUNTIFS(grupy!I:I,sprawdzenie!M32,grupy!#REF!,"<>") -> #REF! | O32: CK_7D | P32: =COUNTIFS(grupy!J:J,sprawdzenie!O32,grupy!#REF!,"<>") -> #REF! | Q32: CK_6C | R32: =COUNTIFS(grupy!K:K,sprawdzenie!Q32,grupy!#REF!,"<>") -> #REF! | S32: PP_7D | T32: =COUNTIFS(grupy!L:L,sprawdzenie!S32,grupy!#REF!,"<>") -> #REF! | U32: PP_5D | V32: =COUNTIFS(grupy!M:M,sprawdzenie!U32,grupy!#REF!,"<>") -> #REF!
E33: CN_15A | F33: =COUNTIFS(grupy!E:E,sprawdzenie!E33,grupy!#REF!,"<>") -> #REF! | G33: CS_29 | H33: =COUNTIFS(grupy!F:F,sprawdzenie!G33,grupy!#REF!,"<>") -> #REF! | I33: CS_8A | J33: =COUNTIFS(grupy!G:G,sprawdzenie!I33,grupy!#REF!,"<>") -> #REF! | K33: CS_15A | L33: =COUNTIFS(grupy!H:H,sprawdzenie!K33,grupy!#REF!,"<>") -> #REF! | M33: CL_29 | N33: =COUNTIFS(grupy!I:I,sprawdzenie!M33,grupy!#REF!,"<>") -> #REF! | O33: CK_8A | P33: =COUNTIFS(grupy!J:J,sprawdzenie!O33,grupy!#REF!,"<>") -> #REF! | Q33: CK_6D | R33: =COUNTIFS(grupy!K:K,sprawdzenie!Q33,grupy!#REF!,"<>") -> #REF! | S33: PP_8A | T33: =COUNTIFS(grupy!L:L,sprawdzenie!S33,grupy!#REF!,"<>") -> #REF! | U33: PP_5E | V33: =COUNTIFS(grupy!M:M,sprawdzenie!U33,grupy!#REF!,"<>") -> #REF!
E34: CN_15B | F34: =COUNTIFS(grupy!E:E,sprawdzenie!E34,grupy!#REF!,"<>") -> #REF! | G34: CS_30 | H34: =COUNTIFS(grupy!F:F,sprawdzenie!G34,grupy!#REF!,"<>") -> #REF! | I34: CS_8B | J34: =COUNTIFS(grupy!G:G,sprawdzenie!I34,grupy!#REF!,"<>") -> #REF! | K34: CS_15B | L34: =COUNTIFS(grupy!H:H,sprawdzenie!K34,grupy!#REF!,"<>") -> #REF! | M34: CL_30 | N34: =COUNTIFS(grupy!I:I,sprawdzenie!M34,grupy!#REF!,"<>") -> #REF! | O34: CK_8B | P34: =COUNTIFS(grupy!J:J,sprawdzenie!O34,grupy!#REF!,"<>") -> #REF! | Q34: CK_6E | R34: =COUNTIFS(grupy!K:K,sprawdzenie!Q34,grupy!#REF!,"<>") -> #REF! | S34: PP_8B | T34: =COUNTIFS(grupy!L:L,sprawdzenie!S34,grupy!#REF!,"<>") -> #REF! | U34: PP_5F | V34: =COUNTIFS(grupy!M:M,sprawdzenie!U34,grupy!#REF!,"<>") -> #REF!
E35: CN_16A | F35: =COUNTIFS(grupy!E:E,sprawdzenie!E35,grupy!#REF!,"<>") -> #REF! | G35: CS_31 | H35: =COUNTIFS(grupy!F:F,sprawdzenie!G35,grupy!#REF!,"<>") -> #REF! | I35: CS_8C | J35: =COUNTIFS(grupy!G:G,sprawdzenie!I35,grupy!#REF!,"<>") -> #REF! | K35: CS_16A | L35: =COUNTIFS(grupy!H:H,sprawdzenie!K35,grupy!#REF!,"<>") -> #REF! | M35: CL_31 | N35: =COUNTIFS(grupy!I:I,sprawdzenie!M35,grupy!#REF!,"<>") -> #REF! | O35: CK_8C | P35: =COUNTIFS(grupy!J:J,sprawdzenie!O35,grupy!#REF!,"<>") -> #REF! | Q35: CK_7A | R35: =COUNTIFS(grupy!K:K,sprawdzenie!Q35,grupy!#REF!,"<>") -> #REF! | S35: PP_8C | T35: =COUNTIFS(grupy!L:L,sprawdzenie!S35,grupy!#REF!,"<>") -> #REF! | U35: PP_6A | V35: =COUNTIFS(grupy!M:M,sprawdzenie!U35,grupy!#REF!,"<>") -> #REF!
E36: CN_16B | F36: =COUNTIFS(grupy!E:E,sprawdzenie!E36,grupy!#REF!,"<>") -> #REF! | G36: CS_32 | H36: =COUNTIFS(grupy!F:F,sprawdzenie!G36,grupy!#REF!,"<>") -> #REF! | I36: CS_8D | J36: =COUNTIFS(grupy!G:G,sprawdzenie!I36,grupy!#REF!,"<>") -> #REF! | K36: CS_16B | L36: =COUNTIFS(grupy!H:H,sprawdzenie!K36,grupy!#REF!,"<>") -> #REF! | M36: CL_32 | N36: =COUNTIFS(grupy!I:I,sprawdzenie!M36,grupy!#REF!,"<>") -> #REF! | O36: CK_8D | P36: =COUNTIFS(grupy!J:J,sprawdzenie!O36,grupy!#REF!,"<>") -> #REF! | Q36: CK_7B | R36: =COUNTIFS(grupy!K:K,sprawdzenie!Q36,grupy!#REF!,"<>") -> #REF! | S36: PP_8D | T36: =COUNTIFS(grupy!L:L,sprawdzenie!S36,grupy!#REF!,"<>") -> #REF! | U36: PP_6B | V36: =COUNTIFS(grupy!M:M,sprawdzenie!U36,grupy!#REF!,"<>") -> #REF!
... E42: CN_19B | F42: =COUNTIFS(grupy!E:E,sprawdzenie!E42,grupy!#REF!,"<>") -> #REF! | G42: CS_38 | H42: =COUNTIFS(grupy!F:F,sprawdzenie!G42,grupy!#REF!,"<>") -> #REF! | I42: CS_10B | J42: =COUNTIFS(grupy!G:G,sprawdzenie!I42,grupy!#REF!,"<>") -> #REF! | K42: CS_19B | L42: =COUNTIFS(grupy!H:H,sprawdzenie!K42,grupy!#REF!,"<>") -> #REF! | M42: CL_38 | N42: =COUNTIFS(grupy!I:I,sprawdzenie!M42,grupy!#REF!,"<>") -> #REF! | O42: CK_10B | P42: =COUNTIFS(grupy!J:J,sprawdzenie!O42,grupy!#REF!,"<>") -> #REF! | Q42: CK_8C | R42: =COUNTIFS(grupy!K:K,sprawdzenie!Q42,grupy!#REF!,"<>") -> #REF! | S42: PP_10B | T42: =COUNTIFS(grupy!L:L,sprawdzenie!S42,grupy!#REF!,"<>") -> #REF! | U42: PP_7B | V42: =COUNTIFS(grupy!M:M,sprawdzenie!U42,grupy!#REF!,"<>") -> #REF!
F43: =SUM(F5:F42) -> #REF! | G43: CS_39 | H43: =COUNTIFS(grupy!F:F,sprawdzenie!G43,grupy!#REF!,"<>") -> #REF! | I43: CS_10C | J43: =COUNTIFS(grupy!G:G,sprawdzenie!I43,grupy!#REF!,"<>") -> #REF! | L43: =SUM(L5:L42) -> #REF! | M43: CL_39 | N43: =COUNTIFS(grupy!I:I,sprawdzenie!M43,grupy!#REF!,"<>") -> #REF! | O43: CK_10C | P43: =COUNTIFS(grupy!J:J,sprawdzenie!O43,grupy!#REF!,"<>") -> #REF! | Q43: CK_8D | R43: =COUNTIFS(grupy!K:K,sprawdzenie!Q43,grupy!#REF!,"<>") -> #REF! | S43: PP_10C | T43: =COUNTIFS(grupy!L:L,sprawdzenie!S43,grupy!#REF!,"<>") -> #REF! | U43: PP_7C | V43: =COUNTIFS(grupy!M:M,sprawdzenie!U43,grupy!#REF!,"<>") -> #REF!
G44: CS_40 | H44: =COUNTIFS(grupy!F:F,sprawdzenie!G44,grupy!#REF!,"<>") -> #REF! | I44: CS_10D | J44: =COUNTIFS(grupy!G:G,sprawdzenie!I44,grupy!#REF!,"<>") -> #REF! | M44: CL_40 | N44: =COUNTIFS(grupy!I:I,sprawdzenie!M44,grupy!#REF!,"<>") -> #REF! | O44: CK_10D | P44: =COUNTIFS(grupy!J:J,sprawdzenie!O44,grupy!#REF!,"<>") -> #REF! | Q44: CK_8E | R44: =COUNTIFS(grupy!K:K,sprawdzenie!Q44,grupy!#REF!,"<>") -> #REF! | S44: PP_10D | T44: =COUNTIFS(grupy!L:L,sprawdzenie!S44,grupy!#REF!,"<>") -> #REF! | U44: PP_7D | V44: =COUNTIFS(grupy!M:M,sprawdzenie!U44,grupy!#REF!,"<>") -> #REF!
G45: CS_41 | H45: =COUNTIFS(grupy!F:F,sprawdzenie!G45,grupy!#REF!,"<>") -> #REF! | I45: CS_11A | J45: =COUNTIFS(grupy!G:G,sprawdzenie!I45,grupy!#REF!,"<>") -> #REF! | M45: CL_41 | N45: =COUNTIFS(grupy!I:I,sprawdzenie!M45,grupy!#REF!,"<>") -> #REF! | O45: CK_11A | P45: =COUNTIFS(grupy!J:J,sprawdzenie!O45,grupy!#REF!,"<>") -> #REF! | Q45: CK_9A | R45: =COUNTIFS(grupy!K:K,sprawdzenie!Q45,grupy!#REF!,"<>") -> #REF! | S45: PP_11A | T45: =COUNTIFS(grupy!L:L,sprawdzenie!S45,grupy!#REF!,"<>") -> #REF! | U45: PP_7E | V45: =COUNTIFS(grupy!M:M,sprawdzenie!U45,grupy!#REF!,"<>") -> #REF!
G46: CS_42 | H46: =COUNTIFS(grupy!F:F,sprawdzenie!G46,grupy!#REF!,"<>") -> #REF! | I46: CS_11B | J46: =COUNTIFS(grupy!G:G,sprawdzenie!I46,grupy!#REF!,"<>") -> #REF! | M46: CL_42 | N46: =COUNTIFS(grupy!I:I,sprawdzenie!M46,grupy!#REF!,"<>") -> #REF! | O46: CK_11B | P46: =COUNTIFS(grupy!J:J,sprawdzenie!O46,grupy!#REF!,"<>") -> #REF! | Q46: CK_9B | R46: =COUNTIFS(grupy!K:K,sprawdzenie!Q46,grupy!#REF!,"<>") -> #REF! | S46: PP_11B | T46: =COUNTIFS(grupy!L:L,sprawdzenie!S46,grupy!#REF!,"<>") -> #REF! | U46: PP_7F | V46: =COUNTIFS(grupy!M:M,sprawdzenie!U46,grupy!#REF!,"<>") -> #REF!
G47: CS_43 | H47: =COUNTIFS(grupy!F:F,sprawdzenie!G47,grupy!#REF!,"<>") -> #REF! | I47: CS_11C | J47: =COUNTIFS(grupy!G:G,sprawdzenie!I47,grupy!#REF!,"<>") -> #REF! | M47: CL_43 | N47: =COUNTIFS(grupy!I:I,sprawdzenie!M47,grupy!#REF!,"<>") -> #REF! | O47: CK_11C | P47: =COUNTIFS(grupy!J:J,sprawdzenie!O47,grupy!#REF!,"<>") -> #REF! | Q47: CK_9C | R47: =COUNTIFS(grupy!K:K,sprawdzenie!Q47,grupy!#REF!,"<>") -> #REF! | S47: PP_11C | T47: =COUNTIFS(grupy!L:L,sprawdzenie!S47,grupy!#REF!,"<>") -> #REF! | U47: PP_8A | V47: =COUNTIFS(grupy!M:M,sprawdzenie!U47,grupy!#REF!,"<>") -> #REF!
G48: CS_44 | H48: =COUNTIFS(grupy!F:F,sprawdzenie!G48,grupy!#REF!,"<>") -> #REF! | I48: CS_11D | J48: =COUNTIFS(grupy!G:G,sprawdzenie!I48,grupy!#REF!,"<>") -> #REF! | M48: CL_44 | N48: =COUNTIFS(grupy!I:I,sprawdzenie!M48,grupy!#REF!,"<>") -> #REF! | O48: CK_11D | P48: =COUNTIFS(grupy!J:J,sprawdzenie!O48,grupy!#REF!,"<>") -> #REF! | Q48: CK_9D | R48: =COUNTIFS(grupy!K:K,sprawdzenie!Q48,grupy!#REF!,"<>") -> #REF! | S48: PP_11D | T48: =COUNTIFS(grupy!L:L,sprawdzenie!S48,grupy!#REF!,"<>") -> #REF! | U48: PP_8B | V48: =COUNTIFS(grupy!M:M,sprawdzenie!U48,grupy!#REF!,"<>") -> #REF!
G49: CS_45 | H49: =COUNTIFS(grupy!F:F,sprawdzenie!G49,grupy!#REF!,"<>") -> #REF! | I49: CS_12A | J49: =COUNTIFS(grupy!G:G,sprawdzenie!I49,grupy!#REF!,"<>") -> #REF! | M49: CL_45 | N49: =COUNTIFS(grupy!I:I,sprawdzenie!M49,grupy!#REF!,"<>") -> #REF! | O49: CK_12A | P49: =COUNTIFS(grupy!J:J,sprawdzenie!O49,grupy!#REF!,"<>") -> #REF! | Q49: CK_9E | R49: =COUNTIFS(grupy!K:K,sprawdzenie!Q49,grupy!#REF!,"<>") -> #REF! | S49: PP_12A | T49: =COUNTIFS(grupy!L:L,sprawdzenie!S49,grupy!#REF!,"<>") -> #REF! | U49: PP_8C | V49: =COUNTIFS(grupy!M:M,sprawdzenie!U49,grupy!#REF!,"<>") -> #REF!
G50: CS_46 | H50: =COUNTIFS(grupy!F:F,sprawdzenie!G50,grupy!#REF!,"<>") -> #REF! | I50: CS_12B | J50: =COUNTIFS(grupy!G:G,sprawdzenie!I50,grupy!#REF!,"<>") -> #REF! | M50: CL_46 | N50: =COUNTIFS(grupy!I:I,sprawdzenie!M50,grupy!#REF!,"<>") -> #REF! | O50: CK_12B | P50: =COUNTIFS(grupy!J:J,sprawdzenie!O50,grupy!#REF!,"<>") -> #REF! | Q50: CK_10A | R50: =COUNTIFS(grupy!K:K,sprawdzenie!Q50,grupy!#REF!,"<>") -> #REF! | S50: PP_12B | T50: =COUNTIFS(grupy!L:L,sprawdzenie!S50,grupy!#REF!,"<>") -> #REF! | U50: PP_8D | V50: =COUNTIFS(grupy!M:M,sprawdzenie!U50,grupy!#REF!,"<>") -> #REF!
G51: CS_47 | H51: =COUNTIFS(grupy!F:F,sprawdzenie!G51,grupy!#REF!,"<>") -> #REF! | I51: CS_12C | J51: =COUNTIFS(grupy!G:G,sprawdzenie!I51,grupy!#REF!,"<>") -> #REF! | M51: CL_47 | N51: =COUNTIFS(grupy!I:I,sprawdzenie!M51,grupy!#REF!,"<>") -> #REF! | O51: CK_12C | P51: =COUNTIFS(grupy!J:J,sprawdzenie!O51,grupy!#REF!,"<>") -> #REF! | Q51: CK_10B | R51: =COUNTIFS(grupy!K:K,sprawdzenie!Q51,grupy!#REF!,"<>") -> #REF! | S51: PP_12C | T51: =COUNTIFS(grupy!L:L,sprawdzenie!S51,grupy!#REF!,"<>") -> #REF! | U51: PP_8E | V51: =COUNTIFS(grupy!M:M,sprawdzenie!U51,grupy!#REF!,"<>") -> #REF!
G52: CS_48 | H52: =COUNTIFS(grupy!F:F,sprawdzenie!G52,grupy!#REF!,"<>") -> #REF! | I52: CS_12D | J52: =COUNTIFS(grupy!G:G,sprawdzenie!I52,grupy!#REF!,"<>") -> #REF! | M52: CL_48 | N52: =COUNTIFS(grupy!I:I,sprawdzenie!M52,grupy!#REF!,"<>") -> #REF! | O52: CK_12D | P52: =COUNTIFS(grupy!J:J,sprawdzenie!O52,grupy!#REF!,"<>") -> #REF! | Q52: CK_10C | R52: =COUNTIFS(grupy!K:K,sprawdzenie!Q52,grupy!#REF!,"<>") -> #REF! | S52: PP_12D | T52: =COUNTIFS(grupy!L:L,sprawdzenie!S52,grupy!#REF!,"<>") -> #REF! | U52: PP_8F | V52: =COUNTIFS(grupy!M:M,sprawdzenie!U52,grupy!#REF!,"<>") -> #REF!
G53: CS_49 | H53: =COUNTIFS(grupy!F:F,sprawdzenie!G53,grupy!#REF!,"<>") -> #REF! | I53: CS_13A | J53: =COUNTIFS(grupy!G:G,sprawdzenie!I53,grupy!#REF!,"<>") -> #REF! | M53: CL_49 | N53: =COUNTIFS(grupy!I:I,sprawdzenie!M53,grupy!#REF!,"<>") -> #REF! | O53: CK_13A | P53: =COUNTIFS(grupy!J:J,sprawdzenie!O53,grupy!#REF!,"<>") -> #REF! | Q53: CK_10D | R53: =COUNTIFS(grupy!K:K,sprawdzenie!Q53,grupy!#REF!,"<>") -> #REF! | S53: PP_13A | T53: =COUNTIFS(grupy!L:L,sprawdzenie!S53,grupy!#REF!,"<>") -> #REF! | U53: PP_9A | V53: =COUNTIFS(grupy!M:M,sprawdzenie!U53,grupy!#REF!,"<>") -> #REF!
G54: CS_50 | H54: =COUNTIFS(grupy!F:F,sprawdzenie!G54,grupy!#REF!,"<>") -> #REF! | I54: CS_13B | J54: =COUNTIFS(grupy!G:G,sprawdzenie!I54,grupy!#REF!,"<>") -> #REF! | M54: CL_50 | N54: =COUNTIFS(grupy!I:I,sprawdzenie!M54,grupy!#REF!,"<>") -> #REF! | O54: CK_13B | P54: =COUNTIFS(grupy!J:J,sprawdzenie!O54,grupy!#REF!,"<>") -> #REF! | Q54: CK_10E | R54: =COUNTIFS(grupy!K:K,sprawdzenie!Q54,grupy!#REF!,"<>") -> #REF! | S54: PP_13B | T54: =COUNTIFS(grupy!L:L,sprawdzenie!S54,grupy!#REF!,"<>") -> #REF! | U54: PP_9B | V54: =COUNTIFS(grupy!M:M,sprawdzenie!U54,grupy!#REF!,"<>") -> #REF!
G55: CS_51 | H55: =COUNTIFS(grupy!F:F,sprawdzenie!G55,grupy!#REF!,"<>") -> #REF! | I55: CS_13C | J55: =COUNTIFS(grupy!G:G,sprawdzenie!I55,grupy!#REF!,"<>") -> #REF! | M55: CL_51 | N55: =COUNTIFS(grupy!I:I,sprawdzenie!M55,grupy!#REF!,"<>") -> #REF! | O55: CK_13C | P55: =COUNTIFS(grupy!J:J,sprawdzenie!O55,grupy!#REF!,"<>") -> #REF! | Q55: CK_11A | R55: =COUNTIFS(grupy!K:K,sprawdzenie!Q55,grupy!#REF!,"<>") -> #REF! | S55: PP_13C | T55: =COUNTIFS(grupy!L:L,sprawdzenie!S55,grupy!#REF!,"<>") -> #REF! | U55: PP_9C | V55: =COUNTIFS(grupy!M:M,sprawdzenie!U55,grupy!#REF!,"<>") -> #REF!
H56: =SUM(H5:H55) -> #REF! | I56: CS_13D | J56: =COUNTIFS(grupy!G:G,sprawdzenie!I56,grupy!#REF!,"<>") -> #REF! | N56: =SUM(N5:N55) -> #REF! | O56: CK_13D | P56: =COUNTIFS(grupy!J:J,sprawdzenie!O56,grupy!#REF!,"<>") -> #REF! | Q56: CK_11B | R56: =COUNTIFS(grupy!K:K,sprawdzenie!Q56,grupy!#REF!,"<>") -> #REF! | S56: PP_13D | T56: =COUNTIFS(grupy!L:L,sprawdzenie!S56,grupy!#REF!,"<>") -> #REF! | U56: PP_9D | V56: =COUNTIFS(grupy!M:M,sprawdzenie!U56,grupy!#REF!,"<>") -> #REF!
I57: CS_14A | J57: =COUNTIFS(grupy!G:G,sprawdzenie!I57,grupy!#REF!,"<>") -> #REF! | O57: CK_14A | P57: =COUNTIFS(grupy!J:J,sprawdzenie!O57,grupy!#REF!,"<>") -> #REF! | Q57: CK_11C | R57: =COUNTIFS(grupy!K:K,sprawdzenie!Q57,grupy!#REF!,"<>") -> #REF! | S57: PP_14A | T57: =COUNTIFS(grupy!L:L,sprawdzenie!S57,grupy!#REF!,"<>") -> #REF! | U57: PP_9E | V57: =COUNTIFS(grupy!M:M,sprawdzenie!U57,grupy!#REF!,"<>") -> #REF!
I58: CS_14B | J58: =COUNTIFS(grupy!G:G,sprawdzenie!I58,grupy!#REF!,"<>") -> #REF! | O58: CK_14B | P58: =COUNTIFS(grupy!J:J,sprawdzenie!O58,grupy!#REF!,"<>") -> #REF! | Q58: CK_11D | R58: =COUNTIFS(grupy!K:K,sprawdzenie!Q58,grupy!#REF!,"<>") -> #REF! | S58: PP_14B | T58: =COUNTIFS(grupy!L:L,sprawdzenie!S58,grupy!#REF!,"<>") -> #REF! | U58: PP_9F | V58: =COUNTIFS(grupy!M:M,sprawdzenie!U58,grupy!#REF!,"<>") -> #REF!
I59: CS_14C | J59: =COUNTIFS(grupy!G:G,sprawdzenie!I59,grupy!#REF!,"<>") -> #REF! | O59: CK_14C | P59: =COUNTIFS(grupy!J:J,sprawdzenie!O59,grupy!#REF!,"<>") -> #REF! | Q59: CK_11E | R59: =COUNTIFS(grupy!K:K,sprawdzenie!Q59,grupy!#REF!,"<>") -> #REF! | S59: PP_14C | T59: =COUNTIFS(grupy!L:L,sprawdzenie!S59,grupy!#REF!,"<>") -> #REF! | U59: PP_10A | V59: =COUNTIFS(grupy!M:M,sprawdzenie!U59,grupy!#REF!,"<>") -> #REF!
I60: CS_14D | J60: =COUNTIFS(grupy!G:G,sprawdzenie!I60,grupy!#REF!,"<>") -> #REF! | O60: CK_14D | P60: =COUNTIFS(grupy!J:J,sprawdzenie!O60,grupy!#REF!,"<>") -> #REF! | Q60: CK_12A | R60: =COUNTIFS(grupy!K:K,sprawdzenie!Q60,grupy!#REF!,"<>") -> #REF! | S60: PP_14D | T60: =COUNTIFS(grupy!L:L,sprawdzenie!S60,grupy!#REF!,"<>") -> #REF! | U60: PP_10B | V60: =COUNTIFS(grupy!M:M,sprawdzenie!U60,grupy!#REF!,"<>") -> #REF!
I61: CS_15A | J61: =COUNTIFS(grupy!G:G,sprawdzenie!I61,grupy!#REF!,"<>") -> #REF! | O61: CK_15A | P61: =COUNTIFS(grupy!J:J,sprawdzenie!O61,grupy!#REF!,"<>") -> #REF! | Q61: CK_12B | R61: =COUNTIFS(grupy!K:K,sprawdzenie!Q61,grupy!#REF!,"<>") -> #REF! | S61: PP_15A | T61: =COUNTIFS(grupy!L:L,sprawdzenie!S61,grupy!#REF!,"<>") -> #REF! | U61: PP_10C | V61: =COUNTIFS(grupy!M:M,sprawdzenie!U61,grupy!#REF!,"<>") -> #REF!
I62: CS_15B | J62: =COUNTIFS(grupy!G:G,sprawdzenie!I62,grupy!#REF!,"<>") -> #REF! | O62: CK_15B | P62: =COUNTIFS(grupy!J:J,sprawdzenie!O62,grupy!#REF!,"<>") -> #REF! | Q62: CK_12C | R62: =COUNTIFS(grupy!K:K,sprawdzenie!Q62,grupy!#REF!,"<>") -> #REF! | S62: PP_15B | T62: =COUNTIFS(grupy!L:L,sprawdzenie!S62,grupy!#REF!,"<>") -> #REF! | U62: PP_10D | V62: =COUNTIFS(grupy!M:M,sprawdzenie!U62,grupy!#REF!,"<>") -> #REF!
I63: CS_15C | J63: =COUNTIFS(grupy!G:G,sprawdzenie!I63,grupy!#REF!,"<>") -> #REF! | O63: CK_15C | P63: =COUNTIFS(grupy!J:J,sprawdzenie!O63,grupy!#REF!,"<>") -> #REF! | Q63: CK_12D | R63: =COUNTIFS(grupy!K:K,sprawdzenie!Q63,grupy!#REF!,"<>") -> #REF! | S63: PP_15C | T63: =COUNTIFS(grupy!L:L,sprawdzenie!S63,grupy!#REF!,"<>") -> #REF! | U63: PP_10E | V63: =COUNTIFS(grupy!M:M,sprawdzenie!U63,grupy!#REF!,"<>") -> #REF!
I64: CS_15D | J64: =COUNTIFS(grupy!G:G,sprawdzenie!I64,grupy!#REF!,"<>") -> #REF! | O64: CK_15D | P64: =COUNTIFS(grupy!J:J,sprawdzenie!O64,grupy!#REF!,"<>") -> #REF! | Q64: CK_12E | R64: =COUNTIFS(grupy!K:K,sprawdzenie!Q64,grupy!#REF!,"<>") -> #REF! | S64: PP_15D | T64: =COUNTIFS(grupy!L:L,sprawdzenie!S64,grupy!#REF!,"<>") -> #REF! | U64: PP_10F | V64: =COUNTIFS(grupy!M:M,sprawdzenie!U64,grupy!#REF!,"<>") -> #REF!
I65: CS_16A | J65: =COUNTIFS(grupy!G:G,sprawdzenie!I65,grupy!#REF!,"<>") -> #REF! | O65: CK_16A | P65: =COUNTIFS(grupy!J:J,sprawdzenie!O65,grupy!#REF!,"<>") -> #REF! | Q65: CK_13A | R65: =COUNTIFS(grupy!K:K,sprawdzenie!Q65,grupy!#REF!,"<>") -> #REF! | S65: PP_16A | T65: =COUNTIFS(grupy!L:L,sprawdzenie!S65,grupy!#REF!,"<>") -> #REF! | U65: PP_11A | V65: =COUNTIFS(grupy!M:M,sprawdzenie!U65,grupy!#REF!,"<>") -> #REF!
I66: CS_16B | J66: =COUNTIFS(grupy!G:G,sprawdzenie!I66,grupy!#REF!,"<>") -> #REF! | O66: CK_16B | P66: =COUNTIFS(grupy!J:J,sprawdzenie!O66,grupy!#REF!,"<>") -> #REF! | Q66: CK_13B | R66: =COUNTIFS(grupy!K:K,sprawdzenie!Q66,grupy!#REF!,"<>") -> #REF! | S66: PP_16B | T66: =COUNTIFS(grupy!L:L,sprawdzenie!S66,grupy!#REF!,"<>") -> #REF! | U66: PP_11B | V66: =COUNTIFS(grupy!M:M,sprawdzenie!U66,grupy!#REF!,"<>") -> #REF!
I67: CS_16C | J67: =COUNTIFS(grupy!G:G,sprawdzenie!I67,grupy!#REF!,"<>") -> #REF! | O67: CK_16C | P67: =COUNTIFS(grupy!J:J,sprawdzenie!O67,grupy!#REF!,"<>") -> #REF! | Q67: CK_13C | R67: =COUNTIFS(grupy!K:K,sprawdzenie!Q67,grupy!#REF!,"<>") -> #REF! | S67: PP_16C | T67: =COUNTIFS(grupy!L:L,sprawdzenie!S67,grupy!#REF!,"<>") -> #REF! | U67: PP_11C | V67: =COUNTIFS(grupy!M:M,sprawdzenie!U67,grupy!#REF!,"<>") -> #REF!
I68: CS_16D | J68: =COUNTIFS(grupy!G:G,sprawdzenie!I68,grupy!#REF!,"<>") -> #REF! | O68: CK_16D | P68: =COUNTIFS(grupy!J:J,sprawdzenie!O68,grupy!#REF!,"<>") -> #REF! | Q68: CK_13D | R68: =COUNTIFS(grupy!K:K,sprawdzenie!Q68,grupy!#REF!,"<>") -> #REF! | S68: PP_16D | T68: =COUNTIFS(grupy!L:L,sprawdzenie!S68,grupy!#REF!,"<>") -> #REF! | U68: PP_11D | V68: =COUNTIFS(grupy!M:M,sprawdzenie!U68,grupy!#REF!,"<>") -> #REF!
... I80: CS_19D | J80: =COUNTIFS(grupy!G:G,sprawdzenie!I80,grupy!#REF!,"<>") -> #REF! | O80: CK_19D | P80: =COUNTIFS(grupy!J:J,sprawdzenie!O80,grupy!#REF!,"<>") -> #REF! | Q80: CK_16A | R80: =COUNTIFS(grupy!K:K,sprawdzenie!Q80,grupy!#REF!,"<>") -> #REF! | S80: PP_19D | T80: =COUNTIFS(grupy!L:L,sprawdzenie!S80,grupy!#REF!,"<>") -> #REF! | U80: PP_13D | V80: =COUNTIFS(grupy!M:M,sprawdzenie!U80,grupy!#REF!,"<>") -> #REF!
J81: =SUM(J5:J80) -> #REF! | P81: =SUM(P5:P80) -> #REF! | Q81: CK_16B | R81: =COUNTIFS(grupy!K:K,sprawdzenie!Q81,grupy!#REF!,"<>") -> #REF! | U81: PP_13E | V81: =COUNTIFS(grupy!M:M,sprawdzenie!U81,grupy!#REF!,"<>") -> #REF!
Q82: CK_16C | R82: =COUNTIFS(grupy!K:K,sprawdzenie!Q82,grupy!#REF!,"<>") -> #REF! | U82: PP_13F | V82: =COUNTIFS(grupy!M:M,sprawdzenie!U82,grupy!#REF!,"<>") -> #REF!
Q83: CK_16D | R83: =COUNTIFS(grupy!K:K,sprawdzenie!Q83,grupy!#REF!,"<>") -> #REF! | U83: PP_14A | V83: =COUNTIFS(grupy!M:M,sprawdzenie!U83,grupy!#REF!,"<>") -> #REF!
Q84: CK_16E | R84: =COUNTIFS(grupy!K:K,sprawdzenie!Q84,grupy!#REF!,"<>") -> #REF! | U84: PP_14B | V84: =COUNTIFS(grupy!M:M,sprawdzenie!U84,grupy!#REF!,"<>") -> #REF!
Q85: CK_17A | R85: =COUNTIFS(grupy!K:K,sprawdzenie!Q85,grupy!#REF!,"<>") -> #REF! | U85: PP_14C | V85: =COUNTIFS(grupy!M:M,sprawdzenie!U85,grupy!#REF!,"<>") -> #REF!
Q86: CK_17B | R86: =COUNTIFS(grupy!K:K,sprawdzenie!Q86,grupy!#REF!,"<>") -> #REF! | U86: PP_14D | V86: =COUNTIFS(grupy!M:M,sprawdzenie!U86,grupy!#REF!,"<>") -> #REF!
Q87: CK_17C | R87: =COUNTIFS(grupy!K:K,sprawdzenie!Q87,grupy!#REF!,"<>") -> #REF! | U87: PP_14E | V87: =COUNTIFS(grupy!M:M,sprawdzenie!U87,grupy!#REF!,"<>") -> #REF!
Q88: CK_17D | R88: =COUNTIFS(grupy!K:K,sprawdzenie!Q88,grupy!#REF!,"<>") -> #REF! | U88: PP_14F | V88: =COUNTIFS(grupy!M:M,sprawdzenie!U88,grupy!#REF!,"<>") -> #REF!
Q89: CK_17E | R89: =COUNTIFS(grupy!K:K,sprawdzenie!Q89,grupy!#REF!,"<>") -> #REF! | U89: PP_15A | V89: =COUNTIFS(grupy!M:M,sprawdzenie!U89,grupy!#REF!,"<>") -> #REF!
Q90: CK_18A | R90: =COUNTIFS(grupy!K:K,sprawdzenie!Q90,grupy!#REF!,"<>") -> #REF! | U90: PP_15B | V90: =COUNTIFS(grupy!M:M,sprawdzenie!U90,grupy!#REF!,"<>") -> #REF!
Q91: CK_18B | R91: =COUNTIFS(grupy!K:K,sprawdzenie!Q91,grupy!#REF!,"<>") -> #REF! | U91: PP_15C | V91: =COUNTIFS(grupy!M:M,sprawdzenie!U91,grupy!#REF!,"<>") -> #REF!
Q92: CK_18C | R92: =COUNTIFS(grupy!K:K,sprawdzenie!Q92,grupy!#REF!,"<>") -> #REF! | U92: PP_15D | V92: =COUNTIFS(grupy!M:M,sprawdzenie!U92,grupy!#REF!,"<>") -> #REF!
Q93: CK_18D | R93: =COUNTIFS(grupy!K:K,sprawdzenie!Q93,grupy!#REF!,"<>") -> #REF! | U93: PP_15E | V93: =COUNTIFS(grupy!M:M,sprawdzenie!U93,grupy!#REF!,"<>") -> #REF!
... Q118: CK_5B | R118: =COUNTIFS(grupy!K:K,sprawdzenie!Q118,grupy!#REF!,"<>") -> #REF! | U118: PP_19F | V118: =COUNTIFS(grupy!M:M,sprawdzenie!U118,grupy!#REF!,"<>") -> #REF!
Q119: CK_5C | R119: =COUNTIFS(grupy!K:K,sprawdzenie!Q119,grupy!#REF!,"<>") -> #REF!
Q120: CK_5D | R120: =COUNTIFS(grupy!K:K,sprawdzenie!Q120,grupy!#REF!,"<>") -> #REF!
Q121: CK_5E | R121: =COUNTIFS(grupy!K:K,sprawdzenie!Q121,grupy!#REF!,"<>") -> #REF!
Q122: CK_6A | R122: =COUNTIFS(grupy!K:K,sprawdzenie!Q122,grupy!#REF!,"<>") -> #REF!
Q123: CK_6B | R123: =COUNTIFS(grupy!K:K,sprawdzenie!Q123,grupy!#REF!,"<>") -> #REF!
Q124: CK_6C | R124: =COUNTIFS(grupy!K:K,sprawdzenie!Q124,grupy!#REF!,"<>") -> #REF!
Q125: CK_6D | R125: =COUNTIFS(grupy!K:K,sprawdzenie!Q125,grupy!#REF!,"<>") -> #REF!
Q126: CK_6E | R126: =COUNTIFS(grupy!K:K,sprawdzenie!Q126,grupy!#REF!,"<>") -> #REF!
Q127: CK_7A | R127: =COUNTIFS(grupy!K:K,sprawdzenie!Q127,grupy!#REF!,"<>") -> #REF!
Q128: CK_7B | R128: =COUNTIFS(grupy!K:K,sprawdzenie!Q128,grupy!#REF!,"<>") -> #REF!
Q129: CK_7C | R129: =COUNTIFS(grupy!K:K,sprawdzenie!Q129,grupy!#REF!,"<>") -> #REF!
Q130: CK_7D | R130: =COUNTIFS(grupy!K:K,sprawdzenie!Q130,grupy!#REF!,"<>") -> #REF!
... Q141: CK_9E | R141: =COUNTIFS(grupy!K:K,sprawdzenie!Q141,grupy!#REF!,"<>") -> #REF!
