Workbook

Sheet Arkusz2
A1: SE | B1: CA | C1: CN | D1: CK | E1: CS | F1: LE | G1: WF | H1: CL
A2: 24 osoby | B2: 24 osoby | C2: 12 osób | D2: 6 osób | E2: 9 osób | F2: 24 osoby | G2: 24 osoby | H2: 9 osób
A3: 24 osoby Suma
A4: SE_1 | B4: CA_1 | C4: CN_1A | D4: CK_1A | E4: CS_1 | F4: LE_1 | G4: WF_1 | H4: CL_1
D5: CK_1B | E5: CS_1 | F5: LE_1 | G5: WF_1 | H5: CL_1
E6: CS_2 | F6: LE_1 | G6: WF_1 | H6: CL_2
C7: CN_1B | D7: CK_1C | E7: CS_2 | F7: LE_1 | G7: WF_1 | H7: CL_2
D8: CK_1D | E8: CS_3 | F8: LE_1 | G8: WF_1 | H8: CL_3
A9: SE_1 Suma
A10: SE_10 | B10: CA_10 | C10: CN_10A | D10: CK_10A | E10: CS_25 | F10: LE_10 | G10: WF_10 | H10: CL_25
D11: CK_10B | E11: CS_25 | F11: LE_10 | G11: WF_10 | H11: CL_25
E12: CS_26 | F12: LE_10 | G12: WF_10 | H12: CL_26
C13: CN_10B | D13: CK_10C | E13: CS_26 | F13: LE_10 | G13: WF_10 | H13: CL_26
D14: CK_10D | E14: CS_27 | F14: LE_10 | G14: WF_10 | H14: CL_27
A15: SE_10 Suma
A16: SE_11 | B16: CA_11 | C16: CN_11A | D16: CK_11A | E16: CS_27 | F16: LE_11 | G16: WF_11 | H16: CL_27
E17: CS_28 | F17: LE_11 | G17: WF_11 | H17: CL_28
D18: CK_11B | E18: CS_28 | F18: LE_11 | G18: WF_11 | H18: CL_28
C19: CN_11B | D19: CK_11C | E19: CS_29 | F19: LE_11 | G19: WF_11 | H19: CL_29
D20: CK_11D | E20: CS_29 | F20: LE_11 | G20: WF_11 | H20: CL_29
E21: CS_30 | F21: LE_11 | G21: WF_11 | H21: CL_30
A22: SE_11 Suma
A23: SE_12 | B23: CA_12 | C23: CN_12A | D23: CK_12A | E23: CS_30 | F23: LE_12 | G23: WF_12 | H23: CL_30
D24: CK_12B | E24: CS_31 | F24: LE_12 | G24: WF_12 | H24: CL_31
C25: CN_12B | D25: CK_12C | E25: CS_31 | F25: LE_12 | G25: WF_12 | H25: CL_31
E26: CS_32 | F26: LE_12 | G26: WF_12 | H26: CL_32
D27: CK_12D | E27: CS_32 | F27: LE_12 | G27: WF_12 | H27: CL_32
A28: SE_12 Suma
A29: SE_13 | B29: CA_13 | C29: CN_13A | D29: CK_13A | E29: CS_33 | F29: LE_13 | G29: WF_13 | H29: CL_33
D30: CK_13B | E30: CS_33 | F30: LE_13 | G30: WF_13 | H30: CL_33
E31: CS_34 | F31: LE_13 | G31: WF_13 | H31: CL_34
C32: CN_13B | D32: CK_13C | E32: CS_34 | F32: LE_13 | G32: WF_13 | H32: CL_34
D33: CK_13D | E33: CS_35 | F33: LE_13 | G33: WF_13 | H33: CL_35
A34: SE_13 Suma
A35: SE_14 | B35: CA_14 | C35: CN_14A | D35: CK_14A | E35: CS_35 | F35: LE_14 | G35: WF_14 | H35: CL_35
E36: CS_36 | F36: LE_14 | G36: WF_14 | H36: CL_36
D37: CK_14B | E37: CS_36 | F37: LE_14 | G37: WF_14 | H37: CL_36
C38: CN_14B | D38: CK_14C | E38: CS_37 | F38: LE_14 | G38: WF_14 | H38: CL_37
D39: CK_14D | E39: CS_37 | F39: LE_14 | G39: WF_14 | H39: CL_37
E40: CS_38 | F40: LE_14 | G40: WF_14 | H40: CL_38
...

Sheet grupy
D1: Podział na grupy, Ratownictwo Medyczne I st. 2 rok, 2026/2027
A2: LP | B2: Nr albumu | C2: WY | D2: CA | E2: CS | F2: CK | G2: LE | H2: CN | I2: CL
A3: 1 | B3: 24767 | C3: WY_1 | D3: CA_1 | E3: CS_1 | F3: CK_1 | G3: LE_1 | H3: CN_1 | I3: CL_1
A4: 2 | B4: 26599 | C4: WY_1 | D4: CA_1 | E4: CS_1 | F4: CK_1 | G4: LE_1 | H4: CN_1 | I4: CL_1
A5: 3 | B5: 24829 | C5: WY_1 | D5: CA_1 | E5: CS_1 | F5: CK_1 | G5: LE_1 | H5: CN_1 | I5: CL_1
A6: 4 | B6: 25673 | C6: WY_1 | D6: CA_1 | E6: CS_1 | F6: CK_1 | G6: LE_1 | H6: CN_1 | I6: CL_1
A7: 5 | B7: 25797 | C7: WY_1 | D7: CA_1 | E7: CS_1 | F7: CK_1 | G7: LE_1 | H7: CN_1 | I7: CL_1
A8: 6 | B8: 25774 | C8: WY_1 | D8: CA_1 | E8: CS_1 | F8: CK_1 | G8: LE_1 | H8: CN_1 | I8: CL_1
A9: 7 | B9: 26606 | C9: WY_1 | D9: CA_1 | E9: CS_1 | F9: CK_1 | G9: LE_1 | H9: CN_1 | I9: CL_1
A10: 8 | B10: 25935 | C10: WY_1 | D10: CA_1 | E10: CS_1 | F10: CK_1 | G10: LE_1 | H10: CN_1 | I10: CL_1
A11: 9 | B11: 24733 | C11: WY_1 | D11: CA_1 | E11: CS_2 | F11: CK_2 | G11: LE_1 | H11: CN_1 | I11: CL_1
A12: 10 | B12: 25833 | C12: WY_1 | D12: CA_1 | E12: CS_2 | F12: CK_2 | G12: LE_1 | H12: CN_1 | I12: CL_2
A13: 11 | B13: 25697 | C13: WY_1 | D13: CA_1 | E13: CS_2 | F13: CK_2 | G13: LE_1 | H13: CN_1 | I13: CL_2
A14: 12 | B14: 25974 | C14: WY_1 | D14: CA_1 | E14: CS_2 | F14: CK_2 | G14: LE_1 | H14: CN_1 | I14: CL_2
... A65: 63 | B65: 25271 | C65: WY_1 | D65: CA_3 | E65: CS_8 | F65: CK_8 | G65: LE_3 | H65: CN_5 | I65: CL_7

Sheet sprawdzenie
A1: mniejsza liczba studentów
A2: większa liczba studentów
A4: grupa | B4: liczba studentów | C4: grupa | D4: liczba studentów | E4: grupa | F4: liczba studentów | G4: grupa | H4: liczba studentów | I4: grupa (wysoka wierność) | J4: liczba studentów | K4: grupa (niska wierność) | L4: liczba studentów | M4: grupa | N4: liczba studentów | O4: grupa | P4: liczba studentów | Q4: grupa (V WL-S) | R4: liczba studentów | S4: grupa | T4: liczba studentów | U4: grupa (WNoZ wybrane) | V4: liczba studentów | W4: grupa | X4: liczba studentów | Y4: grupa | Z4: liczba studentów
A5: SE_1 | B5: =COUNTIFS(grupy!C:C,sprawdzenie!A5,grupy!#REF!,"<>") -> #REF! | C5: CA_1 | D5: =COUNTIFS(grupy!D:D,sprawdzenie!C5,grupy!#REF!,"<>") -> #REF! | E5: CN_1 | F5: =COUNTIFS(grupy!H:H,sprawdzenie!E5,grupy!#REF!,"<>") -> #REF! | G5: CS_1 | H5: =COUNTIFS(grupy!E:E,sprawdzenie!G5,grupy!#REF!,"<>") -> #REF! | I5: CS_1A | J5: =COUNTIFS([1]grupy!J:J,sprawdzenie!I5,[1]grupy!C:C,"<>") -> #VALUE! | K5: CS_1A | L5: =COUNTIFS([1]grupy!K:K,sprawdzenie!K5,[1]grupy!C:C,"<>") -> #VALUE! | M5: CL_1 | N5: =COUNTIFS(grupy!I:I,sprawdzenie!M5,grupy!#REF!,"<>") -> #REF! | O5: CK_1 | P5: =COUNTIFS(grupy!F:F,sprawdzenie!O5,grupy!#REF!,"<>") -> #REF! | Q5: CK_1A | R5: =COUNTIFS([1]grupy!N:N,sprawdzenie!Q5,[1]grupy!C:C,"<>") -> #VALUE! | S5: PP_1A | T5: =COUNTIFS([1]grupy!O:O,sprawdzenie!S5,[1]grupy!C:C,"<>") -> #VALUE! | U5: PP_1A | V5: =COUNTIFS([1]grupy!P:P,sprawdzenie!U5,[1]grupy!C:C,"<>") -> #VALUE! | W5: LE_1 | X5: =COUNTIFS(grupy!G:G,sprawdzenie!W5,grupy!#REF!,"<>") -> #REF! | Y5: WF_1 | Z5: =COUNTIFS(grupy!N:N,sprawdzenie!Y5,grupy!#REF!,"<>") -> #REF!
A6: SE_2 | B6: =COUNTIFS(grupy!C:C,sprawdzenie!A6,grupy!#REF!,"<>") -> #REF! | C6: CA_2 | D6: =COUNTIFS(grupy!D:D,sprawdzenie!C6,grupy!#REF!,"<>") -> #REF! | E6: CN_2 | F6: =COUNTIFS(grupy!H:H,sprawdzenie!E6,grupy!#REF!,"<>") -> #REF! | G6: CS_2 | H6: =COUNTIFS(grupy!E:E,sprawdzenie!G6,grupy!#REF!,"<>") -> #REF! | I6: CS_1B | J6: =COUNTIFS([1]grupy!J:J,sprawdzenie!I6,[1]grupy!C:C,"<>") -> #VALUE! | K6: CS_1B | L6: =COUNTIFS([1]grupy!K:K,sprawdzenie!K6,[1]grupy!C:C,"<>") -> #VALUE! | M6: CL_2 | N6: =COUNTIFS(grupy!I:I,sprawdzenie!M6,grupy!#REF!,"<>") -> #REF! | O6: CK_2 | P6: =COUNTIFS(grupy!F:F,sprawdzenie!O6,grupy!#REF!,"<>") -> #REF! | Q6: CK_1B | R6: =COUNTIFS([1]grupy!N:N,sprawdzenie!Q6,[1]grupy!C:C,"<>") -> #VALUE! | S6: PP_1B | T6: =COUNTIFS([1]grupy!O:O,sprawdzenie!S6,[1]grupy!C:C,"<>") -> #VALUE! | U6: PP_1B | V6: =COUNTIFS([1]grupy!P:P,sprawdzenie!U6,[1]grupy!C:C,"<>") -> #VALUE! | W6: LE_2 | X6: =COUNTIFS(grupy!G:G,sprawdzenie!W6,grupy!#REF!,"<>") -> #REF! | Y6: WF_2 | Z6: =COUNTIFS(grupy!N:N,sprawdzenie!Y6,grupy!#REF!,"<>") -> #REF!
A7: SE_3 | B7: =COUNTIFS(grupy!C:C,sprawdzenie!A7,grupy!#REF!,"<>") -> #REF! | C7: CA_3 | D7: =COUNTIFS(grupy!D:D,sprawdzenie!C7,grupy!#REF!,"<>") -> #REF! | E7: CN_3 | F7: =COUNTIFS(grupy!H:H,sprawdzenie!E7,grupy!#REF!,"<>") -> #REF! | G7: CS_3 | H7: =COUNTIFS(grupy!E:E,sprawdzenie!G7,grupy!#REF!,"<>") -> #REF! | I7: CS_1C | J7: =COUNTIFS([1]grupy!J:J,sprawdzenie!I7,[1]grupy!C:C,"<>") -> #VALUE! | K7: CS_2A | L7: =COUNTIFS([1]grupy!K:K,sprawdzenie!K7,[1]grupy!C:C,"<>") -> #VALUE! | M7: CL_3 | N7: =COUNTIFS(grupy!I:I,sprawdzenie!M7,grupy!#REF!,"<>") -> #REF! | O7: CK_3 | P7: =COUNTIFS(grupy!F:F,sprawdzenie!O7,grupy!#REF!,"<>") -> #REF! | Q7: CK_1C | R7: =COUNTIFS([1]grupy!N:N,sprawdzenie!Q7,[1]grupy!C:C,"<>") -> #VALUE! | S7: PP_1C | T7: =COUNTIFS([1]grupy!O:O,sprawdzenie!S7,[1]grupy!C:C,"<>") -> #VALUE! | U7: PP_1C | V7: =COUNTIFS([1]grupy!P:P,sprawdzenie!U7,[1]grupy!C:C,"<>") -> #VALUE! | W7: LE_3 | X7: =COUNTIFS(grupy!G:G,sprawdzenie!W7,grupy!#REF!,"<>") -> #REF! | Y7: WF_3 | Z7: =COUNTIFS(grupy!N:N,sprawdzenie!Y7,grupy!#REF!,"<>") -> #REF!
A8: SE_4 | B8: =COUNTIFS(grupy!C:C,sprawdzenie!A8,grupy!#REF!,"<>") -> #REF! | C8: CA_4 | D8: =COUNTIFS(grupy!D:D,sprawdzenie!C8,grupy!#REF!,"<>") -> #REF! | E8: CN_4 | F8: =COUNTIFS(grupy!H:H,sprawdzenie!E8,grupy!#REF!,"<>") -> #REF! | G8: CS_4 | H8: =COUNTIFS(grupy!E:E,sprawdzenie!G8,grupy!#REF!,"<>") -> #REF! | I8: CS_1D | J8: =COUNTIFS([1]grupy!J:J,sprawdzenie!I8,[1]grupy!C:C,"<>") -> #VALUE! | K8: CS_2B | L8: =COUNTIFS([1]grupy!K:K,sprawdzenie!K8,[1]grupy!C:C,"<>") -> #VALUE! | M8: CL_4 | N8: =COUNTIFS(grupy!I:I,sprawdzenie!M8,grupy!#REF!,"<>") -> #REF! | O8: CK_4 | P8: =COUNTIFS(grupy!F:F,sprawdzenie!O8,grupy!#REF!,"<>") -> #REF! | Q8: CK_1D | R8: =COUNTIFS([1]grupy!N:N,sprawdzenie!Q8,[1]grupy!C:C,"<>") -> #VALUE! | S8: PP_1D | T8: =COUNTIFS([1]grupy!O:O,sprawdzenie!S8,[1]grupy!C:C,"<>") -> #VALUE! | U8: PP_1D | V8: =COUNTIFS([1]grupy!P:P,sprawdzenie!U8,[1]grupy!C:C,"<>") -> #VALUE! | W8: LE_4 | X8: =COUNTIFS(grupy!G:G,sprawdzenie!W8,grupy!#REF!,"<>") -> #REF! | Y8: WF_4 | Z8: =COUNTIFS(grupy!N:N,sprawdzenie!Y8,grupy!#REF!,"<>") -> #REF!
A9: SE_5 | B9: =COUNTIFS(grupy!C:C,sprawdzenie!A9,grupy!#REF!,"<>") -> #REF! | C9: CA_5 | D9: =COUNTIFS(grupy!D:D,sprawdzenie!C9,grupy!#REF!,"<>") -> #REF! | E9: CN_5 | F9: =COUNTIFS(grupy!H:H,sprawdzenie!E9,grupy!#REF!,"<>") -> #REF! | G9: CS_5 | H9: =COUNTIFS(grupy!E:E,sprawdzenie!G9,grupy!#REF!,"<>") -> #REF! | I9: CS_2A | J9: =COUNTIFS([1]grupy!J:J,sprawdzenie!I9,[1]grupy!C:C,"<>") -> #VALUE! | K9: CS_3A | L9: =COUNTIFS([1]grupy!K:K,sprawdzenie!K9,[1]grupy!C:C,"<>") -> #VALUE! | M9: CL_5 | N9: =COUNTIFS(grupy!I:I,sprawdzenie!M9,grupy!#REF!,"<>") -> #REF! | O9: CK_5 | P9: =COUNTIFS(grupy!F:F,sprawdzenie!O9,grupy!#REF!,"<>") -> #REF! | Q9: CK_1E | R9: =COUNTIFS([1]grupy!N:N,sprawdzenie!Q9,[1]grupy!C:C,"<>") -> #VALUE! | S9: PP_2A | T9: =COUNTIFS([1]grupy!O:O,sprawdzenie!S9,[1]grupy!C:C,"<>") -> #VALUE! | U9: PP_1E | V9: =COUNTIFS([1]grupy!P:P,sprawdzenie!U9,[1]grupy!C:C,"<>") -> #VALUE! | W9: LE_5 | X9: =COUNTIFS(grupy!G:G,sprawdzenie!W9,grupy!#REF!,"<>") -> #REF! | Y9: WF_5 | Z9: =COUNTIFS(grupy!N:N,sprawdzenie!Y9,grupy!#REF!,"<>") -> #REF!
A10: SE_6 | B10: =COUNTIFS(grupy!C:C,sprawdzenie!A10,grupy!#REF!,"<>") -> #REF! | C10: CA_6 | D10: =COUNTIFS(grupy!D:D,sprawdzenie!C10,grupy!#REF!,"<>") -> #REF! | E10: CN_6 | F10: =COUNTIFS(grupy!H:H,sprawdzenie!E10,grupy!#REF!,"<>") -> #REF! | G10: CS_6 | H10: =COUNTIFS(grupy!E:E,sprawdzenie!G10,grupy!#REF!,"<>") -> #REF! | I10: CS_2B | J10: =COUNTIFS([1]grupy!J:J,sprawdzenie!I10,[1]grupy!C:C,"<>") -> #VALUE! | K10: CS_3B | L10: =COUNTIFS([1]grupy!K:K,sprawdzenie!K10,[1]grupy!C:C,"<>") -> #VALUE! | M10: CL_6 | N10: =COUNTIFS(grupy!I:I,sprawdzenie!M10,grupy!#REF!,"<>") -> #REF! | O10: CK_6 | P10: =COUNTIFS(grupy!F:F,sprawdzenie!O10,grupy!#REF!,"<>") -> #REF! | Q10: CK_2A | R10: =COUNTIFS([1]grupy!N:N,sprawdzenie!Q10,[1]grupy!C:C,"<>") -> #VALUE! | S10: PP_2B | T10: =COUNTIFS([1]grupy!O:O,sprawdzenie!S10,[1]grupy!C:C,"<>") -> #VALUE! | U10: PP_1F | V10: =COUNTIFS([1]grupy!P:P,sprawdzenie!U10,[1]grupy!C:C,"<>") -> #VALUE! | W10: LE_6 | X10: =COUNTIFS(grupy!G:G,sprawdzenie!W10,grupy!#REF!,"<>") -> #REF! | Y10: WF_6 | Z10: =COUNTIFS(grupy!N:N,sprawdzenie!Y10,grupy!#REF!,"<>") -> #REF!
A11: SE_7 | B11: =COUNTIFS(grupy!C:C,sprawdzenie!A11,grupy!#REF!,"<>") -> #REF! | C11: CA_7 | D11: =COUNTIFS(grupy!D:D,sprawdzenie!C11,grupy!#REF!,"<>") -> #REF! | E11: CN_7 | F11: =COUNTIFS(grupy!H:H,sprawdzenie!E11,grupy!#REF!,"<>") -> #REF! | G11: CS_7 | H11: =COUNTIFS(grupy!E:E,sprawdzenie!G11,grupy!#REF!,"<>") -> #REF! | I11: CS_2C | J11: =COUNTIFS([1]grupy!J:J,sprawdzenie!I11,[1]grupy!C:C,"<>") -> #VALUE! | K11: CS_4A | L11: =COUNTIFS([1]grupy!K:K,sprawdzenie!K11,[1]grupy!C:C,"<>") -> #VALUE! | M11: CL_7 | N11: =COUNTIFS(grupy!I:I,sprawdzenie!M11,grupy!#REF!,"<>") -> #REF! | O11: CK_7 | P11: =COUNTIFS(grupy!F:F,sprawdzenie!O11,grupy!#REF!,"<>") -> #REF! | Q11: CK_2B | R11: =COUNTIFS([1]grupy!N:N,sprawdzenie!Q11,[1]grupy!C:C,"<>") -> #VALUE! | S11: PP_2C | T11: =COUNTIFS([1]grupy!O:O,sprawdzenie!S11,[1]grupy!C:C,"<>") -> #VALUE! | U11: PP_2A | V11: =COUNTIFS([1]grupy!P:P,sprawdzenie!U11,[1]grupy!C:C,"<>") -> #VALUE! | W11: LE_7 | X11: =COUNTIFS(grupy!G:G,sprawdzenie!W11,grupy!#REF!,"<>") -> #REF! | Y11: WF_7 | Z11: =COUNTIFS(grupy!N:N,sprawdzenie!Y11,grupy!#REF!,"<>") -> #REF!
A12: SE_8 | B12: =COUNTIFS(grupy!C:C,sprawdzenie!A12,grupy!#REF!,"<>") -> #REF! | C12: CA_8 | D12: =COUNTIFS(grupy!D:D,sprawdzenie!C12,grupy!#REF!,"<>") -> #REF! | E12: CN_8 | F12: =COUNTIFS(grupy!H:H,sprawdzenie!E12,grupy!#REF!,"<>") -> #REF! | G12: CS_8 | H12: =COUNTIFS(grupy!E:E,sprawdzenie!G12,grupy!#REF!,"<>") -> #REF! | I12: CS_2D | J12: =COUNTIFS([1]grupy!J:J,sprawdzenie!I12,[1]grupy!C:C,"<>") -> #VALUE! | K12: CS_4B | L12: =COUNTIFS([1]grupy!K:K,sprawdzenie!K12,[1]grupy!C:C,"<>") -> #VALUE! | M12: CL_8 | N12: =COUNTIFS(grupy!I:I,sprawdzenie!M12,grupy!#REF!,"<>") -> #REF! | O12: CK_8 | P12: =COUNTIFS(grupy!F:F,sprawdzenie!O12,grupy!#REF!,"<>") -> #REF! | Q12: CK_2C | R12: =COUNTIFS([1]grupy!N:N,sprawdzenie!Q12,[1]grupy!C:C,"<>") -> #VALUE! | S12: PP_2D | T12: =COUNTIFS([1]grupy!O:O,sprawdzenie!S12,[1]grupy!C:C,"<>") -> #VALUE! | U12: PP_2B | V12: =COUNTIFS([1]grupy!P:P,sprawdzenie!U12,[1]grupy!C:C,"<>") -> #VALUE! | W12: LE_8 | X12: =COUNTIFS(grupy!G:G,sprawdzenie!W12,grupy!#REF!,"<>") -> #REF! | Y12: WF_8 | Z12: =COUNTIFS(grupy!N:N,sprawdzenie!Y12,grupy!#REF!,"<>") -> #REF!
A13: SE_9 | B13: =COUNTIFS(grupy!C:C,sprawdzenie!A13,grupy!#REF!,"<>") -> #REF! | C13: CA_9 | D13: =COUNTIFS(grupy!D:D,sprawdzenie!C13,grupy!#REF!,"<>") -> #REF! | E13: CN_9 | F13: =COUNTIFS(grupy!H:H,sprawdzenie!E13,grupy!#REF!,"<>") -> #REF! | G13: CS_9 | H13: =COUNTIFS(grupy!E:E,sprawdzenie!G13,grupy!#REF!,"<>") -> #REF! | I13: CS_3A | J13: =COUNTIFS([1]grupy!J:J,sprawdzenie!I13,[1]grupy!C:C,"<>") -> #VALUE! | K13: CS_5A | L13: =COUNTIFS([1]grupy!K:K,sprawdzenie!K13,[1]grupy!C:C,"<>") -> #VALUE! | M13: CL_9 | N13: =COUNTIFS(grupy!I:I,sprawdzenie!M13,grupy!#REF!,"<>") -> #REF! | O13: CK_9 | P13: =COUNTIFS(grupy!F:F,sprawdzenie!O13,grupy!#REF!,"<>") -> #REF! | Q13: CK_2D | R13: =COUNTIFS([1]grupy!N:N,sprawdzenie!Q13,[1]grupy!C:C,"<>") -> #VALUE! | S13: PP_3A | T13: =COUNTIFS([1]grupy!O:O,sprawdzenie!S13,[1]grupy!C:C,"<>") -> #VALUE! | U13: PP_2C | V13: =COUNTIFS([1]grupy!P:P,sprawdzenie!U13,[1]grupy!C:C,"<>") -> #VALUE! | W13: LE_9 | X13: =COUNTIFS(grupy!G:G,sprawdzenie!W13,grupy!#REF!,"<>") -> #REF! | Y13: WF_9 | Z13: =COUNTIFS(grupy!N:N,sprawdzenie!Y13,grupy!#REF!,"<>") -> #REF!
A14: SE_10 | B14: =COUNTIFS(grupy!C:C,sprawdzenie!A14,grupy!#REF!,"<>") -> #REF! | C14: CA_10 | D14: =COUNTIFS(grupy!D:D,sprawdzenie!C14,grupy!#REF!,"<>") -> #REF! | E14: CN_10 | F14: =COUNTIFS(grupy!H:H,sprawdzenie!E14,grupy!#REF!,"<>") -> #REF! | G14: CS_10 | H14: =COUNTIFS(grupy!E:E,sprawdzenie!G14,grupy!#REF!,"<>") -> #REF! | I14: CS_3B | J14: =COUNTIFS([1]grupy!J:J,sprawdzenie!I14,[1]grupy!C:C,"<>") -> #VALUE! | K14: CS_5B | L14: =COUNTIFS([1]grupy!K:K,sprawdzenie!K14,[1]grupy!C:C,"<>") -> #VALUE! | M14: CL_10 | N14: =COUNTIFS(grupy!I:I,sprawdzenie!M14,grupy!#REF!,"<>") -> #REF! | O14: CK_10 | P14: =COUNTIFS(grupy!F:F,sprawdzenie!O14,grupy!#REF!,"<>") -> #REF! | Q14: CK_2E | R14: =COUNTIFS([1]grupy!N:N,sprawdzenie!Q14,[1]grupy!C:C,"<>") -> #VALUE! | S14: PP_3B | T14: =COUNTIFS([1]grupy!O:O,sprawdzenie!S14,[1]grupy!C:C,"<>") -> #VALUE! | U14: PP_2D | V14: =COUNTIFS([1]grupy!P:P,sprawdzenie!U14,[1]grupy!C:C,"<>") -> #VALUE! | W14: LE_10 | X14: =COUNTIFS(grupy!G:G,sprawdzenie!W14,grupy!#REF!,"<>") -> #REF! | Y14: WF_10 | Z14: =COUNTIFS(grupy!N:N,sprawdzenie!Y14,grupy!#REF!,"<>") -> #REF!
A15: SE_11 | B15: =COUNTIFS(grupy!C:C,sprawdzenie!A15,grupy!#REF!,"<>") -> #REF! | C15: CA_11 | D15: =COUNTIFS(grupy!D:D,sprawdzenie!C15,grupy!#REF!,"<>") -> #REF! | E15: CN_11 | F15: =COUNTIFS(grupy!H:H,sprawdzenie!E15,grupy!#REF!,"<>") -> #REF! | G15: CS_11 | H15: =COUNTIFS(grupy!E:E,sprawdzenie!G15,grupy!#REF!,"<>") -> #REF! | I15: CS_3C | J15: =COUNTIFS([1]grupy!J:J,sprawdzenie!I15,[1]grupy!C:C,"<>") -> #VALUE! | K15: CS_6A | L15: =COUNTIFS([1]grupy!K:K,sprawdzenie!K15,[1]grupy!C:C,"<>") -> #VALUE! | M15: CL_11 | N15: =COUNTIFS(grupy!I:I,sprawdzenie!M15,grupy!#REF!,"<>") -> #REF! | O15: CK_11 | P15: =COUNTIFS(grupy!F:F,sprawdzenie!O15,grupy!#REF!,"<>") -> #REF! | Q15: CK_3A | R15: =COUNTIFS([1]grupy!N:N,sprawdzenie!Q15,[1]grupy!C:C,"<>") -> #VALUE! | S15: PP_3C | T15: =COUNTIFS([1]grupy!O:O,sprawdzenie!S15,[1]grupy!C:C,"<>") -> #VALUE! | U15: PP_2E | V15: =COUNTIFS([1]grupy!P:P,sprawdzenie!U15,[1]grupy!C:C,"<>") -> #VALUE! | W15: LE_11 | X15: =COUNTIFS(grupy!G:G,sprawdzenie!W15,grupy!#REF!,"<>") -> #REF! | Y15: WF_11 | Z15: =COUNTIFS(grupy!N:N,sprawdzenie!Y15,grupy!#REF!,"<>") -> #REF!
A16: SE_12 | B16: =COUNTIFS(grupy!C:C,sprawdzenie!A16,grupy!#REF!,"<>") -> #REF! | C16: CA_12 | D16: =COUNTIFS(grupy!D:D,sprawdzenie!C16,grupy!#REF!,"<>") -> #REF! | E16: CN_12 | F16: =COUNTIFS(grupy!H:H,sprawdzenie!E16,grupy!#REF!,"<>") -> #REF! | G16: CS_12 | H16: =COUNTIFS(grupy!E:E,sprawdzenie!G16,grupy!#REF!,"<>") -> #REF! | I16: CS_3D | J16: =COUNTIFS([1]grupy!J:J,sprawdzenie!I16,[1]grupy!C:C,"<>") -> #VALUE! | K16: CS_6B | L16: =COUNTIFS([1]grupy!K:K,sprawdzenie!K16,[1]grupy!C:C,"<>") -> #VALUE! | M16: CL_12 | N16: =COUNTIFS(grupy!I:I,sprawdzenie!M16,grupy!#REF!,"<>") -> #REF! | O16: CK_12 | P16: =COUNTIFS(grupy!F:F,sprawdzenie!O16,grupy!#REF!,"<>") -> #REF! | Q16: CK_3B | R16: =COUNTIFS([1]grupy!N:N,sprawdzenie!Q16,[1]grupy!C:C,"<>") -> #VALUE! | S16: PP_3D | T16: =COUNTIFS([1]grupy!O:O,sprawdzenie!S16,[1]grupy!C:C,"<>") -> #VALUE! | U16: PP_2F | V16: =COUNTIFS([1]grupy!P:P,sprawdzenie!U16,[1]grupy!C:C,"<>") -> #VALUE! | W16: LE_12 | X16: =COUNTIFS(grupy!G:G,sprawdzenie!W16,grupy!#REF!,"<>") -> #REF! | Y16: WF_12 | Z16: =COUNTIFS(grupy!N:N,sprawdzenie!Y16,grupy!#REF!,"<>") -> #REF!
... A23: SE_19 | B23: =COUNTIFS(grupy!C:C,sprawdzenie!A23,grupy!#REF!,"<>") -> #REF! | C23: CA_19 | D23: =COUNTIFS(grupy!D:D,sprawdzenie!C23,grupy!#REF!,"<>") -> #REF! | E23: CN_19 | F23: =COUNTIFS(grupy!H:H,sprawdzenie!E23,grupy!#REF!,"<>") -> #REF! | G23: CS_19 | H23: =COUNTIFS(grupy!E:E,sprawdzenie!G23,grupy!#REF!,"<>") -> #REF! | I23: CS_5C | J23: =COUNTIFS([1]grupy!J:J,sprawdzenie!I23,[1]grupy!C:C,"<>") -> #VALUE! | K23: CS_10A | L23: =COUNTIFS([1]grupy!K:K,sprawdzenie!K23,[1]grupy!C:C,"<>") -> #VALUE! | M23: CL_19 | N23: =COUNTIFS(grupy!I:I,sprawdzenie!M23,grupy!#REF!,"<>") -> #REF! | O23: CK_19 | P23: =COUNTIFS(grupy!F:F,sprawdzenie!O23,grupy!#REF!,"<>") -> #REF! | Q23: CK_4D | R23: =COUNTIFS([1]grupy!N:N,sprawdzenie!Q23,[1]grupy!C:C,"<>") -> #VALUE! | S23: PP_5C | T23: =COUNTIFS([1]grupy!O:O,sprawdzenie!S23,[1]grupy!C:C,"<>") -> #VALUE! | U23: PP_4A | V23: =COUNTIFS([1]grupy!P:P,sprawdzenie!U23,[1]grupy!C:C,"<>") -> #VALUE! | W23: LE_19 | X23: =COUNTIFS(grupy!G:G,sprawdzenie!W23,grupy!#REF!,"<>") -> #REF! | Y23: WF_19 | Z23: =COUNTIFS(grupy!N:N,sprawdzenie!Y23,grupy!#REF!,"<>") -> #REF!
B24: =SUM(B5:B23) -> #REF! | D24: =SUM(D5:D23) -> #REF! | E24: CN_20 | F24: =COUNTIFS(grupy!H:H,sprawdzenie!E24,grupy!#REF!,"<>") -> #REF! | G24: CS_20 | H24: =COUNTIFS(grupy!E:E,sprawdzenie!G24,grupy!#REF!,"<>") -> #REF! | I24: CS_5D | J24: =COUNTIFS([1]grupy!J:J,sprawdzenie!I24,[1]grupy!C:C,"<>") -> #VALUE! | K24: CS_10B | L24: =COUNTIFS([1]grupy!K:K,sprawdzenie!K24,[1]grupy!C:C,"<>") -> #VALUE! | M24: CL_20 | N24: =COUNTIFS(grupy!I:I,sprawdzenie!M24,grupy!#REF!,"<>") -> #REF! | O24: CK_20 | P24: =COUNTIFS(grupy!F:F,sprawdzenie!O24,grupy!#REF!,"<>") -> #REF! | Q24: CK_4E | R24: =COUNTIFS([1]grupy!N:N,sprawdzenie!Q24,[1]grupy!C:C,"<>") -> #VALUE! | S24: PP_5D | T24: =COUNTIFS([1]grupy!O:O,sprawdzenie!S24,[1]grupy!C:C,"<>") -> #VALUE! | U24: PP_4B | V24: =COUNTIFS([1]grupy!P:P,sprawdzenie!U24,[1]grupy!C:C,"<>") -> #VALUE! | X24: =SUM(X5:X23) -> #REF! | Z24: =SUM(Z5:Z23) -> #REF!
