Workbook

Sheet Arkusz2
A1: SE | B1: CA | C1: CN | D1: CS | E1: LE | F1: WF | G1: CK
A2: 24 osoby
A3: SE_1 | B3: CA_1 | C3: CN_1A | D3: CS_1 | E3: LE_1 | F3: WF_1 | G3: CK_1A
G4: CK_1B
D5: CS_2 | E5: LE_1 | F5: WF_1 | G5: CK_1B
C6: CN_1B | D6: CS_2 | E6: LE_1 | F6: WF_1 | G6: CK_1C
D7: CS_3 | E7: LE_1 | F7: WF_1 | G7: CK_1D
A8: SE_1 Suma
A9: SE_10 | B9: CA_10 | C9: CN_10A | D9: CS_25 | E9: LE_10 | F9: WF_10 | G9: CK_10A
G10: CK_10B
D11: CS_26 | E11: LE_10 | F11: WF_10 | G11: CK_10B
C12: CN_10B | D12: CS_26 | E12: LE_10 | F12: WF_10 | G12: CK_10C
D13: CS_27 | E13: LE_10 | F13: WF_10 | G13: CK_10D
A14: SE_10 Suma
A15: SE_11 | B15: CA_11 | C15: CN_11A | D15: CS_27 | E15: LE_11 | F15: WF_11 | G15: CK_11A
D16: CS_28 | E16: LE_11 | F16: WF_11 | G16: CK_11A
G17: CK_11B
C18: CN_11B | D18: CS_29 | E18: LE_11 | F18: WF_11 | G18: CK_11C
G19: CK_11D
D20: CS_30 | E20: LE_11 | F20: WF_11 | G20: CK_11D
A21: SE_11 Suma
A22: SE_12 | B22: CA_12 | C22: CN_12A | D22: CS_30 | E22: LE_12 | F22: WF_12 | G22: CK_12A
D23: CS_31 | E23: LE_12 | F23: WF_12 | G23: CK_12B
C24: CN_12B | D24: CS_31 | E24: LE_12 | F24: WF_12 | G24: CK_12C
D25: CS_32 | E25: LE_12 | F25: WF_12 | G25: CK_12C
G26: CK_12D
A27: SE_12 Suma
A28: SE_13 | B28: CA_13 | C28: CN_13A | D28: CS_33 | E28: LE_13 | F28: WF_13 | G28: CK_13A
G29: CK_13B
D30: CS_34 | E30: LE_13 | F30: WF_13 | G30: CK_13B
C31: CN_13B | D31: CS_34 | E31: LE_13 | F31: WF_13 | G31: CK_13C
D32: CS_35 | E32: LE_13 | F32: WF_13 | G32: CK_13D
A33: SE_13 Suma
A34: SE_14 | B34: CA_14 | C34: CN_14A | D34: CS_35 | E34: LE_14 | F34: WF_14 | G34: CK_14A
D35: CS_36 | E35: LE_14 | F35: WF_14 | G35: CK_14A
G36: CK_14B
C37: CN_14B | D37: CS_37 | E37: LE_14 | F37: WF_14 | G37: CK_14C
G38: CK_14D
D39: CS_38 | E39: LE_14 | F39: WF_14 | G39: CK_14D
A40: SE_14 Suma
...

Sheet grupy
B1: Położnictwo I st. 1 rok, podział na grupy, zima, 2026-2027
A2: LP | B2: Nr albumu | C2: WY | D2: CA | E2: CN | F2: CS | G2: LE
A3: 1 | B3: 28219 | C3: WY_1 | D3: CA_1 | E3: CN_1 | F3: CS_1 | G3: LE_1
A4: 2 | B4: 29201 | C4: WY_1 | D4: CA_1 | E4: CN_1 | F4: CS_1 | G4: LE_1
A5: 3 | B5: 27827 | C5: WY_1 | D5: CA_1 | E5: CN_1 | F5: CS_1 | G5: LE_1
A6: 4 | B6: 27575 | C6: WY_1 | D6: CA_1 | E6: CN_1 | F6: CS_1 | G6: LE_1
A7: 5 | B7: 27215 | C7: WY_1 | D7: CA_1 | E7: CN_1 | F7: CS_1 | G7: LE_1
A8: 6 | B8: 27951 | C8: WY_1 | D8: CA_1 | E8: CN_1 | F8: CS_1 | G8: LE_1
A9: 7 | B9: 28075 | C9: WY_1 | D9: CA_1 | E9: CN_1 | F9: CS_1 | G9: LE_1
A10: 8 | B10: 29198 | C10: WY_1 | D10: CA_1 | E10: CN_1 | F10: CS_1 | G10: LE_1
A11: 9 | B11: 25901 | C11: WY_1 | D11: CA_1 | E11: CN_1 | F11: CS_1 | G11: LE_1
A12: 10 | B12: 27624 | C12: WY_1 | D12: CA_1 | E12: CN_1 | F12: CS_1 | G12: LE_1
A13: 11 | B13: 27174 | C13: WY_1 | D13: CA_1 | E13: CN_1 | F13: CS_2 | G13: LE_1
A14: 12 | B14: 25315 | C14: WY_1 | D14: CA_1 | E14: CN_1 | F14: CS_2 | G14: LE_1
... A36: 34 | B36: 26239 | C36: WY_1 | D36: CA_2 | E36: CN_3 | F36: CS_4 | G36: LE_2
A37: 35 | B37: 48789 | C37: WY_1 | D37: CA_2 | E37: CN_3 | F37: CS_4 | G37: LE_2
A38: 36 | B38: 27783 | C38: WY_1 | D38: CA_2 | E38: CN_3 | F38: CS_4 | G38: LE_2
A39: 37 | B39: 27645 | C39: WY_1 | D39: CA_2 | E39: CN_3 | F39: CS_5 | G39: LE_2
A40: 38 | B40: 27728 | C40: WY_1 | D40: CA_2 | E40: CN_4 | F40: CS_5 | G40: LE_2
A41: 39 | B41: 28202 | C41: WY_1 | D41: CA_2 | E41: CN_4 | F41: CS_5 | G41: LE_2
A42: 40 | B42: 18472 | C42: WY_1 | D42: CA_2 | E42: CN_4 | F42: CS_5 | G42: LE_2
A43: 41 | B43: 27949 | C43: WY_1 | D43: CA_2 | E43: CN_4 | F43: CS_5 | G43: LE_2
A44: 42 | B44: 27770 | C44: WY_1 | D44: CA_2 | E44: CN_4 | F44: CS_5 | G44: LE_3
A45: 43 | B45: 28124 | C45: WY_1 | D45: CA_2 | E45: CN_4 | F45: CS_5 | G45: LE_2
A46: 44 | B46: 29205 | C46: WY_1 | D46: CA_2 | E46: CN_4 | F46: CS_5 | G46: LE_2
A47: 45 | B47: 27628 | C47: WY_1 | D47: CA_2 | E47: CN_4 | F47: CS_5 | G47: LE_2
A48: 46 | B48: 16508 | C48: WY_1 | D48: CA_2 | E48: CN_4 | F48: CS_6 | G48: LE_2
A49: 47 | B49: 28034 | C49: WY_1 | D49: CA_2 | E49: CN_4 | F49: CS_6 | G49: LE_2
A50: 48 | B50: 27057 | C50: WY_1 | D50: CA_2 | E50: CN_4 | F50: CS_6 | G50: LE_2
A51: 49 | B51: 27759 | C51: WY_1 | D51: CA_2 | E51: CN_4 | F51: CS_6 | G51: LE_3
A52: 50 | B52: 27811 | C52: WY_1 | D52: CA_2 | E52: CN_5 | F52: CS_6 | G52: LE_3
A53: 51 | B53: 28451 | C53: WY_1 | D53: CA_2 | E53: CN_5 | F53: CS_6 | G53: LE_3
A54: 52 | B54: 27106 | C54: WY_1 | D54: CA_2 | E54: CN_5 | F54: CS_6 | G54: LE_3
A55: 53 | B55: 27076 | C55: WY_1 | D55: CA_2 | E55: CN_5 | F55: CS_6 | G55: LE_3
A56: 54 | B56: 27147 | C56: WY_1 | D56: CA_2 | E56: CN_5 | F56: CS_6 | G56: LE_3
A57: 55 | B57: 27944 | C57: WY_1 | D57: CA_2 | E57: CN_5 | F57: CS_7 | G57: LE_3
A58: 56 | B58: 23298 | C58: WY_1 | D58: CA_2 | E58: CN_5 | F58: CS_7 | G58: LE_3
A59: 57 | B59: 28853 | C59: WY_1 | D59: CA_2 | E59: CN_5 | F59: CS_7 | G59: LE_3
A60: 58 | B60: 27532 | C60: WY_1 | D60: CA_2 | E60: CN_5 | F60: CS_7 | G60: LE_3
A61: 59 | B61: 28070 | C61: WY_1 | D61: CA_2 | E61: CN_5 | F61: CS_7 | G61: LE_3
...

Sheet sprawdzenie
A1: mniejsza liczba studentów
A2: większa liczba studentów
A4: grupa | B4: liczba studentów | C4: grupa | D4: liczba studentów | E4: grupa | F4: liczba studentów | G4: grupa | H4: liczba studentów | I4: grupa (wysoka wierność) | J4: liczba studentów | K4: grupa (niska wierność) | L4: liczba studentów | M4: grupa | N4: liczba studentów | O4: grupa | P4: liczba studentów | Q4: grupa (V WL-S) | R4: liczba studentów | S4: grupa | T4: liczba studentów | U4: grupa (WP wybrane) | V4: liczba studentów | W4: grupa | X4: liczba studentów | Y4: grupa | Z4: liczba studentów
A5: SE_1 | B5: =COUNTIFS(grupy!C:C,sprawdzenie!A5,grupy!#REF!,"<>") -> #REF! | C5: CA_1 | D5: =COUNTIFS(grupy!D:D,sprawdzenie!C5,grupy!#REF!,"<>") -> #REF! | E5: CN_1 | F5: =COUNTIFS(grupy!E:E,sprawdzenie!E5,grupy!#REF!,"<>") -> #REF! | G5: CS_1 | H5: =COUNTIFS(grupy!F:F,sprawdzenie!G5,grupy!#REF!,"<>") -> #REF! | I5: CS_1A | J5: =COUNTIFS(grupy!#REF!,sprawdzenie!I5,grupy!#REF!,"<>") -> #REF! | K5: CS_1A | L5: =COUNTIFS(grupy!#REF!,sprawdzenie!K5,grupy!#REF!,"<>") -> #REF! | M5: CL_1 | N5: =COUNTIFS(grupy!#REF!,sprawdzenie!M5,grupy!#REF!,"<>") -> #REF! | O5: CK_1 | P5: =COUNTIFS(grupy!#REF!,sprawdzenie!O5,grupy!#REF!,"<>") -> #REF! | Q5: CK_1A | R5: =COUNTIFS(grupy!#REF!,sprawdzenie!Q5,grupy!#REF!,"<>") -> #REF! | S5: PP_1 | T5: =COUNTIFS(grupy!#REF!,sprawdzenie!S5,grupy!#REF!,"<>") -> #REF! | U5: PP_I | V5: =COUNTIFS(grupy!#REF!,sprawdzenie!U5,grupy!#REF!,"<>") -> #REF! | W5: LE_1 | X5: =COUNTIFS(grupy!G:G,sprawdzenie!W5,grupy!#REF!,"<>") -> #REF! | Y5: WF_1 | Z5: =COUNTIFS(grupy!#REF!,sprawdzenie!Y5,grupy!#REF!,"<>") -> #REF!
A6: SE_2 | B6: =COUNTIFS(grupy!C:C,sprawdzenie!A6,grupy!#REF!,"<>") -> #REF! | C6: CA_2 | D6: =COUNTIFS(grupy!D:D,sprawdzenie!C6,grupy!#REF!,"<>") -> #REF! | E6: CN_2 | F6: =COUNTIFS(grupy!E:E,sprawdzenie!E6,grupy!#REF!,"<>") -> #REF! | G6: CS_2 | H6: =COUNTIFS(grupy!F:F,sprawdzenie!G6,grupy!#REF!,"<>") -> #REF! | I6: CS_1B | J6: =COUNTIFS(grupy!#REF!,sprawdzenie!I6,grupy!#REF!,"<>") -> #REF! | K6: CS_1B | L6: =COUNTIFS(grupy!#REF!,sprawdzenie!K6,grupy!#REF!,"<>") -> #REF! | M6: CL_2 | N6: =COUNTIFS(grupy!#REF!,sprawdzenie!M6,grupy!#REF!,"<>") -> #REF! | O6: CK_2 | P6: =COUNTIFS(grupy!#REF!,sprawdzenie!O6,grupy!#REF!,"<>") -> #REF! | Q6: CK_1B | R6: =COUNTIFS(grupy!#REF!,sprawdzenie!Q6,grupy!#REF!,"<>") -> #REF! | S6: PP_2 | T6: =COUNTIFS(grupy!#REF!,sprawdzenie!S6,grupy!#REF!,"<>") -> #REF! | U6: PP_II | V6: =COUNTIFS(grupy!#REF!,sprawdzenie!U6,grupy!#REF!,"<>") -> #REF! | W6: LE_2 | X6: =COUNTIFS(grupy!G:G,sprawdzenie!W6,grupy!#REF!,"<>") -> #REF! | Y6: WF_2 | Z6: =COUNTIFS(grupy!#REF!,sprawdzenie!Y6,grupy!#REF!,"<>") -> #REF!
A7: SE_3 | B7: =COUNTIFS(grupy!C:C,sprawdzenie!A7,grupy!#REF!,"<>") -> #REF! | C7: CA_3 | D7: =COUNTIFS(grupy!D:D,sprawdzenie!C7,grupy!#REF!,"<>") -> #REF! | E7: CN_3 | F7: =COUNTIFS(grupy!E:E,sprawdzenie!E7,grupy!#REF!,"<>") -> #REF! | G7: CS_3 | H7: =COUNTIFS(grupy!F:F,sprawdzenie!G7,grupy!#REF!,"<>") -> #REF! | I7: CS_1C | J7: =COUNTIFS(grupy!#REF!,sprawdzenie!I7,grupy!#REF!,"<>") -> #REF! | K7: CS_2A | L7: =COUNTIFS(grupy!#REF!,sprawdzenie!K7,grupy!#REF!,"<>") -> #REF! | M7: CL_3 | N7: =COUNTIFS(grupy!#REF!,sprawdzenie!M7,grupy!#REF!,"<>") -> #REF! | O7: CK_3 | P7: =COUNTIFS(grupy!#REF!,sprawdzenie!O7,grupy!#REF!,"<>") -> #REF! | Q7: CK_1C | R7: =COUNTIFS(grupy!#REF!,sprawdzenie!Q7,grupy!#REF!,"<>") -> #REF! | S7: PP_3 | T7: =COUNTIFS(grupy!#REF!,sprawdzenie!S7,grupy!#REF!,"<>") -> #REF! | U7: PP_III | V7: =COUNTIFS(grupy!#REF!,sprawdzenie!U7,grupy!#REF!,"<>") -> #REF! | W7: LE_3 | X7: =COUNTIFS(grupy!G:G,sprawdzenie!W7,grupy!#REF!,"<>") -> #REF! | Y7: WF_3 | Z7: =COUNTIFS(grupy!#REF!,sprawdzenie!Y7,grupy!#REF!,"<>") -> #REF!
A8: SE_4 | B8: =COUNTIFS(grupy!C:C,sprawdzenie!A8,grupy!#REF!,"<>") -> #REF! | C8: CA_4 | D8: =COUNTIFS(grupy!D:D,sprawdzenie!C8,grupy!#REF!,"<>") -> #REF! | E8: CN_4 | F8: =COUNTIFS(grupy!E:E,sprawdzenie!E8,grupy!#REF!,"<>") -> #REF! | G8: CS_4 | H8: =COUNTIFS(grupy!F:F,sprawdzenie!G8,grupy!#REF!,"<>") -> #REF! | I8: CS_1D | J8: =COUNTIFS(grupy!#REF!,sprawdzenie!I8,grupy!#REF!,"<>") -> #REF! | K8: CS_2B | L8: =COUNTIFS(grupy!#REF!,sprawdzenie!K8,grupy!#REF!,"<>") -> #REF! | M8: CL_4 | N8: =COUNTIFS(grupy!#REF!,sprawdzenie!M8,grupy!#REF!,"<>") -> #REF! | O8: CK_4 | P8: =COUNTIFS(grupy!#REF!,sprawdzenie!O8,grupy!#REF!,"<>") -> #REF! | Q8: CK_1D | R8: =COUNTIFS(grupy!#REF!,sprawdzenie!Q8,grupy!#REF!,"<>") -> #REF! | S8: PP_4 | T8: =COUNTIFS(grupy!#REF!,sprawdzenie!S8,grupy!#REF!,"<>") -> #REF! | U8: PP_IV | V8: =COUNTIFS(grupy!#REF!,sprawdzenie!U8,grupy!#REF!,"<>") -> #REF! | W8: LE_4 | X8: =COUNTIFS(grupy!G:G,sprawdzenie!W8,grupy!#REF!,"<>") -> #REF! | Y8: WF_4 | Z8: =COUNTIFS(grupy!#REF!,sprawdzenie!Y8,grupy!#REF!,"<>") -> #REF!
A9: SE_5 | B9: =COUNTIFS(grupy!C:C,sprawdzenie!A9,grupy!#REF!,"<>") -> #REF! | C9: CA_5 | D9: =COUNTIFS(grupy!D:D,sprawdzenie!C9,grupy!#REF!,"<>") -> #REF! | E9: CN_5 | F9: =COUNTIFS(grupy!E:E,sprawdzenie!E9,grupy!#REF!,"<>") -> #REF! | G9: CS_5 | H9: =COUNTIFS(grupy!F:F,sprawdzenie!G9,grupy!#REF!,"<>") -> #REF! | I9: CS_2A | J9: =COUNTIFS(grupy!#REF!,sprawdzenie!I9,grupy!#REF!,"<>") -> #REF! | K9: CS_3A | L9: =COUNTIFS(grupy!#REF!,sprawdzenie!K9,grupy!#REF!,"<>") -> #REF! | M9: CL_5 | N9: =COUNTIFS(grupy!#REF!,sprawdzenie!M9,grupy!#REF!,"<>") -> #REF! | O9: CK_5 | P9: =COUNTIFS(grupy!#REF!,sprawdzenie!O9,grupy!#REF!,"<>") -> #REF! | Q9: CK_1E | R9: =COUNTIFS(grupy!#REF!,sprawdzenie!Q9,grupy!#REF!,"<>") -> #REF! | S9: PP_5 | T9: =COUNTIFS(grupy!#REF!,sprawdzenie!S9,grupy!#REF!,"<>") -> #REF! | U9: PP_V | V9: =COUNTIFS(grupy!#REF!,sprawdzenie!U9,grupy!#REF!,"<>") -> #REF! | W9: LE_5 | X9: =COUNTIFS(grupy!G:G,sprawdzenie!W9,grupy!#REF!,"<>") -> #REF! | Y9: WF_5 | Z9: =COUNTIFS(grupy!#REF!,sprawdzenie!Y9,grupy!#REF!,"<>") -> #REF!
A10: SE_6 | B10: =COUNTIFS(grupy!C:C,sprawdzenie!A10,grupy!#REF!,"<>") -> #REF! | C10: CA_6 | D10: =COUNTIFS(grupy!D:D,sprawdzenie!C10,grupy!#REF!,"<>") -> #REF! | E10: CN_6 | F10: =COUNTIFS(grupy!E:E,sprawdzenie!E10,grupy!#REF!,"<>") -> #REF! | G10: CS_6 | H10: =COUNTIFS(grupy!F:F,sprawdzenie!G10,grupy!#REF!,"<>") -> #REF! | I10: CS_2B | J10: =COUNTIFS(grupy!#REF!,sprawdzenie!I10,grupy!#REF!,"<>") -> #REF! | K10: CS_3B | L10: =COUNTIFS(grupy!#REF!,sprawdzenie!K10,grupy!#REF!,"<>") -> #REF! | M10: CL_6 | N10: =COUNTIFS(grupy!#REF!,sprawdzenie!M10,grupy!#REF!,"<>") -> #REF! | O10: CK_6 | P10: =COUNTIFS(grupy!#REF!,sprawdzenie!O10,grupy!#REF!,"<>") -> #REF! | Q10: CK_2A | R10: =COUNTIFS(grupy!#REF!,sprawdzenie!Q10,grupy!#REF!,"<>") -> #REF! | S10: PP_6 | T10: =COUNTIFS(grupy!#REF!,sprawdzenie!S10,grupy!#REF!,"<>") -> #REF! | U10: PP_VI | V10: =COUNTIFS(grupy!#REF!,sprawdzenie!U10,grupy!#REF!,"<>") -> #REF! | W10: LE_6 | X10: =COUNTIFS(grupy!G:G,sprawdzenie!W10,grupy!#REF!,"<>") -> #REF! | Y10: WF_6 | Z10: =COUNTIFS(grupy!#REF!,sprawdzenie!Y10,grupy!#REF!,"<>") -> #REF!
A11: SE_7 | B11: =COUNTIFS(grupy!C:C,sprawdzenie!A11,grupy!#REF!,"<>") -> #REF! | C11: CA_7 | D11: =COUNTIFS(grupy!D:D,sprawdzenie!C11,grupy!#REF!,"<>") -> #REF! | E11: CN_7 | F11: =COUNTIFS(grupy!E:E,sprawdzenie!E11,grupy!#REF!,"<>") -> #REF! | G11: CS_7 | H11: =COUNTIFS(grupy!F:F,sprawdzenie!G11,grupy!#REF!,"<>") -> #REF! | I11: CS_2C | J11: =COUNTIFS(grupy!#REF!,sprawdzenie!I11,grupy!#REF!,"<>") -> #REF! | K11: CS_4A | L11: =COUNTIFS(grupy!#REF!,sprawdzenie!K11,grupy!#REF!,"<>") -> #REF! | M11: CL_7 | N11: =COUNTIFS(grupy!#REF!,sprawdzenie!M11,grupy!#REF!,"<>") -> #REF! | O11: CK_7 | P11: =COUNTIFS(grupy!#REF!,sprawdzenie!O11,grupy!#REF!,"<>") -> #REF! | Q11: CK_2B | R11: =COUNTIFS(grupy!#REF!,sprawdzenie!Q11,grupy!#REF!,"<>") -> #REF! | S11: PP_7 | T11: =COUNTIFS(grupy!#REF!,sprawdzenie!S11,grupy!#REF!,"<>") -> #REF! | U11: PP_VI | V11: =COUNTIFS(grupy!#REF!,sprawdzenie!U11,grupy!#REF!,"<>") -> #REF! | W11: LE_7 | X11: =COUNTIFS(grupy!G:G,sprawdzenie!W11,grupy!#REF!,"<>") -> #REF! | Y11: WF_7 | Z11: =COUNTIFS(grupy!#REF!,sprawdzenie!Y11,grupy!#REF!,"<>") -> #REF!
A12: SE_8 | B12: =COUNTIFS(grupy!C:C,sprawdzenie!A12,grupy!#REF!,"<>") -> #REF! | C12: CA_8 | D12: =COUNTIFS(grupy!D:D,sprawdzenie!C12,grupy!#REF!,"<>") -> #REF! | E12: CN_8 | F12: =COUNTIFS(grupy!E:E,sprawdzenie!E12,grupy!#REF!,"<>") -> #REF! | G12: CS_8 | H12: =COUNTIFS(grupy!F:F,sprawdzenie!G12,grupy!#REF!,"<>") -> #REF! | I12: CS_2D | J12: =COUNTIFS(grupy!#REF!,sprawdzenie!I12,grupy!#REF!,"<>") -> #REF! | K12: CS_4B | L12: =COUNTIFS(grupy!#REF!,sprawdzenie!K12,grupy!#REF!,"<>") -> #REF! | M12: CL_8 | N12: =COUNTIFS(grupy!#REF!,sprawdzenie!M12,grupy!#REF!,"<>") -> #REF! | O12: CK_8 | P12: =COUNTIFS(grupy!#REF!,sprawdzenie!O12,grupy!#REF!,"<>") -> #REF! | Q12: CK_2C | R12: =COUNTIFS(grupy!#REF!,sprawdzenie!Q12,grupy!#REF!,"<>") -> #REF! | S12: PP_8 | T12: =COUNTIFS(grupy!#REF!,sprawdzenie!S12,grupy!#REF!,"<>") -> #REF! | U12: PP_VIII | V12: =COUNTIFS(grupy!#REF!,sprawdzenie!U12,grupy!#REF!,"<>") -> #REF! | W12: LE_8 | X12: =COUNTIFS(grupy!G:G,sprawdzenie!W12,grupy!#REF!,"<>") -> #REF! | Y12: WF_8 | Z12: =COUNTIFS(grupy!#REF!,sprawdzenie!Y12,grupy!#REF!,"<>") -> #REF!
A13: SE_9 | B13: =COUNTIFS(grupy!C:C,sprawdzenie!A13,grupy!#REF!,"<>") -> #REF! | C13: CA_9 | D13: =COUNTIFS(grupy!D:D,sprawdzenie!C13,grupy!#REF!,"<>") -> #REF! | E13: CN_9 | F13: =COUNTIFS(grupy!E:E,sprawdzenie!E13,grupy!#REF!,"<>") -> #REF! | G13: CS_9 | H13: =COUNTIFS(grupy!F:F,sprawdzenie!G13,grupy!#REF!,"<>") -> #REF! | I13: CS_3A | J13: =COUNTIFS(grupy!#REF!,sprawdzenie!I13,grupy!#REF!,"<>") -> #REF! | K13: CS_5A | L13: =COUNTIFS(grupy!#REF!,sprawdzenie!K13,grupy!#REF!,"<>") -> #REF! | M13: CL_9 | N13: =COUNTIFS(grupy!#REF!,sprawdzenie!M13,grupy!#REF!,"<>") -> #REF! | O13: CK_9 | P13: =COUNTIFS(grupy!#REF!,sprawdzenie!O13,grupy!#REF!,"<>") -> #REF! | Q13: CK_2D | R13: =COUNTIFS(grupy!#REF!,sprawdzenie!Q13,grupy!#REF!,"<>") -> #REF! | S13: PP_9 | T13: =COUNTIFS(grupy!#REF!,sprawdzenie!S13,grupy!#REF!,"<>") -> #REF! | U13: PP_IX | V13: =COUNTIFS(grupy!#REF!,sprawdzenie!U13,grupy!#REF!,"<>") -> #REF! | W13: LE_9 | X13: =COUNTIFS(grupy!G:G,sprawdzenie!W13,grupy!#REF!,"<>") -> #REF! | Y13: WF_9 | Z13: =COUNTIFS(grupy!#REF!,sprawdzenie!Y13,grupy!#REF!,"<>") -> #REF!
A14: SE_10 | B14: =COUNTIFS(grupy!C:C,sprawdzenie!A14,grupy!#REF!,"<>") -> #REF! | C14: CA_10 | D14: =COUNTIFS(grupy!D:D,sprawdzenie!C14,grupy!#REF!,"<>") -> #REF! | E14: CN_10 | F14: =COUNTIFS(grupy!E:E,sprawdzenie!E14,grupy!#REF!,"<>") -> #REF! | G14: CS_10 | H14: =COUNTIFS(grupy!F:F,sprawdzenie!G14,grupy!#REF!,"<>") -> #REF! | I14: CS_3B | J14: =COUNTIFS(grupy!#REF!,sprawdzenie!I14,grupy!#REF!,"<>") -> #REF! | K14: CS_5B | L14: =COUNTIFS(grupy!#REF!,sprawdzenie!K14,grupy!#REF!,"<>") -> #REF! | M14: CL_10 | N14: =COUNTIFS(grupy!#REF!,sprawdzenie!M14,grupy!#REF!,"<>") -> #REF! | O14: CK_10 | P14: =COUNTIFS(grupy!#REF!,sprawdzenie!O14,grupy!#REF!,"<>") -> #REF! | Q14: CK_2E | R14: =COUNTIFS(grupy!#REF!,sprawdzenie!Q14,grupy!#REF!,"<>") -> #REF! | S14: PP_10 | T14: =COUNTIFS(grupy!#REF!,sprawdzenie!S14,grupy!#REF!,"<>") -> #REF! | U14: PP_X | V14: =COUNTIFS(grupy!#REF!,sprawdzenie!U14,grupy!#REF!,"<>") -> #REF! | W14: LE_10 | X14: =COUNTIFS(grupy!G:G,sprawdzenie!W14,grupy!#REF!,"<>") -> #REF! | Y14: WF_10 | Z14: =COUNTIFS(grupy!#REF!,sprawdzenie!Y14,grupy!#REF!,"<>") -> #REF!
A15: SE_11 | B15: =COUNTIFS(grupy!C:C,sprawdzenie!A15,grupy!#REF!,"<>") -> #REF! | C15: CA_11 | D15: =COUNTIFS(grupy!D:D,sprawdzenie!C15,grupy!#REF!,"<>") -> #REF! | E15: CN_11 | F15: =COUNTIFS(grupy!E:E,sprawdzenie!E15,grupy!#REF!,"<>") -> #REF! | G15: CS_11 | H15: =COUNTIFS(grupy!F:F,sprawdzenie!G15,grupy!#REF!,"<>") -> #REF! | I15: CS_3C | J15: =COUNTIFS(grupy!#REF!,sprawdzenie!I15,grupy!#REF!,"<>") -> #REF! | K15: CS_6A | L15: =COUNTIFS(grupy!#REF!,sprawdzenie!K15,grupy!#REF!,"<>") -> #REF! | M15: CL_11 | N15: =COUNTIFS(grupy!#REF!,sprawdzenie!M15,grupy!#REF!,"<>") -> #REF! | O15: CK_11 | P15: =COUNTIFS(grupy!#REF!,sprawdzenie!O15,grupy!#REF!,"<>") -> #REF! | Q15: CK_3A | R15: =COUNTIFS(grupy!#REF!,sprawdzenie!Q15,grupy!#REF!,"<>") -> #REF! | S15: PP_11 | T15: =COUNTIFS(grupy!#REF!,sprawdzenie!S15,grupy!#REF!,"<>") -> #REF! | U15: PP_XI | V15: =COUNTIFS(grupy!#REF!,sprawdzenie!U15,grupy!#REF!,"<>") -> #REF! | W15: LE_11 | X15: =COUNTIFS(grupy!G:G,sprawdzenie!W15,grupy!#REF!,"<>") -> #REF! | Y15: WF_11 | Z15: =COUNTIFS(grupy!#REF!,sprawdzenie!Y15,grupy!#REF!,"<>") -> #REF!
A16: SE_12 | B16: =COUNTIFS(grupy!C:C,sprawdzenie!A16,grupy!#REF!,"<>") -> #REF! | C16: CA_12 | D16: =COUNTIFS(grupy!D:D,sprawdzenie!C16,grupy!#REF!,"<>") -> #REF! | E16: CN_12 | F16: =COUNTIFS(grupy!E:E,sprawdzenie!E16,grupy!#REF!,"<>") -> #REF! | G16: CS_12 | H16: =COUNTIFS(grupy!F:F,sprawdzenie!G16,grupy!#REF!,"<>") -> #REF! | I16: CS_3D | J16: =COUNTIFS(grupy!#REF!,sprawdzenie!I16,grupy!#REF!,"<>") -> #REF! | K16: CS_6B | L16: =COUNTIFS(grupy!#REF!,sprawdzenie!K16,grupy!#REF!,"<>") -> #REF! | M16: CL_12 | N16: =COUNTIFS(grupy!#REF!,sprawdzenie!M16,grupy!#REF!,"<>") -> #REF! | O16: CK_12 | P16: =COUNTIFS(grupy!#REF!,sprawdzenie!O16,grupy!#REF!,"<>") -> #REF! | Q16: CK_3B | R16: =COUNTIFS(grupy!#REF!,sprawdzenie!Q16,grupy!#REF!,"<>") -> #REF! | S16: PP_12 | T16: =COUNTIFS(grupy!#REF!,sprawdzenie!S16,grupy!#REF!,"<>") -> #REF! | U16: PP_XII | V16: =COUNTIFS(grupy!#REF!,sprawdzenie!U16,grupy!#REF!,"<>") -> #REF! | W16: LE_12 | X16: =COUNTIFS(grupy!G:G,sprawdzenie!W16,grupy!#REF!,"<>") -> #REF! | Y16: WF_12 | Z16: =COUNTIFS(grupy!#REF!,sprawdzenie!Y16,grupy!#REF!,"<>") -> #REF!
... A22: SE_18 | B22: =COUNTIFS(grupy!C:C,sprawdzenie!A22,grupy!#REF!,"<>") -> #REF! | C22: CA_18 | D22: =COUNTIFS(grupy!D:D,sprawdzenie!C22,grupy!#REF!,"<>") -> #REF! | E22: CN_18 | F22: =COUNTIFS(grupy!E:E,sprawdzenie!E22,grupy!#REF!,"<>") -> #REF! | G22: CS_18 | H22: =COUNTIFS(grupy!F:F,sprawdzenie!G22,grupy!#REF!,"<>") -> #REF! | I22: CS_5B | J22: =COUNTIFS(grupy!#REF!,sprawdzenie!I22,grupy!#REF!,"<>") -> #REF! | K22: CS_9B | L22: =COUNTIFS(grupy!#REF!,sprawdzenie!K22,grupy!#REF!,"<>") -> #REF! | M22: CL_18 | N22: =COUNTIFS(grupy!#REF!,sprawdzenie!M22,grupy!#REF!,"<>") -> #REF! | O22: CK_18 | P22: =COUNTIFS(grupy!#REF!,sprawdzenie!O22,grupy!#REF!,"<>") -> #REF! | Q22: CK_4C | R22: =COUNTIFS(grupy!#REF!,sprawdzenie!Q22,grupy!#REF!,"<>") -> #REF! | S22: PP_18 | T22: =COUNTIFS(grupy!#REF!,sprawdzenie!S22,grupy!#REF!,"<>") -> #REF! | U22: PP_XVIII | V22: =COUNTIFS(grupy!#REF!,sprawdzenie!U22,grupy!#REF!,"<>") -> #REF! | W22: LE_18 | X22: =COUNTIFS(grupy!G:G,sprawdzenie!W22,grupy!#REF!,"<>") -> #REF! | Y22: WF_18 | Z22: =COUNTIFS(grupy!#REF!,sprawdzenie!Y22,grupy!#REF!,"<>") -> #REF!
A23: SE_19 | B23: =COUNTIFS(grupy!C:C,sprawdzenie!A23,grupy!#REF!,"<>") -> #REF! | C23: CA_19 | D23: =COUNTIFS(grupy!D:D,sprawdzenie!C23,grupy!#REF!,"<>") -> #REF! | E23: CN_19 | F23: =COUNTIFS(grupy!E:E,sprawdzenie!E23,grupy!#REF!,"<>") -> #REF! | G23: CS_19 | H23: =COUNTIFS(grupy!F:F,sprawdzenie!G23,grupy!#REF!,"<>") -> #REF! | I23: CS_5C | J23: =COUNTIFS(grupy!#REF!,sprawdzenie!I23,grupy!#REF!,"<>") -> #REF! | K23: CS_10A | L23: =COUNTIFS(grupy!#REF!,sprawdzenie!K23,grupy!#REF!,"<>") -> #REF! | M23: CL_19 | N23: =COUNTIFS(grupy!#REF!,sprawdzenie!M23,grupy!#REF!,"<>") -> #REF! | O23: CK_19 | P23: =COUNTIFS(grupy!#REF!,sprawdzenie!O23,grupy!#REF!,"<>") -> #REF! | Q23: CK_4D | R23: =COUNTIFS(grupy!#REF!,sprawdzenie!Q23,grupy!#REF!,"<>") -> #REF! | T23: =COUNTIFS(grupy!#REF!,sprawdzenie!S23,grupy!#REF!,"<>") -> #REF! | U23: PP_XIX | V23: =COUNTIFS(grupy!#REF!,sprawdzenie!U23,grupy!#REF!,"<>") -> #REF! | W23: LE_19 | X23: =COUNTIFS(grupy!G:G,sprawdzenie!W23,grupy!#REF!,"<>") -> #REF! | Y23: WF_19 | Z23: =COUNTIFS(grupy!#REF!,sprawdzenie!Y23,grupy!#REF!,"<>") -> #REF!
B24: =SUM(B5:B23) -> #REF! | D24: =SUM(D5:D23) -> #REF! | E24: CN_20 | F24: =COUNTIFS(grupy!E:E,sprawdzenie!E24,grupy!#REF!,"<>") -> #REF! | G24: CS_20 | H24: =COUNTIFS(grupy!F:F,sprawdzenie!G24,grupy!#REF!,"<>") -> #REF! | I24: CS_5D | J24: =COUNTIFS(grupy!#REF!,sprawdzenie!I24,grupy!#REF!,"<>") -> #REF! | K24: CS_10B | L24: =COUNTIFS(grupy!#REF!,sprawdzenie!K24,grupy!#REF!,"<>") -> #REF! | M24: CL_20 | N24: =COUNTIFS(grupy!#REF!,sprawdzenie!M24,grupy!#REF!,"<>") -> #REF! | O24: CK_20 | P24: =COUNTIFS(grupy!#REF!,sprawdzenie!O24,grupy!#REF!,"<>") -> #REF! | Q24: CK_4E | R24: =COUNTIFS(grupy!#REF!,sprawdzenie!Q24,grupy!#REF!,"<>") -> #REF! | T24: =COUNTIFS(grupy!#REF!,sprawdzenie!S24,grupy!#REF!,"<>") -> #REF! | U24: PP_XX | V24: =COUNTIFS(grupy!#REF!,sprawdzenie!U24,grupy!#REF!,"<>") -> #REF! | X24: =SUM(X5:X23) -> #REF! | Z24: =SUM(Z5:Z23) -> #REF!
E25: CN_21 | F25: =COUNTIFS(grupy!E:E,sprawdzenie!E25,grupy!#REF!,"<>") -> #REF! | G25: CS_21 | H25: =COUNTIFS(grupy!F:F,sprawdzenie!G25,grupy!#REF!,"<>") -> #REF! | I25: CS_6A | J25: =COUNTIFS(grupy!#REF!,sprawdzenie!I25,grupy!#REF!,"<>") -> #REF! | K25: CS_11A | L25: =COUNTIFS(grupy!#REF!,sprawdzenie!K25,grupy!#REF!,"<>") -> #REF! | M25: CL_21 | N25: =COUNTIFS(grupy!#REF!,sprawdzenie!M25,grupy!#REF!,"<>") -> #REF! | O25: CK_21 | P25: =COUNTIFS(grupy!#REF!,sprawdzenie!O25,grupy!#REF!,"<>") -> #REF! | Q25: CK_5A | R25: =COUNTIFS(grupy!#REF!,sprawdzenie!Q25,grupy!#REF!,"<>") -> #REF! | T25: =COUNTIFS(grupy!#REF!,sprawdzenie!S25,grupy!#REF!,"<>") -> #REF! | U25: PP_XXI | V25: =COUNTIFS(grupy!#REF!,sprawdzenie!U25,grupy!#REF!,"<>") -> #REF!
E26: CN_22 | F26: =COUNTIFS(grupy!E:E,sprawdzenie!E26,grupy!#REF!,"<>") -> #REF! | G26: CS_22 | H26: =COUNTIFS(grupy!F:F,sprawdzenie!G26,grupy!#REF!,"<>") -> #REF! | I26: CS_6B | J26: =COUNTIFS(grupy!#REF!,sprawdzenie!I26,grupy!#REF!,"<>") -> #REF! | K26: CS_11B | L26: =COUNTIFS(grupy!#REF!,sprawdzenie!K26,grupy!#REF!,"<>") -> #REF! | M26: CL_22 | N26: =COUNTIFS(grupy!#REF!,sprawdzenie!M26,grupy!#REF!,"<>") -> #REF! | O26: CK_22 | P26: =COUNTIFS(grupy!#REF!,sprawdzenie!O26,grupy!#REF!,"<>") -> #REF! | Q26: CK_5B | R26: =COUNTIFS(grupy!#REF!,sprawdzenie!Q26,grupy!#REF!,"<>") -> #REF! | T26: =COUNTIFS(grupy!#REF!,sprawdzenie!S26,grupy!#REF!,"<>") -> #REF! | U26: PP_4D | V26: =COUNTIFS(grupy!#REF!,sprawdzenie!U26,grupy!#REF!,"<>") -> #REF!
E27: CN_23 | F27: =COUNTIFS(grupy!E:E,sprawdzenie!E27,grupy!#REF!,"<>") -> #REF! | G27: CS_23 | H27: =COUNTIFS(grupy!F:F,sprawdzenie!G27,grupy!#REF!,"<>") -> #REF! | I27: CS_6C | J27: =COUNTIFS(grupy!#REF!,sprawdzenie!I27,grupy!#REF!,"<>") -> #REF! | K27: CS_12A | L27: =COUNTIFS(grupy!#REF!,sprawdzenie!K27,grupy!#REF!,"<>") -> #REF! | M27: CL_23 | N27: =COUNTIFS(grupy!#REF!,sprawdzenie!M27,grupy!#REF!,"<>") -> #REF! | O27: CK_23 | P27: =COUNTIFS(grupy!#REF!,sprawdzenie!O27,grupy!#REF!,"<>") -> #REF! | Q27: CK_5C | R27: =COUNTIFS(grupy!#REF!,sprawdzenie!Q27,grupy!#REF!,"<>") -> #REF! | T27: =COUNTIFS(grupy!#REF!,sprawdzenie!S27,grupy!#REF!,"<>") -> #REF! | U27: PP_4E | V27: =COUNTIFS(grupy!#REF!,sprawdzenie!U27,grupy!#REF!,"<>") -> #REF!
E28: CN_24 | F28: =COUNTIFS(grupy!E:E,sprawdzenie!E28,grupy!#REF!,"<>") -> #REF! | G28: CS_24 | H28: =COUNTIFS(grupy!F:F,sprawdzenie!G28,grupy!#REF!,"<>") -> #REF! | I28: CS_6D | J28: =COUNTIFS(grupy!#REF!,sprawdzenie!I28,grupy!#REF!,"<>") -> #REF! | K28: CS_12B | L28: =COUNTIFS(grupy!#REF!,sprawdzenie!K28,grupy!#REF!,"<>") -> #REF! | M28: CL_24 | N28: =COUNTIFS(grupy!#REF!,sprawdzenie!M28,grupy!#REF!,"<>") -> #REF! | O28: CK_24 | P28: =COUNTIFS(grupy!#REF!,sprawdzenie!O28,grupy!#REF!,"<>") -> #REF! | Q28: CK_5D | R28: =COUNTIFS(grupy!#REF!,sprawdzenie!Q28,grupy!#REF!,"<>") -> #REF! | T28: =COUNTIFS(grupy!#REF!,sprawdzenie!S28,grupy!#REF!,"<>") -> #REF! | U28: PP_4F | V28: =COUNTIFS(grupy!#REF!,sprawdzenie!U28,grupy!#REF!,"<>") -> #REF!
E29: CN_25 | F29: =COUNTIFS(grupy!E:E,sprawdzenie!E29,grupy!#REF!,"<>") -> #REF! | G29: CS_25 | H29: =COUNTIFS(grupy!F:F,sprawdzenie!G29,grupy!#REF!,"<>") -> #REF! | I29: CS_7A | J29: =COUNTIFS(grupy!#REF!,sprawdzenie!I29,grupy!#REF!,"<>") -> #REF! | K29: CS_13A | L29: =COUNTIFS(grupy!#REF!,sprawdzenie!K29,grupy!#REF!,"<>") -> #REF! | M29: CL_25 | N29: =COUNTIFS(grupy!#REF!,sprawdzenie!M29,grupy!#REF!,"<>") -> #REF! | O29: CK_25 | P29: =COUNTIFS(grupy!#REF!,sprawdzenie!O29,grupy!#REF!,"<>") -> #REF! | Q29: CK_5E | R29: =COUNTIFS(grupy!#REF!,sprawdzenie!Q29,grupy!#REF!,"<>") -> #REF! | T29: =COUNTIFS(grupy!#REF!,sprawdzenie!S29,grupy!#REF!,"<>") -> #REF! | U29: PP_5A | V29: =COUNTIFS(grupy!#REF!,sprawdzenie!U29,grupy!#REF!,"<>") -> #REF!
E30: CN_26 | F30: =COUNTIFS(grupy!E:E,sprawdzenie!E30,grupy!#REF!,"<>") -> #REF! | G30: CS_26 | H30: =COUNTIFS(grupy!F:F,sprawdzenie!G30,grupy!#REF!,"<>") -> #REF! | I30: CS_7B | J30: =COUNTIFS(grupy!#REF!,sprawdzenie!I30,grupy!#REF!,"<>") -> #REF! | K30: CS_13B | L30: =COUNTIFS(grupy!#REF!,sprawdzenie!K30,grupy!#REF!,"<>") -> #REF! | M30: CL_26 | N30: =COUNTIFS(grupy!#REF!,sprawdzenie!M30,grupy!#REF!,"<>") -> #REF! | O30: CK_7B | P30: =COUNTIFS(grupy!#REF!,sprawdzenie!O30,grupy!#REF!,"<>") -> #REF! | Q30: CK_6A | R30: =COUNTIFS(grupy!#REF!,sprawdzenie!Q30,grupy!#REF!,"<>") -> #REF! | T30: =COUNTIFS(grupy!#REF!,sprawdzenie!S30,grupy!#REF!,"<>") -> #REF! | U30: PP_5B | V30: =COUNTIFS(grupy!#REF!,sprawdzenie!U30,grupy!#REF!,"<>") -> #REF!
E31: CN_27 | F31: =COUNTIFS(grupy!E:E,sprawdzenie!E31,grupy!#REF!,"<>") -> #REF! | G31: CS_27 | H31: =COUNTIFS(grupy!F:F,sprawdzenie!G31,grupy!#REF!,"<>") -> #REF! | I31: CS_7C | J31: =COUNTIFS(grupy!#REF!,sprawdzenie!I31,grupy!#REF!,"<>") -> #REF! | K31: CS_14A | L31: =COUNTIFS(grupy!#REF!,sprawdzenie!K31,grupy!#REF!,"<>") -> #REF! | M31: CL_27 | N31: =COUNTIFS(grupy!#REF!,sprawdzenie!M31,grupy!#REF!,"<>") -> #REF! | O31: CK_7C | P31: =COUNTIFS(grupy!#REF!,sprawdzenie!O31,grupy!#REF!,"<>") -> #REF! | Q31: CK_6B | R31: =COUNTIFS(grupy!#REF!,sprawdzenie!Q31,grupy!#REF!,"<>") -> #REF! | T31: =COUNTIFS(grupy!#REF!,sprawdzenie!S31,grupy!#REF!,"<>") -> #REF! | U31: PP_5C | V31: =COUNTIFS(grupy!#REF!,sprawdzenie!U31,grupy!#REF!,"<>") -> #REF!
E32: CN_14B | F32: =COUNTIFS(grupy!E:E,sprawdzenie!E32,grupy!#REF!,"<>") -> #REF! | G32: CS_28 | H32: =COUNTIFS(grupy!F:F,sprawdzenie!G32,grupy!#REF!,"<>") -> #REF! | I32: CS_7D | J32: =COUNTIFS(grupy!#REF!,sprawdzenie!I32,grupy!#REF!,"<>") -> #REF! | K32: CS_14B | L32: =COUNTIFS(grupy!#REF!,sprawdzenie!K32,grupy!#REF!,"<>") -> #REF! | M32: CL_28 | N32: =COUNTIFS(grupy!#REF!,sprawdzenie!M32,grupy!#REF!,"<>") -> #REF! | O32: CK_7D | P32: =COUNTIFS(grupy!#REF!,sprawdzenie!O32,grupy!#REF!,"<>") -> #REF! | Q32: CK_6C | R32: =COUNTIFS(grupy!#REF!,sprawdzenie!Q32,grupy!#REF!,"<>") -> #REF! | T32: =COUNTIFS(grupy!#REF!,sprawdzenie!S32,grupy!#REF!,"<>") -> #REF! | U32: PP_5D | V32: =COUNTIFS(grupy!#REF!,sprawdzenie!U32,grupy!#REF!,"<>") -> #REF!
E33: CN_15A | F33: =COUNTIFS(grupy!E:E,sprawdzenie!E33,grupy!#REF!,"<>") -> #REF! | G33: CS_29 | H33: =COUNTIFS(grupy!F:F,sprawdzenie!G33,grupy!#REF!,"<>") -> #REF! | I33: CS_8A | J33: =COUNTIFS(grupy!#REF!,sprawdzenie!I33,grupy!#REF!,"<>") -> #REF! | K33: CS_15A | L33: =COUNTIFS(grupy!#REF!,sprawdzenie!K33,grupy!#REF!,"<>") -> #REF! | M33: CL_29 | N33: =COUNTIFS(grupy!#REF!,sprawdzenie!M33,grupy!#REF!,"<>") -> #REF! | O33: CK_8A | P33: =COUNTIFS(grupy!#REF!,sprawdzenie!O33,grupy!#REF!,"<>") -> #REF! | Q33: CK_6D | R33: =COUNTIFS(grupy!#REF!,sprawdzenie!Q33,grupy!#REF!,"<>") -> #REF! | T33: =COUNTIFS(grupy!#REF!,sprawdzenie!S33,grupy!#REF!,"<>") -> #REF! | U33: PP_5E | V33: =COUNTIFS(grupy!#REF!,sprawdzenie!U33,grupy!#REF!,"<>") -> #REF!
E34: CN_15B | F34: =COUNTIFS(grupy!E:E,sprawdzenie!E34,grupy!#REF!,"<>") -> #REF! | G34: CS_30 | H34: =COUNTIFS(grupy!F:F,sprawdzenie!G34,grupy!#REF!,"<>") -> #REF! | I34: CS_8B | J34: =COUNTIFS(grupy!#REF!,sprawdzenie!I34,grupy!#REF!,"<>") -> #REF! | K34: CS_15B | L34: =COUNTIFS(grupy!#REF!,sprawdzenie!K34,grupy!#REF!,"<>") -> #REF! | M34: CL_30 | N34: =COUNTIFS(grupy!#REF!,sprawdzenie!M34,grupy!#REF!,"<>") -> #REF! | O34: CK_8B | P34: =COUNTIFS(grupy!#REF!,sprawdzenie!O34,grupy!#REF!,"<>") -> #REF! | Q34: CK_6E | R34: =COUNTIFS(grupy!#REF!,sprawdzenie!Q34,grupy!#REF!,"<>") -> #REF! | T34: =COUNTIFS(grupy!#REF!,sprawdzenie!S34,grupy!#REF!,"<>") -> #REF! | U34: PP_5F | V34: =COUNTIFS(grupy!#REF!,sprawdzenie!U34,grupy!#REF!,"<>") -> #REF!
E35: CN_16A | F35: =COUNTIFS(grupy!E:E,sprawdzenie!E35,grupy!#REF!,"<>") -> #REF! | G35: CS_31 | H35: =COUNTIFS(grupy!F:F,sprawdzenie!G35,grupy!#REF!,"<>") -> #REF! | I35: CS_8C | J35: =COUNTIFS(grupy!#REF!,sprawdzenie!I35,grupy!#REF!,"<>") -> #REF! | K35: CS_16A | L35: =COUNTIFS(grupy!#REF!,sprawdzenie!K35,grupy!#REF!,"<>") -> #REF! | M35: CL_31 | N35: =COUNTIFS(grupy!#REF!,sprawdzenie!M35,grupy!#REF!,"<>") -> #REF! | O35: CK_8C | P35: =COUNTIFS(grupy!#REF!,sprawdzenie!O35,grupy!#REF!,"<>") -> #REF! | Q35: CK_7A | R35: =COUNTIFS(grupy!#REF!,sprawdzenie!Q35,grupy!#REF!,"<>") -> #REF! | T35: =COUNTIFS(grupy!#REF!,sprawdzenie!S35,grupy!#REF!,"<>") -> #REF! | U35: PP_6A | V35: =COUNTIFS(grupy!#REF!,sprawdzenie!U35,grupy!#REF!,"<>") -> #REF!
E36: CN_16B | F36: =COUNTIFS(grupy!E:E,sprawdzenie!E36,grupy!#REF!,"<>") -> #REF! | G36: CS_32 | H36: =COUNTIFS(grupy!F:F,sprawdzenie!G36,grupy!#REF!,"<>") -> #REF! | I36: CS_8D | J36: =COUNTIFS(grupy!#REF!,sprawdzenie!I36,grupy!#REF!,"<>") -> #REF! | K36: CS_16B | L36: =COUNTIFS(grupy!#REF!,sprawdzenie!K36,grupy!#REF!,"<>") -> #REF! | M36: CL_32 | N36: =COUNTIFS(grupy!#REF!,sprawdzenie!M36,grupy!#REF!,"<>") -> #REF! | O36: CK_8D | P36: =COUNTIFS(grupy!#REF!,sprawdzenie!O36,grupy!#REF!,"<>") -> #REF! | Q36: CK_7B | R36: =COUNTIFS(grupy!#REF!,sprawdzenie!Q36,grupy!#REF!,"<>") -> #REF! | T36: =COUNTIFS(grupy!#REF!,sprawdzenie!S36,grupy!#REF!,"<>") -> #REF! | U36: PP_6B | V36: =COUNTIFS(grupy!#REF!,sprawdzenie!U36,grupy!#REF!,"<>") -> #REF!
... E42: CN_19B | F42: =COUNTIFS(grupy!E:E,sprawdzenie!E42,grupy!#REF!,"<>") -> #REF! | G42: CS_38 | H42: =COUNTIFS(grupy!F:F,sprawdzenie!G42,grupy!#REF!,"<>") -> #REF! | I42: CS_10B | J42: =COUNTIFS(grupy!#REF!,sprawdzenie!I42,grupy!#REF!,"<>") -> #REF! | K42: CS_19B | L42: =COUNTIFS(grupy!#REF!,sprawdzenie!K42,grupy!#REF!,"<>") -> #REF! | M42: CL_38 | N42: =COUNTIFS(grupy!#REF!,sprawdzenie!M42,grupy!#REF!,"<>") -> #REF! | O42: CK_10B | P42: =COUNTIFS(grupy!#REF!,sprawdzenie!O42,grupy!#REF!,"<>") -> #REF! | Q42: CK_8C | R42: =COUNTIFS(grupy!#REF!,sprawdzenie!Q42,grupy!#REF!,"<>") -> #REF! | T42: =COUNTIFS(grupy!#REF!,sprawdzenie!S42,grupy!#REF!,"<>") -> #REF! | U42: PP_7B | V42: =COUNTIFS(grupy!#REF!,sprawdzenie!U42,grupy!#REF!,"<>") -> #REF!
F43: =SUM(F5:F42) -> #REF! | G43: CS_39 | H43: =COUNTIFS(grupy!F:F,sprawdzenie!G43,grupy!#REF!,"<>") -> #REF! | I43: CS_10C | J43: =COUNTIFS(grupy!#REF!,sprawdzenie!I43,grupy!#REF!,"<>") -> #REF! | L43: =SUM(L5:L42) -> #REF! | M43: CL_39 | N43: =COUNTIFS(grupy!#REF!,sprawdzenie!M43,grupy!#REF!,"<>") -> #REF! | O43: CK_10C | P43: =COUNTIFS(grupy!#REF!,sprawdzenie!O43,grupy!#REF!,"<>") -> #REF! | Q43: CK_8D | R43: =COUNTIFS(grupy!#REF!,sprawdzenie!Q43,grupy!#REF!,"<>") -> #REF! | T43: =COUNTIFS(grupy!#REF!,sprawdzenie!S43,grupy!#REF!,"<>") -> #REF! | U43: PP_7C | V43: =COUNTIFS(grupy!#REF!,sprawdzenie!U43,grupy!#REF!,"<>") -> #REF!
G44: CS_40 | H44: =COUNTIFS(grupy!F:F,sprawdzenie!G44,grupy!#REF!,"<>") -> #REF! | I44: CS_10D | J44: =COUNTIFS(grupy!#REF!,sprawdzenie!I44,grupy!#REF!,"<>") -> #REF! | M44: CL_40 | N44: =COUNTIFS(grupy!#REF!,sprawdzenie!M44,grupy!#REF!,"<>") -> #REF! | O44: CK_10D | P44: =COUNTIFS(grupy!#REF!,sprawdzenie!O44,grupy!#REF!,"<>") -> #REF! | Q44: CK_8E | R44: =COUNTIFS(grupy!#REF!,sprawdzenie!Q44,grupy!#REF!,"<>") -> #REF! | T44: =COUNTIFS(grupy!#REF!,sprawdzenie!S44,grupy!#REF!,"<>") -> #REF! | U44: PP_7D | V44: =COUNTIFS(grupy!#REF!,sprawdzenie!U44,grupy!#REF!,"<>") -> #REF!
G45: CS_41 | H45: =COUNTIFS(grupy!F:F,sprawdzenie!G45,grupy!#REF!,"<>") -> #REF! | I45: CS_11A | J45: =COUNTIFS(grupy!#REF!,sprawdzenie!I45,grupy!#REF!,"<>") -> #REF! | M45: CL_41 | N45: =COUNTIFS(grupy!#REF!,sprawdzenie!M45,grupy!#REF!,"<>") -> #REF! | O45: CK_11A | P45: =COUNTIFS(grupy!#REF!,sprawdzenie!O45,grupy!#REF!,"<>") -> #REF! | Q45: CK_9A | R45: =COUNTIFS(grupy!#REF!,sprawdzenie!Q45,grupy!#REF!,"<>") -> #REF! | T45: =COUNTIFS(grupy!#REF!,sprawdzenie!S45,grupy!#REF!,"<>") -> #REF! | U45: PP_7E | V45: =COUNTIFS(grupy!#REF!,sprawdzenie!U45,grupy!#REF!,"<>") -> #REF!
G46: CS_42 | H46: =COUNTIFS(grupy!F:F,sprawdzenie!G46,grupy!#REF!,"<>") -> #REF! | I46: CS_11B | J46: =COUNTIFS(grupy!#REF!,sprawdzenie!I46,grupy!#REF!,"<>") -> #REF! | M46: CL_42 | N46: =COUNTIFS(grupy!#REF!,sprawdzenie!M46,grupy!#REF!,"<>") -> #REF! | O46: CK_11B | P46: =COUNTIFS(grupy!#REF!,sprawdzenie!O46,grupy!#REF!,"<>") -> #REF! | Q46: CK_9B | R46: =COUNTIFS(grupy!#REF!,sprawdzenie!Q46,grupy!#REF!,"<>") -> #REF! | T46: =COUNTIFS(grupy!#REF!,sprawdzenie!S46,grupy!#REF!,"<>") -> #REF! | U46: PP_7F | V46: =COUNTIFS(grupy!#REF!,sprawdzenie!U46,grupy!#REF!,"<>") -> #REF!
G47: CS_43 | H47: =COUNTIFS(grupy!F:F,sprawdzenie!G47,grupy!#REF!,"<>") -> #REF! | I47: CS_11C | J47: =COUNTIFS(grupy!#REF!,sprawdzenie!I47,grupy!#REF!,"<>") -> #REF! | M47: CL_43 | N47: =COUNTIFS(grupy!#REF!,sprawdzenie!M47,grupy!#REF!,"<>") -> #REF! | O47: CK_11C | P47: =COUNTIFS(grupy!#REF!,sprawdzenie!O47,grupy!#REF!,"<>") -> #REF! | Q47: CK_9C | R47: =COUNTIFS(grupy!#REF!,sprawdzenie!Q47,grupy!#REF!,"<>") -> #REF! | T47: =COUNTIFS(grupy!#REF!,sprawdzenie!S47,grupy!#REF!,"<>") -> #REF! | U47: PP_8A | V47: =COUNTIFS(grupy!#REF!,sprawdzenie!U47,grupy!#REF!,"<>") -> #REF!
G48: CS_44 | H48: =COUNTIFS(grupy!F:F,sprawdzenie!G48,grupy!#REF!,"<>") -> #REF! | I48: CS_11D | J48: =COUNTIFS(grupy!#REF!,sprawdzenie!I48,grupy!#REF!,"<>") -> #REF! | M48: CL_44 | N48: =COUNTIFS(grupy!#REF!,sprawdzenie!M48,grupy!#REF!,"<>") -> #REF! | O48: CK_11D | P48: =COUNTIFS(grupy!#REF!,sprawdzenie!O48,grupy!#REF!,"<>") -> #REF! | Q48: CK_9D | R48: =COUNTIFS(grupy!#REF!,sprawdzenie!Q48,grupy!#REF!,"<>") -> #REF! | T48: =COUNTIFS(grupy!#REF!,sprawdzenie!S48,grupy!#REF!,"<>") -> #REF! | U48: PP_8B | V48: =COUNTIFS(grupy!#REF!,sprawdzenie!U48,grupy!#REF!,"<>") -> #REF!
G49: CS_45 | H49: =COUNTIFS(grupy!F:F,sprawdzenie!G49,grupy!#REF!,"<>") -> #REF! | I49: CS_12A | J49: =COUNTIFS(grupy!#REF!,sprawdzenie!I49,grupy!#REF!,"<>") -> #REF! | M49: CL_45 | N49: =COUNTIFS(grupy!#REF!,sprawdzenie!M49,grupy!#REF!,"<>") -> #REF! | O49: CK_12A | P49: =COUNTIFS(grupy!#REF!,sprawdzenie!O49,grupy!#REF!,"<>") -> #REF! | Q49: CK_9E | R49: =COUNTIFS(grupy!#REF!,sprawdzenie!Q49,grupy!#REF!,"<>") -> #REF! | T49: =COUNTIFS(grupy!#REF!,sprawdzenie!S49,grupy!#REF!,"<>") -> #REF! | U49: PP_8C | V49: =COUNTIFS(grupy!#REF!,sprawdzenie!U49,grupy!#REF!,"<>") -> #REF!
G50: CS_46 | H50: =COUNTIFS(grupy!F:F,sprawdzenie!G50,grupy!#REF!,"<>") -> #REF! | I50: CS_12B | J50: =COUNTIFS(grupy!#REF!,sprawdzenie!I50,grupy!#REF!,"<>") -> #REF! | M50: CL_46 | N50: =COUNTIFS(grupy!#REF!,sprawdzenie!M50,grupy!#REF!,"<>") -> #REF! | O50: CK_12B | P50: =COUNTIFS(grupy!#REF!,sprawdzenie!O50,grupy!#REF!,"<>") -> #REF! | Q50: CK_10A | R50: =COUNTIFS(grupy!#REF!,sprawdzenie!Q50,grupy!#REF!,"<>") -> #REF! | T50: =COUNTIFS(grupy!#REF!,sprawdzenie!S50,grupy!#REF!,"<>") -> #REF! | U50: PP_8D | V50: =COUNTIFS(grupy!#REF!,sprawdzenie!U50,grupy!#REF!,"<>") -> #REF!
G51: CS_47 | H51: =COUNTIFS(grupy!F:F,sprawdzenie!G51,grupy!#REF!,"<>") -> #REF! | I51: CS_12C | J51: =COUNTIFS(grupy!#REF!,sprawdzenie!I51,grupy!#REF!,"<>") -> #REF! | M51: CL_47 | N51: =COUNTIFS(grupy!#REF!,sprawdzenie!M51,grupy!#REF!,"<>") -> #REF! | O51: CK_12C | P51: =COUNTIFS(grupy!#REF!,sprawdzenie!O51,grupy!#REF!,"<>") -> #REF! | Q51: CK_10B | R51: =COUNTIFS(grupy!#REF!,sprawdzenie!Q51,grupy!#REF!,"<>") -> #REF! | T51: =COUNTIFS(grupy!#REF!,sprawdzenie!S51,grupy!#REF!,"<>") -> #REF! | U51: PP_8E | V51: =COUNTIFS(grupy!#REF!,sprawdzenie!U51,grupy!#REF!,"<>") -> #REF!
...
