Workbook

Sheet całość
B6: Szczegółowy Program Studiów na cykl 2026-2031
B9: Wydział Fizjoterapii
B10: Kierunek Fizjoterapia
B11: Rok studiów 1-5
B12: Forma studiów stacjonarna
B13: Cykl kształcenia rozpoczynający się w roku akademickim: 2026/2027
B16: Lp. | D16: Przedmiot (nazwa) | X16: SUMA GODZIN DYDAKTYCZNYCH | Y16: SUMA PUNKTÓW ECTS ZA PRZEDMIOT
C17: Rodzaj zajęć (obowiązkowe / wolnego wyboru / ograniczonego wyboru) | E17: semestr | F17: wykład (WY) | G17: seminarium (SE) | H17: ćwiczenia audytoryjne (CA) | I17: ćwiczenia kierunkowe - niekliniczne (CN) | J17: ćwiczenia w warunkach symulowanych (CS) | K17: ćwiczenia laboratoryjne (CL) | L17: ćwiczenia kliniczne (CK) | M17: zajęcia praktyczne przy pacjencie (PP) | N17: ćwiczenia specjalistyczne - magisterskie (CM) | O17: lektoraty (LE) | P17: e-learning (EL) | Q17: zajęcia wychowania fizycznego-obowiązkowe (WF) | R17: praktyka zawodowa (PZ) | S17: samokształcenie | T17: liczba godzin z nauczycielem | U17: ogólna liczba godzin dydaktycznych | V17: forma zakończenia semestru | W17: punkty ECTS w semestrze | AA17: czas pracy własnej studenta | AB17: Godziny do dyspozycji uczelni | AC17: Godziny zajęć on-line | AD17: ECTS on-line
B18: A. BIOMEDYCZNE PODSTAWY FIZJOTERAPII | AA18: A | AB18: A | AC18: A | AD18: A
B19: 1 | C19: obowiązkowy | D19: Anatomia prawidłowa człowieka 1 | E19: 1 | F19: 15 | I19: 35 | T19: =SUM(F19:Q19) -> 50 | U19: =SUM(F19:S19) -> 50 | V19: zal / o | W19: 2 | X19: =U19 -> 50 | Y19: =W19 -> 2 | AA19: =IF((Y19*25-X19)<0,0,(Y19*25-X19)) -> 0 | AB19: =IF((Z19*25-Y19)<0,0,(Z19*25-Y19)) -> 0
B20: 2 | C20: obowiązkowy | D20: Anatomia prawidłowa człowieka 2 | E20: 2 | F20: 15 | I20: 30 | T20: =SUM(F20:Q20) -> 45 | U20: =SUM(F20:S20) -> 45 | V20: egz | W20: 3 | X20: =U20 -> 45 | Y20: =W20 -> 3 | AA20: =IF((Y20*25-X20)<0,0,(Y20*25-X20)) -> 30 | AB20: =IF((Z20*25-Y20)<0,0,(Z20*25-Y20)) -> 0
A21: * | B21: 3 | C21: obowiązkowy | D21: Anatomia rentgenowska | E21: 2 | F21: 10 | T21: =SUM(F21:Q21) -> 10 | U21: =SUM(F21:S21) -> 10 | V21: zal / o | W21: 1 | X21: =U21 -> 10 | Y21: =W21 -> 1 | AA21: =IF((Y21*25-X21)<0,0,(Y21*25-X21)) -> 15 | AB21: =IF((Z21*25-Y21)<0,0,(Z21*25-Y21)) -> 0
B22: 4 | C22: obowiązkowy | D22: Anatomia palpacyjna i funkcjonalna | E22: 3 | F22: 10 | I22: 40 | T22: =SUM(F22:Q22) -> 50 | U22: =SUM(F22:S22) -> 50 | V22: egz | W22: 3 | X22: =U22 -> 50 | Y22: =W22 -> 3 | AA22: =IF((Y22*25-X22)<0,0,(Y22*25-X22)) -> 25 | AB22: =IF((Z22*25-Y22)<0,0,(Z22*25-Y22)) -> 0
A23: * | B23: 5 | C23: obowiązkowy | D23: Biologia medyczna z genetyką | E23: 1 | F23: 25 | T23: =SUM(F23:Q23) -> 25 | U23: =SUM(F23:S23) -> 25 | V23: zal / o | W23: 1 | X23: =U23 -> 25 | Y23: =W23 -> 1 | AA23: =IF((Y23*25-X23)<0,0,(Y23*25-X23)) -> 0 | AB23: =IF((Z23*25-Y23)<0,0,(Z23*25-Y23)) -> 0 | AC23: 25 | AD23: =(F23*1/X23)*Y23 -> 1
A24: * | B24: 6 | C24: obowiązkowy | D24: Biochemia | E24: 1 | F24: 25 | T24: =SUM(F24:Q24) -> 25 | U24: =SUM(F24:S24) -> 25 | V24: zal / o | W24: 1 | X24: =U24 -> 25 | Y24: =W24 -> 1 | AA24: =IF((Y24*25-X24)<0,0,(Y24*25-X24)) -> 0 | AB24: =IF((Z24*25-Y24)<0,0,(Z24*25-Y24)) -> 0 | AC24: 25 | AD24: =(F24*1/X24)*Y24 -> 1
A25: * | B25: 7 | C25: obowiązkowy | D25: Fizjologia 1 - fizjologia ogólna, fizjologia bólu i diagnostyka fizjologiczna | E25: 1 | F25: 20 | I25: 10 | T25: =SUM(F25:Q25) -> 30 | U25: =SUM(F25:S25) -> 30 | V25: egz | W25: 2 | X25: =U25 -> 30 | Y25: =W25 -> 2 | AA25: =IF((Y25*25-X25)<0,0,(Y25*25-X25)) -> 20 | AB25: =IF((Z25*25-Y25)<0,0,(Z25*25-Y25)) -> 0 | AC25: 20 | AD25: =(F25*1/X25)*Y25 -> 1.3333333
A26: * | B26: 8 | C26: obowiązkowy | D26: Fizjologia 2 - fizjologia wysiłku fizycznego | E26: 2 | F26: 20 | I26: 20 | T26: =SUM(F26:Q26) -> 40 | U26: =SUM(F26:S26) -> 40 | V26: egz | W26: 3 | X26: =U26 -> 40 | Y26: =W26 -> 3 | AA26: =IF((Y26*25-X26)<0,0,(Y26*25-X26)) -> 35 | AB26: =IF((Z26*25-Y26)<0,0,(Z26*25-Y26)) -> 0 | AC26: 20 | AD26: =(F26*1/X26)*Y26 -> 1.5 | AG26: minimum | AI26: jest | AK26: godz. kont.
A27: * | B27: 9 | C27: obowiązkowy | D27: Farmakologia w fizjoterapii | E27: 3 | F27: 10 | H27: 5 | T27: =SUM(F27:Q27) -> 15 | U27: =SUM(F27:S27) -> 15 | V27: zal / o | W27: 1 | X27: =U27 -> 15 | Y27: =W27 -> 1 | AA27: =IF((Y27*25-X27)<0,0,(Y27*25-X27)) -> 10 | AB27: =IF((Z27*25-Y27)<0,0,(Z27*25-Y27)) -> 0 | AC27: 10 | AD27: =(F27*1/X27)*Y27 -> 0.66666667 | AG27: godz. | AH27: ECTS | AI27: godz. | AJ27: ECTS
A28: * | B28: 10 | C28: obowiązkowy | D28: Biofizyka | E28: 1 | F28: 15 | T28: =SUM(F28:Q28) -> 15 | U28: =SUM(F28:S28) -> 15 | V28: zal / o | W28: 2 | X28: =U28 -> 15 | Y28: =W28 -> 2 | AA28: =IF((Y28*25-X28)<0,0,(Y28*25-X28)) -> 35 | AB28: =IF((Z28*25-Y28)<0,0,(Z28*25-Y28)) -> 0 | AC28: 15 | AD28: =(F28*1/X28)*Y28 -> 2 | AF28: A | AG28: 400 | AH28: 25 | AI28: =X33 -> 400 | AJ28: =Y33 -> 25 | AK28: =T33 -> 400
A29: * | B29: 11 | C29: obowiązkowy | D29: Biomechanika | E29: 3 | F29: 15 | H29: 15 | T29: =SUM(F29:Q29) -> 30 | U29: =SUM(F29:S29) -> 30 | V29: egz | W29: 2 | X29: =U29 -> 30 | Y29: =W29 -> 2 | AA29: =IF((Y29*25-X29)<0,0,(Y29*25-X29)) -> 20 | AB29: =IF((Z29*25-Y29)<0,0,(Z29*25-Y29)) -> 0 | AF29: B | AG29: 300 | AH29: 18 | AI29: =X52 -> 335 | AJ29: =Y52 -> 18 | AK29: =T52 -> 335
A30: * | B30: 12 | C30: obowiązkowy | D30: Ergonomia | E30: 2 | F30: 10 | I30: 10 | T30: =SUM(F30:Q30) -> 20 | U30: =SUM(F30:S30) -> 20 | V30: zal / o | W30: 2 | X30: =U30 -> 20 | Y30: =W30 -> 2 | AA30: =IF((Y30*25-X30)<0,0,(Y30*25-X30)) -> 30 | AB30: =IF((Z30*25-Y30)<0,0,(Z30*25-Y30)) -> 0 | AF30: C | AG30: 780 | AH30: 45 | AI30: =X74 -> 795 | AJ30: =Y74 -> 45 | AK30: =T74 -> 795
A31: * | B31: 13 | C31: obowiązkowy | D31: Patologia ogólna | E31: 4 | F31: 15 | H31: 5 | T31: =SUM(F31:Q31) -> 20 | U31: =SUM(F31:S31) -> 20 | V31: zal / o | W31: 1 | X31: =U31 -> 20 | Y31: =W31 -> 1 | AA31: =IF((Y31*25-X31)<0,0,(Y31*25-X31)) -> 5 | AB31: =IF((Z31*25-Y31)<0,0,(Z31*25-Y31)) -> 0 | AC31: 15 | AD31: =(F31*1/X31)*Y31 -> 0.75 | AF31: D | AG31: 1670 | AH31: 99 | AI31: =X121 -> 1680 | AJ31: =Y121 -> 99 | AK31: =T121 -> 1680
B32: 14 | C32: obowiązkowy | D32: Pierwsza pomoc | E32: 1 | F32: 5 | J32: 20 | T32: =SUM(F32:Q32) -> 25 | U32: =SUM(F32:S32) -> 25 | V32: zal / o | W32: 1 | X32: =U32 -> 25 | Y32: =W32 -> 1 | AA32: =IF((Y32*25-X32)<0,0,(Y32*25-X32)) -> 0 | AB32: =IF((Z32*25-Y32)<0,0,(Z32*25-Y32)) -> 0 | AF32: E | AG32: 50 | AH32: 25 | AI32: =X128 -> 50 | AJ32: =Y128 -> 25 | AK32: =T128 -> 50
B33: Suma | F33: =SUM(F19:F32) -> 210 | G33: =SUM(G19:G32) -> 0 | H33: =SUM(H19:H32) -> 25 | I33: =SUM(I19:I32) -> 145 | J33: =SUM(J19:J32) -> 20 | K33: =SUM(K19:K32) -> 0 | L33: =SUM(L19:L32) -> 0 | M33: =SUM(M19:M32) -> 0 | ... U33: =SUM(U19:U32) -> 400 | W33: =SUM(W19:W32) -> 25 | X33: =SUM(X19:X32) -> 400 | Y33: =W33 -> 25 | AA33: =SUM(AA19:AA32) -> 225 | AB33: =SUM(AB19:AB32) -> 0 | AC33: =SUM(AC19:AC32) -> 130 | AD33: =SUM(AD19:AD32) -> 8.25 | AF33: F | AG33: 1560 | AH33: 58 | AI33: =X137 -> 1560 | AJ33: =Y137 -> 58 | AK33: =R137 -> 1560
B34: B. NAUKI OGÓLNE | AA34: B | AB34: B | AC34: B | AD34: B | AF34: G*+reszta | AG34: 500 | AH34: 30 | AI34: =AB157 -> 485 | AJ34: =Y156 -> 30 | AK34: =T156 -> 485
B35: 1 | C35: obowiązkowy | D35: Język obcy 1 | E35: 1 | O35: 30 | T35: =SUM(F35:Q35) -> 30 | U35: =SUM(F35:S35) -> 30 | V35: zal / o | W35: 1 | X35: =U35 -> 30 | Y35: =W35 -> 1 | AA35: =IF((Y35*25-X35)<0,0,(Y35*25-X35)) -> 0 | AB35: =IF((Z35*25-Y35)<0,0,(Z35*25-Y35)) -> 0 | AF35: razem | AG35: =SUM(AG28:AG34) -> 5260 | AH35: =SUM(AH28:AH34) -> 300 | AI35: =SUM(AI28:AI34) -> 5305 | AJ35: =SUM(AJ28:AJ34) -> 300 | AK35: =SUM(AK28:AK34) -> 5305
B36: 2 | C36: obowiązkowy | D36: Język obcy 2 | E36: 2 | O36: 30 | T36: =SUM(F36:Q36) -> 30 | U36: =SUM(F36:S36) -> 30 | V36: zal / o | W36: 1 | X36: =U36 -> 30 | Y36: =W36 -> 1 | AA36: =IF((Y36*25-X36)<0,0,(Y36*25-X36)) -> 0 | AB36: =IF((Z36*25-Y36)<0,0,(Z36*25-Y36)) -> 0 | AF36: A-F | AG36: =SUM(AG28:AG33) -> 4760 | AH36: =SUM(AH28:AH33) -> 270 | AI36: =SUM(AI28:AI33) -> 4820 | AJ36: =SUM(AJ28:AJ33) -> 270 | AK36: =SUM(AK28:AK33) -> 4820
B37: 3 | C37: obowiązkowy | D37: Język obcy 3 | E37: 3 | O37: 30 | T37: =SUM(F37:Q37) -> 30 | U37: =SUM(F37:S37) -> 30 | V37: zal / o | W37: 1 | X37: =U37 -> 30 | Y37: =W37 -> 1 | AA37: =IF((Y37*25-X37)<0,0,(Y37*25-X37)) -> 0 | AB37: =IF((Z37*25-Y37)<0,0,(Z37*25-Y37)) -> 0
B38: 4 | C38: obowiązkowy | D38: Język obcy 4 | E38: 4 | O38: 30 | T38: =SUM(F38:Q38) -> 30 | U38: =SUM(F38:S38) -> 30 | V38: egz | W38: 2 | X38: =U38 -> 30 | Y38: =W38 -> 2 | AA38: =IF((Y38*25-X38)<0,0,(Y38*25-X38)) -> 20 | AB38: =IF((Z38*25-Y38)<0,0,(Z38*25-Y38)) -> 0
A39: * | B39: 5 | C39: obowiązkowy | D39: Psychologia 1 - psychologia ogólna i psychoterapia | E39: 1 | F39: 10 | T39: =SUM(F39:Q39) -> 10 | U39: =SUM(F39:S39) -> 10 | V39: zal / o | W39: 1 | X39: =U39 -> 10 | Y39: =W39 -> 1 | AA39: =IF((Y39*25-X39)<0,0,(Y39*25-X39)) -> 15 | AB39: =IF((Z39*25-Y39)<0,0,(Z39*25-Y39)) -> 0
A40: * | B40: 6 | C40: obowiązkowy | D40: Psychologia 2 - psychologia kliniczna i komunikacja kliniczna | E40: 2 | F40: 10 | H40: 10 | T40: =SUM(F40:Q40) -> 20 | U40: =SUM(F40:S40) -> 20 | V40: egz | W40: 2 | X40: =U40 -> 20 | Y40: =W40 -> 2 | AA40: =IF((Y40*25-X40)<0,0,(Y40*25-X40)) -> 30 | AB40: =IF((Z40*25-Y40)<0,0,(Z40*25-Y40)) -> 0 | AF40: * moduł G - autorska oferta uczelni. Razem z ewentualnymi godzinami (i pkt. ECTS) rozdysponowanymi wśród przedmiotów określonych standardem z bloku A-E tworzą "Godziny do dyspozycji uczelni", których powinno być min. 500 godz. i 30 ECTS
A41: * | B41: 7 | C41: obowiązkowy | D41: Socjologia ogólna i niepełnosprawności | E41: 1 | F41: 10 | T41: =SUM(F41:Q41) -> 10 | U41: =SUM(F41:S41) -> 10 | V41: zal / o | W41: 1 | X41: =U41 -> 10 | Y41: =W41 -> 1 | AA41: =IF((Y41*25-X41)<0,0,(Y41*25-X41)) -> 15 | AB41: =IF((Z41*25-Y41)<0,0,(Z41*25-Y41)) -> 0 | AC41: 10 | AD41: =(F41*1/X41)*Y41 -> 1
A42: * | B42: 8 | C42: obowiązkowy | D42: Pedagogika ogólna i specjalna | E42: 1 | F42: 10 | H42: 5 | T42: =SUM(F42:Q42) -> 15 | U42: =SUM(F42:S42) -> 15 | V42: zal / o | W42: 1 | X42: =U42 -> 15 | Y42: =W42 -> 1 | AA42: =IF((Y42*25-X42)<0,0,(Y42*25-X42)) -> 10 | AB42: =IF((Z42*25-Y42)<0,0,(Z42*25-Y42)) -> 0 | AC42: 10 | AD42: =(F42*1/X42)*Y42 -> 0.66666667
A43: * | B43: 9 | C43: obowiązkowy | D43: Dydaktyka fizjoterapii | E43: 7 | F43: 10 | H43: 20 | T43: =SUM(F43:Q43) -> 30 | U43: =SUM(F43:S43) -> 30 | V43: zal / o | W43: 2 | X43: =U43 -> 30 | Y43: =W43 -> 2 | AA43: =IF((Y43*25-X43)<0,0,(Y43*25-X43)) -> 20 | AB43: =IF((Z43*25-Y43)<0,0,(Z43*25-Y43)) -> 0
B44: 10 | C44: obowiązkowy | D44: Podstawy prawa | E44: 1 | F44: 10 | T44: =SUM(F44:Q44) -> 10 | U44: =SUM(F44:S44) -> 10 | V44: zal / o | W44: 1 | X44: =U44 -> 10 | Y44: =W44 -> 1 | AA44: =IF((Y44*25-X44)<0,0,(Y44*25-X44)) -> 15 | AB44: =IF((Z44*25-Y44)<0,0,(Z44*25-Y44)) -> 0 | AC44: 10 | AD44: =(F44*1/X44)*Y44 -> 1
A45: * | B45: 11 | C45: obowiązkowy | D45: Zdrowie publiczne z demografią i epidemiologią | E45: 1 | F45: 10 | H45: 5 | T45: =SUM(F45:Q45) -> 15 | U45: =SUM(F45:S45) -> 15 | V45: zal / o | W45: 1 | X45: =U45 -> 15 | Y45: =W45 -> 1 | AA45: =IF((Y45*25-X45)<0,0,(Y45*25-X45)) -> 10 | AB45: =IF((Z45*25-Y45)<0,0,(Z45*25-Y45)) -> 0 | AC45: 10 | AD45: =(F45*1/X45)*Y45 -> 0.66666667
A46: * | B46: 12 | C46: obowiązkowy | D46: Ekonomia, system ochrony zdrowia i technologie informacyjne | E46: 1 | F46: 10 | T46: =SUM(F46:Q46) -> 10 | U46: =SUM(F46:S46) -> 10 | V46: zal / o | W46: 1 | X46: =U46 -> 10 | Y46: =W46 -> 1 | AA46: =IF((Y46*25-X46)<0,0,(Y46*25-X46)) -> 15 | AB46: =IF((Z46*25-Y46)<0,0,(Z46*25-Y46)) -> 0 | AC46: 10 | AD46: =(F46*1/X46)*Y46 -> 1
B47: 13 | C47: obowiązkowy | D47: Zarządzanie i marketing | E47: 8 | F47: 10 | H47: 5 | T47: =SUM(F47:Q47) -> 15 | U47: =SUM(F47:S47) -> 15 | V47: zal / o | W47: 1 | X47: =U47 -> 15 | Y47: =W47 -> 1 | AA47: =IF((Y47*25-X47)<0,0,(Y47*25-X47)) -> 10 | AB47: =IF((Z47*25-Y47)<0,0,(Z47*25-Y47)) -> 0 | AC47: 10 | AD47: =(F47*1/X47)*Y47 -> 0.66666667
B48: 14 | C48: obowiązkowy | D48: Filozofia i bioetyka | E48: 1 | F48: 5 | H48: 5 | T48: =SUM(F48:Q48) -> 10 | U48: =SUM(F48:S48) -> 10 | V48: zal / o | W48: 1 | X48: =U48 -> 10 | Y48: =W48 -> 1 | AA48: =IF((Y48*25-X48)<0,0,(Y48*25-X48)) -> 15 | AB48: =IF((Z48*25-Y48)<0,0,(Z48*25-Y48)) -> 0
B49: 15 | C49: obowiązkowy | D49: Wychowanie fizyczne 1 | E49: 1 | Q49: 30 | T49: =SUM(F49:Q49) -> 30 | U49: =SUM(F49:S49) -> 30 | V49: zal | X49: =U49 -> 30 | Y49: =W49 -> 0 | AA49: =IF((Y49*25-X49)<0,0,(Y49*25-X49)) -> 0 | AB49: =IF((Z49*25-Y49)<0,0,(Z49*25-Y49)) -> 0
B50: 16 | C50: obowiązkowy | D50: Wychowanie fizyczne 2 | E50: 2 | Q50: 30 | T50: =SUM(F50:Q50) -> 30 | U50: =SUM(F50:S50) -> 30 | V50: zal | X50: =U50 -> 30 | Y50: =W50 -> 0 | AA50: =IF((Y50*25-X50)<0,0,(Y50*25-X50)) -> 0 | AB50: =IF((Z50*25-Y50)<0,0,(Z50*25-Y50)) -> 0
A51: * | B51: 17 | C51: obowiązkowy | D51: Historia fizjoterapii | E51: 1 | F51: 10 | T51: =SUM(F51:Q51) -> 10 | U51: =SUM(F51:S51) -> 10 | V51: zal / o | W51: 1 | X51: =U51 -> 10 | Y51: =W51 -> 1 | AA51: =IF((Y51*25-X51)<0,0,(Y51*25-X51)) -> 15 | AB51: =IF((Z51*25-Y51)<0,0,(Z51*25-Y51)) -> 0 | AC51: 10 | AD51: =(F51*1/X51)*Y51 -> 1
B52: Suma | F52: =SUM(F35:F51) -> 105 | G52: =SUM(G35:G51) -> 0 | H52: =SUM(H35:H51) -> 50 | I52: =SUM(I35:I51) -> 0 | J52: =SUM(J35:J51) -> 0 | K52: =SUM(K35:K51) -> 0 | L52: =SUM(L35:L51) -> 0 | M52: =SUM(M35:M51) -> 0 | ... U52: =SUM(U35:U51) -> 335 | W52: =SUM(W35:W51) -> 18 | X52: =SUM(X35:X51) -> 335 | Y52: =W52 -> 18 | AA52: =SUM(AA35:AA51) -> 190 | AB52: =SUM(AB35:AB51) -> 0 | AC52: =SUM(AC35:AC51) -> 70 | AD52: =SUM(AD35:AD51) -> 6
B53: C. PODSTAWY FIZJOTERAPII | AA53: C | AB53: C | AC53: C | AD53: C
A54: * | B54: 1 | C54: obowiązkowy | D54: Fizjoterapia ogólna 1 | E54: 1 | F54: 20 | H54: 5 | T54: =SUM(F54:Q54) -> 25 | U54: =SUM(F54:S54) -> 25 | V54: zal / o | W54: 1 | X54: =U54 -> 25 | Y54: =W54 -> 1 | AA54: =IF((Y54*25-X54)<0,0,(Y54*25-X54)) -> 0 | AB54: =IF((Z54*25-Y54)<0,0,(Z54*25-Y54)) -> 0
B55: 2 | C55: obowiązkowy | D55: Fizjoterapia ogólna 2 | E55: 2 | F55: 10 | H55: 5 | T55: =SUM(F55:Q55) -> 15 | U55: =SUM(F55:S55) -> 15 | V55: zal / o | W55: 1 | X55: =U55 -> 15 | Y55: =W55 -> 1 | AA55: =IF((Y55*25-X55)<0,0,(Y55*25-X55)) -> 10 | AB55: =IF((Z55*25-Y55)<0,0,(Z55*25-Y55)) -> 0
B56: 3 | C56: obowiązkowy | D56: Kształcenie ruchowe i metodyka nauczania ruchu 1 | E56: 1 | F56: 15 | H56: 15 | T56: =SUM(F56:Q56) -> 30 | U56: =SUM(F56:S56) -> 30 | V56: zal / o | W56: 1 | X56: =U56 -> 30 | Y56: =W56 -> 1 | AA56: =IF((Y56*25-X56)<0,0,(Y56*25-X56)) -> 0 | AB56: 5
B57: 4 | C57: obowiązkowy | D57: Kształcenie ruchowe i metodyka nauczania ruchu 2 | E57: 2 | F57: 10 | H57: 20 | T57: =SUM(F57:Q57) -> 30 | U57: =SUM(F57:S57) -> 30 | V57: egz | W57: 2 | X57: =U57 -> 30 | Y57: =W57 -> 2 | AA57: =IF((Y57*25-X57)<0,0,(Y57*25-X57)) -> 20 | AB57: 10
B58: 5 | C58: obowiązkowy | D58: Kształcenie ruchowe i metodyka nauczania ruchu 3 - pływanie | E58: 2 | Q58: 25 | T58: =SUM(F58:Q58) -> 25 | U58: =SUM(F58:S58) -> 25 | V58: zal / o | W58: 1 | X58: =U58 -> 25 | Y58: =W58 -> 1 | AA58: =IF((Y58*25-X58)<0,0,(Y58*25-X58)) -> 0 | AB58: =IF((Z58*25-Y58)<0,0,(Z58*25-Y58)) -> 0
B59: 6 | C59: obowiązkowy | D59: Kinezyterapia 1 | E59: 2 | F59: 15 | I59: 30 | T59: =SUM(F59:Q59) -> 45 | U59: =SUM(F59:S59) -> 45 | V59: zal / o | W59: 3 | X59: =U59 -> 45 | Y59: =W59 -> 3 | AA59: =IF((Y59*25-X59)<0,0,(Y59*25-X59)) -> 30 | AB59: =IF((Z59*25-Y59)<0,0,(Z59*25-Y59)) -> 0
B60: 7 | C60: obowiązkowy | D60: Kinezyterapia 2 | E60: 3 | F60: 15 | I60: 30 | T60: =SUM(F60:Q60) -> 45 | U60: =SUM(F60:S60) -> 45 | V60: zal / o | W60: 3 | X60: =U60 -> 45 | Y60: =W60 -> 3 | AA60: =IF((Y60*25-X60)<0,0,(Y60*25-X60)) -> 30 | AB60: =IF((Z60*25-Y60)<0,0,(Z60*25-Y60)) -> 0
A61: * | B61: 8 | C61: obowiązkowy | D61: Kinezyterapia 3 | E61: 4 | F61: 10 | I61: 30 | T61: =SUM(F61:Q61) -> 40 | U61: =SUM(F61:S61) -> 40 | V61: egz | W61: 4 | X61: =U61 -> 40 | Y61: =W61 -> 4 | AA61: =IF((Y61*25-X61)<0,0,(Y61*25-X61)) -> 60 | AB61: =IF((Z61*25-Y61)<0,0,(Z61*25-Y61)) -> 0
A62: * | B62: 9 | C62: obowiązkowy | D62: Terapia manualna | E62: 5 | F62: 15 | I62: 30 | T62: =SUM(F62:Q62) -> 45 | U62: =SUM(F62:S62) -> 45 | V62: egz | W62: 3 | X62: =U62 -> 45 | Y62: =W62 -> 3 | AA62: =IF((Y62*25-X62)<0,0,(Y62*25-X62)) -> 30 | AB62: =IF((Z62*25-Y62)<0,0,(Z62*25-Y62)) -> 0
A63: * | B63: 10 | C63: obowiązkowy | D63: Medycyna fizykalna 1 – podstawy fizykoterapii | E63: 1 | F63: 10 | I63: 40 | T63: =SUM(F63:Q63) -> 50 | U63: =SUM(F63:S63) -> 50 | V63: zal / o | W63: 2 | X63: =U63 -> 50 | Y63: =W63 -> 2 | AA63: =IF((Y63*25-X63)<0,0,(Y63*25-X63)) -> 0 | AB63: =IF((Z63*25-Y63)<0,0,(Z63*25-Y63)) -> 0
A64: * | B64: 11 | C64: obowiązkowy | D64: Medycyna fizykalna 2 – nowoczesne metody fizykoterapii | E64: 2 | F64: 10 | I64: 20 | T64: =SUM(F64:Q64) -> 30 | U64: =SUM(F64:S64) -> 30 | V64: egz | W64: 3 | X64: =U64 -> 30 | Y64: =W64 -> 3 | AA64: =IF((Y64*25-X64)<0,0,(Y64*25-X64)) -> 45 | AB64: =IF((Z64*25-Y64)<0,0,(Z64*25-Y64)) -> 0
A65: * | B65: 12 | C65: obowiązkowy | D65: Medycyna fizykalna 3 – balneoklimatologia i odnowa biologiczna | E65: 5 | F65: 15 | I65: 10 | L65: 10 | T65: =SUM(F65:Q65) -> 35 | U65: =SUM(F65:S65) -> 35 | V65: zal / o | W65: 3 | X65: =U65 -> 35 | Y65: =W65 -> 3 | AA65: =IF((Y65*25-X65)<0,0,(Y65*25-X65)) -> 40 | AB65: =IF((Z65*25-Y65)<0,0,(Z65*25-Y65)) -> 0
B66: 13 | C66: obowiązkowy | D66: Masaż 1 | E66: 2 | F66: 10 | I66: 40 | T66: =SUM(F66:Q66) -> 50 | U66: =SUM(F66:S66) -> 50 | V66: zal / o | W66: 2 | X66: =U66 -> 50 | Y66: =W66 -> 2 | AA66: =IF((Y66*25-X66)<0,0,(Y66*25-X66)) -> 0 | AB66: =IF((Z66*25-Y66)<0,0,(Z66*25-Y66)) -> 0
A67: * | B67: 14 | C67: obowiązkowy | D67: Masaż 2 | E67: 3 | F67: 10 | I67: 40 | T67: =SUM(F67:Q67) -> 50 | U67: =SUM(F67:S67) -> 50 | V67: egz | W67: 3 | X67: =U67 -> 50 | Y67: =W67 -> 3 | AA67: =IF((Y67*25-X67)<0,0,(Y67*25-X67)) -> 25 | AB67: =IF((Z67*25-Y67)<0,0,(Z67*25-Y67)) -> 0
A68: * | B68: 15 | C68: obowiązkowy | D68: Metody specjalne fizjoterapii 1 | E68: 7 | F68: 10 | I68: 75 | T68: =SUM(F68:Q68) -> 85 | U68: =SUM(F68:S68) -> 85 | V68: zal / o | W68: 3 | X68: =U68 -> 85 | Y68: =W68 -> 3 | AA68: =IF((Y68*25-X68)<0,0,(Y68*25-X68)) -> 0 | AB68: =IF((Z68*25-Y68)<0,0,(Z68*25-Y68)) -> 0
A69: * | B69: 16 | C69: obowiązkowy | D69: Metody specjalne fizjoterapii 2 | E69: 8 | F69: 10 | I69: 71 | J69: 4 | T69: =SUM(F69:Q69) -> 85 | U69: =SUM(F69:S69) -> 85 | V69: egz | W69: 4 | X69: =U69 -> 85 | Y69: =W69 -> 4 | AA69: =IF((Y69*25-X69)<0,0,(Y69*25-X69)) -> 15 | AB69: =IF((Z69*25-Y69)<0,0,(Z69*25-Y69)) -> 0
B70: 17 | C70: obowiązkowy | D70: Adaptowana aktywność fizyczna | E70: 9 | F70: 15 | I70: 10 | T70: =SUM(F70:Q70) -> 25 | U70: =SUM(F70:S70) -> 25 | V70: zal / o | W70: 1 | X70: =U70 -> 25 | Y70: =W70 -> 1 | AA70: =IF((Y70*25-X70)<0,0,(Y70*25-X70)) -> 0 | AB70: =IF((Z70*25-Y70)<0,0,(Z70*25-Y70)) -> 0
A71: * | B71: 18 | C71: obowiązkowy | D71: Sport osób z niepełnosprawnościami | E71: 9 | F71: 10 | I71: 15 | T71: =SUM(F71:Q71) -> 25 | U71: =SUM(F71:S71) -> 25 | V71: zal / o | W71: 1 | X71: =U71 -> 25 | Y71: =W71 -> 1 | AA71: =IF((Y71*25-X71)<0,0,(Y71*25-X71)) -> 0 | AB71: =IF((Z71*25-Y71)<0,0,(Z71*25-Y71)) -> 0 | AC71: =F71 -> 10 | AD71: =(F71*1/X71)*Y71 -> 0.4
A72: * | B72: 19 | C72: obowiązkowy | D72: Wyroby medyczne | E72: 9 | F72: 25 | H72: 5 | T72: =SUM(F72:Q72) -> 30 | U72: =SUM(F72:S72) -> 30 | V72: egz | W72: 2 | X72: =U72 -> 30 | Y72: =W72 -> 2 | AA72: =IF((Y72*25-X72)<0,0,(Y72*25-X72)) -> 20 | AB72: =IF((Z72*25-Y72)<0,0,(Z72*25-Y72)) -> 0
A73: * | B73: 20 | C73: obowiązkowy | D73: Fizjoprofilaktyka i promocja zdrowia | E73: 1 | F73: 10 | H73: 20 | T73: =SUM(F73:Q73) -> 30 | U73: =SUM(F73:S73) -> 30 | V73: zal / o | W73: 2 | X73: =U73 -> 30 | Y73: =W73 -> 2 | AA73: =IF((Y73*25-X73)<0,0,(Y73*25-X73)) -> 20 | AB73: =IF((Z73*25-Y73)<0,0,(Z73*25-Y73)) -> 0
B74: Suma | F74: =SUM(F54:F73) -> 245 | G74: =SUM(G54:G73) -> 0 | H74: =SUM(H54:H73) -> 70 | I74: =SUM(I54:I73) -> 441 | J74: =SUM(J54:J73) -> 4 | K74: =SUM(K54:K73) -> 0 | L74: =SUM(L54:L73) -> 10 | M74: =SUM(M54:M73) -> 0 | ... U74: =SUM(U54:U73) -> 795 | W74: =SUM(W54:W73) -> 45 | X74: =SUM(X54:X73) -> 795 | Y74: =W74 -> 45 | AA74: =SUM(AA54:AA73) -> 345 | AB74: =SUM(AB54:AB73) -> 15 | AC74: 10 | AD74: =SUM(AD54:AD73) -> 0.4
B75: D. FIZJOTERAPIA KLINICZNA | AA75: D | AB75: D | AC75: D | AD75: D
B76: 1 | C76: obowiązkowy | D76: Kliniczne podstawy fizjoterapii w ortopedii i traumatologii 1 | E76: 2 | F76: 25 | T76: =SUM(F76:Q76) -> 25 | U76: =SUM(F76:S76) -> 25 | V76: zal / o | W76: 2 | X76: =U76 -> 25 | Y76: =W76 -> 2 | AA76: =IF((Y76*25-X76)<0,0,(Y76*25-X76)) -> 25 | AB76: =IF((Z76*25-Y76)<0,0,(Z76*25-Y76)) -> 0 | AC76: 25 | AD76: =(F76*1/X76)*Y76 -> 2
A77: * | B77: 2 | C77: obowiązkowy | D77: Kliniczne podstawy fizjoterapii w ortopedii i traumatologii 2 | E77: 3 | F77: 25 | T77: =SUM(F77:Q77) -> 25 | U77: =SUM(F77:S77) -> 25 | V77: egz | W77: 2 | X77: =U77 -> 25 | Y77: =W77 -> 2 | AA77: =IF((Y77*25-X77)<0,0,(Y77*25-X77)) -> 25 | AB77: =IF((Z77*25-Y77)<0,0,(Z77*25-Y77)) -> 0 | AC77: 25 | AD77: =(F77*1/X77)*Y77 -> 2
A78: * | B78: 3 | C78: obowiązkowy | D78: Kliniczne podstawy fizjoterapii w medycynie sportowej | E78: 5 | F78: 25 | T78: =SUM(F78:Q78) -> 25 | U78: =SUM(F78:S78) -> 25 | V78: zal / o | W78: 1 | X78: =U78 -> 25 | Y78: =W78 -> 1 | AA78: =IF((Y78*25-X78)<0,0,(Y78*25-X78)) -> 0 | AB78: =IF((Z78*25-Y78)<0,0,(Z78*25-Y78)) -> 0 | AC78: 25 | AD78: =(F78*1/X78)*Y78 -> 1
A79: * | B79: 4 | C79: obowiązkowy | D79: Kliniczne podstawy fizjoterapii w reumatologii | E79: 4 | F79: 15 | T79: =SUM(F79:Q79) -> 15 | U79: =SUM(F79:S79) -> 15 | V79: egz | W79: 2 | X79: =U79 -> 15 | Y79: =W79 -> 2 | AA79: =IF((Y79*25-X79)<0,0,(Y79*25-X79)) -> 35 | AB79: =IF((Z79*25-Y79)<0,0,(Z79*25-Y79)) -> 0 | AC79: 15 | AD79: =(F79*1/X79)*Y79 -> 2
B80: 5 | C80: obowiązkowy | D80: Kliniczne podstawy fizjoterapii w neurologii i neurochirurgii 1 | E80: 3 | F80: 25 | T80: =SUM(F80:Q80) -> 25 | U80: =SUM(F80:S80) -> 25 | V80: zal / o | W80: 2 | X80: =U80 -> 25 | Y80: =W80 -> 2 | AA80: =IF((Y80*25-X80)<0,0,(Y80*25-X80)) -> 25 | AB80: =IF((Z80*25-Y80)<0,0,(Z80*25-Y80)) -> 0 | AC80: 25 | AD80: =(F80*1/X80)*Y80 -> 2
A81: * | B81: 6 | C81: obowiązkowy | D81: Kliniczne podstawy fizjoterapii w neurologii i neurochirurgii 2 | E81: 4 | F81: 25 | T81: =SUM(F81:Q81) -> 25 | U81: =SUM(F81:S81) -> 25 | V81: egz | W81: 2 | X81: =U81 -> 25 | Y81: =W81 -> 2 | AA81: =IF((Y81*25-X81)<0,0,(Y81*25-X81)) -> 25 | AB81: =IF((Z81*25-Y81)<0,0,(Z81*25-Y81)) -> 0 | AC81: 25 | AD81: =(F81*1/X81)*Y81 -> 2
A82: * | B82: 7 | C82: obowiązkowy | D82: Kliniczne podstawy fizjoterapii w pediatrii | E82: 2 | F82: 15 | T82: =SUM(F82:Q82) -> 15 | U82: =SUM(F82:S82) -> 15 | V82: zal / o | W82: 1 | X82: =U82 -> 15 | Y82: =W82 -> 1 | AA82: =IF((Y82*25-X82)<0,0,(Y82*25-X82)) -> 10 | AB82: =IF((Z82*25-Y82)<0,0,(Z82*25-Y82)) -> 0 | AC82: 15 | AD82: =(F82*1/X82)*Y82 -> 1
A83: * | B83: 8 | C83: obowiązkowy | D83: Kliniczne podstawy fizjoterapii w neurologii dziecięcej | E83: 3 | F83: 15 | T83: =SUM(F83:Q83) -> 15 | U83: =SUM(F83:S83) -> 15 | V83: zal / o | W83: 1 | X83: =U83 -> 15 | Y83: =W83 -> 1 | AA83: =IF((Y83*25-X83)<0,0,(Y83*25-X83)) -> 10 | AB83: =IF((Z83*25-Y83)<0,0,(Z83*25-Y83)) -> 0 | AC83: 15 | AD83: =(F83*1/X83)*Y83 -> 1
B84: 9 | C84: obowiązkowy | D84: Kliniczne podstawy fizjoterapii w kardiologii i kardiochirurgii 1 | E84: 3 | F84: 15 | T84: =SUM(F84:Q84) -> 15 | U84: =SUM(F84:S84) -> 15 | V84: zal / o | W84: 2 | X84: =U84 -> 15 | Y84: =W84 -> 2 | AA84: =IF((Y84*25-X84)<0,0,(Y84*25-X84)) -> 35 | AB84: =IF((Z84*25-Y84)<0,0,(Z84*25-Y84)) -> 0 | AC84: 15 | AD84: =(F84*1/X84)*Y84 -> 2
A85: * | B85: 10 | C85: obowiązkowy | D85: Kliniczne podstawy fizjoterapii w kardiologii i kardiochirurgii 2 | E85: 4 | F85: 10 | T85: =SUM(F85:Q85) -> 10 | U85: =SUM(F85:S85) -> 10 | V85: egz | W85: 2 | X85: =U85 -> 10 | Y85: =W85 -> 2 | AA85: =IF((Y85*25-X85)<0,0,(Y85*25-X85)) -> 40 | AB85: =IF((Z85*25-Y85)<0,0,(Z85*25-Y85)) -> 0 | AC85: 10 | AD85: =(F85*1/X85)*Y85 -> 2
A86: * | B86: 11 | C86: obowiązkowy | D86: Kliniczne podstawy fizjoterapii w pulmonologii | E86: 4 | F86: 15 | T86: =SUM(F86:Q86) -> 15 | U86: =SUM(F86:S86) -> 15 | V86: zal / o | W86: 1 | X86: =U86 -> 15 | Y86: =W86 -> 1 | AA86: =IF((Y86*25-X86)<0,0,(Y86*25-X86)) -> 10 | AB86: =IF((Z86*25-Y86)<0,0,(Z86*25-Y86)) -> 0 | AC86: 15 | AD86: =(F86*1/X86)*Y86 -> 1
A87: * | B87: 12 | C87: obowiązkowy | D87: Kliniczne podstawy fizjoterapii w chirurgii | E87: 5 | F87: 15 | T87: =SUM(F87:Q87) -> 15 | U87: =SUM(F87:S87) -> 15 | V87: zal / o | W87: 1 | X87: =U87 -> 15 | Y87: =W87 -> 1 | AA87: =IF((Y87*25-X87)<0,0,(Y87*25-X87)) -> 10 | AB87: =IF((Z87*25-Y87)<0,0,(Z87*25-Y87)) -> 0 | AC87: 15 | AD87: =(F87*1/X87)*Y87 -> 1
A88: * | B88: 13 | C88: obowiązkowy | D88: Kliniczne podstawy fizjoterapii w ginekologii i położnictwie | E88: 4 | F88: 15 | T88: =SUM(F88:Q88) -> 15 | U88: =SUM(F88:S88) -> 15 | V88: zal / o | W88: 1 | X88: =U88 -> 15 | Y88: =W88 -> 1 | AA88: =IF((Y88*25-X88)<0,0,(Y88*25-X88)) -> 10 | AB88: =IF((Z88*25-Y88)<0,0,(Z88*25-Y88)) -> 0 | AC88: 15 | AD88: =(F88*1/X88)*Y88 -> 1
A89: * | B89: 14 | C89: obowiązkowy | D89: Kliniczne podstawy fizjoterapii w geriatrii | E89: 3 | F89: 12 | J89: 3 | T89: =SUM(F89:Q89) -> 15 | U89: =SUM(F89:S89) -> 15 | V89: zal / o | W89: 1 | X89: =U89 -> 15 | Y89: =W89 -> 1 | AA89: =IF((Y89*25-X89)<0,0,(Y89*25-X89)) -> 10 | AB89: =IF((Z89*25-Y89)<0,0,(Z89*25-Y89)) -> 0 | AC89: 12 | AD89: =(F89*1/X89)*Y89 -> 0.8
A90: * | B90: 15 | C90: obowiązkowy | D90: Kliniczne podstawy fizjoterapii w psychiatrii | E90: 3 | F90: 15 | T90: =SUM(F90:Q90) -> 15 | U90: =SUM(F90:S90) -> 15 | V90: zal / o | W90: 1 | X90: =U90 -> 15 | Y90: =W90 -> 1 | AA90: =IF((Y90*25-X90)<0,0,(Y90*25-X90)) -> 10 | AB90: =IF((Z90*25-Y90)<0,0,(Z90*25-Y90)) -> 0 | AC90: 15 | AD90: =(F90*1/X90)*Y90 -> 1
A91: * | B91: 16 | C91: obowiązkowy | D91: Kliniczne podstawy fizjoterapii w intensywnej terapii | E91: 4 | F91: 10 | T91: =SUM(F91:Q91) -> 10 | U91: =SUM(F91:S91) -> 10 | V91: zal / o | W91: 1 | X91: =U91 -> 10 | Y91: =W91 -> 1 | AA91: =IF((Y91*25-X91)<0,0,(Y91*25-X91)) -> 15 | AB91: =IF((Z91*25-Y91)<0,0,(Z91*25-Y91)) -> 0 | AC91: 10 | AD91: =(F91*1/X91)*Y91 -> 1
B92: 17 | C92: obowiązkowy | D92: Kliniczne podstawy fizjoterapii w onkologii i medycynie paliatywnej 1 | E92: 3 | F92: 10 | T92: =SUM(F92:Q92) -> 10 | U92: =SUM(F92:S92) -> 10 | V92: zal / o | W92: 1 | X92: =U92 -> 10 | Y92: =W92 -> 1 | AA92: =IF((Y92*25-X92)<0,0,(Y92*25-X92)) -> 15 | AB92: =IF((Z92*25-Y92)<0,0,(Z92*25-Y92)) -> 0 | AC92: 10 | AD92: =(F92*1/X92)*Y92 -> 1
A93: * | B93: 18 | C93: obowiązkowy | D93: Kliniczne podstawy fizjoterapii w onkologii i medycynie paliatywnej 2 | E93: 4 | F93: 10 | T93: =SUM(F93:Q93) -> 10 | U93: =SUM(F93:S93) -> 10 | V93: zal / o | W93: 1 | X93: =U93 -> 10 | Y93: =W93 -> 1 | AA93: =IF((Y93*25-X93)<0,0,(Y93*25-X93)) -> 15 | AB93: =IF((Z93*25-Y93)<0,0,(Z93*25-Y93)) -> 0 | AC93: 10 | AD93: =(F93*1/X93)*Y93 -> 1
A94: * | B94: 19 | C94: obowiązkowy | D94: Fizjoterapia kliniczna w dysfunkcjach układu ruchu w ortopedii i traumatologii 1 | E94: 4 | F94: 35 | L94: 10 | T94: =SUM(F94:Q94) -> 45 | U94: =SUM(F94:S94) -> 45 | V94: zal / o | W94: 2 | X94: =U94 -> 45 | Y94: =W94 -> 2 | AA94: =IF((Y94*25-X94)<0,0,(Y94*25-X94)) -> 5 | AB94: =IF((Z94*25-Y94)<0,0,(Z94*25-Y94)) -> 0 | AC94: 35 | AD94: =(F94*1/X94)*Y94 -> 1.5555556
A95: * | B95: 20 | C95: obowiązkowy | D95: Fizjoterapia kliniczna w dysfunkcjach układu ruchu w ortopedii i traumatologii 2 | E95: 5 | F95: 25 | L95: 10 | T95: =SUM(F95:Q95) -> 35 | U95: =SUM(F95:S95) -> 35 | V95: egz | W95: 2 | X95: =U95 -> 35 | Y95: =W95 -> 2 | AA95: =IF((Y95*25-X95)<0,0,(Y95*25-X95)) -> 15 | AB95: =IF((Z95*25-Y95)<0,0,(Z95*25-Y95)) -> 0 | AC95: 25 | AD95: =(F95*1/X95)*Y95 -> 1.4285714
A96: * | B96: 21 | C96: obowiązkowy | D96: Fizjoterapia kliniczna w dysfunkcjach układu ruchu w medycynie sportowej 1 | E96: 6 | F96: 30 | L96: 10 | T96: =SUM(F96:Q96) -> 40 | U96: =SUM(F96:S96) -> 40 | V96: zal / o | W96: 3 | X96: =U96 -> 40 | Y96: =W96 -> 3 | AA96: =IF((Y96*25-X96)<0,0,(Y96*25-X96)) -> 35 | AB96: =IF((Z96*25-Y96)<0,0,(Z96*25-Y96)) -> 0 | AC96: 30 | AD96: =(F96*1/X96)*Y96 -> 2.25
A97: * | B97: 22 | C97: obowiązkowy | D97: Fizjoterapia kliniczna w dysfunkcjach układu ruchu w medycynie sportowej 2 | E97: 7 | F97: 25 | L97: 10 | T97: =SUM(F97:Q97) -> 35 | U97: =SUM(F97:S97) -> 35 | V97: egz | W97: 2 | X97: =U97 -> 35 | Y97: =W97 -> 2 | AA97: =IF((Y97*25-X97)<0,0,(Y97*25-X97)) -> 15 | AB97: =IF((Z97*25-Y97)<0,0,(Z97*25-Y97)) -> 0 | AC97: 25 | AD97: =(F97*1/X97)*Y97 -> 1.4285714
A98: * | B98: 23 | C98: obowiązkowy | D98: Fizjoterapia kliniczna w dysfunkcjach układu ruchu w reumatologii | E98: 6 | F98: 20 | H98: 10 | L98: 20 | T98: =SUM(F98:Q98) -> 50 | U98: =SUM(F98:S98) -> 50 | V98: egz | W98: 3 | X98: =U98 -> 50 | Y98: =W98 -> 3 | AA98: =IF((Y98*25-X98)<0,0,(Y98*25-X98)) -> 25 | AB98: =IF((Z98*25-Y98)<0,0,(Z98*25-Y98)) -> 0 | AC98: 20 | AD98: =(F98*1/X98)*Y98 -> 1.2
A99: * | B99: 24 | C99: obowiązkowy | D99: Fizjoterapia kliniczna w dysfunkcjach układu ruchu w neurologii i neurochirurgii 1 | E99: 5 | F99: 30 | L99: 20 | T99: =SUM(F99:Q99) -> 50 | U99: =SUM(F99:S99) -> 50 | V99: zal / o | W99: 2 | X99: =U99 -> 50 | Y99: =W99 -> 2 | AA99: =IF((Y99*25-X99)<0,0,(Y99*25-X99)) -> 0 | AB99: =IF((Z99*25-Y99)<0,0,(Z99*25-Y99)) -> 0 | AC99: 30 | AD99: =(F99*1/X99)*Y99 -> 1.2
A100: * | B100: 25 | C100: obowiązkowy | D100: Fizjoterapia kliniczna w dysfunkcjach układu ruchu w neurologii i neurochirurgii 2 | E100: 6 | F100: 25 | L100: 20 | T100: =SUM(F100:Q100) -> 45 | U100: =SUM(F100:S100) -> 45 | V100: egz | W100: 2 | X100: =U100 -> 45 | Y100: =W100 -> 2 | AA100: =IF((Y100*25-X100)<0,0,(Y100*25-X100)) -> 5 | AB100: =IF((Z100*25-Y100)<0,0,(Z100*25-Y100)) -> 0 | AC100: 25 | AD100: =(F100*1/X100)*Y100 -> 1.1111111
A101: * | B101: 26 | C101: obowiązkowy | D101: Fizjoterapia kliniczna w dysfunkcjach układu ruchu w wieku rozwojowym | E101: 4 | F101: 25 | L101: 20 | T101: =SUM(F101:Q101) -> 45 | U101: =SUM(F101:S101) -> 45 | V101: egz | W101: 3 | X101: =U101 -> 45 | Y101: =W101 -> 3 | AA101: =IF((Y101*25-X101)<0,0,(Y101*25-X101)) -> 30 | AB101: =IF((Z101*25-Y101)<0,0,(Z101*25-Y101)) -> 0 | AC101: 25 | AD101: =(F101*1/X101)*Y101 -> 1.6666667
A102: * | B102: 27 | C102: obowiązkowy | D102: Fizjoterapia w chorobach wewnętrznych w kardiologii i kardiochirurgii 1 | E102: 6 | F102: 20 | H102: 15 | L102: 20 | T102: =SUM(F102:Q102) -> 55 | U102: =SUM(F102:S102) -> 55 | V102: zal / o | W102: 2 | X102: =U102 -> 55 | Y102: =W102 -> 2 | AA102: =IF((Y102*25-X102)<0,0,(Y102*25-X102)) -> 0 | AB102: =IF((Z102*25-Y102)<0,0,(Z102*25-Y102)) -> 0 | AC102: 0
A103: * | B103: 28 | C103: obowiązkowy | D103: Fizjoterapia w chorobach wewnętrznych w kardiologii i kardiochirurgii 2 | E103: 7 | F103: 20 | H103: 15 | L103: 20 | T103: =SUM(F103:Q103) -> 55 | U103: =SUM(F103:S103) -> 55 | V103: egz | W103: 2 | X103: =U103 -> 55 | Y103: =W103 -> 2 | AA103: =IF((Y103*25-X103)<0,0,(Y103*25-X103)) -> 0 | AB103: =IF((Z103*25-Y103)<0,0,(Z103*25-Y103)) -> 0
A104: * | B104: 29 | C104: obowiązkowy | D104: Fizjoterapia w chorobach wewnętrznych w pulmonologii | E104: 5 | F104: 20 | H104: 12 | J104: 3 | L104: 20 | T104: =SUM(F104:Q104) -> 55 | U104: =SUM(F104:S104) -> 55 | V104: egz | W104: 3 | X104: =U104 -> 55 | Y104: =W104 -> 3 | AA104: =IF((Y104*25-X104)<0,0,(Y104*25-X104)) -> 20 | AB104: =IF((Z104*25-Y104)<0,0,(Z104*25-Y104)) -> 0
A105: * | B105: 30 | C105: obowiązkowy | D105: Fizjoterapia w chorobach wewnętrznych w chirurgii | E105: 6 | F105: 25 | L105: 20 | T105: =SUM(F105:Q105) -> 45 | U105: =SUM(F105:S105) -> 45 | V105: egz | W105: 3 | X105: =U105 -> 45 | Y105: =W105 -> 3 | AA105: =IF((Y105*25-X105)<0,0,(Y105*25-X105)) -> 30 | AB105: =IF((Z105*25-Y105)<0,0,(Z105*25-Y105)) -> 0 | AC105: 25 | AD105: =(F105*1/X105)*Y105 -> 1.6666667
A106: * | B106: 31 | C106: obowiązkowy | D106: Fizjoterapia w chorobach wewnętrznych w ginekologii i położnictwie | E106: 5 | F106: 25 | L106: 20 | T106: =SUM(F106:Q106) -> 45 | U106: =SUM(F106:S106) -> 45 | V106: egz | W106: 3 | X106: =U106 -> 45 | Y106: =W106 -> 3 | AA106: =IF((Y106*25-X106)<0,0,(Y106*25-X106)) -> 30 | AB106: =IF((Z106*25-Y106)<0,0,(Z106*25-Y106)) -> 0 | AC106: 25 | AD106: =(F106*1/X106)*Y106 -> 1.6666667
A107: * | B107: 32 | C107: obowiązkowy | D107: Fizjoterapia w chorobach wewnętrznych w pediatrii | E107: 3 | F107: 25 | L107: 20 | T107: =SUM(F107:Q107) -> 45 | U107: =SUM(F107:S107) -> 45 | V107: egz | W107: 3 | X107: =U107 -> 45 | Y107: =W107 -> 3 | AA107: =IF((Y107*25-X107)<0,0,(Y107*25-X107)) -> 30 | AB107: =IF((Z107*25-Y107)<0,0,(Z107*25-Y107)) -> 0 | AC107: 25 | AD107: =(F107*1/X107)*Y107 -> 1.6666667
A108: * | B108: 33 | C108: obowiązkowy | D108: Fizjoterapia w chorobach wewnętrznych w geriatrii | E108: 5 | F108: 20 | H108: 10 | L108: 20 | T108: =SUM(F108:Q108) -> 50 | U108: =SUM(F108:S108) -> 50 | V108: egz | W108: 3 | X108: =U108 -> 50 | Y108: =W108 -> 3 | AA108: =IF((Y108*25-X108)<0,0,(Y108*25-X108)) -> 25 | AB108: =IF((Z108*25-Y108)<0,0,(Z108*25-Y108)) -> 0 | AC108: 20 | AD108: =(F108*1/X108)*Y108 -> 1.2
A109: * | B109: 34 | C109: obowiązkowy | D109: Fizjoterapia w chorobach wewnętrznych w psychiatrii | E109: 6 | F109: 20 | L109: 20 | T109: =SUM(F109:Q109) -> 40 | U109: =SUM(F109:S109) -> 40 | V109: egz | W109: 3 | X109: =U109 -> 40 | Y109: =W109 -> 3 | AA109: =IF((Y109*25-X109)<0,0,(Y109*25-X109)) -> 35 | AB109: =IF((Z109*25-Y109)<0,0,(Z109*25-Y109)) -> 0 | AC109: 20 | AD109: =(F109*1/X109)*Y109 -> 1.5
...

Sheet statystyki
D2: Statystyki (cykl 2026-2031)
H3: Opracował: mgr inż. Sławomir Jarząb
C8: Wydział Fizjoterapii
C9: Kierunek Fizjoterapia
C10: Forma studiów stacjonarna
C11: Studia jednolite magisterskie
C13: Moduły z zakresu fizjoterapii | D13: godz. | E13: ECTS | F13: % | H13: Przynajmniej 160 ECTS z zakresu fizjoterapii - na podstawie zapisów ustawy o zawodzie fizjoterapeuty z dnia 25 września 2015 r., art. 13.3, ust. 1.
C14: Moduł nauk w zakresie podstaw fizjoterapii | D14: =całość!X74 -> 795 | E14: =całość!Y74 -> 45 | F14: =E14/całość!$AJ$35*100 -> 15
C15: Moduł nauk w zakresie fizjoterapii klinicznej | D15: =całość!X121 -> 1680 | E15: =całość!Y121 -> 99 | F15: =E15/całość!$AJ$35*100 -> 33
C16: Praktyki | D16: =całość!X137 -> 1560 | E16: =całość!Y137 -> 58 | F16: =E16/całość!$AJ$35*100 -> 19.333333
C17: RAZEM | D17: =SUM(D14:D16) -> 4035 | E17: =SUM(E14:E16) -> 202 | F17: =E17/całość!$AJ$35*100 -> 67.333333
C20: Zajęcia wybieralne | D20: godz. | E20: ECTS | F20: % | H20: Na podstawie zapisów ROZPORZĄDZENIA MINISTRA NAUKI I SZKOLNICTWA WYŻSZEGO z dnia 26 lipca 2019 r. w sprawie standardów kształcenia fizjoterapeutów "program studiów umożliwia studentowi wybór zajęć, którym przypisano punkty ECTS w wymiarze nie mniejszym niż 5% liczby punktów ECTS koniecznej do ukończenia studiów" (czyli ok. 15 punktów ECTS)
C21: Autorska oferta uczelni (przedmioty fakultatywne i przedmioty wolnego wyboru) | D21: =SUM(całość!X143:X155) -> 360 | E21: =SUM(całość!Y143:Y155) -> 24 | F21: =statystyki!E21/całość!$AJ$35*100 -> 8
C22: Wakacyjna praktyka profilowana - wybieralna (semestr 6) | D22: =całość!X133 -> 200 | E22: =całość!Y133 -> 7 | F22: =statystyki!E22/całość!$AJ$35*100 -> 2.3333333
C23: Wakacyjna praktyka profilowana - wybieralna (semestr 8) | D23: =całość!X135 -> 200 | E23: =całość!Y135 -> 7 | F23: =statystyki!E23/całość!$AJ$35*100 -> 2.3333333
C25: RAZEM | D25: =SUM(D21:D24) -> 760 | E25: =SUM(E21:E24) -> 38 | F25: =statystyki!E25/całość!$AJ$35*100 -> 12.666667
C28: Godziny do dyspozycji uczelni | D28: godz. | E28: ECTS | F28: % | H28: Na podstawie zapisów ROZPORZĄDZENIA MINISTRA NAUKI I SZKOLNICTWA WYŻSZEGO z dnia 26 lipca 2019 r. w sprawie standardów kształcenia fizjoterapeutów "do dyspozycji uczelni pozostawia się nie mniej niż 500 godzin (30 punktów ECTS), które mogą być realizowane jako zajęcia uzupełniające efekty uczenia się w kategorii wiedzy, umiejętności lub kompetencji społecznych"
C29: Autorska oferta uczelni | D29: =całość!AB157 -> 485 | E29: =całość!Y156 -> 30 | F29: =statystyki!E29/całość!$AJ$35*100 -> 10
C30: RAZEM | D30: =SUM(D29:D29) -> 485 | E30: =SUM(E29:E29) -> 30 | F30: =statystyki!E30/całość!$AJ$35*100 -> 10
C33: Zajęcia z zakresu dziedziny nauk humanistycznych i społecznych | D33: godz. | E33: ECTS | F33: % | H33: Na podstawie zapisów ROZPORZĄDZENIA MINISTRA NAUKI I SZKOLNICTWA WYŻSZEGO z dnia 26 lipca 2019 r. w sprawie standardów kształcenia fizjoterapeutów, program studiów dla kierunku studiów umożliwia studentom uzyskanie nie mniej niż 5 punktów ECTS w ramach zajęć z dziedziny nauk humanistycznych lub nauk społecznych
C34: Moduł zajęć z języka obcego | D34: =całość!X35+całość!X36+całość!X37+całość!X38 -> 120 | E34: =całość!Y35+całość!Y36+całość!Y37+całość!Y38 -> 5 | F34: =E34/całość!$AJ$35*100 -> 1.6666667
C35: Moduł nauk ogólnych (wybrane przedmioty) | D35: =SUM(całość!X39:X48,całość!X51) -> 155 | E35: =SUM(całość!Y39:Y48,całość!Y51) -> 13 | F35: =E35/całość!$AJ$35*100 -> 4.3333333
C36: RAZEM | D36: =SUM(D34:D35) -> 275 | E36: =SUM(E34:E35) -> 18 | F36: =E36/całość!$AJ$35*100 -> 6
C42: Wymiar praktyk zawodowych | D42: godz. | E42: ECTS | F42: % | H42: Szczegóły realizacji poszczególnych etapów praktyki zawodowej, zostaną uregulowane zapisami w Regulaminie odbywania praktyki zawodowej dla kierunku fizjoterapia, w odniesieniu do obowiązujących zapisów legislacyjnych (ROZPORZĄDZENIE MINISTRA NAUKI I SZKOLNICTWA WYŻSZEGO z dnia 26 lipca 2019 r. w sprawie standardów kształcenia fizjoterapeutów) i wewnętrznych uczelni.
C43: Praktyka asystencka | D43: =całość!X130 -> 150 | E43: =całość!Y130 -> 5 | F43: =E43/całość!$AJ$35*100 -> 1.6666667
C44: Wakacyjna praktyka z kinezyterapii | D44: =całość!X131 -> 300 | E44: =całość!Y131 -> 11 | F44: =E44/całość!$AJ$35*100 -> 3.6666667
C45: Praktyka z fizjoterapii klinicznej, fizykoterapii i masażu | D45: =całość!X132 -> 100 | E45: =całość!Y132 -> 4 | F45: =E45/całość!$AJ$35*100 -> 1.3333333
C46: Wakacyjna praktyka profilowana - wybieralna | D46: =całość!X133 -> 200 | E46: =całość!Y133 -> 7 | F46: =E46/całość!$AJ$35*100 -> 2.3333333
C47: Praktyka z fizjoterapii klinicznej, fizykoterapii i masażu | D47: =całość!X134 -> 100 | E47: =całość!Y134 -> 4 | F47: =E47/całość!$AJ$35*100 -> 1.3333333
C48: Wakacyjna praktyka profilowana - wybieralna | D48: =całość!X135 -> 200 | E48: =całość!Y135 -> 7 | F48: =E48/całość!$AJ$35*100 -> 2.3333333
C49: Praktyka z fizjoterapii klinicznej, fizykoterapii i masażu - praktyka semestralna | D49: =całość!X136 -> 510 | E49: =całość!Y136 -> 20 | F49: =E49/całość!$AJ$35*100 -> 6.6666667
C50: RAZEM | D50: =SUM(D43:D49) -> 1560 | E50: =SUM(E43:E49) -> 58 | F50: =E50/całość!$AJ$35*100 -> 19.333333
C53: Moduły/przedmioty związane z prowadzeniem badań naukowych | D53: godz. | E53: ECTS | F53: % | H53: Realizacja studiów o profilu ogólnoakademickim wymaga by program studiów obejmował zajęcia lub grupy zajęć związane z prowadzoną w uczelni działalnością naukową w dyscyplinie naukowej, do której jest przyporządkowany kierunkek studiów, którym przypisano punkty ECTS w wymiarze większym niż 50% liczby punktów ECTS koniecznej do ukończenia studiów. Grupy przedmiotów (lub przedmioty), w ramach których wprowadzone zostaną efekty kształcenia związane przygotowywaniem studentów do prowadzenia działalności naukowej lub udział w tej działalności w planie studiów oznaczono „*”. (ROZPORZĄDZENIE MINISTRA NAUKI I SZKOLNICTWA WYŻSZEGO z dnia 26 lipca 2019 r. w sprawie standardów kształcenia fizjoterapeutów)
C54: A | D54: =SUMIF(całość!A19:A32,"*",całość!X19:X32) -> 230 | E54: =SUMIF(całość!A19:A32,"*",całość!Y19:Y32) -> 16 | F54: =E54/całość!$AJ$35*100 -> 5.3333333
C55: B | D55: =SUMIF(całość!A35:A51,"*",całość!X35:X51) -> 120 | E55: =SUMIF(całość!A35:A51,"*",całość!Y35:Y51) -> 10 | F55: =E55/całość!$AJ$35*100 -> 3.3333333
C56: C | D56: =SUMIF(całość!A54:A73,"*",całość!X54:X73) -> 530 | E56: =SUMIF(całość!A54:A73,"*",całość!Y54:Y73) -> 31 | F56: =E56/całość!$AJ$35*100 -> 10.333333
C57: D | D57: =SUMIF(całość!A77:A120,"*",całość!X77:X120) -> 1505 | E57: =SUMIF(całość!A77:A120,"*",całość!Y77:Y120) -> 88 | F57: =E57/całość!$AJ$35*100 -> 29.333333
C58: E | D58: =SUMIF(całość!A123:A127,"*",całość!X123:X127) -> 50 | E58: =SUMIF(całość!A123:A127,"*",całość!Y123:Y127) -> 25 | F58: =E58/całość!$AJ$35*100 -> 8.3333333
C59: F | D59: =SUMIF(całość!A130:A136,"*",całość!X130:X136) -> 0 | E59: =SUMIF(całość!A130:A136,"*",całość!Y130:Y136) -> 0 | F59: =E59/całość!$AJ$35*100 -> 0
C60: G | D60: =SUMIF(całość!A139:A155,"*",całość!X139:X155) -> 80 | E60: =SUMIF(całość!A139:A155,"*",całość!Y139:Y155) -> 4 | F60: =E60/całość!$AJ$35*100 -> 1.3333333
C61: razem | D61: =SUM(D54:D60) -> 2515 | E61: =SUM(E54:E60) -> 174 | F61: =E61/całość!$AJ$35*100 -> 58

Sheet 1 rok
B6: Szczegółowy Program Studiów na rok akademicki 2026/2027
J7: .Uchwała Senatu UMW nr 2853 z dnia 18.02.2026 r
J8: zm. Uchwała Senatu UMW nr 2913 z dnia 27.05.2026 r
B9: Wydział Fizjoterapii | J9: zm. Uchwała Senatu UMW nr 2929 z dnia 24.06.2026 r
B10: Kierunek Fizjoterapia | J10: zm. Uchwała Senatu UMW nr 2951 z dnia 30.09.2026 r.
B11: Rok studiów 1
B12: Forma studiów stacjonarna
B13: Cykl kształcenia rozpoczynający się w roku akademickim: 2026/2027
B16: Lp. | D16: Przedmiot (nazwa) | E16: semestr zimowy - I | W16: semestr letni - II | AO16: SUMA GODZIN DYDAKTYCZNYCH | AP16: SUMA PUNKTÓW ECTS ZA PRZEDMIOT
C17: Rodzaj zajęć (obowiązkowe / wolnego wyboru / ograniczonego wyboru) | E17: wykład (WY) | F17: seminarium (SE) | G17: ćwiczenia audytoryjne (CA) | H17: ćwiczenia kierunkowe - niekliniczne (CN) | I17: ćwiczenia w warunkach symulowanych (CS) | J17: ćwiczenia laboratoryjne (CL) | K17: ćwiczenia kliniczne (CK) | L17: zajęcia praktyczne przy pacjencie (PP) | M17: ćwiczenia specjalistyczne - magisterskie (CM) | N17: lektoraty (LE) | O17: e-learning (EL) | P17: zajęcia wychowania fizycznego-obowiązkowe (WF) | Q17: praktyka zawodowa (PZ) | R17: samokształcenie | S17: liczba godzin z nauczycielem | T17: ogólna liczba godzin dydaktycznych | U17: forma zakończenia semestru | V17: punkty ECTS w semestrze | W17: wykład (WY) | X17: seminarium (SE) | Y17: ćwiczenia audytoryjne CA) | Z17: ćwiczenia kierunkowe - niekliniczne (CN) | AA17: ćwiczenia w warunkach symulowanych (CS) | AB17: ćwiczenia laboratoryjne (CL) | AC17: ćwiczenia kliniczne (CK) | AD17: zajęcia praktyczne przy pacjencie (PP) | AE17: ćwiczenia specjalistyczne - magisterskie (CM) | AF17: lektoraty (LE) | AG17: e-learning (EL) | AH17: zajęcia wychowania fizycznego-obowiązkowe (WF) | AI17: praktyka zawodowa (PZ) | AJ17: samokształcenie | AK17: liczba godzin z nauczycielem | AL17: ogólna liczba godzin dydaktycznych | AM17: forma zakończenia semestru | AN17: punkty ECTS w semestrze
B18: A. BIOMEDYCZNE PODSTAWY FIZJOTERAPII
B19: 1 | C19: obowiązkowy | D19: Anatomia prawidłowa człowieka 1 | E19: 15 | H19: 35 | S19: =SUM(E19:P19) -> 50 | T19: =SUM(E19:R19) -> 50 | U19: zal / o | V19: 2 | AO19: =T19+AL19 -> 50 | AP19: =V19+AN19 -> 2
B20: 2 | C20: obowiązkowy | D20: Anatomia prawidłowa człowieka 2 | W20: 15 | Z20: 30 | AK20: =SUM(W20:AH20) -> 45 | AL20: =SUM(W20:AJ20) -> 45 | AM20: egz | AN20: 3 | AO20: =T20+AL20 -> 45 | AP20: =V20+AN20 -> 3
B21: 3 | C21: obowiązkowy | D21: Anatomia rentgenowska | W21: 10 | AK21: =SUM(W21:AH21) -> 10 | AL21: =SUM(W21:AJ21) -> 10 | AM21: zal /o | AN21: 1 | AO21: =T21+AL21 -> 10 | AP21: =V21+AN21 -> 1
B22: 4 | C22: obowiązkowy | D22: Biologia medyczna z genetyką | E22: 25 | S22: =SUM(E22:P22) -> 25 | T22: =SUM(E22:R22) -> 25 | U22: zal / o | V22: 1 | AO22: =T22+AL22 -> 25 | AP22: =V22+AN22 -> 1
B23: 5 | C23: obowiązkowy | D23: Biochemia | E23: 25 | S23: =SUM(E23:P23) -> 25 | T23: =SUM(E23:R23) -> 25 | U23: zal / o | V23: 1 | AO23: =T23+AL23 -> 25 | AP23: =V23+AN23 -> 1
B24: 6 | C24: obowiązkowy | D24: Fizjologia 1 - fizjologia ogólna, fizjologia bólu i diagnostyka fizjologiczna | E24: 20 | H24: 10 | S24: =SUM(E24:P24) -> 30 | T24: =SUM(E24:R24) -> 30 | U24: zal / o | V24: 2 | AO24: =T24+AL24 -> 30 | AP24: =V24+AN24 -> 2
B25: 7 | C25: obowiązkowy | D25: Fizjologia 2 - fizjologia wysiłku fizycznego | U25: zal / o | W25: 20 | Z25: 20 | AK25: =SUM(W25:AH25) -> 40 | AL25: =SUM(W25:AJ25) -> 40 | AM25: egz | AN25: 3 | AO25: =T25+AL25 -> 40 | AP25: =V25+AN25 -> 3
B26: 8 | C26: obowiązkowy | D26: Biofizyka | E26: 15 | S26: =SUM(E26:P26) -> 15 | T26: =SUM(E26:R26) -> 15 | U26: zal / o | V26: 2 | AO26: =T26+AL26 -> 15 | AP26: =V26+AN26 -> 2
B27: 9 | C27: obowiązkowy | D27: Ergonomia | W27: 10 | Z27: 10 | AK27: =SUM(W27:AH27) -> 20 | AL27: =SUM(W27:AJ27) -> 20 | AM27: zal / o | AN27: 2 | AO27: =T27+AL27 -> 20 | AP27: =V27+AN27 -> 2
B28: 10 | C28: obowiązkowy | D28: Pierwsza pomoc | E28: 5 | I28: 20 | S28: =SUM(E28:P28) -> 25 | T28: =SUM(E28:R28) -> 25 | U28: zal / o | V28: 1 | AO28: =T28+AL28 -> 25 | AP28: =V28+AN28 -> 1
B29: RAZEM | E29: =SUM(E19:E28) -> 105 | F29: =SUM(F19:F28) -> 0 | G29: =SUM(G19:G28) -> 0 | H29: =SUM(H19:H28) -> 45 | I29: =SUM(I19:I28) -> 20 | J29: =SUM(J19:J28) -> 0 | K29: =SUM(K19:K28) -> 0 | L29: =SUM(L19:L28) -> 0 | ... T29: =SUM(T19:T28) -> 170 | V29: =SUM(V19:V28) -> 9 | W29: =SUM(W19:W28) -> 55 | X29: =SUM(X19:X28) -> 0 | Y29: =SUM(Y19:Y28) -> 0 | Z29: =SUM(Z19:Z28) -> 60 | AA29: =SUM(AA19:AA28) -> 0 | AB29: =SUM(AB19:AB28) -> 0 | AC29: =SUM(AC19:AC28) -> 0 | ... AL29: =SUM(AL19:AL28) -> 115 | AN29: =SUM(AN19:AN28) -> 9 | AO29: =SUM(AO19:AO28) -> 285 | AP29: =SUM(AP19:AP28) -> 18
B30: B. NAUKI OGÓLNE
B31: 11 | C31: obowiązkowy | D31: Język obcy 1 | N31: 30 | S31: =SUM(E31:P31) -> 30 | T31: =SUM(E31:R31) -> 30 | U31: zal / o | V31: 1 | AO31: =T31+AL31 -> 30 | AP31: =V31+AN31 -> 1
B32: 12 | C32: obowiązkowy | D32: Język obcy 2 | AF32: 30 | AK32: =SUM(W32:AH32) -> 30 | AL32: =SUM(W32:AJ32) -> 30 | AM32: zal / o | AN32: 1 | AO32: =T32+AL32 -> 30 | AP32: =V32+AN32 -> 1
B33: 13 | C33: obowiązkowy | D33: Psychologia 1 - psychologia ogólna i psychoterapia | E33: 10 | S33: =SUM(E33:P33) -> 10 | T33: =SUM(E33:R33) -> 10 | U33: zal / o | V33: 1 | AO33: =T33+AL33 -> 10 | AP33: =V33+AN33 -> 1
B34: 14 | C34: obowiązkowy | D34: Psychologia 2 - psychologia kliniczna i komunikacja kliniczna | W34: 10 | Y34: 10 | AK34: =SUM(W34:AH34) -> 20 | AL34: =SUM(W34:AJ34) -> 20 | AM34: egz | AN34: 2 | AO34: =T34+AL34 -> 20 | AP34: =V34+AN34 -> 2
B35: 15 | C35: obowiązkowy | D35: Socjologia ogólna i niepełnosprawności | E35: 10 | S35: =SUM(E35:P35) -> 10 | T35: =SUM(E35:R35) -> 10 | U35: zal / o | V35: 1 | AO35: =T35+AL35 -> 10 | AP35: =V35+AN35 -> 1
B36: 16 | C36: obowiązkowy | D36: Pedagogika ogólna i specjalna | E36: 10 | G36: 5 | S36: =SUM(E36:P36) -> 15 | T36: =SUM(E36:R36) -> 15 | U36: zal / o | V36: 1 | AO36: =T36+AL36 -> 15 | AP36: =V36+AN36 -> 1
B37: 17 | C37: obowiązkowy | D37: Podstawy prawa | E37: 10 | S37: =SUM(E37:P37) -> 10 | T37: =SUM(E37:R37) -> 10 | U37: zal / o | V37: 1 | AO37: =T37+AL37 -> 10 | AP37: =V37+AN37 -> 1
B38: 18 | C38: obowiązkowy | D38: Zdrowie publiczne z demografią i epidemiologią | E38: 10 | G38: 5 | S38: =SUM(E38:P38) -> 15 | T38: =SUM(E38:R38) -> 15 | U38: zal / o | V38: 1 | AO38: =T38+AL38 -> 15 | AP38: =V38+AN38 -> 1
B39: 19 | C39: obowiązkowy | D39: Ekonomia, system ochrony zdrowia i technologie informacyjne | E39: 10 | S39: =SUM(E39:P39) -> 10 | T39: =SUM(E39:R39) -> 10 | U39: zal / o | V39: 1 | AO39: =T39+AL39 -> 10 | AP39: =V39+AN39 -> 1
B40: 20 | C40: obowiązkowy | D40: Filozofia i bioetyka | E40: 5 | G40: 5 | S40: =SUM(E40:P40) -> 10 | T40: =SUM(E40:R40) -> 10 | U40: zal / o | V40: 1 | AO40: =T40+AL40 -> 10 | AP40: =V40+AN40 -> 1
B41: 21 | C41: obowiązkowy | D41: Wychowanie fizyczne 1 | P41: 30 | S41: =SUM(E41:P41) -> 30 | T41: =SUM(E41:R41) -> 30 | U41: zal | AO41: =T41+AL41 -> 30 | AP41: =V41+AN41 -> 0
B42: 22 | C42: obowiązkowy | D42: Wychowanie fizyczne 2 | AH42: 30 | AK42: =SUM(W42:AH42) -> 30 | AL42: =SUM(W42:AJ42) -> 30 | AM42: zal | AO42: =T42+AL42 -> 30 | AP42: =V42+AN42 -> 0
B43: 23 | C43: obowiązkowy | D43: Historia fizjoterapii | E43: 10 | S43: =SUM(E43:P43) -> 10 | T43: =SUM(E43:R43) -> 10 | U43: zal / o | V43: 1 | AO43: =T43+AL43 -> 10 | AP43: =V43+AN43 -> 1
B44: RAZEM | E44: =SUM(E31:E43) -> 75 | F44: =SUM(F31:F43) -> 0 | G44: =SUM(G31:G43) -> 15 | H44: =SUM(H31:H43) -> 0 | I44: =SUM(I31:I43) -> 0 | J44: =SUM(J31:J43) -> 0 | K44: =SUM(K31:K43) -> 0 | L44: =SUM(L31:L43) -> 0 | ... T44: =SUM(T31:T43) -> 150 | V44: =SUM(V31:V43) -> 9 | W44: =SUM(W31:W43) -> 10 | X44: =SUM(X31:X43) -> 0 | Y44: =SUM(Y31:Y43) -> 10 | Z44: =SUM(Z31:Z43) -> 0 | AA44: =SUM(AA31:AA43) -> 0 | AB44: =SUM(AB31:AB43) -> 0 | AC44: =SUM(AC31:AC43) -> 0 | ... AL44: =SUM(AL31:AL43) -> 80 | AN44: =SUM(AN31:AN43) -> 3 | AO44: =SUM(AO31:AO43) -> 230 | AP44: =SUM(AP31:AP43) -> 12
B45: C. PODSTAWY FIZJOTERAPII
B46: 24 | C46: obowiązkowy | D46: Fizjoterapia ogólna 1 | E46: 20 | G46: 5 | S46: =SUM(E46:P46) -> 25 | T46: =SUM(E46:R46) -> 25 | U46: zal / o | V46: 1 | AO46: =T46+AL46 -> 25 | AP46: =V46+AN46 -> 1
B47: 25 | C47: obowiązkowy | D47: Fizjoterapia ogólna 2 | W47: 10 | Y47: 5 | AK47: =SUM(W47:AH47) -> 15 | AL47: =SUM(W47:AJ47) -> 15 | AM47: zal / o | AN47: 1 | AO47: =T47+AL47 -> 15 | AP47: =V47+AN47 -> 1
B48: 26 | C48: obowiązkowy | D48: Kształcenie ruchowe i metodyka nauczania ruchu 1 | E48: 15 | G48: 15 | S48: =SUM(E48:P48) -> 30 | T48: =SUM(E48:R48) -> 30 | U48: zal / o | V48: 1 | AO48: =T48+AL48 -> 30 | AP48: =V48+AN48 -> 1
B49: 27 | C49: obowiązkowy | D49: Kształcenie ruchowe i metodyka nauczania ruchu 2 | W49: 10 | Y49: 20 | AK49: =SUM(W49:AH49) -> 30 | AL49: =SUM(W49:AJ49) -> 30 | AM49: egz | AN49: 2 | AO49: =T49+AL49 -> 30 | AP49: =V49+AN49 -> 2
B50: 28 | C50: obowiązkowy | D50: Kształcenie ruchowe i metodyka nauczania ruchu 3 - pływanie | AH50: 25 | AK50: =SUM(W50:AH50) -> 25 | AL50: =SUM(W50:AJ50) -> 25 | AM50: zal / o | AN50: 1 | AO50: =T50+AL50 -> 25 | AP50: =V50+AN50 -> 1
B51: 29 | C51: obowiązkowy | D51: Kinezyterapia 1 | W51: 15 | Z51: 30 | AK51: =SUM(W51:AH51) -> 45 | AL51: =SUM(W51:AJ51) -> 45 | AM51: zal / o | AN51: 3 | AO51: =T51+AL51 -> 45 | AP51: =V51+AN51 -> 3
B52: 30 | C52: obowiązkowy | D52: Medycyna fizykalna 1 – podstawy fizykoterapii | E52: 10 | H52: 40 | S52: =SUM(E52:P52) -> 50 | T52: =SUM(E52:R52) -> 50 | U52: zal / o | V52: 2 | AO52: =T52+AL52 -> 50 | AP52: =V52+AN52 -> 2
B53: 31 | C53: obowiązkowy | D53: Medycyna fizykalna 2 – nowoczesne metody fizykoterapii | W53: 10 | Z53: 20 | AK53: =SUM(W53:AH53) -> 30 | AL53: =SUM(W53:AJ53) -> 30 | AM53: egz | AN53: 3 | AO53: =T53+AL53 -> 30 | AP53: =V53+AN53 -> 3
B54: 32 | C54: obowiązkowy | D54: Masaż 1 | W54: 10 | Z54: 40 | AK54: =SUM(W54:AH54) -> 50 | AL54: =SUM(W54:AJ54) -> 50 | AM54: zal / o | AN54: 2 | AO54: =T54+AL54 -> 50 | AP54: =V54+AN54 -> 2
B55: 33 | C55: obowiązkowy | D55: Fizjoprofilaktyka i promocja zdrowia | E55: 10 | G55: 20 | S55: =SUM(E55:P55) -> 30 | T55: =SUM(E55:R55) -> 30 | U55: zal / o | V55: 2 | AO55: =T55+AL55 -> 30 | AP55: =V55+AN55 -> 2
B56: RAZEM | E56: =SUM(E46:E55) -> 55 | F56: =SUM(F46:F55) -> 0 | G56: =SUM(G46:G55) -> 40 | H56: =SUM(H46:H55) -> 40 | I56: =SUM(I46:I55) -> 0 | J56: =SUM(J46:J55) -> 0 | K56: =SUM(K46:K55) -> 0 | L56: =SUM(L46:L55) -> 0 | ... T56: =SUM(T46:T55) -> 135 | V56: =SUM(V46:V55) -> 6 | W56: =SUM(W46:W55) -> 55 | X56: =SUM(X46:X55) -> 0 | Y56: =SUM(Y46:Y55) -> 25 | Z56: =SUM(Z46:Z55) -> 90 | AA56: =SUM(AA46:AA55) -> 0 | AB56: =SUM(AB46:AB55) -> 0 | AC56: =SUM(AC46:AC55) -> 0 | ... AL56: =SUM(AL46:AL55) -> 195 | AN56: =SUM(AN46:AN55) -> 12 | AO56: =SUM(AO46:AO55) -> 330 | AP56: =SUM(AP46:AP55) -> 18
B57: D. FIZJOTERAPIA KLINICZNA
B58: 34 | C58: obowiązkowy | D58: Kliniczne podstawy fizjoterapii w ortopedii i traumatologii 1 | W58: 25 | AK58: =SUM(W58:AH58) -> 25 | AL58: =SUM(W58:AJ58) -> 25 | AM58: zal / o | AN58: 2 | AO58: =T58+AL58 -> 25 | AP58: =V58+AN58 -> 2
B59: 35 | C59: obowiązkowy | D59: Kliniczne podstawy fizjoterapii w pediatrii | W59: 15 | AK59: =SUM(W59:AH59) -> 15 | AL59: =SUM(W59:AJ59) -> 15 | AM59: zal / o | AN59: 1 | AO59: =T59+AL59 -> 15 | AP59: =V59+AN59 -> 1
B60: RAZEM | E60: =SUM(E58:E59) -> 0 | F60: =SUM(F58:F59) -> 0 | G60: =SUM(G58:G59) -> 0 | H60: =SUM(H58:H59) -> 0 | I60: =SUM(I58:I59) -> 0 | J60: =SUM(J58:J59) -> 0 | K60: =SUM(K58:K59) -> 0 | L60: =SUM(L58:L59) -> 0 | ... T60: =SUM(T58:T59) -> 0 | V60: =SUM(V58:V59) -> 0 | W60: =SUM(W58:W59) -> 40 | X60: =SUM(X58:X59) -> 0 | Y60: =SUM(Y58:Y59) -> 0 | Z60: =SUM(Z58:Z59) -> 0 | AA60: =SUM(AA58:AA59) -> 0 | AB60: =SUM(AB58:AB59) -> 0 | AC60: =SUM(AC58:AC59) -> 0 | ... AL60: =SUM(AL58:AL59) -> 40 | AN60: =SUM(AN58:AN59) -> 3 | AO60: =SUM(AO58:AO59) -> 40 | AP60: =SUM(AP58:AP59) -> 3
B61: F. PRAKTYKI FIZJOTERAPEUTYCZNE - ZAKRES PRAKTYK
B62: 36 | C62: obowiązkowy | D62: Praktyka asystencka | AI62: 150 | AK62: =SUM(W62:AH62) -> 0 | AL62: =SUM(W62:AJ62) -> 150 | AM62: zal | AN62: 5 | AO62: =T62+AL62 -> 150 | AP62: =V62+AN62 -> 5
B63: RAZEM | E63: =SUM(E62:E62) -> 0 | F63: =SUM(F62:F62) -> 0 | G63: =SUM(G62:G62) -> 0 | H63: =SUM(H62:H62) -> 0 | I63: =SUM(I62:I62) -> 0 | J63: =SUM(J62:J62) -> 0 | K63: =SUM(K62:K62) -> 0 | L63: =SUM(L62:L62) -> 0 | ... T63: =SUM(T62:T62) -> 0 | V63: =SUM(V62:V62) -> 0 | W63: =SUM(W62:W62) -> 0 | X63: =SUM(X62:X62) -> 0 | Y63: =SUM(Y62:Y62) -> 0 | Z63: =SUM(Z62:Z62) -> 0 | AA63: =SUM(AA62:AA62) -> 0 | AB63: =SUM(AB62:AB62) -> 0 | AC63: =SUM(AC62:AC62) -> 0 | ... AL63: =SUM(AL62:AL62) -> 150 | AN63: =SUM(AN62:AN62) -> 5 | AO63: =SUM(AO62:AO62) -> 150 | AP63: =SUM(AP62:AP62) -> 5
B64: G. Autorska oferta uczelni
B65: 37 | C65: obowiązkowy | D65: Rozwój psychomotoryczny dziecka | E65: 15 | G65: 15 | S65: =SUM(E65:P65) -> 30 | T65: =SUM(E65:R65) -> 30 | U65: zal / o | V65: 1 | AO65: =T65+AL65 -> 30 | AP65: =V65+AN65 -> 1
B66: 38 | C66: obowiązkowy | D66: Wprowadzenie do symulacji medycznej w fizjoterapii | Y66: 15 | AK66: =SUM(W66:AH66) -> 15 | AL66: =SUM(W66:AJ66) -> 15 | AM66: zal / o | AN66: 1 | AO66: =T66+AL66 -> 15 | AP66: =V66+AN66 -> 1
B67: 39 | C67: wolnego wyboru | D67: Przedmiot wolnego wyboru 1 | W67: 15 | AK67: =SUM(W67:AH67) -> 15 | AL67: =SUM(W67:AJ67) -> 15 | AM67: zal / o | AN67: 1 | AO67: =T67+AL67 -> 15 | AP67: =V67+AN67 -> 1
B68: 40 | C68: wolnego wyboru | D68: Przedmiot wolnego wyboru 2 | W68: 15 | AK68: =SUM(W68:AH68) -> 15 | AL68: =SUM(W68:AJ68) -> 15 | AM68: zal / o | AN68: 1 | AO68: =T68+AL68 -> 15 | AP68: =V68+AN68 -> 1
B69: RAZEM | E69: =SUM(E65:E68) -> 15 | F69: =SUM(F65:F68) -> 0 | G69: =SUM(G65:G68) -> 15 | H69: =SUM(H65:H68) -> 0 | I69: =SUM(I65:I68) -> 0 | J69: =SUM(J65:J68) -> 0 | K69: =SUM(K65:K68) -> 0 | L69: =SUM(L65:L68) -> 0 | ... T69: =SUM(T65:T68) -> 30 | V69: =SUM(V65:V68) -> 1 | W69: =SUM(W65:W68) -> 30 | X69: =SUM(X65:X68) -> 0 | Y69: =SUM(Y65:Y68) -> 15 | Z69: =SUM(Z65:Z68) -> 0 | AA69: =SUM(AA65:AA68) -> 0 | AB69: =SUM(AB65:AB68) -> 0 | AC69: =SUM(AC65:AC68) -> 0 | ... AL69: =SUM(AL65:AL68) -> 45 | AN69: =SUM(AN65:AN68) -> 3 | AO69: =SUM(AO65:AO68) -> 75 | AP69: =SUM(AP65:AP68) -> 4
B70: RAZEM | E70: =E29+E44+E56+E60+E63+E69 -> 250 | F70: =F29+F44+F56+F60+F63+F69 -> 0 | G70: =G29+G44+G56+G60+G63+G69 -> 70 | H70: =H29+H44+H56+H60+H63+H69 -> 85 | I70: =I29+I44+I56+I60+I63+I69 -> 20 | J70: =J29+J44+J56+J60+J63+J69 -> 0 | K70: =K29+K44+K56+K60+K63+K69 -> 0 | L70: =L29+L44+L56+L60+L63+L69 -> 0 | ... T70: =T29+T44+T56+T60+T63+T69 -> 485 | V70: =V29+V44+V56+V60+V63+V69 -> 25 | W70: =W29+W44+W56+W60+W63+W69 -> 190 | X70: =X29+X44+X56+X60+X63+X69 -> 0 | Y70: =Y29+Y44+Y56+Y60+Y63+Y69 -> 50 | Z70: =Z29+Z44+Z56+Z60+Z63+Z69 -> 150 | AA70: =AA29+AA44+AA56+AA60+AA63+AA69 -> 0 | AB70: =AB29+AB44+AB56+AB60+AB63+AB69 -> 0 | AC70: =AC29+AC44+AC56+AC60+AC63+AC69 -> 0 | ... AL70: =AL29+AL44+AL56+AL60+AL63+AL69 -> 625 | AN70: =AN29+AN44+AN56+AN60+AN63+AN69 -> 35 | AO70: =AO29+AO44+AO56+AO60+AO63+AO69 -> 1110 | AP70: =AP29+AP44+AP56+AP60+AP63+AP69 -> 60
B72: * - przedmioty, w ramach, których realizowane są efekty kształcenia związane ze zdobywaniem przez studenta pogłębionej wiedzy oraz umiejętności prowadzenia badań naukowych
O77: mgr K. Opalińska, mgr inż. S. Jarząb, mgr Weronika Bajer
O78: mgr M. Guła, dr M. Majewska-Pulsakowska
D79: Uzgodniono z Samorządem | P79: Sporządził | AG79: data i podpis Dziekana Wydziału

Sheet 2 rok
B6: Szczegółowy Program Studiów na rok akademicki 2027/2028
J7: .Uchwała Senatu UMW nr 2853 z dnia 18.02.2026 r
J8: zm. Uchwała Senatu UMW nr 2913 z dnia 27.05.2026 r
B9: Wydział Fizjoterapii | J9: zm. Uchwała Senatu UMW nr 2929 z dnia 24.06.2026 r
B10: Kierunek Fizjoterapia | J10: zm. Uchwała Senatu UMW nr 2951 z dnia 30.09.2026 r.
B11: Rok studiów 2
B12: Forma studiów stacjonarna
B13: Cykl kształcenia rozpoczynający się w roku akademickim: 2026/2027
B16: Lp. | D16: Przedmiot (nazwa) | E16: semestr zimowy - III | W16: semestr letni - IV | AO16: SUMA GODZIN DYDAKTYCZNYCH | AP16: SUMA PUNKTÓW ECTS ZA PRZEDMIOT
C17: Rodzaj zajęć (obowiązkowe / wolnego wyboru / ograniczonego wyboru) | E17: wykład (WY) | F17: seminarium (SE) | G17: ćwiczenia audytoryjne (CA) | H17: ćwiczenia kierunkowe - niekliniczne (CN) | I17: ćwiczenia w warunkach symulowanych (CS) | J17: ćwiczenia laboratoryjne (CL) | K17: ćwiczenia kliniczne (CK) | L17: zajęcia praktyczne przy pacjencie (PP) | M17: ćwiczenia specjalistyczne - magisterskie (CM) | N17: lektoraty (LE) | O17: e-learning (EL) | P17: zajęcia wychowania fizycznego-obowiązkowe (WF) | Q17: praktyka zawodowa (PZ) | R17: samokształcenie | S17: liczba godzin z nauczycielem | T17: ogólna liczba godzin dydaktycznych | U17: forma zakończenia semestru | V17: punkty ECTS w semestrze | W17: wykład (WY) | X17: seminarium (SE) | Y17: ćwiczenia audytoryjne CA) | Z17: ćwiczenia kierunkowe - niekliniczne (CN) | AA17: ćwiczenia w warunkach symulowanych (CS) | AB17: ćwiczenia laboratoryjne (CL) | AC17: ćwiczenia kliniczne (CK) | AD17: zajęcia praktyczne przy pacjencie (PP) | AE17: ćwiczenia specjalistyczne - magisterskie (CM) | AF17: lektoraty (LE) | AG17: e-learning (EL) | AH17: zajęcia wychowania fizycznego-obowiązkowe (WF) | AI17: praktyka zawodowa (PZ) | AJ17: samokształcenie | AK17: liczba godzin z nauczycielem | AL17: ogólna liczba godzin dydaktycznych | AM17: forma zakończenia semestru | AN17: punkty ECTS w semestrze
B18: A. BIOMEDYCZNE PODSTAWY FIZJOTERAPII
B19: 1 | C19: obowiązkowy | D19: Anatomia palpacyjna i funkcjonalna | E19: 10 | H19: 40 | S19: =SUM(E19:P19) -> 50 | T19: =SUM(E19:R19) -> 50 | U19: egz | V19: 3 | AO19: =T19+AL19 -> 50 | AP19: =V19+AN19 -> 3
B20: 2 | C20: obowiązkowy | D20: Farmakologia w fizjoterapii | E20: 10 | G20: 5 | S20: =SUM(E20:P20) -> 15 | T20: =SUM(E20:R20) -> 15 | U20: zal / o | V20: 1 | AO20: =T20+AL20 -> 15 | AP20: =V20+AN20 -> 1
B21: 3 | C21: obowiązkowy | D21: Biomechanika | E21: 15 | G21: 15 | S21: =SUM(E21:P21) -> 30 | T21: =SUM(E21:R21) -> 30 | U21: egz | V21: 2 | AO21: =T21+AL21 -> 30 | AP21: =V21+AN21 -> 2
B22: 4 | C22: obowiązkowy | D22: Patologia ogólna | W22: 15 | Y22: 5 | AK22: =SUM(W22:AH22) -> 20 | AL22: =SUM(W22:AJ22) -> 20 | AM22: zal / o | AN22: 1 | AO22: =T22+AL22 -> 20 | AP22: =V22+AN22 -> 1
B23: RAZEM | E23: =SUM(E19:E22) -> 35 | F23: =SUM(F19:F22) -> 0 | G23: =SUM(G19:G22) -> 20 | H23: =SUM(H19:H22) -> 40 | I23: =SUM(I19:I22) -> 0 | J23: =SUM(J19:J22) -> 0 | K23: =SUM(K19:K22) -> 0 | L23: =SUM(L19:L22) -> 0 | ... T23: =SUM(T19:T22) -> 95 | V23: =SUM(V19:V22) -> 6 | W23: =SUM(W19:W22) -> 15 | X23: =SUM(X19:X22) -> 0 | Y23: =SUM(Y19:Y22) -> 5 | Z23: =SUM(Z19:Z22) -> 0 | AA23: =SUM(AA19:AA22) -> 0 | AB23: =SUM(AB19:AB22) -> 0 | AC23: =SUM(AC19:AC22) -> 0 | ... AL23: =SUM(AL19:AL22) -> 20 | AN23: =SUM(AN19:AN22) -> 1 | AO23: =SUM(AO19:AO22) -> 115 | AP23: =SUM(AP19:AP22) -> 7
B24: B. NAUKI OGÓLNE
B25: 5 | C25: obowiązkowy | D25: Język obcy 3 | N25: 30 | S25: =SUM(E25:P25) -> 30 | T25: =SUM(E25:R25) -> 30 | U25: zal / o | V25: 1 | AO25: =T25+AL25 -> 30 | AP25: =V25+AN25 -> 1
B26: 6 | C26: obowiązkowy | D26: Język obcy 4 | AF26: 30 | AK26: =SUM(W26:AH26) -> 30 | AL26: =SUM(W26:AJ26) -> 30 | AM26: egz | AN26: 2 | AO26: =T26+AL26 -> 30 | AP26: =V26+AN26 -> 2
B27: RAZEM | E27: =SUM(E25:E26) -> 0 | F27: =SUM(F25:F26) -> 0 | G27: =SUM(G25:G26) -> 0 | H27: =SUM(H25:H26) -> 0 | I27: =SUM(I25:I26) -> 0 | J27: =SUM(J25:J26) -> 0 | K27: =SUM(K25:K26) -> 0 | L27: =SUM(L25:L26) -> 0 | ... T27: =SUM(T25:T26) -> 30 | V27: =SUM(V25:V26) -> 1 | W27: =SUM(W25:W26) -> 0 | X27: =SUM(X25:X26) -> 0 | Y27: =SUM(Y25:Y26) -> 0 | Z27: =SUM(Z25:Z26) -> 0 | AA27: =SUM(AA25:AA26) -> 0 | AB27: =SUM(AB25:AB26) -> 0 | AC27: =SUM(AC25:AC26) -> 0 | ... AL27: =SUM(AL25:AL26) -> 30 | AN27: =SUM(AN25:AN26) -> 2 | AO27: =SUM(AO25:AO26) -> 60 | AP27: =SUM(AP25:AP26) -> 3
B28: C. PODSTAWY FIZJOTERAPII
B29: 7 | C29: obowiązkowy | D29: Kinezyterapia 2 | E29: 15 | H29: 30 | S29: =SUM(E29:P29) -> 45 | T29: =SUM(E29:R29) -> 45 | U29: zal / o | V29: 3 | AO29: =T29+AL29 -> 45 | AP29: =V29+AN29 -> 3
B30: 8 | C30: obowiązkowy | D30: Kinezyterapia 3 | W30: 10 | Z30: 30 | AK30: =SUM(W30:AH30) -> 40 | AL30: =SUM(W30:AJ30) -> 40 | AM30: egz | AN30: 4 | AO30: =T30+AL30 -> 40 | AP30: =V30+AN30 -> 4
B31: 9 | C31: obowiązkowy | D31: Masaż 2 | E31: 10 | H31: 40 | S31: =SUM(E31:P31) -> 50 | T31: =SUM(E31:R31) -> 50 | U31: egz | V31: 3 | AO31: =T31+AL31 -> 50 | AP31: =V31+AN31 -> 3
B32: RAZEM | E32: =SUM(E29:E31) -> 25 | F32: =SUM(F29:F31) -> 0 | G32: =SUM(G29:G31) -> 0 | H32: =SUM(H29:H31) -> 70 | I32: =SUM(I29:I31) -> 0 | J32: =SUM(J29:J31) -> 0 | K32: =SUM(K29:K31) -> 0 | L32: =SUM(L29:L31) -> 0 | ... T32: =SUM(T29:T31) -> 95 | V32: =SUM(V29:V31) -> 6 | W32: =SUM(W29:W31) -> 10 | X32: =SUM(X29:X31) -> 0 | Y32: =SUM(Y29:Y31) -> 0 | Z32: =SUM(Z29:Z31) -> 30 | AA32: =SUM(AA29:AA31) -> 0 | AB32: =SUM(AB29:AB31) -> 0 | AC32: =SUM(AC29:AC31) -> 0 | ... AL32: =SUM(AL29:AL31) -> 40 | AN32: =SUM(AN29:AN31) -> 4 | AO32: =SUM(AO29:AO31) -> 135 | AP32: =SUM(AP29:AP31) -> 10
B33: D. FIZJOTERAPIA KLINICZNA
B34: 10 | C34: obowiązkowy | D34: Kliniczne podstawy fizjoterapii w ortopedii i traumatologii 2 | E34: 25 | S34: =SUM(E34:P34) -> 25 | T34: =SUM(E34:R34) -> 25 | U34: egz | V34: 2 | AO34: =T34+AL34 -> 25 | AP34: =V34+AN34 -> 2
B35: 11 | C35: obowiązkowy | D35: Kliniczne podstawy fizjoterapii w neurologii i neurochirurgii 1 | E35: 25 | S35: =SUM(E35:P35) -> 25 | T35: =SUM(E35:R35) -> 25 | U35: zal / o | V35: 2 | AO35: =T35+AL35 -> 25 | AP35: =V35+AN35 -> 2
B36: 12 | C36: obowiązkowy | D36: Kliniczne podstawy fizjoterapii w neurologii i neurochirurgii 2 | W36: 25 | AK36: =SUM(W36:AH36) -> 25 | AL36: =SUM(W36:AJ36) -> 25 | AM36: egz | AN36: 2 | AO36: =T36+AL36 -> 25 | AP36: =V36+AN36 -> 2
B37: 13 | C37: obowiązkowy | D37: Kliniczne podstawy fizjoterapii w reumatologii | W37: 15 | AK37: =SUM(W37:AH37) -> 15 | AL37: =SUM(W37:AJ37) -> 15 | AM37: egz | AN37: 2 | AO37: =T37+AL37 -> 15 | AP37: =V37+AN37 -> 2
B38: 14 | C38: obowiązkowy | D38: Kliniczne podstawy fizjoterapii w neurologii dziecięcej | E38: 15 | S38: =SUM(E38:P38) -> 15 | T38: =SUM(E38:R38) -> 15 | U38: zal / o | V38: 1 | AO38: =T38+AL38 -> 15 | AP38: =V38+AN38 -> 1
B39: 15 | C39: obowiązkowy | D39: Kliniczne podstawy fizjoterapii w kardiologii i kardiochirurgii 1 | E39: 15 | S39: =SUM(E39:P39) -> 15 | T39: =SUM(E39:R39) -> 15 | U39: zal / o | V39: 2 | AO39: =T39+AL39 -> 15 | AP39: =V39+AN39 -> 2
B40: 16 | C40: obowiązkowy | D40: Kliniczne podstawy fizjoterapii w kardiologii i kardiochirurgii 2 | W40: 10 | AK40: =SUM(W40:AH40) -> 10 | AL40: =SUM(W40:AJ40) -> 10 | AM40: egz | AN40: 2 | AO40: =T40+AL40 -> 10 | AP40: =V40+AN40 -> 2
B41: 17 | C41: obowiązkowy | D41: Kliniczne podstawy fizjoterapii w pulmonologii | W41: 15 | AK41: =SUM(W41:AH41) -> 15 | AL41: =SUM(W41:AJ41) -> 15 | AM41: zal / o | AN41: 1 | AO41: =T41+AL41 -> 15 | AP41: =V41+AN41 -> 1
B42: 18 | C42: obowiązkowy | D42: Kliniczne podstawy fizjoterapii w ginekologii i położnictwie | W42: 15 | AK42: =SUM(W42:AH42) -> 15 | AL42: =SUM(W42:AJ42) -> 15 | AM42: zal / o | AN42: 1 | AO42: =T42+AL42 -> 15 | AP42: =V42+AN42 -> 1
B43: 19 | C43: obowiązkowy | D43: Kliniczne podstawy fizjoterapii w onkologii i medycynie paliatywnej 1 | E43: 10 | S43: =SUM(E43:P43) -> 10 | T43: =SUM(E43:R43) -> 10 | U43: zal / o | V43: 1 | AO43: =T43+AL43 -> 10 | AP43: =V43+AN43 -> 1
B44: 20 | C44: obowiązkowy | D44: Kliniczne podstawy fizjoterapii w onkologii i medycynie paliatywnej 2 | W44: 10 | AK44: =SUM(W44:AH44) -> 10 | AL44: =SUM(W44:AJ44) -> 10 | AM44: zal / o | AN44: 1 | AO44: =T44+AL44 -> 10 | AP44: =V44+AN44 -> 1
B45: 21 | C45: obowiązkowy | D45: Kliniczne podstawy fizjoterapii w geriatrii | E45: 12 | I45: 3 | S45: =SUM(E45:P45) -> 15 | T45: =SUM(E45:R45) -> 15 | U45: zal / o | V45: 1 | AO45: =T45+AL45 -> 15 | AP45: =V45+AN45 -> 1
B46: 22 | C46: obowiązkowy | D46: Kliniczne podstawy fizjoterapii w psychiatrii | E46: 15 | S46: =SUM(E46:P46) -> 15 | T46: =SUM(E46:R46) -> 15 | U46: zal / o | V46: 1 | AO46: =T46+AL46 -> 15 | AP46: =V46+AN46 -> 1
B47: 23 | C47: obowiązkowy | D47: Kliniczne podstawy fizjoterapii w intensywnej terapii | W47: 10 | AK47: =SUM(W47:AH47) -> 10 | AL47: =SUM(W47:AJ47) -> 10 | AM47: zal / o | AN47: 1 | AO47: =T47+AL47 -> 10 | AP47: =V47+AN47 -> 1
B48: 24 | C48: obowiązkowy | D48: Fizjoterapia kliniczna w dysfunkcjach układu ruchu w ortopedii i traumatologii 1 | W48: 35 | AC48: 10 | AK48: =SUM(W48:AH48) -> 45 | AL48: =SUM(W48:AJ48) -> 45 | AM48: zal / o | AN48: 2 | AO48: =T48+AL48 -> 45 | AP48: =V48+AN48 -> 2
B49: 25 | C49: obowiązkowy | D49: Fizjoterapia kliniczna w dysfunkcjach układu ruchu w wieku rozwojowym | W49: 25 | AC49: 20 | AK49: =SUM(W49:AH49) -> 45 | AL49: =SUM(W49:AJ49) -> 45 | AM49: egz | AN49: 3 | AO49: =T49+AL49 -> 45 | AP49: =V49+AN49 -> 3
B50: 26 | C50: obowiązkowy | D50: Fizjoterapia w chorobach wewnętrznych w pediatrii | E50: 25 | K50: 20 | S50: =SUM(E50:P50) -> 45 | T50: =SUM(E50:R50) -> 45 | U50: egz | V50: 3 | AO50: =T50+AL50 -> 45 | AP50: =V50+AN50 -> 3
B51: RAZEM | E51: =SUM(E34:E50) -> 142 | F51: =SUM(F34:F50) -> 0 | G51: =SUM(G34:G50) -> 0 | H51: =SUM(H34:H50) -> 0 | I51: =SUM(I34:I50) -> 3 | J51: =SUM(J34:J50) -> 0 | K51: =SUM(K34:K50) -> 20 | L51: =SUM(L34:L50) -> 0 | ... T51: =SUM(T34:T50) -> 165 | V51: =SUM(V34:V50) -> 13 | W51: =SUM(W34:W50) -> 160 | X51: =SUM(X34:X50) -> 0 | Y51: =SUM(Y34:Y50) -> 0 | Z51: =SUM(Z34:Z50) -> 0 | AA51: =SUM(AA34:AA50) -> 0 | AB51: =SUM(AB34:AB50) -> 0 | AC51: =SUM(AC34:AC50) -> 30 | ... AL51: =SUM(AL34:AL50) -> 190 | AN51: =SUM(AN34:AN50) -> 15 | AO51: =SUM(AO34:AO50) -> 355 | AP51: =SUM(AP34:AP50) -> 28
B52: F. PRAKTYKI FIZJOTERAPEUTYCZNE - ZAKRES PRAKTYK
B53: 27 | C53: obowiązkowy | D53: Wakacyjna praktyka z kinezyterapii | AI53: 300 | AK53: =SUM(W53:AH53) -> 0 | AL53: =SUM(W53:AJ53) -> 300 | AM53: zal | AN53: 11 | AO53: =T53+AL53 -> 300 | AP53: =V53+AN53 -> 11
B54: RAZEM | E54: =SUM(E53:E53) -> 0 | F54: =SUM(F53:F53) -> 0 | G54: =SUM(G53:G53) -> 0 | H54: =SUM(H53:H53) -> 0 | I54: =SUM(I53:I53) -> 0 | J54: =SUM(J53:J53) -> 0 | K54: =SUM(K53:K53) -> 0 | L54: =SUM(L53:L53) -> 0 | ... T54: =SUM(T53:T53) -> 0 | V54: =SUM(V53:V53) -> 0 | W54: =SUM(W53:W53) -> 0 | X54: =SUM(X53:X53) -> 0 | Y54: =SUM(Y53:Y53) -> 0 | Z54: =SUM(Z53:Z53) -> 0 | AA54: =SUM(AA53:AA53) -> 0 | AB54: =SUM(AB53:AB53) -> 0 | AC54: =SUM(AC53:AC53) -> 0 | ... AL54: =SUM(AL53:AL53) -> 300 | AN54: =SUM(AN53:AN53) -> 11 | AO54: =SUM(AO53:AO53) -> 300 | AP54: =SUM(AP53:AP53) -> 11
B55: G. Autorska oferta uczelni
B56: 28 | C56: ograniczonego wyboru | D56: Przedmiot fakultatywny 1 | Y56: 30 | AK56: =SUM(W56:AH56) -> 30 | AL56: =SUM(W56:AJ56) -> 30 | AM56: zal / o | AN56: 2 | AO56: =T56+AL56 -> 30 | AP56: =V56+AN56 -> 2
B57: 29 | C57: ograniczonego wyboru | D57: Przedmiot fakultatywny 2 | Y57: 30 | AK57: =SUM(W57:AH57) -> 30 | AL57: =SUM(W57:AJ57) -> 30 | AM57: zal / o | AN57: 2 | AO57: =T57+AL57 -> 30 | AP57: =V57+AN57 -> 2
B58: RAZEM | E58: =SUM(E56:E57) -> 0 | F58: =SUM(F56:F57) -> 0 | G58: =SUM(G56:G57) -> 0 | H58: =SUM(H56:H57) -> 0 | I58: =SUM(I56:I57) -> 0 | J58: =SUM(J56:J57) -> 0 | K58: =SUM(K56:K57) -> 0 | L58: =SUM(L56:L57) -> 0 | ... T58: =SUM(T56:T57) -> 0 | V58: =SUM(V56:V57) -> 0 | W58: =SUM(W56:W57) -> 0 | X58: =SUM(X56:X57) -> 0 | Y58: =SUM(Y56:Y57) -> 60 | Z58: =SUM(Z56:Z57) -> 0 | AA58: =SUM(AA56:AA57) -> 0 | AB58: =SUM(AB56:AB57) -> 0 | AC58: =SUM(AC56:AC57) -> 0 | ... AL58: =SUM(AL56:AL57) -> 60 | AN58: =SUM(AN56:AN57) -> 4 | AO58: =SUM(AO56:AO57) -> 60 | AP58: =SUM(AP56:AP57) -> 4
B59: RAZEM | E59: =E23+E27+E32+E51+E54+E58 -> 202 | F59: =F23+F27+F32+F51+F54+F58 -> 0 | G59: =G23+G27+G32+G51+G54+G58 -> 20 | H59: =H23+H27+H32+H51+H54+H58 -> 110 | I59: =I23+I27+I32+I51+I54+I58 -> 3 | J59: =J23+J27+J32+J51+J54+J58 -> 0 | K59: =K23+K27+K32+K51+K54+K58 -> 20 | L59: =L23+L27+L32+L51+L54+L58 -> 0 | ... T59: =T23+T27+T32+T51+T54+T58 -> 385 | V59: =V23+V27+V32+V51+V54+V58 -> 26 | W59: =W23+W27+W32+W51+W54+W58 -> 185 | X59: =X23+X27+X32+X51+X54+X58 -> 0 | Y59: =Y23+Y27+Y32+Y51+Y54+Y58 -> 65 | Z59: =Z23+Z27+Z32+Z51+Z54+Z58 -> 30 | AA59: =AA23+AA27+AA32+AA51+AA54+AA58 -> 0 | AB59: =AB23+AB27+AB32+AB51+AB54+AB58 -> 0 | AC59: =AC23+AC27+AC32+AC51+AC54+AC58 -> 30 | ... AL59: =AL23+AL27+AL32+AL51+AL54+AL58 -> 640 | AN59: =AN23+AN27+AN32+AN51+AN54+AN58 -> 37 | AO59: =AO23+AO27+AO32+AO51+AO54+AO58 -> 1025 | AP59: =AP23+AP27+AP32+AP51+AP54+AP58 -> 63
B61: * - przedmioty, w ramach, których realizowane są efekty kształcenia związane ze zdobywaniem przez studenta pogłębionej wiedzy oraz umiejętności prowadzenia badań naukowych
P66: mgr K. Opalińska, mgr inż. S. Jarząb, mgr Weronika Bajer
P67: mgr M. Guła, dr M. Majewska-Pulsakowska
D68: Uzgodniono z Samorządem | P68: Sporządził | AG68: data i podpis Dziekana Wydziału

Sheet 3 rok
B6: Szczegółowy Program Studiów na rok akademicki 2028/2029
J7: .Uchwała Senatu UMW nr 2853 z dnia 18.02.2026 r
J8: zm. Uchwała Senatu UMW nr 2913 z dnia 27.05.2026 r
B9: Wydział Fizjoterapii | J9: zm. Uchwała Senatu UMW nr 2929 z dnia 24.06.2026 r
B10: Kierunek Fizjoterapia | J10: zm. Uchwała Senatu UMW nr 2951 z dnia 30.09.2026 r.
B11: Rok studiów 3
B12: Forma studiów stacjonarna
B13: Cykl kształcenia rozpoczynający się w roku akademickim: 2026/2027
B16: Lp. | D16: Przedmiot (nazwa) | E16: semestr zimowy - V | W16: semestr letni - VI | AO16: SUMA GODZIN DYDAKTYCZNYCH | AP16: SUMA PUNKTÓW ECTS ZA PRZEDMIOT
C17: Rodzaj zajęć (obowiązkowe / wolnego wyboru / ograniczonego wyboru) | E17: wykład (WY) | F17: seminarium (SE) | G17: ćwiczenia audytoryjne (CA) | H17: ćwiczenia kierunkowe - niekliniczne (CN) | I17: ćwiczenia w warunkach symulowanych (CS) | J17: ćwiczenia laboratoryjne (CL) | K17: ćwiczenia kliniczne (CK) | L17: zajęcia praktyczne przy pacjencie (PP) | M17: ćwiczenia specjalistyczne - magisterskie (CM) | N17: lektoraty (LE) | O17: e-learning (EL) | P17: zajęcia wychowania fizycznego-obowiązkowe (WF) | Q17: praktyka zawodowa (PZ) | R17: samokształcenie | S17: liczba godzin z nauczycielem | T17: ogólna liczba godzin dydaktycznych | U17: forma zakończenia semestru | V17: punkty ECTS w semestrze | W17: wykład (WY) | X17: seminarium (SE) | Y17: ćwiczenia audytoryjne CA) | Z17: ćwiczenia kierunkowe - niekliniczne (CN) | AA17: ćwiczenia w warunkach symulowanych (CS) | AB17: ćwiczenia laboratoryjne (CL) | AC17: ćwiczenia kliniczne (CK) | AD17: zajęcia praktyczne przy pacjencie (PP) | AE17: ćwiczenia specjalistyczne - magisterskie (CM) | AF17: lektoraty (LE) | AG17: e-learning (EL) | AH17: zajęcia wychowania fizycznego-obowiązkowe (WF) | AI17: praktyka zawodowa (PZ) | AJ17: samokształcenie | AK17: liczba godzin z nauczycielem | AL17: ogólna liczba godzin dydaktycznych | AM17: forma zakończenia semestru | AN17: punkty ECTS w semestrze
B18: C. PODSTAWY FIZJOTERAPII
B19: 1 | C19: obowiązkowy | D19: Terapia manualna | E19: 15 | H19: 30 | S19: =SUM(E19:P19) -> 45 | T19: =SUM(E19:R19) -> 45 | U19: egz | V19: 3 | AO19: =T19+AL19 -> 45 | AP19: =V19+AN19 -> 3
B20: 2 | C20: obowiązkowy | D20: Medycyna fizykalna 3 – balneoklimatologia i odnowa biologiczna | E20: 15 | H20: 10 | K20: 10 | S20: =SUM(E20:P20) -> 35 | T20: =SUM(E20:R20) -> 35 | U20: zal / o | V20: 3 | AO20: =T20+AL20 -> 35 | AP20: =V20+AN20 -> 3
B21: RAZEM | E21: =SUM(E19:E20) -> 30 | F21: =SUM(F19:F20) -> 0 | G21: =SUM(G19:G20) -> 0 | H21: =SUM(H19:H20) -> 40 | I21: =SUM(I19:I20) -> 0 | J21: =SUM(J19:J20) -> 0 | K21: =SUM(K19:K20) -> 10 | L21: =SUM(L19:L20) -> 0 | ... T21: =SUM(T19:T20) -> 80 | V21: =SUM(V19:V20) -> 6 | W21: =SUM(W19:W20) -> 0 | X21: =SUM(X19:X20) -> 0 | Y21: =SUM(Y19:Y20) -> 0 | Z21: =SUM(Z19:Z20) -> 0 | AA21: =SUM(AA19:AA20) -> 0 | AB21: =SUM(AB19:AB20) -> 0 | AC21: =SUM(AC19:AC20) -> 0 | ... AL21: =SUM(AL19:AL20) -> 0 | AN21: =SUM(AN19:AN20) -> 0 | AO21: =SUM(AO19:AO20) -> 80 | AP21: =V21+AN21 -> 6
B22: D. FIZJOTERAPIA KLINICZNA
B23: 3 | C23: obowiązkowy | D23: Kliniczne podstawy fizjoterapii w medycynie sportowej | E23: 25 | S23: =SUM(E23:P23) -> 25 | T23: =SUM(E23:R23) -> 25 | U23: zal / o | V23: 1 | AO23: =T23+AL23 -> 25 | AP23: =V23+AN23 -> 1
B24: 4 | C24: obowiązkowy | D24: Kliniczne podstawy fizjoterapii w chirurgii | E24: 15 | S24: =SUM(E24:P24) -> 15 | T24: =SUM(E24:R24) -> 15 | U24: zal / o | V24: 1 | AO24: =T24+AL24 -> 15 | AP24: =V24+AN24 -> 1
B25: 6 | C25: obowiązkowy | D25: Fizjoterapia kliniczna w dysfunkcjach układu ruchu w ortopedii i traumatologii 2 | E25: 25 | K25: 10 | S25: =SUM(E25:P25) -> 35 | T25: =SUM(E25:R25) -> 35 | U25: egz | V25: 2 | AO25: =T25+AL25 -> 35 | AP25: =V25+AN25 -> 2
B26: 7 | C26: obowiązkowy | D26: Fizjoterapia kliniczna w dysfunkcjach układu ruchu w medycynie sportowej 1 | W26: 30 | AC26: 10 | AK26: =SUM(W26:AH26) -> 40 | AL26: =SUM(W26:AJ26) -> 40 | AM26: zal / o | AN26: 3 | AO26: =T26+AL26 -> 40 | AP26: =V26+AN26 -> 3
B27: 8 | C27: obowiązkowy | D27: Fizjoterapia kliniczna w dysfunkcjach układu ruchu w neurologii i neurochirurgii 1 | E27: 30 | K27: 20 | S27: =SUM(E27:P27) -> 50 | T27: =SUM(E27:R27) -> 50 | U27: zal / o | V27: 2 | AO27: =T27+AL27 -> 50 | AP27: =V27+AN27 -> 2
B28: 9 | C28: obowiązkowy | D28: Fizjoterapia kliniczna w dysfunkcjach układu ruchu w neurologii i neurochirurgii 2 | W28: 25 | AC28: 20 | AK28: =SUM(W28:AH28) -> 45 | AL28: =SUM(W28:AJ28) -> 45 | AM28: egz | AN28: 2 | AO28: =T28+AL28 -> 45 | AP28: =V28+AN28 -> 2
B29: 10 | C29: obowiązkowy | D29: Fizjoterapia kliniczna w dysfunkcjach układu ruchu w reumatologii | W29: 20 | Y29: 10 | AC29: 20 | AK29: =SUM(W29:AH29) -> 50 | AL29: =SUM(W29:AJ29) -> 50 | AM29: egz | AN29: 3 | AO29: =T29+AL29 -> 50 | AP29: =V29+AN29 -> 3
B30: 11 | C30: obowiązkowy | D30: Fizjoterapia w chorobach wewnętrznych w kardiologii i kardiochirurgii 1 | W30: 20 | Y30: 15 | AC30: 20 | AK30: =SUM(W30:AH30) -> 55 | AL30: =SUM(W30:AJ30) -> 55 | AM30: zal / o | AN30: 2 | AO30: =T30+AL30 -> 55 | AP30: =V30+AN30 -> 2
B31: 12 | C31: obowiązkowy | D31: Fizjoterapia w chorobach wewnętrznych w geriatrii | E31: 20 | G31: 10 | K31: 20 | S31: =SUM(E31:P31) -> 50 | T31: =SUM(E31:R31) -> 50 | U31: egz | V31: 3 | AO31: =T31+AL31 -> 50 | AP31: =V31+AN31 -> 3
B32: 13 | C32: obowiązkowy | D32: Fizjoterapia w chorobach wewnętrznych w pulmonologii | E32: 20 | G32: 12 | I32: 3 | K32: 20 | S32: =SUM(E32:P32) -> 55 | T32: =SUM(E32:R32) -> 55 | U32: egz | V32: 3 | AO32: =T32+AL32 -> 55 | AP32: =V32+AN32 -> 3
B33: 14 | C33: obowiązkowy | D33: Fizjoterapia w chorobach wewnętrznych w chirurgii | W33: 25 | AC33: 20 | AK33: =SUM(W33:AH33) -> 45 | AL33: =SUM(W33:AJ33) -> 45 | AM33: egz | AN33: 3 | AO33: =T33+AL33 -> 45 | AP33: =V33+AN33 -> 3
B34: 15 | C34: obowiązkowy | D34: Fizjoterapia w chorobach wewnętrznych w ginekologii i położnictwie | E34: 25 | K34: 20 | S34: =SUM(E34:P34) -> 45 | T34: =SUM(E34:R34) -> 45 | U34: egz | V34: 3 | AO34: =T34+AL34 -> 45 | AP34: =V34+AN34 -> 3
B35: 16 | C35: obowiązkowy | D35: Fizjoterapia w chorobach wewnętrznych w psychiatrii | W35: 20 | AC35: 20 | AK35: =SUM(W35:AH35) -> 40 | AL35: =SUM(W35:AJ35) -> 40 | AM35: egz | AN35: 3 | AO35: =T35+AL35 -> 40 | AP35: =V35+AN35 -> 3
B36: 17 | C36: obowiązkowy | D36: Fizjoterapia w chorobach wewnętrznych w onkologii i medycynie paliatywnej | W36: 25 | AC36: 20 | AK36: =SUM(W36:AH36) -> 45 | AL36: =SUM(W36:AJ36) -> 45 | AM36: egz | AN36: 3 | AO36: =T36+AL36 -> 45 | AP36: =V36+AN36 -> 3
B37: 18 | C37: obowiązkowy | D37: Diagnostyka funkcjonalna w dysfunkcjach układu ruchu 1 | E37: 15 | G37: 15 | K37: 20 | S37: =SUM(E37:P37) -> 50 | T37: =SUM(E37:R37) -> 50 | U37: zal / o | V37: 2 | AO37: =T37+AL37 -> 50 | AP37: =V37+AN37 -> 2
B38: 19 | C38: obowiązkowy | D38: Diagnostyka funkcjonalna w dysfunkcjach układu ruchu 2 | W38: 15 | Y38: 10 | Z38: 5 | AC38: 20 | AK38: =SUM(W38:AH38) -> 50 | AL38: =SUM(W38:AJ38) -> 50 | AM38: egz | AN38: 3 | AO38: =T38+AL38 -> 50 | AP38: =V38+AN38 -> 3
B39: 20 | C39: obowiązkowy | D39: Diagnostyka funkcjonalna w wieku rozwojowym 1 | E39: 30 | K39: 20 | S39: =SUM(E39:P39) -> 50 | T39: =SUM(E39:R39) -> 50 | U39: zal / o | V39: 2 | AO39: =T39+AL39 -> 50 | AP39: =V39+AN39 -> 2
B40: 21 | C40: obowiązkowy | D40: Diagnostyka funkcjonalna w wieku rozwojowym 2 | W40: 30 | AC40: 20 | AK40: =SUM(W40:AH40) -> 50 | AL40: =SUM(W40:AJ40) -> 50 | AM40: egz | AN40: 3 | AO40: =T40+AL40 -> 50 | AP40: =V40+AN40 -> 3
B41: RAZEM | E41: =SUM(E23:E40) -> 205 | F41: =SUM(F23:F40) -> 0 | G41: =SUM(G23:G40) -> 37 | H41: =SUM(H23:H40) -> 0 | I41: =SUM(I23:I40) -> 3 | J41: =SUM(J23:J40) -> 0 | K41: =SUM(K23:K40) -> 130 | L41: =SUM(L23:L40) -> 0 | ... T41: =SUM(T23:T40) -> 375 | V41: =SUM(V23:V40) -> 19 | W41: =SUM(W23:W40) -> 210 | X41: =SUM(X23:X40) -> 0 | Y41: =SUM(Y23:Y40) -> 35 | Z41: =SUM(Z23:Z40) -> 5 | AA41: =SUM(AA23:AA40) -> 0 | AB41: =SUM(AB23:AB40) -> 0 | AC41: =SUM(AC23:AC40) -> 170 | ... AL41: =SUM(AL23:AL40) -> 420 | AN41: =SUM(AN23:AN40) -> 25 | AO41: =SUM(AO23:AO40) -> 795 | AP41: =V41+AN41 -> 44
B42: F. PRAKTYKI FIZJOTERAPEUTYCZNE - ZAKRES PRAKTYK
B43: 22 | C43: obowiązkowy | D43: Praktyka z fizjoterapii klinicznej, fizykoterapii i masażu | Q43: 100 | S43: =SUM(E43:P43) -> 0 | T43: =SUM(E43:R43) -> 100 | U43: zal | V43: 4 | AO43: =T43+AL43 -> 100 | AP43: =V43+AN43 -> 4
B44: 23 | C44: obowiązkowy | D44: Wakacyjna praktyka profilowana - wybieralna | AI44: 200 | AK44: =SUM(W44:AH44) -> 0 | AL44: =SUM(W44:AJ44) -> 200 | AM44: zal | AN44: 7 | AO44: =T44+AL44 -> 200 | AP44: =V44+AN44 -> 7
B45: RAZEM | E45: =SUM(E43:E44) -> 0 | F45: =SUM(F43:F44) -> 0 | G45: =SUM(G43:G44) -> 0 | H45: =SUM(H43:H44) -> 0 | I45: =SUM(I43:I44) -> 0 | J45: =SUM(J43:J44) -> 0 | K45: =SUM(K43:K44) -> 0 | L45: =SUM(L43:L44) -> 0 | ... T45: =SUM(T43:T44) -> 100 | V45: =SUM(V43:V44) -> 4 | W45: =SUM(W43:W44) -> 0 | X45: =SUM(X43:X44) -> 0 | Y45: =SUM(Y43:Y44) -> 0 | Z45: =SUM(Z43:Z44) -> 0 | AA45: =SUM(AA43:AA44) -> 0 | AB45: =SUM(AB43:AB44) -> 0 | AC45: =SUM(AC43:AC44) -> 0 | ... AL45: =SUM(AL43:AL44) -> 200 | AN45: =SUM(AN43:AN44) -> 7 | AO45: =SUM(AO43:AO44) -> 300 | AP45: =SUM(AP43:AP44) -> 11
B46: G. Autorska oferta uczelni
B47: 24 | C47: ograniczonego wyboru | D47: Przedmiot fakultatywny 3 | Y47: 30 | AK47: =SUM(W47:AH47) -> 30 | AL47: =SUM(W47:AJ47) -> 30 | AM47: zal / o | AN47: 2 | AO47: =T47+AL47 -> 30 | AP47: =V47+AN47 -> 2
B48: RAZEM | E48: =SUM(E47) -> 0 | F48: =SUM(F47) -> 0 | G48: =SUM(G47) -> 0 | H48: =SUM(H47) -> 0 | I48: =SUM(I47) -> 0 | J48: =SUM(J47) -> 0 | K48: =SUM(K47) -> 0 | L48: =SUM(L47) -> 0 | ... T48: =SUM(T47) -> 0 | V48: =SUM(V47) -> 0 | W48: =SUM(W47) -> 0 | X48: =SUM(X47) -> 0 | Y48: =SUM(Y47) -> 30 | Z48: =SUM(Z47) -> 0 | AA48: =SUM(AA47) -> 0 | AB48: =SUM(AB47) -> 0 | AC48: =SUM(AC47) -> 0 | ... AL48: =SUM(AL47) -> 30 | AN48: =SUM(AN47) -> 2 | AO48: =SUM(AO47) -> 30 | AP48: =SUM(AP47) -> 2
B49: RAZEM | E49: =E21+E41+E45+E48 -> 235 | F49: =F21+F41+F45+F48 -> 0 | G49: =G21+G41+G45+G48 -> 37 | H49: =H21+H41+H45+H48 -> 40 | I49: =I21+I41+I45+I48 -> 3 | J49: =J21+J41+J45+J48 -> 0 | K49: =K21+K41+K45+K48 -> 140 | L49: =L21+L41+L45+L48 -> 0 | ... T49: =T21+T41+T45+T48 -> 555 | V49: =V21+V41+V45+V48 -> 29 | W49: =W21+W41+W45+W48 -> 210 | X49: =X21+X41+X45+X48 -> 0 | Y49: =Y21+Y41+Y45+Y48 -> 65 | Z49: =Z21+Z41+Z45+Z48 -> 5 | AA49: =AA21+AA41+AA45+AA48 -> 0 | AB49: =AB21+AB41+AB45+AB48 -> 0 | AC49: =AC21+AC41+AC45+AC48 -> 170 | ... AL49: =AL21+AL41+AL45+AL48 -> 650 | AN49: =AN21+AN41+AN45+AN48 -> 34 | AO49: =AO21+AO41+AO45+AO48 -> 1205 | AP49: =AP21+AP41+AP45+AP48 -> 63
B51: * - przedmioty, w ramach, których realizowane są efekty kształcenia związane ze zdobywaniem przez studenta pogłębionej wiedzy oraz umiejętności prowadzenia badań naukowych
P56: mgr K. Opalińska, mgr inż. S. Jarząb, mgr Weronika Bajer
P57: mgr M. Guła, dr M. Majewska-Pulsakowska
D58: Uzgodniono z Samorządem | P58: Sporządził | AG58: data i podpis Dziekana Wydziału

Sheet 4 rok
B6: Szczegółowy Program Studiów na rok akademicki 2029/2030
J7: .Uchwała Senatu UMW nr 2853 z dnia 18.02.2026 r
J8: zm. Uchwała Senatu UMW nr 2913 z dnia 27.05.2026 r
B9: Wydział Fizjoterapii | J9: zm. Uchwała Senatu UMW nr 2929 z dnia 24.06.2026 r
B10: Kierunek Fizjoterapia | J10: zm. Uchwała Senatu UMW nr 2951 z dnia 30.09.2026 r.
B11: Rok studiów 4
B12: Forma studiów stacjonarna
B13: Cykl kształcenia rozpoczynający się w roku akademickim: 2026/2027
B16: Lp. | D16: Przedmiot (nazwa) | E16: semestr zimowy - VII | W16: semestr letni - VIII | AO16: SUMA GODZIN DYDAKTYCZNYCH | AP16: SUMA PUNKTÓW ECTS ZA PRZEDMIOT
C17: Rodzaj zajęć (obowiązkowe / wolnego wyboru / ograniczonego wyboru) | E17: wykład (WY) | F17: seminarium (SE) | G17: ćwiczenia audytoryjne (CA) | H17: ćwiczenia kierunkowe - niekliniczne (CN) | I17: ćwiczenia w warunkach symulowanych (CS) | J17: ćwiczenia laboratoryjne (CL) | K17: ćwiczenia kliniczne (CK) | L17: zajęcia praktyczne przy pacjencie (PP) | M17: ćwiczenia specjalistyczne - magisterskie (CM) | N17: lektoraty (LE) | O17: e-learning (EL) | P17: zajęcia wychowania fizycznego-obowiązkowe (WF) | Q17: praktyka zawodowa (PZ) | R17: samokształcenie | S17: liczba godzin z nauczycielem | T17: ogólna liczba godzin dydaktycznych | U17: forma zakończenia semestru | V17: punkty ECTS w semestrze | W17: wykład (WY) | X17: seminarium (SE) | Y17: ćwiczenia audytoryjne CA) | Z17: ćwiczenia kierunkowe - niekliniczne (CN) | AA17: ćwiczenia w warunkach symulowanych (CS) | AB17: ćwiczenia laboratoryjne (CL) | AC17: ćwiczenia kliniczne (CK) | AD17: zajęcia praktyczne przy pacjencie (PP) | AE17: ćwiczenia specjalistyczne - magisterskie (CM) | AF17: lektoraty (LE) | AG17: e-learning (EL) | AH17: zajęcia wychowania fizycznego-obowiązkowe (WF) | AI17: praktyka zawodowa (PZ) | AJ17: samokształcenie | AK17: liczba godzin z nauczycielem | AL17: ogólna liczba godzin dydaktycznych | AM17: forma zakończenia semestru | AN17: punkty ECTS w semestrze
B18: B. NAUKI OGÓLNE
B19: 1 | C19: obowiązkowy | D19: Dydaktyka fizjoterapii | E19: 10 | G19: 20 | S19: =SUM(E19:P19) -> 30 | T19: =SUM(E19:R19) -> 30 | U19: zal / o | V19: 2 | AO19: =T19+AL19 -> 30 | AP19: =V19+AN19 -> 2
B20: 2 | C20: obowiązkowy | D20: Zarządzanie i marketing | W20: 10 | Y20: 5 | AK20: =SUM(W20:AH20) -> 15 | AL20: =SUM(W20:AJ20) -> 15 | AM20: zal / o | AN20: 1 | AO20: =T20+AL20 -> 15 | AP20: =V20+AN20 -> 1
B21: RAZEM | E21: =SUM(E19:E20) -> 10 | F21: =SUM(F19:F20) -> 0 | G21: =SUM(G19:G20) -> 20 | H21: =SUM(H19:H20) -> 0 | I21: =SUM(I19:I20) -> 0 | J21: =SUM(J19:J20) -> 0 | K21: =SUM(K19:K20) -> 0 | L21: =SUM(L19:L20) -> 0 | ... T21: =SUM(T19:T20) -> 30 | V21: =SUM(V19:V20) -> 2 | W21: =SUM(W19:W20) -> 10 | X21: =SUM(X19:X20) -> 0 | Y21: =SUM(Y19:Y20) -> 5 | Z21: =SUM(Z19:Z20) -> 0 | AA21: =SUM(AA19:AA20) -> 0 | AB21: =SUM(AB19:AB20) -> 0 | AC21: =SUM(AC19:AC20) -> 0 | ... AL21: =SUM(AL19:AL20) -> 15 | AN21: =SUM(AN19:AN20) -> 1 | AO21: =SUM(AO19:AO20) -> 45 | AP21: =SUM(AP19:AP20) -> 3
B22: C. PODSTAWY FIZJOTERAPII
B23: 3 | C23: obowiązkowy | D23: Metody specjalne fizjoterapii 1 | E23: 10 | H23: 75 | S23: =SUM(E23:P23) -> 85 | T23: =SUM(E23:R23) -> 85 | U23: zal / o | V23: 3 | AO23: =T23+AL23 -> 85 | AP23: =V23+AN23 -> 3
B24: 4 | C24: obowiązkowy | D24: Metody specjalne fizjoterapii 2 | W24: 10 | Z24: 71 | AA24: 4 | AK24: =SUM(W24:AH24) -> 85 | AL24: =SUM(W24:AJ24) -> 85 | AM24: egz | AN24: 4 | AO24: =T24+AL24 -> 85 | AP24: =V24+AN24 -> 4
B25: RAZEM | E25: =SUM(E23:E24) -> 10 | F25: =SUM(F23:F24) -> 0 | G25: =SUM(G23:G24) -> 0 | H25: =SUM(H23:H24) -> 75 | I25: =SUM(I23:I24) -> 0 | J25: =SUM(J23:J24) -> 0 | K25: =SUM(K23:K24) -> 0 | L25: =SUM(L23:L24) -> 0 | ... T25: =SUM(T23:T24) -> 85 | V25: =SUM(V23:V24) -> 3 | W25: =SUM(W23:W24) -> 10 | X25: =SUM(X23:X24) -> 0 | Y25: =SUM(Y23:Y24) -> 0 | Z25: =SUM(Z23:Z24) -> 71 | AA25: =SUM(AA23:AA24) -> 4 | AB25: =SUM(AB23:AB24) -> 0 | AC25: =SUM(AC23:AC24) -> 0 | ... AL25: =SUM(AL23:AL24) -> 85 | AN25: =SUM(AN23:AN24) -> 4 | AO25: =SUM(AO23:AO24) -> 170 | AP25: =SUM(AP23:AP24) -> 7
B26: D. FIZJOTERAPIA KLINICZNA
B27: 5 | C27: obowiązkowy | D27: Fizjoterapia kliniczna w dysfunkcjach układu ruchu w medycynie sportowej 2 | E27: 25 | K27: 10 | S27: =SUM(E27:P27) -> 35 | T27: =SUM(E27:R27) -> 35 | U27: egz | V27: 2 | AO27: =T27+AL27 -> 35 | AP27: =V27+AN27 -> 2
B28: 6 | C28: obowiązkowy | D28: Fizjoterapia w chorobach wewnętrznych w kardiologii i kardiochirurgii 2 | E28: 20 | G28: 15 | K28: 20 | S28: =SUM(E28:P28) -> 55 | T28: =SUM(E28:R28) -> 55 | U28: egz | V28: 2 | AO28: =T28+AL28 -> 55 | AP28: =V28+AN28 -> 2
B29: 7 | C29: obowiązkowy | D29: Planowanie fizjoterapii w dysfunkcjach układu ruchu 1 | E29: 15 | G29: 15 | K29: 20 | S29: =SUM(E29:P29) -> 50 | T29: =SUM(E29:R29) -> 50 | U29: zal / o | V29: 2 | AO29: =T29+AL29 -> 50 | AP29: =V29+AN29 -> 2
B30: 8 | C30: obowiązkowy | D30: Planowanie fizjoterapii w dysfunkcjach układu ruchu 2 | W30: 15 | Y30: 15 | AC30: 20 | AK30: =SUM(W30:AH30) -> 50 | AL30: =SUM(W30:AJ30) -> 50 | AM30: egz | AN30: 3 | AO30: =T30+AL30 -> 50 | AP30: =V30+AN30 -> 3
B31: 9 | C31: obowiązkowy | D31: Planowanie fizjoterapii w chorobach wewnętrznych | W31: 30 | Y31: 30 | AC31: 40 | AK31: =SUM(W31:AH31) -> 100 | AL31: =SUM(W31:AJ31) -> 100 | AM31: egz | AN31: 5 | AO31: =T31+AL31 -> 100 | AP31: =V31+AN31 -> 5
B32: 10 | C32: obowiązkowy | D32: Planowanie fizjoterapii w wieku rozwojowym 1 | E32: 15 | G32: 15 | K32: 20 | S32: =SUM(E32:P32) -> 50 | T32: =SUM(E32:R32) -> 50 | U32: zal / o | V32: 2 | AO32: =T32+AL32 -> 50 | AP32: =V32+AN32 -> 2
B33: 11 | C33: obowiązkowy | D33: Planowanie fizjoterapii w wieku rozwojowym 2 | W33: 15 | Y33: 15 | AC33: 20 | AK33: =SUM(W33:AH33) -> 50 | AL33: =SUM(W33:AJ33) -> 50 | AM33: egz | AN33: 3 | AO33: =T33+AL33 -> 50 | AP33: =V33+AN33 -> 3
B34: 12 | C34: obowiązkowy | D34: Diagnostyka funkcjonalna w chorobach wewnętrznych | E34: 30 | G34: 30 | K34: 40 | S34: =SUM(E34:P34) -> 100 | T34: =SUM(E34:R34) -> 100 | U34: egz | V34: 5 | AO34: =T34+AL34 -> 100 | AP34: =V34+AN34 -> 5
B35: RAZEM | E35: =SUM(E27:E34) -> 105 | F35: =SUM(F27:F34) -> 0 | G35: =SUM(G27:G34) -> 75 | H35: =SUM(H27:H34) -> 0 | I35: =SUM(I27:I34) -> 0 | J35: =SUM(J27:J34) -> 0 | K35: =SUM(K27:K34) -> 110 | L35: =SUM(L27:L34) -> 0 | ... T35: =SUM(T27:T34) -> 290 | V35: =SUM(V27:V34) -> 13 | W35: =SUM(W27:W34) -> 60 | X35: =SUM(X27:X34) -> 0 | Y35: =SUM(Y27:Y34) -> 60 | Z35: =SUM(Z27:Z34) -> 0 | AA35: =SUM(AA27:AA34) -> 0 | AB35: =SUM(AB27:AB34) -> 0 | AC35: =SUM(AC27:AC34) -> 80 | ... AL35: =SUM(AL27:AL34) -> 200 | AN35: =SUM(AN27:AN34) -> 11 | AO35: =SUM(AO27:AO34) -> 490 | AP35: =SUM(AP27:AP34) -> 24
B36: E. METODOLOGIA BADAŃ NAUKOWYCH
B37: 13 | C37: obowiązkowy | D37: Metodologia badań naukowych | E37: 15 | G37: 15 | S37: =SUM(E37:P37) -> 30 | T37: =SUM(E37:R37) -> 30 | U37: zal / o | V37: 1 | AO37: =T37+AL37 -> 30 | AP37: =V37+AN37 -> 1
B38: 14 | C38: obowiązkowy | D38: Seminarium magisterskie 1 | F38: 5 | S38: =SUM(E38:P38) -> 5 | T38: =SUM(E38:R38) -> 5 | U38: zal / o | V38: 6 | AO38: =T38+AL38 -> 5 | AP38: =V38+AN38 -> 6
B39: 15 | C39: obowiązkowy | D39: Seminarium magisterskie 2 | X39: 5 | AK39: =SUM(W39:AH39) -> 5 | AL39: =SUM(W39:AJ39) -> 5 | AM39: zal / o | AN39: 6 | AO39: =T39+AL39 -> 5 | AP39: =V39+AN39 -> 6
B40: RAZEM | E40: =SUM(E37:E39) -> 15 | F40: =SUM(F37:F39) -> 5 | G40: =SUM(G37:G39) -> 15 | H40: =SUM(H37:H39) -> 0 | I40: =SUM(I37:I39) -> 0 | J40: =SUM(J37:J39) -> 0 | K40: =SUM(K37:K39) -> 0 | L40: =SUM(L37:L39) -> 0 | ... T40: =SUM(T37:T39) -> 35 | V40: =SUM(V37:V39) -> 7 | W40: =SUM(W37:W39) -> 0 | X40: =SUM(X37:X39) -> 5 | Y40: =SUM(Y37:Y39) -> 0 | Z40: =SUM(Z37:Z39) -> 0 | AA40: =SUM(AA37:AA39) -> 0 | AB40: =SUM(AB37:AB39) -> 0 | AC40: =SUM(AC37:AC39) -> 0 | ... AL40: =SUM(AL37:AL39) -> 5 | AN40: =SUM(AN37:AN39) -> 6 | AO40: =SUM(AO37:AO39) -> 40 | AP40: =SUM(AP37:AP39) -> 13
B41: F. PRAKTYKI FIZJOTERAPEUTYCZNE - ZAKRES PRAKTYK
B42: 16 | C42: obowiązkowy | D42: Praktyka z fizjoterapii klinicznej, fizykoterapii i masażu | Q42: 100 | S42: =SUM(E42:P42) -> 0 | T42: =SUM(E42:R42) -> 100 | U42: zal | V42: 4 | AO42: =T42+AL42 -> 100 | AP42: =V42+AN42 -> 4
B43: 17 | C43: obowiązkowy | D43: Wakacyjna praktyka profilowana - wybieralna | AI43: 200 | AK43: =SUM(W43:AH43) -> 0 | AL43: =SUM(W43:AJ43) -> 200 | AM43: zal | AN43: 7 | AO43: =T43+AL43 -> 200 | AP43: =V43+AN43 -> 7
B44: RAZEM | E44: =SUM(E42:E43) -> 0 | F44: =SUM(F42:F43) -> 0 | G44: =SUM(G42:G43) -> 0 | H44: =SUM(H42:H43) -> 0 | I44: =SUM(I42:I43) -> 0 | J44: =SUM(J42:J43) -> 0 | K44: =SUM(K42:K43) -> 0 | L44: =SUM(L42:L43) -> 0 | ... T44: =SUM(T42:T43) -> 100 | V44: =SUM(V42:V43) -> 4 | W44: =SUM(W42:W43) -> 0 | X44: =SUM(X42:X43) -> 0 | Y44: =SUM(Y42:Y43) -> 0 | Z44: =SUM(Z42:Z43) -> 0 | AA44: =SUM(AA42:AA43) -> 0 | AB44: =SUM(AB42:AB43) -> 0 | AC44: =SUM(AC42:AC43) -> 0 | ... AL44: =SUM(AL42:AL43) -> 200 | AN44: =SUM(AN42:AN43) -> 7 | AO44: =SUM(AO42:AO43) -> 300 | AP44: =SUM(AP42:AP43) -> 11
B45: G. Autorska oferta uczelni
B46: 18 | C46: obowiązkowy | D46: Praca w zespole badawczym 1 | E46: 20 | K46: 20 | S46: =SUM(E46:P46) -> 40 | T46: =SUM(E46:R46) -> 40 | U46: zal / o | V46: 2 | AO46: =T46+AL46 -> 40 | AP46: =V46+AN46 -> 2
B47: 19 | C47: obowiązkowy | D47: Praca w zespole badawczym 2 | Y47: 20 | AC47: 20 | AK47: =SUM(W47:AH47) -> 40 | AL47: =SUM(W47:AJ47) -> 40 | AM47: zal / o | AN47: 2 | AO47: =T47+AL47 -> 40 | AP47: =V47+AN47 -> 2
B48: 20 | C48: ograniczonego wyboru | D48: Przedmiot fakultatywny 4 | Y48: 30 | AK48: =SUM(W48:AH48) -> 30 | AL48: =SUM(W48:AJ48) -> 30 | AM48: zal / o | AN48: 2 | AO48: =T48+AL48 -> 30 | AP48: =V48+AN48 -> 2
B49: 21 | C49: ograniczonego wyboru | D49: Przedmiot fakultatywny 5 | Y49: 30 | AK49: =SUM(W49:AH49) -> 30 | AL49: =SUM(W49:AJ49) -> 30 | AM49: zal / o | AN49: 2 | AO49: =T49+AL49 -> 30 | AP49: =V49+AN49 -> 2
B50: RAZEM | E50: =SUM(E46:E49) -> 20 | F50: =SUM(F46:F49) -> 0 | G50: =SUM(G46:G49) -> 0 | H50: =SUM(H46:H49) -> 0 | I50: =SUM(I46:I49) -> 0 | J50: =SUM(J46:J49) -> 0 | K50: =SUM(K46:K49) -> 20 | L50: =SUM(L46:L49) -> 0 | ... T50: =SUM(T46:T49) -> 40 | V50: =SUM(V46:V49) -> 2 | W50: =SUM(W46:W49) -> 0 | X50: =SUM(X46:X49) -> 0 | Y50: =SUM(Y46:Y49) -> 80 | Z50: =SUM(Z46:Z49) -> 0 | AA50: =SUM(AA46:AA49) -> 0 | AB50: =SUM(AB46:AB49) -> 0 | AC50: =SUM(AC46:AC49) -> 20 | ... AL50: =SUM(AL46:AL49) -> 100 | AN50: =SUM(AN46:AN49) -> 6 | AO50: =SUM(AO46:AO49) -> 140 | AP50: =SUM(AP46:AP49) -> 8
B51: RAZEM | E51: =E21+E25+E35+E40+E44+E50 -> 160 | F51: =F21+F25+F35+F40+F44+F50 -> 5 | G51: =G21+G25+G35+G40+G44+G50 -> 110 | H51: =H21+H25+H35+H40+H44+H50 -> 75 | I51: =I21+I25+I35+I40+I44+I50 -> 0 | J51: =J21+J25+J35+J40+J44+J50 -> 0 | K51: =K21+K25+K35+K40+K44+K50 -> 130 | L51: =L21+L25+L35+L40+L44+L50 -> 0 | ... T51: =T21+T25+T35+T40+T44+T50 -> 580 | V51: =V21+V25+V35+V40+V44+V50 -> 31 | W51: =W21+W25+W35+W40+W44+W50 -> 80 | X51: =X21+X25+X35+X40+X44+X50 -> 5 | Y51: =Y21+Y25+Y35+Y40+Y44+Y50 -> 145 | Z51: =Z21+Z25+Z35+Z40+Z44+Z50 -> 71 | AA51: =AA21+AA25+AA35+AA40+AA44+AA50 -> 4 | AB51: =AB21+AB25+AB35+AB40+AB44+AB50 -> 0 | AC51: =AC21+AC25+AC35+AC40+AC44+AC50 -> 100 | ... AL51: =AL21+AL25+AL35+AL40+AL44+AL50 -> 605 | AN51: =AN21+AN25+AN35+AN40+AN44+AN50 -> 35 | AO51: =AO21+AO25+AO35+AO40+AO44+AO50 -> 1185 | AP51: =AP21+AP25+AP35+AP40+AP44+AP50 -> 66
B53: * - przedmioty, w ramach, których realizowane są efekty kształcenia związane ze zdobywaniem przez studenta pogłębionej wiedzy oraz umiejętności prowadzenia badań naukowych
P58: mgr K. Opalińska, mgr inż. S. Jarząb, mgr Weronika Bajer
P59: mgr M. Guła, dr M. Majewska-Pulsakowska
D60: Uzgodniono z Samorządem | P60: Sporządził | AG60: data i podpis Dziekana Wydziału

Sheet 5 rok
B6: Szczegółowy Program Studiów na rok akademicki 2030/2031
J7: .Uchwała Senatu UMW nr 2853 z dnia 18.02.2026 r
J8: zm. Uchwała Senatu UMW nr 2913 z dnia 27.05.2026 r
B9: Wydział Fizjoterapii | J9: zm. Uchwała Senatu UMW nr 2929 z dnia 24.06.2026 r
B10: Kierunek Fizjoterapia | J10: zm. Uchwała Senatu UMW nr 2951 z dnia 30.09.2026 r.
B11: Rok studiów 5
B12: Forma studiów stacjonarna
B13: Cykl kształcenia rozpoczynający się w roku akademickim: 2026/2027
B16: Lp. | D16: Przedmiot (nazwa) | E16: semestr zimowy - IX | W16: semestr letni - X | AO16: SUMA GODZIN DYDAKTYCZNYCH | AP16: SUMA PUNKTÓW ECTS ZA PRZEDMIOT
C17: Rodzaj zajęć (obowiązkowe / wolnego wyboru / ograniczonego wyboru) | E17: wykład (WY) | F17: seminarium (SE) | G17: ćwiczenia audytoryjne (CA) | H17: ćwiczenia kierunkowe - niekliniczne (CN) | I17: ćwiczenia w warunkach symulowanych (CS) | J17: ćwiczenia laboratoryjne (CL) | K17: ćwiczenia kliniczne (CK) | L17: zajęcia praktyczne przy pacjencie (PP) | M17: ćwiczenia specjalistyczne - magisterskie (CM) | N17: lektoraty (LE) | O17: e-learning (EL) | P17: zajęcia wychowania fizycznego-obowiązkowe (WF) | Q17: praktyka zawodowa (PZ) | R17: samokształcenie | S17: liczba godzin z nauczycielem | T17: ogólna liczba godzin dydaktycznych | U17: forma zakończenia semestru | V17: punkty ECTS w semestrze | W17: wykład (WY) | X17: seminarium (SE) | Y17: ćwiczenia audytoryjne CA) | Z17: ćwiczenia kierunkowe - niekliniczne (CN) | AA17: ćwiczenia w warunkach symulowanych (CS) | AB17: ćwiczenia laboratoryjne (CL) | AC17: ćwiczenia kliniczne (CK) | AD17: zajęcia praktyczne przy pacjencie (PP) | AE17: ćwiczenia specjalistyczne - magisterskie (CM) | AF17: lektoraty (LE) | AG17: e-learning (EL) | AH17: zajęcia wychowania fizycznego-obowiązkowe (WF) | AI17: praktyka zawodowa (PZ) | AJ17: samokształcenie | AK17: liczba godzin z nauczycielem | AL17: ogólna liczba godzin dydaktycznych | AM17: forma zakończenia semestru | AN17: punkty ECTS w semestrze
B18: C. PODSTAWY FIZJOTERAPII
B19: 1 | C19: obowiązkowy | D19: Adaptowana aktywność fizyczna | E19: 15 | H19: 10 | S19: =SUM(E19:P19) -> 25 | T19: =SUM(E19:R19) -> 25 | U19: zal / o | V19: 1 | AO19: =T19+AL19 -> 25 | AP19: =V19+AN19 -> 1
B20: 2 | C20: obowiązkowy | D20: Sport osób z niepełnosprawnościami | E20: 10 | H20: 15 | S20: =SUM(E20:P20) -> 25 | T20: =SUM(E20:R20) -> 25 | U20: zal / o | V20: 1 | AO20: =T20+AL20 -> 25 | AP20: =V20+AN20 -> 1
B21: 3 | C21: obowiązkowy | D21: Wyroby medyczne | E21: 25 | G21: 5 | S21: =SUM(E21:P21) -> 30 | T21: =SUM(E21:R21) -> 30 | U21: egz | V21: 2 | AO21: =T21+AL21 -> 30 | AP21: =V21+AN21 -> 2
B22: RAZEM | E22: =SUM(E19:E21) -> 50 | F22: =SUM(F19:F21) -> 0 | G22: =SUM(G19:G21) -> 5 | H22: =SUM(H19:H21) -> 25 | I22: =SUM(I19:I21) -> 0 | J22: =SUM(J19:J21) -> 0 | K22: =SUM(K19:K21) -> 0 | L22: =SUM(L19:L21) -> 0 | ... T22: =SUM(T19:T21) -> 80 | V22: =SUM(V19:V21) -> 4 | W22: =SUM(W19:W21) -> 0 | X22: =SUM(X19:X21) -> 0 | Y22: =SUM(Y19:Y21) -> 0 | Z22: =SUM(Z19:Z21) -> 0 | AA22: =SUM(AA19:AA21) -> 0 | AB22: =SUM(AB19:AB21) -> 0 | AC22: =SUM(AC19:AC21) -> 0 | ... AL22: =SUM(AL19:AL21) -> 0 | AN22: =SUM(AN19:AN21) -> 0 | AO22: =SUM(AO19:AO21) -> 80 | AP22: =SUM(AP19:AP21) -> 4
B23: E. METODOLOGIA BADAŃ NAUKOWYCH
B24: 5 | C24: obowiązkowy | D24: Seminarium magisterskie 3 | F24: 5 | S24: =SUM(E24:P24) -> 5 | T24: =SUM(E24:R24) -> 5 | U24: zal / o | V24: 6 | AO24: =T24+AL24 -> 5 | AP24: =V24+AN24 -> 6
B25: 6 | C25: obowiązkowy | D25: Seminarium magisterskie 4 | X25: 5 | AK25: =SUM(W25:AH25) -> 5 | AL25: =SUM(W25:AJ25) -> 5 | AM25: zal / o | AN25: 6 | AO25: =T25+AL25 -> 5 | AP25: =V25+AN25 -> 6
B26: RAZEM | E26: =SUM(E24:E25) -> 0 | F26: =SUM(F24:F25) -> 5 | G26: =SUM(G24:G25) -> 0 | H26: =SUM(H24:H25) -> 0 | I26: =SUM(I24:I25) -> 0 | J26: =SUM(J24:J25) -> 0 | K26: =SUM(K24:K25) -> 0 | L26: =SUM(L24:L25) -> 0 | ... T26: =SUM(T24:T25) -> 5 | V26: =SUM(V24:V25) -> 6 | W26: =SUM(W24:W25) -> 0 | X26: =SUM(X24:X25) -> 5 | Y26: =SUM(Y24:Y25) -> 0 | Z26: =SUM(Z24:Z25) -> 0 | AA26: =SUM(AA24:AA25) -> 0 | AB26: =SUM(AB24:AB25) -> 0 | AC26: =SUM(AC24:AC25) -> 0 | ... AL26: =SUM(AL24:AL25) -> 5 | AN26: =SUM(AN24:AN25) -> 6 | AO26: =SUM(AO24:AO25) -> 10 | AP26: =SUM(AP24:AP25) -> 12
B27: F. PRAKTYKI FIZJOTERAPEUTYCZNE - ZAKRES PRAKTYK
B28: 7 | C28: obowiązkowy | D28: Praktyka z fizjoterapii klinicznej, fizykoterapii i masażu - praktyka semestralna | AI28: 510 | AK28: =SUM(W28:AH28) -> 0 | AL28: =SUM(W28:AJ28) -> 510 | AM28: zal | AN28: =IF(AL28=0,0,IF(AL28<25,0.5,TRUNC(AL28/25)))+IF(AM28="E",1,0) -> 20 | AO28: =AL28 -> 510 | AP28: =AN28 -> 20
B29: RAZEM | E29: =SUM(E28:E28) -> 0 | F29: =SUM(F28:F28) -> 0 | G29: =SUM(G28:G28) -> 0 | H29: =SUM(H28:H28) -> 0 | I29: =SUM(I28:I28) -> 0 | J29: =SUM(J28:J28) -> 0 | K29: =SUM(K28:K28) -> 0 | L29: =SUM(L28:L28) -> 0 | ... T29: =SUM(T28:T28) -> 0 | V29: =SUM(V28:V28) -> 0 | W29: =SUM(W28:W28) -> 0 | X29: =SUM(X28:X28) -> 0 | Y29: =SUM(Y28:Y28) -> 0 | Z29: =SUM(Z28:Z28) -> 0 | AA29: =SUM(AA28:AA28) -> 0 | AB29: =SUM(AB28:AB28) -> 0 | AC29: =SUM(AC28:AC28) -> 0 | ... AL29: =SUM(AL28:AL28) -> 510 | AN29: =SUM(AN28:AN28) -> 20 | AO29: =SUM(AO28:AO28) -> 510 | AP29: =SUM(AP28:AP28) -> 20
B30: G. Autorska oferta uczelni
B31: 13 | C31: ograniczonego wyboru | D31: Przedmiot fakultatywny 6 | G31: 30 | S31: =SUM(E31:P31) -> 30 | T31: =SUM(E31:R31) -> 30 | U31: zal / o | V31: 2 | AO31: =T31+AL31 -> 30 | AP31: =V31+AN31 -> 2
B32: 14 | C32: ograniczonego wyboru | D32: Przedmiot fakultatywny 7 | G32: 30 | S32: =SUM(E32:P32) -> 30 | T32: =SUM(E32:R32) -> 30 | U32: zal / o | V32: 2 | AO32: =T32+AL32 -> 30 | AP32: =V32+AN32 -> 2
B33: 15 | C33: ograniczonego wyboru | D33: Przedmiot fakultatywny 8 | G33: 30 | S33: =SUM(E33:P33) -> 30 | T33: =SUM(E33:R33) -> 30 | U33: zal / o | V33: 2 | AO33: =T33+AL33 -> 30 | AP33: =V33+AN33 -> 2
B34: 16 | C34: ograniczonego wyboru | D34: Przedmiot fakultatywny 9 | G34: 30 | S34: =SUM(E34:P34) -> 30 | T34: =SUM(E34:R34) -> 30 | U34: zal / o | V34: 2 | AO34: =T34+AL34 -> 30 | AP34: =V34+AN34 -> 2
B35: 17 | C35: ograniczonego wyboru | D35: Przedmiot fakultatywny 10 | G35: 30 | S35: =SUM(E35:P35) -> 30 | T35: =SUM(E35:R35) -> 30 | U35: zal / o | V35: 2 | AO35: =T35+AL35 -> 30 | AP35: =V35+AN35 -> 2
B36: 18 | C36: ograniczonego wyboru | D36: Przedmiot fakultatywny 11 | G36: 30 | S36: =SUM(E36:P36) -> 30 | T36: =SUM(E36:R36) -> 30 | U36: zal / o | V36: 2 | AO36: =T36+AL36 -> 30 | AP36: =V36+AN36 -> 2
B37: RAZEM | E37: =SUM(E31:E36) -> 0 | F37: =SUM(F31:F36) -> 0 | G37: =SUM(G31:G36) -> 180 | H37: =SUM(H31:H36) -> 0 | I37: =SUM(I31:I36) -> 0 | J37: =SUM(J31:J36) -> 0 | K37: =SUM(K31:K36) -> 0 | L37: =SUM(L31:L36) -> 0 | ... T37: =SUM(T31:T36) -> 180 | V37: =SUM(V31:V36) -> 12 | W37: =SUM(W31:W36) -> 0 | X37: =SUM(X31:X36) -> 0 | Y37: =SUM(Y31:Y36) -> 0 | Z37: =SUM(Z31:Z36) -> 0 | AA37: =SUM(AA31:AA36) -> 0 | AB37: =SUM(AB31:AB36) -> 0 | AC37: =SUM(AC31:AC36) -> 0 | ... AL37: =SUM(AL31:AL36) -> 0 | AN37: =SUM(AN31:AN36) -> 0 | AO37: =SUM(AO31:AO36) -> 180 | AP37: =SUM(AP31:AP36) -> 12
B38: RAZEM | E38: =E22+E26+E29+E37 -> 50 | F38: =F22+F26+F29+F37 -> 5 | G38: =G22+G26+G29+G37 -> 185 | H38: =H22+H26+H29+H37 -> 25 | I38: =I22+I26+I29+I37 -> 0 | J38: =J22+J26+J29+J37 -> 0 | K38: =K22+K26+K29+K37 -> 0 | L38: =L22+L26+L29+L37 -> 0 | ... T38: =T22+T26+T29+T37 -> 265 | V38: =V22+V26+V29+V37 -> 22 | W38: =W22+W26+W29+W37 -> 0 | X38: =X22+X26+X29+X37 -> 5 | Y38: =Y22+Y26+Y29+Y37 -> 0 | Z38: =Z22+Z26+Z29+Z37 -> 0 | AA38: =AA22+AA26+AA29+AA37 -> 0 | AB38: =AB22+AB26+AB29+AB37 -> 0 | AC38: =AC22+AC26+AC29+AC37 -> 0 | ... AL38: =AL22+AL26+AL29+AL37 -> 515 | AN38: =AN22+AN26+AN29+AN37 -> 26 | AO38: =AO22+AO26+AO29+AO37 -> 780 | AP38: =AP22+AP26+AP29+AP37 -> 48
B40: * - przedmioty, w ramach, których realizowane są efekty kształcenia związane ze zdobywaniem przez studenta pogłębionej wiedzy oraz umiejętności prowadzenia badań naukowych
P45: mgr K. Opalińska, mgr inż. S. Jarząb, mgr Weronika Bajer
P46: mgr M. Guła, dr M. Majewska-Pulsakowska
D47: Uzgodniono z Samorządem | P47: Sporządził | AG47: data i podpis Dziekana Wydziału

Sheet Przedmioty fakultatywne
A7: PROPONOWANE PRZEDMIOTY FAKULTATYWNE
B9: Wydział Fizjoterapii
B10: Kierunek Fizjoterapia
B11: Rok studiów 1-5
B12: Forma studiów stacjonarna
B13: Studia jednolite magisterskie
A16: Lp. | C16: Przedmiot (nazwa) | V16: SUMA GODZIN DYDAKTYCZNYCH | W16: SUMA PUNKTÓW ECTS ZA PRZEDMIOT
B17: Rodzaj zajęć (obowiązkowe / wolnego wyboru / ograniczonego wyboru) | D17: wykład (WY) | E17: seminarium (SE) | F17: ćwiczenia audytoryjne (CA) | G17: ćwiczenia kierunkowe - niekliniczne (CN) | H17: ćwiczenia w warunkach symulowanych (CS) | I17: ćwiczenia laboratoryjne (CL) | J17: ćwiczenia kliniczne (CK) | K17: zajęcia praktyczne przy pacjencie (PP) | L17: ćwiczenia specjalistyczne - magisterskie (CM) | M17: lektoraty (LE) | N17: e-learning (EL) | O17: zajęcia wychowania fizycznego-obowiązkowe (WF) | P17: praktyka zawodowa (PZ) | Q17: samokształcenie | R17: liczba godzin z nauczycielem | S17: ogólna liczba godzin dydaktycznych | T17: forma zakończenia semestru | U17: punkty ECTS w semestrze
A18: G. Autorska oferta uczelni
A19: 1 | B19: ograniczonego wyboru | C19: Kinezjologia | F19: 30 | R19: =SUM(D19:O19) -> 30 | S19: 50 | T19: zal / o | U19: 1 | V19: =S19 -> 50 | W19: =U19 -> 1
A20: 2 | B20: ograniczonego wyboru | C20: Diagnostyka obrazowa | F20: 30 | R20: =SUM(D20:O20) -> 30 | S20: 50 | T20: zal / o | U20: 2 | V20: =S20 -> 50 | W20: =U20 -> 2
A21: 3 | B21: ograniczonego wyboru | C21: Fizjoterapia w zaburzeniach okresu okołoporodowego | F21: 30 | R21: =SUM(D21:O21) -> 30 | S21: 50 | T21: zal / o | U21: 1 | V21: =S21 -> 50 | W21: =U21 -> 1
A22: 4 | B22: ograniczonego wyboru | C22: Współczesne metody leczenia skolioz | F22: 30 | R22: =SUM(D22:O22) -> 30 | S22: 50 | T22: zal / o | U22: 2 | V22: =S22 -> 50 | W22: =U22 -> 2
A23: 5 | B23: ograniczonego wyboru | C23: Podstawy kinesiotapingu | F23: 30 | R23: =SUM(D23:O23) -> 30 | S23: 50 | T23: zal / o | U23: 2 | V23: =S23 -> 50 | W23: =U23 -> 2
A24: 6 | B24: ograniczonego wyboru | C24: Terapia Manualna Holistyczna | F24: 30 | R24: =SUM(D24:O24) -> 30 | S24: 50 | T24: zal / o | U24: 2 | V24: =S24 -> 50 | W24: =U24 -> 2
A25: 7 | B25: ograniczonego wyboru | C25: Fizjoterapia w leczeniu bólu | F25: 30 | R25: =SUM(D25:O25) -> 30 | S25: 50 | T25: zal / o | U25: 2 | V25: =S25 -> 50 | W25: =U25 -> 2
A26: 8 | B26: ograniczonego wyboru | C26: Fizjoterapia w schorzeniach uroginekologicznych | F26: 30 | R26: =SUM(D26:O26) -> 30 | S26: 50 | T26: zal / o | U26: 2 | V26: =S26 -> 50 | W26: =U26 -> 2
A27: 9 | B27: ograniczonego wyboru | C27: Kompleksowa terapia blizny | F27: 30 | R27: =SUM(D27:O27) -> 30 | S27: 50 | T27: zal / o | U27: 2 | V27: =S27 -> 50 | W27: =U27 -> 2
A28: 10 | B28: ograniczonego wyboru | C28: Fizjoterapia stomatognatyczna | F28: 30 | R28: =SUM(D28:O28) -> 30 | S28: 50 | T28: zal / o | U28: 2 | V28: =S28 -> 50 | W28: =U28 -> 2
A29: 11 | B29: ograniczonego wyboru | C29: Terapia punktów spustowych | F29: 30 | R29: =SUM(D29:O29) -> 30 | S29: 50 | T29: zal / o | U29: 2 | V29: =S29 -> 50 | W29: =U29 -> 2
A30: 12 | B30: ograniczonego wyboru | C30: Kompleksowa Terapia Obrzęków | F30: 30 | R30: =SUM(D30:O30) -> 30 | S30: 50 | T30: zal / o | U30: 2 | V30: =S30 -> 50 | W30: =U30 -> 2
... A33: 15 | B33: ograniczonego wyboru | C33: Odnowa biologiczna w sporcie | F33: 30 | R33: =SUM(D33:O33) -> 30 | S33: 50 | T33: zal / o | U33: 2 | V33: =S33 -> 50 | W33: =U33 -> 2
C36: Lista proponowanych przedmiotów fakultatywnych może ulec zmianie po konsultacji ze środowiskiem studentów, interesariuszy zewnętrznych i nauczycieli akademickich, celem uatrakcyjnienia i uaktualnienia oferty dydaktycznej.

Sheet 1-5 rok
B3: rok | C3: semestr | D3: liczba godzin z nauczycielem | E3: praktyka zawodowa | F3: ogólna liczba godzin dydaktycznych | G3: punkty ECTS | J3: rok | K3: liczba godzin z nauczycielem | L3: praktyka zawodowa | M3: ogólna liczba godzin dydaktycznych | N3: punkty ECTS
B4: 1 | C4: 1 | D4: ='1 rok'!S70 -> 485 | E4: ='1 rok'!Q70 -> 0 | F4: ='1 rok'!T70 -> 485 | G4: ='1 rok'!V70 -> 25 | J4: 1 | K4: =D4+D5 -> 960 | L4: =E4+E5 -> 150 | M4: =F4+F5 -> 1110 | N4: =G4+G5 -> 60
C5: 2 | D5: ='1 rok'!AK70 -> 475 | E5: ='1 rok'!AI70 -> 150 | F5: ='1 rok'!AL70 -> 625 | G5: ='1 rok'!AN70 -> 35 | J5: 2 | K5: =D6+D7 -> 725 | L5: =E6+E7 -> 300 | M5: =F6+F7 -> 1025 | N5: =G6+G7 -> 63
B6: 2 | C6: 3 | D6: ='2 rok'!S59 -> 385 | E6: ='2 rok'!Q59 -> 0 | F6: ='2 rok'!T59 -> 385 | G6: ='2 rok'!V59 -> 26 | J6: 3 | K6: =D8+D9 -> 905 | L6: =E8+E9 -> 300 | M6: =F8+F9 -> 1205 | N6: =G8+G9 -> 63
C7: 4 | D7: ='2 rok'!AK59 -> 340 | E7: ='2 rok'!AI59 -> 300 | F7: ='2 rok'!AL59 -> 640 | G7: ='2 rok'!AN59 -> 37 | J7: 4 | K7: =D10+D11 -> 885 | L7: =E10+E11 -> 300 | M7: =F10+F11 -> 1185 | N7: =G10+G11 -> 66
B8: 3 | C8: 5 | D8: ='3 rok'!S49 -> 455 | E8: ='3 rok'!Q49 -> 100 | F8: ='3 rok'!T49 -> 555 | G8: ='3 rok'!V49 -> 29 | J8: 5 | K8: =D12+D13 -> 270 | L8: =E12+E13 -> 510 | M8: =F12+F13 -> 780 | N8: =G12+G13 -> 48
C9: 6 | D9: ='3 rok'!AK49 -> 450 | E9: ='3 rok'!AI49 -> 200 | F9: ='3 rok'!AL49 -> 650 | G9: ='3 rok'!AN49 -> 34 | J9: razem | K9: =SUM(K4:K8) -> 3745 | L9: =SUM(L4:L8) -> 1560 | M9: =SUM(M4:M8) -> 5305 | N9: =SUM(N4:N8) -> 300
B10: 4 | C10: 7 | D10: ='4 rok'!S51 -> 480 | E10: ='4 rok'!Q51 -> 100 | F10: ='4 rok'!T51 -> 580 | G10: ='4 rok'!V51 -> 31
C11: 8 | D11: ='4 rok'!AK51 -> 405 | E11: ='4 rok'!AI51 -> 200 | F11: ='4 rok'!AL51 -> 605 | G11: ='4 rok'!AN51 -> 35
B12: 5 | C12: 9 | D12: ='5 rok'!S38 -> 265 | E12: ='5 rok'!Q38 -> 0 | F12: ='5 rok'!T38 -> 265 | G12: ='5 rok'!V38 -> 22
C13: 10 | D13: ='5 rok'!AK38 -> 5 | E13: ='5 rok'!AI38 -> 510 | F13: ='5 rok'!AL38 -> 515 | G13: ='5 rok'!AN38 -> 26
B14: razem | D14: =SUM(D4:D13) -> 3745 | E14: =SUM(E4:E13) -> 1560 | F14: =SUM(F4:F13) -> 5305 | G14: =SUM(G4:G13) -> 300
