Workbook

Sheet całość
B6: Szczegółowy Program Studiów na cykl 2026-2031
B9: Wydział Fizjoterapii
B10: Kierunek Fizjoterapia
B11: Rok studiów 1-5
B12: Forma studiów stacjonarna
B13: Cykl kształcenia rozpoczynający się w roku akademickim: 2026/2027
B16: Lp. | D16: Przedmiot (nazwa) | X16: SUMA GODZIN DYDAKTYCZNYCH | Y16: SUMA PUNKTÓW ECTS ZA PRZEDMIOT
C17: Rodzaj zajęć (obowiązkowe / wolnego wyboru / ograniczonego wyboru) | E17: semestr | F17: wykład (WY) | G17: seminarium (SE) | H17: ćwiczenia audytoryjne (CA) | I17: ćwiczenia kierunkowe - niekliniczne (CN) | J17: ćwiczenia w warunkach symulowanych (CS) | K17: ćwiczenia laboratoryjne (CL) | L17: ćwiczenia kliniczne (CK) | M17: zajęcia praktyczne przy pacjencie (PP) | N17: ćwiczenia specjalistyczne - magisterskie (CM) | O17: lektoraty (LE) | P17: e-learning (EL) | Q17: zajęcia wychowania fizycznego-obowiązkowe (WF) | R17: praktyka zawodowa (PZ) | S17: samokształcenie | T17: liczba godzin z nauczycielem | U17: ogólna liczba godzin dydaktycznych | V17: forma zakończenia semestru | W17: punkty ECTS w semestrze | AA17: czas pracy własnej studenta | AB17: Godziny do dyspozycji uczelni | AC17: Godziny zajęć on-line | AD17: ECTS on-line
B18: A. BIOMEDYCZNE PODSTAWY FIZJOTERAPII | AA18: A | AB18: A | AC18: A | AD18: A
B19: 1 | C19: obowiązkowy | D19: Anatomia prawidłowa człowieka 1 | E19: 1 | F19: 15 | I19: 35 | T19: =SUM(F19:Q19) -> 50 | U19: =SUM(F19:S19) -> 50 | V19: zal / o | W19: 2 | X19: =U19 -> 50 | Y19: =W19 -> 2 | AA19: =IF((Y19*25-X19)<0,0,(Y19*25-X19)) -> 0 | AB19: =IF((Z19*25-Y19)<0,0,(Z19*25-Y19)) -> 0
B20: 2 | C20: obowiązkowy | D20: Anatomia prawidłowa człowieka 2 | E20: 2 | F20: 15 | I20: 30 | T20: =SUM(F20:Q20) -> 45 | U20: =SUM(F20:S20) -> 45 | V20: egz | W20: 3 | X20: =U20 -> 45 | Y20: =W20 -> 3 | AA20: =IF((Y20*25-X20)<0,0,(Y20*25-X20)) -> 30 | AB20: =IF((Z20*25-Y20)<0,0,(Z20*25-Y20)) -> 0
A21: * | B21: 3 | C21: obowiązkowy | D21: Anatomia rentgenowska | E21: 2 | F21: 10 | T21: =SUM(F21:Q21) -> 10 | U21: =SUM(F21:S21) -> 10 | V21: zal / o | W21: 1 | X21: =U21 -> 10 | Y21: =W21 -> 1 | AA21: =IF((Y21*25-X21)<0,0,(Y21*25-X21)) -> 15 | AB21: =IF((Z21*25-Y21)<0,0,(Z21*25-Y21)) -> 0
B22: 4 | C22: obowiązkowy | D22: Anatomia palpacyjna i funkcjonalna | E22: 3 | F22: 10 | I22: 40 | T22: =SUM(F22:Q22) -> 50 | U22: =SUM(F22:S22) -> 50 | V22: egz | W22: 3 | X22: =U22 -> 50 | Y22: =W22 -> 3 | AA22: =IF((Y22*25-X22)<0,0,(Y22*25-X22)) -> 25 | AB22: =IF((Z22*25-Y22)<0,0,(Z22*25-Y22)) -> 0
A23: * | B23: 5 | C23: obowiązkowy | D23: Biologia medyczna z genetyką | E23: 1 | F23: 25 | T23: =SUM(F23:Q23) -> 25 | U23: =SUM(F23:S23) -> 25 | V23: zal / o | W23: 1 | X23: =U23 -> 25 | Y23: =W23 -> 1 | AA23: =IF((Y23*25-X23)<0,0,(Y23*25-X23)) -> 0 | AB23: =IF((Z23*25-Y23)<0,0,(Z23*25-Y23)) -> 0 | AC23: 25 | AD23: =(F23*1/X23)*Y23 -> 1
A24: * | B24: 6 | C24: obowiązkowy | D24: Biochemia | E24: 1 | F24: 25 | T24: =SUM(F24:Q24) -> 25 | U24: =SUM(F24:S24) -> 25 | V24: zal / o | W24: 1 | X24: =U24 -> 25 | Y24: =W24 -> 1 | AA24: =IF((Y24*25-X24)<0,0,(Y24*25-X24)) -> 0 | AB24: =IF((Z24*25-Y24)<0,0,(Z24*25-Y24)) -> 0 | AC24: 25 | AD24: =(F24*1/X24)*Y24 -> 1
A25: * | B25: 7 | C25: obowiązkowy | D25: Fizjologia 1 - fizjologia ogólna, fizjologia bólu i diagnostyka fizjologiczna | E25: 1 | F25: 20 | I25: 10 | T25: =SUM(F25:Q25) -> 30 | U25: =SUM(F25:S25) -> 30 | V25: egz | W25: 2 | X25: =U25 -> 30 | Y25: =W25 -> 2 | AA25: =IF((Y25*25-X25)<0,0,(Y25*25-X25)) -> 20 | AB25: =IF((Z25*25-Y25)<0,0,(Z25*25-Y25)) -> 0 | AC25: 20 | AD25: =(F25*1/X25)*Y25 -> 1.3333333
A26: * | B26: 8 | C26: obowiązkowy | D26: Fizjologia 2 - fizjologia wysiłku fizycznego | E26: 2 | F26: 20 | I26: 20 | T26: =SUM(F26:Q26) -> 40 | U26: =SUM(F26:S26) -> 40 | V26: egz | W26: 3 | X26: =U26 -> 40 | Y26: =W26 -> 3 | AA26: =IF((Y26*25-X26)<0,0,(Y26*25-X26)) -> 35 | AB26: =IF((Z26*25-Y26)<0,0,(Z26*25-Y26)) -> 0 | AC26: 20 | AD26: =(F26*1/X26)*Y26 -> 1.5 | AG26: minimum | AI26: jest | AK26: godz. kont.
A27: * | B27: 9 | C27: obowiązkowy | D27: Farmakologia w fizjoterapii | E27: 3 | F27: 10 | H27: 5 | T27: =SUM(F27:Q27) -> 15 | U27: =SUM(F27:S27) -> 15 | V27: zal / o | W27: 1 | X27: =U27 -> 15 | Y27: =W27 -> 1 | AA27: =IF((Y27*25-X27)<0,0,(Y27*25-X27)) -> 10 | AB27: =IF((Z27*25-Y27)<0,0,(Z27*25-Y27)) -> 0 | AC27: 10 | AD27: =(F27*1/X27)*Y27 -> 0.66666667 | AG27: godz. | AH27: ECTS | AI27: godz. | AJ27: ECTS
A28: * | B28: 10 | C28: obowiązkowy | D28: Biofizyka | E28: 1 | F28: 15 | T28: =SUM(F28:Q28) -> 15 | U28: =SUM(F28:S28) -> 15 | V28: zal / o | W28: 2 | X28: =U28 -> 15 | Y28: =W28 -> 2 | AA28: =IF((Y28*25-X28)<0,0,(Y28*25-X28)) -> 35 | AB28: =IF((Z28*25-Y28)<0,0,(Z28*25-Y28)) -> 0 | AC28: 15 | AD28: =(F28*1/X28)*Y28 -> 2 | AF28: A | AG28: 400 | AH28: 25 | AI28: =X33 -> 400 | AJ28: =Y33 -> 25 | AK28: =T33 -> 400
A29: * | B29: 11 | C29: obowiązkowy | D29: Biomechanika | E29: 3 | F29: 15 | H29: 15 | T29: =SUM(F29:Q29) -> 30 | U29: =SUM(F29:S29) -> 30 | V29: egz | W29: 2 | X29: =U29 -> 30 | Y29: =W29 -> 2 | AA29: =IF((Y29*25-X29)<0,0,(Y29*25-X29)) -> 20 | AB29: =IF((Z29*25-Y29)<0,0,(Z29*25-Y29)) -> 0 | AF29: B | AG29: 300 | AH29: 18 | AI29: =X52 -> 335 | AJ29: =Y52 -> 18 | AK29: =T52 -> 335
A30: * | B30: 12 | C30: obowiązkowy | D30: Ergonomia | E30: 2 | F30: 10 | I30: 10 | T30: =SUM(F30:Q30) -> 20 | U30: =SUM(F30:S30) -> 20 | V30: zal / o | W30: 2 | X30: =U30 -> 20 | Y30: =W30 -> 2 | AA30: =IF((Y30*25-X30)<0,0,(Y30*25-X30)) -> 30 | AB30: =IF((Z30*25-Y30)<0,0,(Z30*25-Y30)) -> 0 | AF30: C | AG30: 780 | AH30: 45 | AI30: =X74 -> 795 | AJ30: =Y74 -> 45 | AK30: =T74 -> 795
A31: * | B31: 13 | C31: obowiązkowy | D31: Patologia ogólna | E31: 4 | F31: 15 | H31: 5 | T31: =SUM(F31:Q31) -> 20 | U31: =SUM(F31:S31) -> 20 | V31: zal / o | W31: 1 | X31: =U31 -> 20 | Y31: =W31 -> 1 | AA31: =IF((Y31*25-X31)<0,0,(Y31*25-X31)) -> 5 | AB31: =IF((Z31*25-Y31)<0,0,(Z31*25-Y31)) -> 0 | AC31: 15 | AD31: =(F31*1/X31)*Y31 -> 0.75 | AF31: D | AG31: 1670 | AH31: 99 | AI31: =X121 -> 1680 | AJ31: =Y121 -> 99 | AK31: =T121 -> 1680
B32: 14 | C32: obowiązkowy | D32: Pierwsza pomoc | E32: 1 | F32: 5 | J32: 20 | T32: =SUM(F32:Q32) -> 25 | U32: =SUM(F32:S32) -> 25 | V32: zal / o | W32: 1 | X32: =U32 -> 25 | Y32: =W32 -> 1 | AA32: =IF((Y32*25-X32)<0,0,(Y32*25-X32)) -> 0 | AB32: =IF((Z32*25-Y32)<0,0,(Z32*25-Y32)) -> 0 | AF32: E | AG32: 50 | AH32: 25 | AI32: =X128 -> 50 | AJ32: =Y128 -> 25 | AK32: =T128 -> 50
B33: Suma | F33: =SUM(F19:F32) -> 210 | G33: =SUM(G19:G32) -> 0 | H33: =SUM(H19:H32) -> 25 | I33: =SUM(I19:I32) -> 145 | J33: =SUM(J19:J32) -> 20 | K33: =SUM(K19:K32) -> 0 | L33: =SUM(L19:L32) -> 0 | M33: =SUM(M19:M32) -> 0 | ... U33: =SUM(U19:U32) -> 400 | W33: =SUM(W19:W32) -> 25 | X33: =SUM(X19:X32) -> 400 | Y33: =W33 -> 25 | AA33: =SUM(AA19:AA32) -> 225 | AB33: =SUM(AB19:AB32) -> 0 | AC33: =SUM(AC19:AC32) -> 130 | AD33: =SUM(AD19:AD32) -> 8.25 | AF33: F | AG33: 1560 | AH33: 58 | AI33: =X137 -> 1560 | AJ33: =Y137 -> 58 | AK33: =R137 -> 1560
B34: B. NAUKI OGÓLNE | AA34: B | AB34: B | AC34: B | AD34: B | AF34: G*+reszta | AG34: 500 | AH34: 30 | AI34: =AB157 -> 485 | AJ34: =Y156 -> 30 | AK34: =T156 -> 485
B35: 1 | C35: obowiązkowy | D35: Język obcy 1 | E35: 1 | O35: 30 | T35: =SUM(F35:Q35) -> 30 | U35: =SUM(F35:S35) -> 30 | V35: zal / o | W35: 1 | X35: =U35 -> 30 | Y35: =W35 -> 1 | AA35: =IF((Y35*25-X35)<0,0,(Y35*25-X35)) -> 0 | AB35: =IF((Z35*25-Y35)<0,0,(Z35*25-Y35)) -> 0 | AF35: razem | AG35: =SUM(AG28:AG34) -> 5260 | AH35: =SUM(AH28:AH34) -> 300 | AI35: =SUM(AI28:AI34) -> 5305 | AJ35: =SUM(AJ28:AJ34) -> 300 | AK35: =SUM(AK28:AK34) -> 5305
B36: 2 | C36: obowiązkowy | D36: Język obcy 2 | E36: 2 | O36: 30 | T36: =SUM(F36:Q36) -> 30 | U36: =SUM(F36:S36) -> 30 | V36: zal / o | W36: 1 | X36: =U36 -> 30 | Y36: =W36 -> 1 | AA36: =IF((Y36*25-X36)<0,0,(Y36*25-X36)) -> 0 | AB36: =IF((Z36*25-Y36)<0,0,(Z36*25-Y36)) -> 0 | AF36: A-F | AG36: =SUM(AG28:AG33) -> 4760 | AH36: =SUM(AH28:AH33) -> 270 | AI36: =SUM(AI28:AI33) -> 4820 | AJ36: =SUM(AJ28:AJ33) -> 270 | AK36: =SUM(AK28:AK33) -> 4820
B37: 3 | C37: obowiązkowy | D37: Język obcy 3 | E37: 3 | O37: 30 | T37: =SUM(F37:Q37) -> 30 | U37: =SUM(F37:S37) -> 30 | V37: zal / o | W37: 1 | X37: =U37 -> 30 | Y37: =W37 -> 1 | AA37: =IF((Y37*25-X37)<0,0,(Y37*25-X37)) -> 0 | AB37: =IF((Z37*25-Y37)<0,0,(Z37*25-Y37)) -> 0
B38: 4 | C38: obowiązkowy | D38: Język obcy 4 | E38: 4 | O38: 30 | T38: =SUM(F38:Q38) -> 30 | U38: =SUM(F38:S38) -> 30 | V38: egz | W38: 2 | X38: =U38 -> 30 | Y38: =W38 -> 2 | AA38: =IF((Y38*25-X38)<0,0,(Y38*25-X38)) -> 20 | AB38: =IF((Z38*25-Y38)<0,0,(Z38*25-Y38)) -> 0
A39: * | B39: 5 | C39: obowiązkowy | D39: Psychologia 1 - psychologia ogólna i psychoterapia | E39: 1 | F39: 10 | T39: =SUM(F39:Q39) -> 10 | U39: =SUM(F39:S39) -> 10 | V39: zal / o | W39: 1 | X39: =U39 -> 10 | Y39: =W39 -> 1 | AA39: =IF((Y39*25-X39)<0,0,(Y39*25-X39)) -> 15 | AB39: =IF((Z39*25-Y39)<0,0,(Z39*25-Y39)) -> 0
A40: * | B40: 6 | C40: obowiązkowy | D40: Psychologia 2 - psychologia kliniczna i komunikacja kliniczna | E40: 2 | F40: 10 | H40: 10 | T40: =SUM(F40:Q40) -> 20 | U40: =SUM(F40:S40) -> 20 | V40: egz | W40: 2 | X40: =U40 -> 20 | Y40: =W40 -> 2 | AA40: =IF((Y40*25-X40)<0,0,(Y40*25-X40)) -> 30 | AB40: =IF((Z40*25-Y40)<0,0,(Z40*25-Y40)) -> 0 | AF40: * moduł G - autorska oferta uczelni. Razem z ewentualnymi godzinami (i pkt. ECTS) rozdysponowanymi wśród przedmiotów określonych standardem z bloku A-E tworzą "Godziny do dyspozycji uczelni", których powinno być min. 500 godz. i 30 ECTS
A41: * | B41: 7 | C41: obowiązkowy | D41: Socjologia ogólna i niepełnosprawności | E41: 1 | F41: 10 | T41: =SUM(F41:Q41) -> 10 | U41: =SUM(F41:S41) -> 10 | V41: zal / o | W41: 1 | X41: =U41 -> 10 | Y41: =W41 -> 1 | AA41: =IF((Y41*25-X41)<0,0,(Y41*25-X41)) -> 15 | AB41: =IF((Z41*25-Y41)<0,0,(Z41*25-Y41)) -> 0 | AC41: 10 | AD41: =(F41*1/X41)*Y41 -> 1
A42: * | B42: 8 | C42: obowiązkowy | D42: Pedagogika ogólna i specjalna | E42: 1 | F42: 10 | H42: 5 | T42: =SUM(F42:Q42) -> 15 | U42: =SUM(F42:S42) -> 15 | V42: zal / o | W42: 1 | X42: =U42 -> 15 | Y42: =W42 -> 1 | AA42: =IF((Y42*25-X42)<0,0,(Y42*25-X42)) -> 10 | AB42: =IF((Z42*25-Y42)<0,0,(Z42*25-Y42)) -> 0 | AC42: 10 | AD42: =(F42*1/X42)*Y42 -> 0.66666667
A43: * | B43: 9 | C43: obowiązkowy | D43: Dydaktyka fizjoterapii | E43: 7 | F43: 10 | H43: 20 | T43: =SUM(F43:Q43) -> 30 | U43: =SUM(F43:S43) -> 30 | V43: zal / o | W43: 2 | X43: =U43 -> 30 | Y43: =W43 -> 2 | AA43: =IF((Y43*25-X43)<0,0,(Y43*25-X43)) -> 20 | AB43: =IF((Z43*25-Y43)<0,0,(Z43*25-Y43)) -> 0
B44: 10 | C44: obowiązkowy | D44: Podstawy prawa | E44: 1 | F44: 10 | T44: =SUM(F44:Q44) -> 10 | U44: =SUM(F44:S44) -> 10 | V44: zal / o | W44: 1 | X44: =U44 -> 10 | Y44: =W44 -> 1 | AA44: =IF((Y44*25-X44)<0,0,(Y44*25-X44)) -> 15 | AB44: =IF((Z44*25-Y44)<0,0,(Z44*25-Y44)) -> 0 | AC44: 10 | AD44: =(F44*1/X44)*Y44 -> 1
A45: * | B45: 11 | C45: obowiązkowy | D45: Zdrowie publiczne z demografią i epidemiologią | E45: 1 | F45: 10 | H45: 5 | T45: =SUM(F45:Q45) -> 15 | U45: =SUM(F45:S45) -> 15 | V45: zal / o | W45: 1 | X45: =U45 -> 15 | Y45: =W45 -> 1 | AA45: =IF((Y45*25-X45)<0,0,(Y45*25-X45)) -> 10 | AB45: =IF((Z45*25-Y45)<0,0,(Z45*25-Y45)) -> 0 | AC45: 10 | AD45: =(F45*1/X45)*Y45 -> 0.66666667
A46: * | B46: 12 | C46: obowiązkowy | D46: Ekonomia, system ochrony zdrowia i technologie informacyjne | E46: 1 | F46: 10 | T46: =SUM(F46:Q46) -> 10 | U46: =SUM(F46:S46) -> 10 | V46: zal / o | W46: 1 | X46: =U46 -> 10 | Y46: =W46 -> 1 | AA46: =IF((Y46*25-X46)<0,0,(Y46*25-X46)) -> 15 | AB46: =IF((Z46*25-Y46)<0,0,(Z46*25-Y46)) -> 0 | AC46: 10 | AD46: =(F46*1/X46)*Y46 -> 1
B47: 13 | C47: obowiązkowy | D47: Zarządzanie i marketing | E47: 8 | F47: 10 | H47: 5 | T47: =SUM(F47:Q47) -> 15 | U47: =SUM(F47:S47) -> 15 | V47: zal / o | W47: 1 | X47: =U47 -> 15 | Y47: =W47 -> 1 | AA47: =IF((Y47*25-X47)<0,0,(Y47*25-X47)) -> 10 | AB47: =IF((Z47*25-Y47)<0,0,(Z47*25-Y47)) -> 0 | AC47: 10 | AD47: =(F47*1/X47)*Y47 -> 0.66666667
B48: 14 | C48: obowiązkowy | D48: Filozofia i bioetyka | E48: 1 | F48: 5 | H48: 5 | T48: =SUM(F48:Q48) -> 10 | U48: =SUM(F48:S48) -> 10 | V48: zal / o | W48: 1 | X48: =U48 -> 10 | Y48: =W48 -> 1 | AA48: =IF((Y48*25-X48)<0,0,(Y48*25-X48)) -> 15 | AB48: =IF((Z48*25-Y48)<0,0,(Z48*25-Y48)) -> 0
B49: 15 | C49: obowiązkowy | D49: Wychowanie fizyczne 1 | E49: 1 | Q49: 30 | T49: =SUM(F49:Q49) -> 30 | U49: =SUM(F49:S49) -> 30 | V49: zal | X49: =U49 -> 30 | Y49: =W49 -> 0 | AA49: =IF((Y49*25-X49)<0,0,(Y49*25-X49)) -> 0 | AB49: =IF((Z49*25-Y49)<0,0,(Z49*25-Y49)) -> 0
...

Sheet statystyki
D2: Statystyki (cykl 2026-2031)
H3: Opracował: mgr inż. Sławomir Jarząb
C8: Wydział Fizjoterapii
C9: Kierunek Fizjoterapia
C10: Forma studiów stacjonarna
C11: Studia jednolite magisterskie
C13: Moduły z zakresu fizjoterapii | D13: godz. | E13: ECTS | F13: % | H13: Przynajmniej 160 ECTS z zakresu fizjoterapii - na podstawie zapisów ustawy o zawodzie fizjoterapeuty z dnia 25 września 2015 r., art. 13.3, ust. 1.
C14: Moduł nauk w zakresie podstaw fizjoterapii | D14: =całość!X74 -> 795 | E14: =całość!Y74 -> 45 | F14: =E14/całość!$AJ$35*100 -> 15
C15: Moduł nauk w zakresie fizjoterapii klinicznej | D15: =całość!X121 -> 1680 | E15: =całość!Y121 -> 99 | F15: =E15/całość!$AJ$35*100 -> 33
C16: Praktyki | D16: =całość!X137 -> 1560 | E16: =całość!Y137 -> 58 | F16: =E16/całość!$AJ$35*100 -> 19.333333
C17: RAZEM | D17: =SUM(D14:D16) -> 4035 | E17: =SUM(E14:E16) -> 202 | F17: =E17/całość!$AJ$35*100 -> 67.333333
C20: Zajęcia wybieralne | D20: godz. | E20: ECTS | F20: % | H20: Na podstawie zapisów ROZPORZĄDZENIA MINISTRA NAUKI I SZKOLNICTWA WYŻSZEGO z dnia 26 lipca 2019 r. w sprawie standardów kształcenia fizjoterapeutów "program studiów umożliwia studentowi wybór zajęć, którym przypisano punkty ECTS w wymiarze nie mniejszym niż 5% liczby punktów ECTS koniecznej do ukończenia studiów" (czyli ok. 15 punktów ECTS)
C21: Autorska oferta uczelni (przedmioty fakultatywne i przedmioty wolnego wyboru) | D21: =SUM(całość!X143:X155) -> 360 | E21: =SUM(całość!Y143:Y155) -> 24 | F21: =statystyki!E21/całość!$AJ$35*100 -> 8
C22: Wakacyjna praktyka profilowana - wybieralna (semestr 6) | D22: =całość!X133 -> 200 | E22: =całość!Y133 -> 7 | F22: =statystyki!E22/całość!$AJ$35*100 -> 2.3333333
C23: Wakacyjna praktyka profilowana - wybieralna (semestr 8) | D23: =całość!X135 -> 200 | E23: =całość!Y135 -> 7 | F23: =statystyki!E23/całość!$AJ$35*100 -> 2.3333333
C25: RAZEM | D25: =SUM(D21:D24) -> 760 | E25: =SUM(E21:E24) -> 38 | F25: =statystyki!E25/całość!$AJ$35*100 -> 12.666667
C28: Godziny do dyspozycji uczelni | D28: godz. | E28: ECTS | F28: % | H28: Na podstawie zapisów ROZPORZĄDZENIA MINISTRA NAUKI I SZKOLNICTWA WYŻSZEGO z dnia 26 lipca 2019 r. w sprawie standardów kształcenia fizjoterapeutów "do dyspozycji uczelni pozostawia się nie mniej niż 500 godzin (30 punktów ECTS), które mogą być realizowane jako zajęcia uzupełniające efekty uczenia się w kategorii wiedzy, umiejętności lub kompetencji społecznych"
C29: Autorska oferta uczelni | D29: =całość!AB157 -> 485 | E29: =całość!Y156 -> 30 | F29: =statystyki!E29/całość!$AJ$35*100 -> 10
C30: RAZEM | D30: =SUM(D29:D29) -> 485 | E30: =SUM(E29:E29) -> 30 | F30: =statystyki!E30/całość!$AJ$35*100 -> 10
C33: Zajęcia z zakresu dziedziny nauk humanistycznych i społecznych | D33: godz. | E33: ECTS | F33: % | H33: Na podstawie zapisów ROZPORZĄDZENIA MINISTRA NAUKI I SZKOLNICTWA WYŻSZEGO z dnia 26 lipca 2019 r. w sprawie standardów kształcenia fizjoterapeutów, program studiów dla kierunku studiów umożliwia studentom uzyskanie nie mniej niż 5 punktów ECTS w ramach zajęć z dziedziny nauk humanistycznych lub nauk społecznych
C34: Moduł zajęć z języka obcego | D34: =całość!X35+całość!X36+całość!X37+całość!X38 -> 120 | E34: =całość!Y35+całość!Y36+całość!Y37+całość!Y38 -> 5 | F34: =E34/całość!$AJ$35*100 -> 1.6666667
C35: Moduł nauk ogólnych (wybrane przedmioty) | D35: =SUM(całość!X39:X48,całość!X51) -> 155 | E35: =SUM(całość!Y39:Y48,całość!Y51) -> 13 | F35: =E35/całość!$AJ$35*100 -> 4.3333333
C36: RAZEM | D36: =SUM(D34:D35) -> 275 | E36: =SUM(E34:E35) -> 18 | F36: =E36/całość!$AJ$35*100 -> 6
C42: Wymiar praktyk zawodowych | D42: godz. | E42: ECTS | F42: % | H42: Szczegóły realizacji poszczególnych etapów praktyki zawodowej, zostaną uregulowane zapisami w Regulaminie odbywania praktyki zawodowej dla kierunku fizjoterapia, w odniesieniu do obowiązujących zapisów legislacyjnych (ROZPORZĄDZENIE MINISTRA NAUKI I SZKOLNICTWA WYŻSZEGO z dnia 26 lipca 2019 r. w sprawie standardów kształcenia fizjoterapeutów) i wewnętrznych uczelni.
C43: Praktyka asystencka | D43: =całość!X130 -> 150 | E43: =całość!Y130 -> 5 | F43: =E43/całość!$AJ$35*100 -> 1.6666667
C44: Wakacyjna praktyka z kinezyterapii | D44: =całość!X131 -> 300 | E44: =całość!Y131 -> 11 | F44: =E44/całość!$AJ$35*100 -> 3.6666667
C45: Praktyka z fizjoterapii klinicznej, fizykoterapii i masażu | D45: =całość!X132 -> 100 | E45: =całość!Y132 -> 4 | F45: =E45/całość!$AJ$35*100 -> 1.3333333
C46: Wakacyjna praktyka profilowana - wybieralna | D46: =całość!X133 -> 200 | E46: =całość!Y133 -> 7 | F46: =E46/całość!$AJ$35*100 -> 2.3333333
C47: Praktyka z fizjoterapii klinicznej, fizykoterapii i masażu | D47: =całość!X134 -> 100 | E47: =całość!Y134 -> 4 | F47: =E47/całość!$AJ$35*100 -> 1.3333333
C48: Wakacyjna praktyka profilowana - wybieralna | D48: =całość!X135 -> 200 | E48: =całość!Y135 -> 7 | F48: =E48/całość!$AJ$35*100 -> 2.3333333
C49: Praktyka z fizjoterapii klinicznej, fizykoterapii i masażu - praktyka semestralna | D49: =całość!X136 -> 510 | E49: =całość!Y136 -> 20 | F49: =E49/całość!$AJ$35*100 -> 6.6666667
C50: RAZEM | D50: =SUM(D43:D49) -> 1560 | E50: =SUM(E43:E49) -> 58 | F50: =E50/całość!$AJ$35*100 -> 19.333333
C53: Moduły/przedmioty związane z prowadzeniem badań naukowych | D53: godz. | E53: ECTS | F53: % | H53: Realizacja studiów o profilu ogólnoakademickim wymaga by program studiów obejmował zajęcia lub grupy zajęć związane z prowadzoną w uczelni działalnością naukową w dyscyplinie naukowej, do której jest przyporządkowany kierunkek studiów, którym przypisano punkty ECTS w wymiarze większym niż 50% liczby punktów ECTS koniecznej do ukończenia studiów. Grupy przedmiotów (lub przedmioty), w ramach których wprowadzone zostaną efekty kształcenia związane przygotowywaniem studentów do prowadzenia działalności naukowej lub udział w tej działalności w planie studiów oznaczono „*”. (ROZPORZĄDZENIE MINISTRA NAUKI I SZKOLNICTWA WYŻSZEGO z dnia 26 lipca 2019 r. w sprawie standardów kształcenia fizjoterapeutów)
C54: A | D54: =SUMIF(całość!A19:A32,"*",całość!X19:X32) -> 230 | E54: =SUMIF(całość!A19:A32,"*",całość!Y19:Y32) -> 16 | F54: =E54/całość!$AJ$35*100 -> 5.3333333
C55: B | D55: =SUMIF(całość!A35:A51,"*",całość!X35:X51) -> 120 | E55: =SUMIF(całość!A35:A51,"*",całość!Y35:Y51) -> 10 | F55: =E55/całość!$AJ$35*100 -> 3.3333333
C56: C | D56: =SUMIF(całość!A54:A73,"*",całość!X54:X73) -> 530 | E56: =SUMIF(całość!A54:A73,"*",całość!Y54:Y73) -> 31 | F56: =E56/całość!$AJ$35*100 -> 10.333333
C57: D | D57: =SUMIF(całość!A77:A120,"*",całość!X77:X120) -> 1505 | E57: =SUMIF(całość!A77:A120,"*",całość!Y77:Y120) -> 88 | F57: =E57/całość!$AJ$35*100 -> 29.333333
C58: E | D58: =SUMIF(całość!A123:A127,"*",całość!X123:X127) -> 50 | E58: =SUMIF(całość!A123:A127,"*",całość!Y123:Y127) -> 25 | F58: =E58/całość!$AJ$35*100 -> 8.3333333
C59: F | D59: =SUMIF(całość!A130:A136,"*",całość!X130:X136) -> 0 | E59: =SUMIF(całość!A130:A136,"*",całość!Y130:Y136) -> 0 | F59: =E59/całość!$AJ$35*100 -> 0
C60: G | D60: =SUMIF(całość!A139:A155,"*",całość!X139:X155) -> 80 | E60: =SUMIF(całość!A139:A155,"*",całość!Y139:Y155) -> 4 | F60: =E60/całość!$AJ$35*100 -> 1.3333333
...

Sheet 1 rok
B6: Szczegółowy Program Studiów na rok akademicki 2026/2027
J7: .Uchwała Senatu UMW nr 2853 z dnia 18.02.2026 r
J8: zm. Uchwała Senatu UMW nr 2913 z dnia 27.05.2026 r
B9: Wydział Fizjoterapii | J9: zm. Uchwała Senatu UMW nr 2929 z dnia 24.06.2026 r
B10: Kierunek Fizjoterapia | J10: zm. Uchwała Senatu UMW nr 2951 z dnia 30.09.2026 r.
B11: Rok studiów 1
B12: Forma studiów stacjonarna
B13: Cykl kształcenia rozpoczynający się w roku akademickim: 2026/2027
B16: Lp. | D16: Przedmiot (nazwa) | E16: semestr zimowy - I | W16: semestr letni - II | AO16: SUMA GODZIN DYDAKTYCZNYCH | AP16: SUMA PUNKTÓW ECTS ZA PRZEDMIOT
C17: Rodzaj zajęć (obowiązkowe / wolnego wyboru / ograniczonego wyboru) | E17: wykład (WY) | F17: seminarium (SE) | G17: ćwiczenia audytoryjne (CA) | H17: ćwiczenia kierunkowe - niekliniczne (CN) | I17: ćwiczenia w warunkach symulowanych (CS) | J17: ćwiczenia laboratoryjne (CL) | K17: ćwiczenia kliniczne (CK) | L17: zajęcia praktyczne przy pacjencie (PP) | M17: ćwiczenia specjalistyczne - magisterskie (CM) | N17: lektoraty (LE) | O17: e-learning (EL) | P17: zajęcia wychowania fizycznego-obowiązkowe (WF) | Q17: praktyka zawodowa (PZ) | R17: samokształcenie | S17: liczba godzin z nauczycielem | T17: ogólna liczba godzin dydaktycznych | U17: forma zakończenia semestru | V17: punkty ECTS w semestrze | W17: wykład (WY) | X17: seminarium (SE) | Y17: ćwiczenia audytoryjne CA) | Z17: ćwiczenia kierunkowe - niekliniczne (CN) | AA17: ćwiczenia w warunkach symulowanych (CS) | AB17: ćwiczenia laboratoryjne (CL) | AC17: ćwiczenia kliniczne (CK) | AD17: zajęcia praktyczne przy pacjencie (PP) | AE17: ćwiczenia specjalistyczne - magisterskie (CM) | AF17: lektoraty (LE) | AG17: e-learning (EL) | AH17: zajęcia wychowania fizycznego-obowiązkowe (WF) | AI17: praktyka zawodowa (PZ) | AJ17: samokształcenie | AK17: liczba godzin z nauczycielem | AL17: ogólna liczba godzin dydaktycznych | AM17: forma zakończenia semestru | AN17: punkty ECTS w semestrze
B18: A. BIOMEDYCZNE PODSTAWY FIZJOTERAPII
B19: 1 | C19: obowiązkowy | D19: Anatomia prawidłowa człowieka 1 | E19: 15 | H19: 35 | S19: =SUM(E19:P19) -> 50 | T19: =SUM(E19:R19) -> 50 | U19: zal / o | V19: 2 | AO19: =T19+AL19 -> 50 | AP19: =V19+AN19 -> 2
B20: 2 | C20: obowiązkowy | D20: Anatomia prawidłowa człowieka 2 | W20: 15 | Z20: 30 | AK20: =SUM(W20:AH20) -> 45 | AL20: =SUM(W20:AJ20) -> 45 | AM20: egz | AN20: 3 | AO20: =T20+AL20 -> 45 | AP20: =V20+AN20 -> 3
B21: 3 | C21: obowiązkowy | D21: Anatomia rentgenowska | W21: 10 | AK21: =SUM(W21:AH21) -> 10 | AL21: =SUM(W21:AJ21) -> 10 | AM21: zal /o | AN21: 1 | AO21: =T21+AL21 -> 10 | AP21: =V21+AN21 -> 1
B22: 4 | C22: obowiązkowy | D22: Biologia medyczna z genetyką | E22: 25 | S22: =SUM(E22:P22) -> 25 | T22: =SUM(E22:R22) -> 25 | U22: zal / o | V22: 1 | AO22: =T22+AL22 -> 25 | AP22: =V22+AN22 -> 1
B23: 5 | C23: obowiązkowy | D23: Biochemia | E23: 25 | S23: =SUM(E23:P23) -> 25 | T23: =SUM(E23:R23) -> 25 | U23: zal / o | V23: 1 | AO23: =T23+AL23 -> 25 | AP23: =V23+AN23 -> 1
B24: 6 | C24: obowiązkowy | D24: Fizjologia 1 - fizjologia ogólna, fizjologia bólu i diagnostyka fizjologiczna | E24: 20 | H24: 10 | S24: =SUM(E24:P24) -> 30 | T24: =SUM(E24:R24) -> 30 | U24: zal / o | V24: 2 | AO24: =T24+AL24 -> 30 | AP24: =V24+AN24 -> 2
B25: 7 | C25: obowiązkowy | D25: Fizjologia 2 - fizjologia wysiłku fizycznego | U25: zal / o | W25: 20 | Z25: 20 | AK25: =SUM(W25:AH25) -> 40 | AL25: =SUM(W25:AJ25) -> 40 | AM25: egz | AN25: 3 | AO25: =T25+AL25 -> 40 | AP25: =V25+AN25 -> 3
B26: 8 | C26: obowiązkowy | D26: Biofizyka | E26: 15 | S26: =SUM(E26:P26) -> 15 | T26: =SUM(E26:R26) -> 15 | U26: zal / o | V26: 2 | AO26: =T26+AL26 -> 15 | AP26: =V26+AN26 -> 2
B27: 9 | C27: obowiązkowy | D27: Ergonomia | W27: 10 | Z27: 10 | AK27: =SUM(W27:AH27) -> 20 | AL27: =SUM(W27:AJ27) -> 20 | AM27: zal / o | AN27: 2 | AO27: =T27+AL27 -> 20 | AP27: =V27+AN27 -> 2
B28: 10 | C28: obowiązkowy | D28: Pierwsza pomoc | E28: 5 | I28: 20 | S28: =SUM(E28:P28) -> 25 | T28: =SUM(E28:R28) -> 25 | U28: zal / o | V28: 1 | AO28: =T28+AL28 -> 25 | AP28: =V28+AN28 -> 1
B29: RAZEM | E29: =SUM(E19:E28) -> 105 | F29: =SUM(F19:F28) -> 0 | G29: =SUM(G19:G28) -> 0 | H29: =SUM(H19:H28) -> 45 | I29: =SUM(I19:I28) -> 20 | J29: =SUM(J19:J28) -> 0 | K29: =SUM(K19:K28) -> 0 | L29: =SUM(L19:L28) -> 0 | ... T29: =SUM(T19:T28) -> 170 | V29: =SUM(V19:V28) -> 9 | W29: =SUM(W19:W28) -> 55 | X29: =SUM(X19:X28) -> 0 | Y29: =SUM(Y19:Y28) -> 0 | Z29: =SUM(Z19:Z28) -> 60 | AA29: =SUM(AA19:AA28) -> 0 | AB29: =SUM(AB19:AB28) -> 0 | AC29: =SUM(AC19:AC28) -> 0 | ... AL29: =SUM(AL19:AL28) -> 115 | AN29: =SUM(AN19:AN28) -> 9 | AO29: =SUM(AO19:AO28) -> 285 | AP29: =SUM(AP19:AP28) -> 18
B30: B. NAUKI OGÓLNE
B31: 11 | C31: obowiązkowy | D31: Język obcy 1 | N31: 30 | S31: =SUM(E31:P31) -> 30 | T31: =SUM(E31:R31) -> 30 | U31: zal / o | V31: 1 | AO31: =T31+AL31 -> 30 | AP31: =V31+AN31 -> 1
B32: 12 | C32: obowiązkowy | D32: Język obcy 2 | AF32: 30 | AK32: =SUM(W32:AH32) -> 30 | AL32: =SUM(W32:AJ32) -> 30 | AM32: zal / o | AN32: 1 | AO32: =T32+AL32 -> 30 | AP32: =V32+AN32 -> 1
B33: 13 | C33: obowiązkowy | D33: Psychologia 1 - psychologia ogólna i psychoterapia | E33: 10 | S33: =SUM(E33:P33) -> 10 | T33: =SUM(E33:R33) -> 10 | U33: zal / o | V33: 1 | AO33: =T33+AL33 -> 10 | AP33: =V33+AN33 -> 1
B34: 14 | C34: obowiązkowy | D34: Psychologia 2 - psychologia kliniczna i komunikacja kliniczna | W34: 10 | Y34: 10 | AK34: =SUM(W34:AH34) -> 20 | AL34: =SUM(W34:AJ34) -> 20 | AM34: egz | AN34: 2 | AO34: =T34+AL34 -> 20 | AP34: =V34+AN34 -> 2
B35: 15 | C35: obowiązkowy | D35: Socjologia ogólna i niepełnosprawności | E35: 10 | S35: =SUM(E35:P35) -> 10 | T35: =SUM(E35:R35) -> 10 | U35: zal / o | V35: 1 | AO35: =T35+AL35 -> 10 | AP35: =V35+AN35 -> 1
B36: 16 | C36: obowiązkowy | D36: Pedagogika ogólna i specjalna | E36: 10 | G36: 5 | S36: =SUM(E36:P36) -> 15 | T36: =SUM(E36:R36) -> 15 | U36: zal / o | V36: 1 | AO36: =T36+AL36 -> 15 | AP36: =V36+AN36 -> 1
B37: 17 | C37: obowiązkowy | D37: Podstawy prawa | E37: 10 | S37: =SUM(E37:P37) -> 10 | T37: =SUM(E37:R37) -> 10 | U37: zal / o | V37: 1 | AO37: =T37+AL37 -> 10 | AP37: =V37+AN37 -> 1
B38: 18 | C38: obowiązkowy | D38: Zdrowie publiczne z demografią i epidemiologią | E38: 10 | G38: 5 | S38: =SUM(E38:P38) -> 15 | T38: =SUM(E38:R38) -> 15 | U38: zal / o | V38: 1 | AO38: =T38+AL38 -> 15 | AP38: =V38+AN38 -> 1
B39: 19 | C39: obowiązkowy | D39: Ekonomia, system ochrony zdrowia i technologie informacyjne | E39: 10 | S39: =SUM(E39:P39) -> 10 | T39: =SUM(E39:R39) -> 10 | U39: zal / o | V39: 1 | AO39: =T39+AL39 -> 10 | AP39: =V39+AN39 -> 1
B40: 20 | C40: obowiązkowy | D40: Filozofia i bioetyka | E40: 5 | G40: 5 | S40: =SUM(E40:P40) -> 10 | T40: =SUM(E40:R40) -> 10 | U40: zal / o | V40: 1 | AO40: =T40+AL40 -> 10 | AP40: =V40+AN40 -> 1
B41: 21 | C41: obowiązkowy | D41: Wychowanie fizyczne 1 | P41: 30 | S41: =SUM(E41:P41) -> 30 | T41: =SUM(E41:R41) -> 30 | U41: zal | AO41: =T41+AL41 -> 30 | AP41: =V41+AN41 -> 0
B42: 22 | C42: obowiązkowy | D42: Wychowanie fizyczne 2 | AH42: 30 | AK42: =SUM(W42:AH42) -> 30 | AL42: =SUM(W42:AJ42) -> 30 | AM42: zal | AO42: =T42+AL42 -> 30 | AP42: =V42+AN42 -> 0
B43: 23 | C43: obowiązkowy | D43: Historia fizjoterapii | E43: 10 | S43: =SUM(E43:P43) -> 10 | T43: =SUM(E43:R43) -> 10 | U43: zal / o | V43: 1 | AO43: =T43+AL43 -> 10 | AP43: =V43+AN43 -> 1
B44: RAZEM | E44: =SUM(E31:E43) -> 75 | F44: =SUM(F31:F43) -> 0 | G44: =SUM(G31:G43) -> 15 | H44: =SUM(H31:H43) -> 0 | I44: =SUM(I31:I43) -> 0 | J44: =SUM(J31:J43) -> 0 | K44: =SUM(K31:K43) -> 0 | L44: =SUM(L31:L43) -> 0 | ... T44: =SUM(T31:T43) -> 150 | V44: =SUM(V31:V43) -> 9 | W44: =SUM(W31:W43) -> 10 | X44: =SUM(X31:X43) -> 0 | Y44: =SUM(Y31:Y43) -> 10 | Z44: =SUM(Z31:Z43) -> 0 | AA44: =SUM(AA31:AA43) -> 0 | AB44: =SUM(AB31:AB43) -> 0 | AC44: =SUM(AC31:AC43) -> 0 | ... AL44: =SUM(AL31:AL43) -> 80 | AN44: =SUM(AN31:AN43) -> 3 | AO44: =SUM(AO31:AO43) -> 230 | AP44: =SUM(AP31:AP43) -> 12
B45: C. PODSTAWY FIZJOTERAPII
B46: 24 | C46: obowiązkowy | D46: Fizjoterapia ogólna 1 | E46: 20 | G46: 5 | S46: =SUM(E46:P46) -> 25 | T46: =SUM(E46:R46) -> 25 | U46: zal / o | V46: 1 | AO46: =T46+AL46 -> 25 | AP46: =V46+AN46 -> 1
B47: 25 | C47: obowiązkowy | D47: Fizjoterapia ogólna 2 | W47: 10 | Y47: 5 | AK47: =SUM(W47:AH47) -> 15 | AL47: =SUM(W47:AJ47) -> 15 | AM47: zal / o | AN47: 1 | AO47: =T47+AL47 -> 15 | AP47: =V47+AN47 -> 1
...

Sheet 2 rok
B6: Szczegółowy Program Studiów na rok akademicki 2027/2028
J7: .Uchwała Senatu UMW nr 2853 z dnia 18.02.2026 r
J8: zm. Uchwała Senatu UMW nr 2913 z dnia 27.05.2026 r
B9: Wydział Fizjoterapii | J9: zm. Uchwała Senatu UMW nr 2929 z dnia 24.06.2026 r
B10: Kierunek Fizjoterapia | J10: zm. Uchwała Senatu UMW nr 2951 z dnia 30.09.2026 r.
B11: Rok studiów 2
B12: Forma studiów stacjonarna
B13: Cykl kształcenia rozpoczynający się w roku akademickim: 2026/2027
B16: Lp. | D16: Przedmiot (nazwa) | E16: semestr zimowy - III | W16: semestr letni - IV | AO16: SUMA GODZIN DYDAKTYCZNYCH | AP16: SUMA PUNKTÓW ECTS ZA PRZEDMIOT
C17: Rodzaj zajęć (obowiązkowe / wolnego wyboru / ograniczonego wyboru) | E17: wykład (WY) | F17: seminarium (SE) | G17: ćwiczenia audytoryjne (CA) | H17: ćwiczenia kierunkowe - niekliniczne (CN) | I17: ćwiczenia w warunkach symulowanych (CS) | J17: ćwiczenia laboratoryjne (CL) | K17: ćwiczenia kliniczne (CK) | L17: zajęcia praktyczne przy pacjencie (PP) | M17: ćwiczenia specjalistyczne - magisterskie (CM) | N17: lektoraty (LE) | O17: e-learning (EL) | P17: zajęcia wychowania fizycznego-obowiązkowe (WF) | Q17: praktyka zawodowa (PZ) | R17: samokształcenie | S17: liczba godzin z nauczycielem | T17: ogólna liczba godzin dydaktycznych | U17: forma zakończenia semestru | V17: punkty ECTS w semestrze | W17: wykład (WY) | X17: seminarium (SE) | Y17: ćwiczenia audytoryjne CA) | Z17: ćwiczenia kierunkowe - niekliniczne (CN) | AA17: ćwiczenia w warunkach symulowanych (CS) | AB17: ćwiczenia laboratoryjne (CL) | AC17: ćwiczenia kliniczne (CK) | AD17: zajęcia praktyczne przy pacjencie (PP) | AE17: ćwiczenia specjalistyczne - magisterskie (CM) | AF17: lektoraty (LE) | AG17: e-learning (EL) | AH17: zajęcia wychowania fizycznego-obowiązkowe (WF) | AI17: praktyka zawodowa (PZ) | AJ17: samokształcenie | AK17: liczba godzin z nauczycielem | AL17: ogólna liczba godzin dydaktycznych | AM17: forma zakończenia semestru | AN17: punkty ECTS w semestrze
B18: A. BIOMEDYCZNE PODSTAWY FIZJOTERAPII
B19: 1 | C19: obowiązkowy | D19: Anatomia palpacyjna i funkcjonalna | E19: 10 | H19: 40 | S19: =SUM(E19:P19) -> 50 | T19: =SUM(E19:R19) -> 50 | U19: egz | V19: 3 | AO19: =T19+AL19 -> 50 | AP19: =V19+AN19 -> 3
B20: 2 | C20: obowiązkowy | D20: Farmakologia w fizjoterapii | E20: 10 | G20: 5 | S20: =SUM(E20:P20) -> 15 | T20: =SUM(E20:R20) -> 15 | U20: zal / o | V20: 1 | AO20: =T20+AL20 -> 15 | AP20: =V20+AN20 -> 1
B21: 3 | C21: obowiązkowy | D21: Biomechanika | E21: 15 | G21: 15 | S21: =SUM(E21:P21) -> 30 | T21: =SUM(E21:R21) -> 30 | U21: egz | V21: 2 | AO21: =T21+AL21 -> 30 | AP21: =V21+AN21 -> 2
B22: 4 | C22: obowiązkowy | D22: Patologia ogólna | W22: 15 | Y22: 5 | AK22: =SUM(W22:AH22) -> 20 | AL22: =SUM(W22:AJ22) -> 20 | AM22: zal / o | AN22: 1 | AO22: =T22+AL22 -> 20 | AP22: =V22+AN22 -> 1
B23: RAZEM | E23: =SUM(E19:E22) -> 35 | F23: =SUM(F19:F22) -> 0 | G23: =SUM(G19:G22) -> 20 | H23: =SUM(H19:H22) -> 40 | I23: =SUM(I19:I22) -> 0 | J23: =SUM(J19:J22) -> 0 | K23: =SUM(K19:K22) -> 0 | L23: =SUM(L19:L22) -> 0 | ... T23: =SUM(T19:T22) -> 95 | V23: =SUM(V19:V22) -> 6 | W23: =SUM(W19:W22) -> 15 | X23: =SUM(X19:X22) -> 0 | Y23: =SUM(Y19:Y22) -> 5 | Z23: =SUM(Z19:Z22) -> 0 | AA23: =SUM(AA19:AA22) -> 0 | AB23: =SUM(AB19:AB22) -> 0 | AC23: =SUM(AC19:AC22) -> 0 | ... AL23: =SUM(AL19:AL22) -> 20 | AN23: =SUM(AN19:AN22) -> 1 | AO23: =SUM(AO19:AO22) -> 115 | AP23: =SUM(AP19:AP22) -> 7
B24: B. NAUKI OGÓLNE
B25: 5 | C25: obowiązkowy | D25: Język obcy 3 | N25: 30 | S25: =SUM(E25:P25) -> 30 | T25: =SUM(E25:R25) -> 30 | U25: zal / o | V25: 1 | AO25: =T25+AL25 -> 30 | AP25: =V25+AN25 -> 1
B26: 6 | C26: obowiązkowy | D26: Język obcy 4 | AF26: 30 | AK26: =SUM(W26:AH26) -> 30 | AL26: =SUM(W26:AJ26) -> 30 | AM26: egz | AN26: 2 | AO26: =T26+AL26 -> 30 | AP26: =V26+AN26 -> 2
B27: RAZEM | E27: =SUM(E25:E26) -> 0 | F27: =SUM(F25:F26) -> 0 | G27: =SUM(G25:G26) -> 0 | H27: =SUM(H25:H26) -> 0 | I27: =SUM(I25:I26) -> 0 | J27: =SUM(J25:J26) -> 0 | K27: =SUM(K25:K26) -> 0 | L27: =SUM(L25:L26) -> 0 | ... T27: =SUM(T25:T26) -> 30 | V27: =SUM(V25:V26) -> 1 | W27: =SUM(W25:W26) -> 0 | X27: =SUM(X25:X26) -> 0 | Y27: =SUM(Y25:Y26) -> 0 | Z27: =SUM(Z25:Z26) -> 0 | AA27: =SUM(AA25:AA26) -> 0 | AB27: =SUM(AB25:AB26) -> 0 | AC27: =SUM(AC25:AC26) -> 0 | ... AL27: =SUM(AL25:AL26) -> 30 | AN27: =SUM(AN25:AN26) -> 2 | AO27: =SUM(AO25:AO26) -> 60 | AP27: =SUM(AP25:AP26) -> 3
B28: C. PODSTAWY FIZJOTERAPII
B29: 7 | C29: obowiązkowy | D29: Kinezyterapia 2 | E29: 15 | H29: 30 | S29: =SUM(E29:P29) -> 45 | T29: =SUM(E29:R29) -> 45 | U29: zal / o | V29: 3 | AO29: =T29+AL29 -> 45 | AP29: =V29+AN29 -> 3
B30: 8 | C30: obowiązkowy | D30: Kinezyterapia 3 | W30: 10 | Z30: 30 | AK30: =SUM(W30:AH30) -> 40 | AL30: =SUM(W30:AJ30) -> 40 | AM30: egz | AN30: 4 | AO30: =T30+AL30 -> 40 | AP30: =V30+AN30 -> 4
B31: 9 | C31: obowiązkowy | D31: Masaż 2 | E31: 10 | H31: 40 | S31: =SUM(E31:P31) -> 50 | T31: =SUM(E31:R31) -> 50 | U31: egz | V31: 3 | AO31: =T31+AL31 -> 50 | AP31: =V31+AN31 -> 3
B32: RAZEM | E32: =SUM(E29:E31) -> 25 | F32: =SUM(F29:F31) -> 0 | G32: =SUM(G29:G31) -> 0 | H32: =SUM(H29:H31) -> 70 | I32: =SUM(I29:I31) -> 0 | J32: =SUM(J29:J31) -> 0 | K32: =SUM(K29:K31) -> 0 | L32: =SUM(L29:L31) -> 0 | ... T32: =SUM(T29:T31) -> 95 | V32: =SUM(V29:V31) -> 6 | W32: =SUM(W29:W31) -> 10 | X32: =SUM(X29:X31) -> 0 | Y32: =SUM(Y29:Y31) -> 0 | Z32: =SUM(Z29:Z31) -> 30 | AA32: =SUM(AA29:AA31) -> 0 | AB32: =SUM(AB29:AB31) -> 0 | AC32: =SUM(AC29:AC31) -> 0 | ... AL32: =SUM(AL29:AL31) -> 40 | AN32: =SUM(AN29:AN31) -> 4 | AO32: =SUM(AO29:AO31) -> 135 | AP32: =SUM(AP29:AP31) -> 10
B33: D. FIZJOTERAPIA KLINICZNA
B34: 10 | C34: obowiązkowy | D34: Kliniczne podstawy fizjoterapii w ortopedii i traumatologii 2 | E34: 25 | S34: =SUM(E34:P34) -> 25 | T34: =SUM(E34:R34) -> 25 | U34: egz | V34: 2 | AO34: =T34+AL34 -> 25 | AP34: =V34+AN34 -> 2
B35: 11 | C35: obowiązkowy | D35: Kliniczne podstawy fizjoterapii w neurologii i neurochirurgii 1 | E35: 25 | S35: =SUM(E35:P35) -> 25 | T35: =SUM(E35:R35) -> 25 | U35: zal / o | V35: 2 | AO35: =T35+AL35 -> 25 | AP35: =V35+AN35 -> 2
B36: 12 | C36: obowiązkowy | D36: Kliniczne podstawy fizjoterapii w neurologii i neurochirurgii 2 | W36: 25 | AK36: =SUM(W36:AH36) -> 25 | AL36: =SUM(W36:AJ36) -> 25 | AM36: egz | AN36: 2 | AO36: =T36+AL36 -> 25 | AP36: =V36+AN36 -> 2
B37: 13 | C37: obowiązkowy | D37: Kliniczne podstawy fizjoterapii w reumatologii | W37: 15 | AK37: =SUM(W37:AH37) -> 15 | AL37: =SUM(W37:AJ37) -> 15 | AM37: egz | AN37: 2 | AO37: =T37+AL37 -> 15 | AP37: =V37+AN37 -> 2
B38: 14 | C38: obowiązkowy | D38: Kliniczne podstawy fizjoterapii w neurologii dziecięcej | E38: 15 | S38: =SUM(E38:P38) -> 15 | T38: =SUM(E38:R38) -> 15 | U38: zal / o | V38: 1 | AO38: =T38+AL38 -> 15 | AP38: =V38+AN38 -> 1
B39: 15 | C39: obowiązkowy | D39: Kliniczne podstawy fizjoterapii w kardiologii i kardiochirurgii 1 | E39: 15 | S39: =SUM(E39:P39) -> 15 | T39: =SUM(E39:R39) -> 15 | U39: zal / o | V39: 2 | AO39: =T39+AL39 -> 15 | AP39: =V39+AN39 -> 2
B40: 16 | C40: obowiązkowy | D40: Kliniczne podstawy fizjoterapii w kardiologii i kardiochirurgii 2 | W40: 10 | AK40: =SUM(W40:AH40) -> 10 | AL40: =SUM(W40:AJ40) -> 10 | AM40: egz | AN40: 2 | AO40: =T40+AL40 -> 10 | AP40: =V40+AN40 -> 2
B41: 17 | C41: obowiązkowy | D41: Kliniczne podstawy fizjoterapii w pulmonologii | W41: 15 | AK41: =SUM(W41:AH41) -> 15 | AL41: =SUM(W41:AJ41) -> 15 | AM41: zal / o | AN41: 1 | AO41: =T41+AL41 -> 15 | AP41: =V41+AN41 -> 1
B42: 18 | C42: obowiązkowy | D42: Kliniczne podstawy fizjoterapii w ginekologii i położnictwie | W42: 15 | AK42: =SUM(W42:AH42) -> 15 | AL42: =SUM(W42:AJ42) -> 15 | AM42: zal / o | AN42: 1 | AO42: =T42+AL42 -> 15 | AP42: =V42+AN42 -> 1
B43: 19 | C43: obowiązkowy | D43: Kliniczne podstawy fizjoterapii w onkologii i medycynie paliatywnej 1 | E43: 10 | S43: =SUM(E43:P43) -> 10 | T43: =SUM(E43:R43) -> 10 | U43: zal / o | V43: 1 | AO43: =T43+AL43 -> 10 | AP43: =V43+AN43 -> 1
B44: 20 | C44: obowiązkowy | D44: Kliniczne podstawy fizjoterapii w onkologii i medycynie paliatywnej 2 | W44: 10 | AK44: =SUM(W44:AH44) -> 10 | AL44: =SUM(W44:AJ44) -> 10 | AM44: zal / o | AN44: 1 | AO44: =T44+AL44 -> 10 | AP44: =V44+AN44 -> 1
B45: 21 | C45: obowiązkowy | D45: Kliniczne podstawy fizjoterapii w geriatrii | E45: 12 | I45: 3 | S45: =SUM(E45:P45) -> 15 | T45: =SUM(E45:R45) -> 15 | U45: zal / o | V45: 1 | AO45: =T45+AL45 -> 15 | AP45: =V45+AN45 -> 1
B46: 22 | C46: obowiązkowy | D46: Kliniczne podstawy fizjoterapii w psychiatrii | E46: 15 | S46: =SUM(E46:P46) -> 15 | T46: =SUM(E46:R46) -> 15 | U46: zal / o | V46: 1 | AO46: =T46+AL46 -> 15 | AP46: =V46+AN46 -> 1
B47: 23 | C47: obowiązkowy | D47: Kliniczne podstawy fizjoterapii w intensywnej terapii | W47: 10 | AK47: =SUM(W47:AH47) -> 10 | AL47: =SUM(W47:AJ47) -> 10 | AM47: zal / o | AN47: 1 | AO47: =T47+AL47 -> 10 | AP47: =V47+AN47 -> 1
...

Sheet 3 rok
B6: Szczegółowy Program Studiów na rok akademicki 2028/2029
J7: .Uchwała Senatu UMW nr 2853 z dnia 18.02.2026 r
J8: zm. Uchwała Senatu UMW nr 2913 z dnia 27.05.2026 r
B9: Wydział Fizjoterapii | J9: zm. Uchwała Senatu UMW nr 2929 z dnia 24.06.2026 r
B10: Kierunek Fizjoterapia | J10: zm. Uchwała Senatu UMW nr 2951 z dnia 30.09.2026 r.
B11: Rok studiów 3
B12: Forma studiów stacjonarna
B13: Cykl kształcenia rozpoczynający się w roku akademickim: 2026/2027
B16: Lp. | D16: Przedmiot (nazwa) | E16: semestr zimowy - V | W16: semestr letni - VI | AO16: SUMA GODZIN DYDAKTYCZNYCH | AP16: SUMA PUNKTÓW ECTS ZA PRZEDMIOT
C17: Rodzaj zajęć (obowiązkowe / wolnego wyboru / ograniczonego wyboru) | E17: wykład (WY) | F17: seminarium (SE) | G17: ćwiczenia audytoryjne (CA) | H17: ćwiczenia kierunkowe - niekliniczne (CN) | I17: ćwiczenia w warunkach symulowanych (CS) | J17: ćwiczenia laboratoryjne (CL) | K17: ćwiczenia kliniczne (CK) | L17: zajęcia praktyczne przy pacjencie (PP) | M17: ćwiczenia specjalistyczne - magisterskie (CM) | N17: lektoraty (LE) | O17: e-learning (EL) | P17: zajęcia wychowania fizycznego-obowiązkowe (WF) | Q17: praktyka zawodowa (PZ) | R17: samokształcenie | S17: liczba godzin z nauczycielem | T17: ogólna liczba godzin dydaktycznych | U17: forma zakończenia semestru | V17: punkty ECTS w semestrze | W17: wykład (WY) | X17: seminarium (SE) | Y17: ćwiczenia audytoryjne CA) | Z17: ćwiczenia kierunkowe - niekliniczne (CN) | AA17: ćwiczenia w warunkach symulowanych (CS) | AB17: ćwiczenia laboratoryjne (CL) | AC17: ćwiczenia kliniczne (CK) | AD17: zajęcia praktyczne przy pacjencie (PP) | AE17: ćwiczenia specjalistyczne - magisterskie (CM) | AF17: lektoraty (LE) | AG17: e-learning (EL) | AH17: zajęcia wychowania fizycznego-obowiązkowe (WF) | AI17: praktyka zawodowa (PZ) | AJ17: samokształcenie | AK17: liczba godzin z nauczycielem | AL17: ogólna liczba godzin dydaktycznych | AM17: forma zakończenia semestru | AN17: punkty ECTS w semestrze
B18: C. PODSTAWY FIZJOTERAPII
B19: 1 | C19: obowiązkowy | D19: Terapia manualna | E19: 15 | H19: 30 | S19: =SUM(E19:P19) -> 45 | T19: =SUM(E19:R19) -> 45 | U19: egz | V19: 3 | AO19: =T19+AL19 -> 45 | AP19: =V19+AN19 -> 3
B20: 2 | C20: obowiązkowy | D20: Medycyna fizykalna 3 – balneoklimatologia i odnowa biologiczna | E20: 15 | H20: 10 | K20: 10 | S20: =SUM(E20:P20) -> 35 | T20: =SUM(E20:R20) -> 35 | U20: zal / o | V20: 3 | AO20: =T20+AL20 -> 35 | AP20: =V20+AN20 -> 3
B21: RAZEM | E21: =SUM(E19:E20) -> 30 | F21: =SUM(F19:F20) -> 0 | G21: =SUM(G19:G20) -> 0 | H21: =SUM(H19:H20) -> 40 | I21: =SUM(I19:I20) -> 0 | J21: =SUM(J19:J20) -> 0 | K21: =SUM(K19:K20) -> 10 | L21: =SUM(L19:L20) -> 0 | ... T21: =SUM(T19:T20) -> 80 | V21: =SUM(V19:V20) -> 6 | W21: =SUM(W19:W20) -> 0 | X21: =SUM(X19:X20) -> 0 | Y21: =SUM(Y19:Y20) -> 0 | Z21: =SUM(Z19:Z20) -> 0 | AA21: =SUM(AA19:AA20) -> 0 | AB21: =SUM(AB19:AB20) -> 0 | AC21: =SUM(AC19:AC20) -> 0 | ... AL21: =SUM(AL19:AL20) -> 0 | AN21: =SUM(AN19:AN20) -> 0 | AO21: =SUM(AO19:AO20) -> 80 | AP21: =V21+AN21 -> 6
B22: D. FIZJOTERAPIA KLINICZNA
B23: 3 | C23: obowiązkowy | D23: Kliniczne podstawy fizjoterapii w medycynie sportowej | E23: 25 | S23: =SUM(E23:P23) -> 25 | T23: =SUM(E23:R23) -> 25 | U23: zal / o | V23: 1 | AO23: =T23+AL23 -> 25 | AP23: =V23+AN23 -> 1
B24: 4 | C24: obowiązkowy | D24: Kliniczne podstawy fizjoterapii w chirurgii | E24: 15 | S24: =SUM(E24:P24) -> 15 | T24: =SUM(E24:R24) -> 15 | U24: zal / o | V24: 1 | AO24: =T24+AL24 -> 15 | AP24: =V24+AN24 -> 1
B25: 6 | C25: obowiązkowy | D25: Fizjoterapia kliniczna w dysfunkcjach układu ruchu w ortopedii i traumatologii 2 | E25: 25 | K25: 10 | S25: =SUM(E25:P25) -> 35 | T25: =SUM(E25:R25) -> 35 | U25: egz | V25: 2 | AO25: =T25+AL25 -> 35 | AP25: =V25+AN25 -> 2
B26: 7 | C26: obowiązkowy | D26: Fizjoterapia kliniczna w dysfunkcjach układu ruchu w medycynie sportowej 1 | W26: 30 | AC26: 10 | AK26: =SUM(W26:AH26) -> 40 | AL26: =SUM(W26:AJ26) -> 40 | AM26: zal / o | AN26: 3 | AO26: =T26+AL26 -> 40 | AP26: =V26+AN26 -> 3
B27: 8 | C27: obowiązkowy | D27: Fizjoterapia kliniczna w dysfunkcjach układu ruchu w neurologii i neurochirurgii 1 | E27: 30 | K27: 20 | S27: =SUM(E27:P27) -> 50 | T27: =SUM(E27:R27) -> 50 | U27: zal / o | V27: 2 | AO27: =T27+AL27 -> 50 | AP27: =V27+AN27 -> 2
B28: 9 | C28: obowiązkowy | D28: Fizjoterapia kliniczna w dysfunkcjach układu ruchu w neurologii i neurochirurgii 2 | W28: 25 | AC28: 20 | AK28: =SUM(W28:AH28) -> 45 | AL28: =SUM(W28:AJ28) -> 45 | AM28: egz | AN28: 2 | AO28: =T28+AL28 -> 45 | AP28: =V28+AN28 -> 2
B29: 10 | C29: obowiązkowy | D29: Fizjoterapia kliniczna w dysfunkcjach układu ruchu w reumatologii | W29: 20 | Y29: 10 | AC29: 20 | AK29: =SUM(W29:AH29) -> 50 | AL29: =SUM(W29:AJ29) -> 50 | AM29: egz | AN29: 3 | AO29: =T29+AL29 -> 50 | AP29: =V29+AN29 -> 3
B30: 11 | C30: obowiązkowy | D30: Fizjoterapia w chorobach wewnętrznych w kardiologii i kardiochirurgii 1 | W30: 20 | Y30: 15 | AC30: 20 | AK30: =SUM(W30:AH30) -> 55 | AL30: =SUM(W30:AJ30) -> 55 | AM30: zal / o | AN30: 2 | AO30: =T30+AL30 -> 55 | AP30: =V30+AN30 -> 2
B31: 12 | C31: obowiązkowy | D31: Fizjoterapia w chorobach wewnętrznych w geriatrii | E31: 20 | G31: 10 | K31: 20 | S31: =SUM(E31:P31) -> 50 | T31: =SUM(E31:R31) -> 50 | U31: egz | V31: 3 | AO31: =T31+AL31 -> 50 | AP31: =V31+AN31 -> 3
B32: 13 | C32: obowiązkowy | D32: Fizjoterapia w chorobach wewnętrznych w pulmonologii | E32: 20 | G32: 12 | I32: 3 | K32: 20 | S32: =SUM(E32:P32) -> 55 | T32: =SUM(E32:R32) -> 55 | U32: egz | V32: 3 | AO32: =T32+AL32 -> 55 | AP32: =V32+AN32 -> 3
B33: 14 | C33: obowiązkowy | D33: Fizjoterapia w chorobach wewnętrznych w chirurgii | W33: 25 | AC33: 20 | AK33: =SUM(W33:AH33) -> 45 | AL33: =SUM(W33:AJ33) -> 45 | AM33: egz | AN33: 3 | AO33: =T33+AL33 -> 45 | AP33: =V33+AN33 -> 3
B34: 15 | C34: obowiązkowy | D34: Fizjoterapia w chorobach wewnętrznych w ginekologii i położnictwie | E34: 25 | K34: 20 | S34: =SUM(E34:P34) -> 45 | T34: =SUM(E34:R34) -> 45 | U34: egz | V34: 3 | AO34: =T34+AL34 -> 45 | AP34: =V34+AN34 -> 3
B35: 16 | C35: obowiązkowy | D35: Fizjoterapia w chorobach wewnętrznych w psychiatrii | W35: 20 | AC35: 20 | AK35: =SUM(W35:AH35) -> 40 | AL35: =SUM(W35:AJ35) -> 40 | AM35: egz | AN35: 3 | AO35: =T35+AL35 -> 40 | AP35: =V35+AN35 -> 3
B36: 17 | C36: obowiązkowy | D36: Fizjoterapia w chorobach wewnętrznych w onkologii i medycynie paliatywnej | W36: 25 | AC36: 20 | AK36: =SUM(W36:AH36) -> 45 | AL36: =SUM(W36:AJ36) -> 45 | AM36: egz | AN36: 3 | AO36: =T36+AL36 -> 45 | AP36: =V36+AN36 -> 3
B37: 18 | C37: obowiązkowy | D37: Diagnostyka funkcjonalna w dysfunkcjach układu ruchu 1 | E37: 15 | G37: 15 | K37: 20 | S37: =SUM(E37:P37) -> 50 | T37: =SUM(E37:R37) -> 50 | U37: zal / o | V37: 2 | AO37: =T37+AL37 -> 50 | AP37: =V37+AN37 -> 2
B38: 19 | C38: obowiązkowy | D38: Diagnostyka funkcjonalna w dysfunkcjach układu ruchu 2 | W38: 15 | Y38: 10 | Z38: 5 | AC38: 20 | AK38: =SUM(W38:AH38) -> 50 | AL38: =SUM(W38:AJ38) -> 50 | AM38: egz | AN38: 3 | AO38: =T38+AL38 -> 50 | AP38: =V38+AN38 -> 3
B39: 20 | C39: obowiązkowy | D39: Diagnostyka funkcjonalna w wieku rozwojowym 1 | E39: 30 | K39: 20 | S39: =SUM(E39:P39) -> 50 | T39: =SUM(E39:R39) -> 50 | U39: zal / o | V39: 2 | AO39: =T39+AL39 -> 50 | AP39: =V39+AN39 -> 2
B40: 21 | C40: obowiązkowy | D40: Diagnostyka funkcjonalna w wieku rozwojowym 2 | W40: 30 | AC40: 20 | AK40: =SUM(W40:AH40) -> 50 | AL40: =SUM(W40:AJ40) -> 50 | AM40: egz | AN40: 3 | AO40: =T40+AL40 -> 50 | AP40: =V40+AN40 -> 3
B41: RAZEM | E41: =SUM(E23:E40) -> 205 | F41: =SUM(F23:F40) -> 0 | G41: =SUM(G23:G40) -> 37 | H41: =SUM(H23:H40) -> 0 | I41: =SUM(I23:I40) -> 3 | J41: =SUM(J23:J40) -> 0 | K41: =SUM(K23:K40) -> 130 | L41: =SUM(L23:L40) -> 0 | ... T41: =SUM(T23:T40) -> 375 | V41: =SUM(V23:V40) -> 19 | W41: =SUM(W23:W40) -> 210 | X41: =SUM(X23:X40) -> 0 | Y41: =SUM(Y23:Y40) -> 35 | Z41: =SUM(Z23:Z40) -> 5 | AA41: =SUM(AA23:AA40) -> 0 | AB41: =SUM(AB23:AB40) -> 0 | AC41: =SUM(AC23:AC40) -> 170 | ... AL41: =SUM(AL23:AL40) -> 420 | AN41: =SUM(AN23:AN40) -> 25 | AO41: =SUM(AO23:AO40) -> 795 | AP41: =V41+AN41 -> 44
B42: F. PRAKTYKI FIZJOTERAPEUTYCZNE - ZAKRES PRAKTYK
B43: 22 | C43: obowiązkowy | D43: Praktyka z fizjoterapii klinicznej, fizykoterapii i masażu | Q43: 100 | S43: =SUM(E43:P43) -> 0 | T43: =SUM(E43:R43) -> 100 | U43: zal | V43: 4 | AO43: =T43+AL43 -> 100 | AP43: =V43+AN43 -> 4
B44: 23 | C44: obowiązkowy | D44: Wakacyjna praktyka profilowana - wybieralna | AI44: 200 | AK44: =SUM(W44:AH44) -> 0 | AL44: =SUM(W44:AJ44) -> 200 | AM44: zal | AN44: 7 | AO44: =T44+AL44 -> 200 | AP44: =V44+AN44 -> 7
B45: RAZEM | E45: =SUM(E43:E44) -> 0 | F45: =SUM(F43:F44) -> 0 | G45: =SUM(G43:G44) -> 0 | H45: =SUM(H43:H44) -> 0 | I45: =SUM(I43:I44) -> 0 | J45: =SUM(J43:J44) -> 0 | K45: =SUM(K43:K44) -> 0 | L45: =SUM(L43:L44) -> 0 | ... T45: =SUM(T43:T44) -> 100 | V45: =SUM(V43:V44) -> 4 | W45: =SUM(W43:W44) -> 0 | X45: =SUM(X43:X44) -> 0 | Y45: =SUM(Y43:Y44) -> 0 | Z45: =SUM(Z43:Z44) -> 0 | AA45: =SUM(AA43:AA44) -> 0 | AB45: =SUM(AB43:AB44) -> 0 | AC45: =SUM(AC43:AC44) -> 0 | ... AL45: =SUM(AL43:AL44) -> 200 | AN45: =SUM(AN43:AN44) -> 7 | AO45: =SUM(AO43:AO44) -> 300 | AP45: =SUM(AP43:AP44) -> 11
B46: G. Autorska oferta uczelni
B47: 24 | C47: ograniczonego wyboru | D47: Przedmiot fakultatywny 3 | Y47: 30 | AK47: =SUM(W47:AH47) -> 30 | AL47: =SUM(W47:AJ47) -> 30 | AM47: zal / o | AN47: 2 | AO47: =T47+AL47 -> 30 | AP47: =V47+AN47 -> 2
...

Sheet 4 rok
B6: Szczegółowy Program Studiów na rok akademicki 2029/2030
J7: .Uchwała Senatu UMW nr 2853 z dnia 18.02.2026 r
J8: zm. Uchwała Senatu UMW nr 2913 z dnia 27.05.2026 r
B9: Wydział Fizjoterapii | J9: zm. Uchwała Senatu UMW nr 2929 z dnia 24.06.2026 r
B10: Kierunek Fizjoterapia | J10: zm. Uchwała Senatu UMW nr 2951 z dnia 30.09.2026 r.
B11: Rok studiów 4
B12: Forma studiów stacjonarna
B13: Cykl kształcenia rozpoczynający się w roku akademickim: 2026/2027
B16: Lp. | D16: Przedmiot (nazwa) | E16: semestr zimowy - VII | W16: semestr letni - VIII | AO16: SUMA GODZIN DYDAKTYCZNYCH | AP16: SUMA PUNKTÓW ECTS ZA PRZEDMIOT
C17: Rodzaj zajęć (obowiązkowe / wolnego wyboru / ograniczonego wyboru) | E17: wykład (WY) | F17: seminarium (SE) | G17: ćwiczenia audytoryjne (CA) | H17: ćwiczenia kierunkowe - niekliniczne (CN) | I17: ćwiczenia w warunkach symulowanych (CS) | J17: ćwiczenia laboratoryjne (CL) | K17: ćwiczenia kliniczne (CK) | L17: zajęcia praktyczne przy pacjencie (PP) | M17: ćwiczenia specjalistyczne - magisterskie (CM) | N17: lektoraty (LE) | O17: e-learning (EL) | P17: zajęcia wychowania fizycznego-obowiązkowe (WF) | Q17: praktyka zawodowa (PZ) | R17: samokształcenie | S17: liczba godzin z nauczycielem | T17: ogólna liczba godzin dydaktycznych | U17: forma zakończenia semestru | V17: punkty ECTS w semestrze | W17: wykład (WY) | X17: seminarium (SE) | Y17: ćwiczenia audytoryjne CA) | Z17: ćwiczenia kierunkowe - niekliniczne (CN) | AA17: ćwiczenia w warunkach symulowanych (CS) | AB17: ćwiczenia laboratoryjne (CL) | AC17: ćwiczenia kliniczne (CK) | AD17: zajęcia praktyczne przy pacjencie (PP) | AE17: ćwiczenia specjalistyczne - magisterskie (CM) | AF17: lektoraty (LE) | AG17: e-learning (EL) | AH17: zajęcia wychowania fizycznego-obowiązkowe (WF) | AI17: praktyka zawodowa (PZ) | AJ17: samokształcenie | AK17: liczba godzin z nauczycielem | AL17: ogólna liczba godzin dydaktycznych | AM17: forma zakończenia semestru | AN17: punkty ECTS w semestrze
B18: B. NAUKI OGÓLNE
B19: 1 | C19: obowiązkowy | D19: Dydaktyka fizjoterapii | E19: 10 | G19: 20 | S19: =SUM(E19:P19) -> 30 | T19: =SUM(E19:R19) -> 30 | U19: zal / o | V19: 2 | AO19: =T19+AL19 -> 30 | AP19: =V19+AN19 -> 2
B20: 2 | C20: obowiązkowy | D20: Zarządzanie i marketing | W20: 10 | Y20: 5 | AK20: =SUM(W20:AH20) -> 15 | AL20: =SUM(W20:AJ20) -> 15 | AM20: zal / o | AN20: 1 | AO20: =T20+AL20 -> 15 | AP20: =V20+AN20 -> 1
B21: RAZEM | E21: =SUM(E19:E20) -> 10 | F21: =SUM(F19:F20) -> 0 | G21: =SUM(G19:G20) -> 20 | H21: =SUM(H19:H20) -> 0 | I21: =SUM(I19:I20) -> 0 | J21: =SUM(J19:J20) -> 0 | K21: =SUM(K19:K20) -> 0 | L21: =SUM(L19:L20) -> 0 | ... T21: =SUM(T19:T20) -> 30 | V21: =SUM(V19:V20) -> 2 | W21: =SUM(W19:W20) -> 10 | X21: =SUM(X19:X20) -> 0 | Y21: =SUM(Y19:Y20) -> 5 | Z21: =SUM(Z19:Z20) -> 0 | AA21: =SUM(AA19:AA20) -> 0 | AB21: =SUM(AB19:AB20) -> 0 | AC21: =SUM(AC19:AC20) -> 0 | ... AL21: =SUM(AL19:AL20) -> 15 | AN21: =SUM(AN19:AN20) -> 1 | AO21: =SUM(AO19:AO20) -> 45 | AP21: =SUM(AP19:AP20) -> 3
B22: C. PODSTAWY FIZJOTERAPII
B23: 3 | C23: obowiązkowy | D23: Metody specjalne fizjoterapii 1 | E23: 10 | H23: 75 | S23: =SUM(E23:P23) -> 85 | T23: =SUM(E23:R23) -> 85 | U23: zal / o | V23: 3 | AO23: =T23+AL23 -> 85 | AP23: =V23+AN23 -> 3
B24: 4 | C24: obowiązkowy | D24: Metody specjalne fizjoterapii 2 | W24: 10 | Z24: 71 | AA24: 4 | AK24: =SUM(W24:AH24) -> 85 | AL24: =SUM(W24:AJ24) -> 85 | AM24: egz | AN24: 4 | AO24: =T24+AL24 -> 85 | AP24: =V24+AN24 -> 4
B25: RAZEM | E25: =SUM(E23:E24) -> 10 | F25: =SUM(F23:F24) -> 0 | G25: =SUM(G23:G24) -> 0 | H25: =SUM(H23:H24) -> 75 | I25: =SUM(I23:I24) -> 0 | J25: =SUM(J23:J24) -> 0 | K25: =SUM(K23:K24) -> 0 | L25: =SUM(L23:L24) -> 0 | ... T25: =SUM(T23:T24) -> 85 | V25: =SUM(V23:V24) -> 3 | W25: =SUM(W23:W24) -> 10 | X25: =SUM(X23:X24) -> 0 | Y25: =SUM(Y23:Y24) -> 0 | Z25: =SUM(Z23:Z24) -> 71 | AA25: =SUM(AA23:AA24) -> 4 | AB25: =SUM(AB23:AB24) -> 0 | AC25: =SUM(AC23:AC24) -> 0 | ... AL25: =SUM(AL23:AL24) -> 85 | AN25: =SUM(AN23:AN24) -> 4 | AO25: =SUM(AO23:AO24) -> 170 | AP25: =SUM(AP23:AP24) -> 7
B26: D. FIZJOTERAPIA KLINICZNA
B27: 5 | C27: obowiązkowy | D27: Fizjoterapia kliniczna w dysfunkcjach układu ruchu w medycynie sportowej 2 | E27: 25 | K27: 10 | S27: =SUM(E27:P27) -> 35 | T27: =SUM(E27:R27) -> 35 | U27: egz | V27: 2 | AO27: =T27+AL27 -> 35 | AP27: =V27+AN27 -> 2
B28: 6 | C28: obowiązkowy | D28: Fizjoterapia w chorobach wewnętrznych w kardiologii i kardiochirurgii 2 | E28: 20 | G28: 15 | K28: 20 | S28: =SUM(E28:P28) -> 55 | T28: =SUM(E28:R28) -> 55 | U28: egz | V28: 2 | AO28: =T28+AL28 -> 55 | AP28: =V28+AN28 -> 2
B29: 7 | C29: obowiązkowy | D29: Planowanie fizjoterapii w dysfunkcjach układu ruchu 1 | E29: 15 | G29: 15 | K29: 20 | S29: =SUM(E29:P29) -> 50 | T29: =SUM(E29:R29) -> 50 | U29: zal / o | V29: 2 | AO29: =T29+AL29 -> 50 | AP29: =V29+AN29 -> 2
B30: 8 | C30: obowiązkowy | D30: Planowanie fizjoterapii w dysfunkcjach układu ruchu 2 | W30: 15 | Y30: 15 | AC30: 20 | AK30: =SUM(W30:AH30) -> 50 | AL30: =SUM(W30:AJ30) -> 50 | AM30: egz | AN30: 3 | AO30: =T30+AL30 -> 50 | AP30: =V30+AN30 -> 3
B31: 9 | C31: obowiązkowy | D31: Planowanie fizjoterapii w chorobach wewnętrznych | W31: 30 | Y31: 30 | AC31: 40 | AK31: =SUM(W31:AH31) -> 100 | AL31: =SUM(W31:AJ31) -> 100 | AM31: egz | AN31: 5 | AO31: =T31+AL31 -> 100 | AP31: =V31+AN31 -> 5
B32: 10 | C32: obowiązkowy | D32: Planowanie fizjoterapii w wieku rozwojowym 1 | E32: 15 | G32: 15 | K32: 20 | S32: =SUM(E32:P32) -> 50 | T32: =SUM(E32:R32) -> 50 | U32: zal / o | V32: 2 | AO32: =T32+AL32 -> 50 | AP32: =V32+AN32 -> 2
B33: 11 | C33: obowiązkowy | D33: Planowanie fizjoterapii w wieku rozwojowym 2 | W33: 15 | Y33: 15 | AC33: 20 | AK33: =SUM(W33:AH33) -> 50 | AL33: =SUM(W33:AJ33) -> 50 | AM33: egz | AN33: 3 | AO33: =T33+AL33 -> 50 | AP33: =V33+AN33 -> 3
B34: 12 | C34: obowiązkowy | D34: Diagnostyka funkcjonalna w chorobach wewnętrznych | E34: 30 | G34: 30 | K34: 40 | S34: =SUM(E34:P34) -> 100 | T34: =SUM(E34:R34) -> 100 | U34: egz | V34: 5 | AO34: =T34+AL34 -> 100 | AP34: =V34+AN34 -> 5
B35: RAZEM | E35: =SUM(E27:E34) -> 105 | F35: =SUM(F27:F34) -> 0 | G35: =SUM(G27:G34) -> 75 | H35: =SUM(H27:H34) -> 0 | I35: =SUM(I27:I34) -> 0 | J35: =SUM(J27:J34) -> 0 | K35: =SUM(K27:K34) -> 110 | L35: =SUM(L27:L34) -> 0 | ... T35: =SUM(T27:T34) -> 290 | V35: =SUM(V27:V34) -> 13 | W35: =SUM(W27:W34) -> 60 | X35: =SUM(X27:X34) -> 0 | Y35: =SUM(Y27:Y34) -> 60 | Z35: =SUM(Z27:Z34) -> 0 | AA35: =SUM(AA27:AA34) -> 0 | AB35: =SUM(AB27:AB34) -> 0 | AC35: =SUM(AC27:AC34) -> 80 | ... AL35: =SUM(AL27:AL34) -> 200 | AN35: =SUM(AN27:AN34) -> 11 | AO35: =SUM(AO27:AO34) -> 490 | AP35: =SUM(AP27:AP34) -> 24
B36: E. METODOLOGIA BADAŃ NAUKOWYCH
B37: 13 | C37: obowiązkowy | D37: Metodologia badań naukowych | E37: 15 | G37: 15 | S37: =SUM(E37:P37) -> 30 | T37: =SUM(E37:R37) -> 30 | U37: zal / o | V37: 1 | AO37: =T37+AL37 -> 30 | AP37: =V37+AN37 -> 1
B38: 14 | C38: obowiązkowy | D38: Seminarium magisterskie 1 | F38: 5 | S38: =SUM(E38:P38) -> 5 | T38: =SUM(E38:R38) -> 5 | U38: zal / o | V38: 6 | AO38: =T38+AL38 -> 5 | AP38: =V38+AN38 -> 6
B39: 15 | C39: obowiązkowy | D39: Seminarium magisterskie 2 | X39: 5 | AK39: =SUM(W39:AH39) -> 5 | AL39: =SUM(W39:AJ39) -> 5 | AM39: zal / o | AN39: 6 | AO39: =T39+AL39 -> 5 | AP39: =V39+AN39 -> 6
B40: RAZEM | E40: =SUM(E37:E39) -> 15 | F40: =SUM(F37:F39) -> 5 | G40: =SUM(G37:G39) -> 15 | H40: =SUM(H37:H39) -> 0 | I40: =SUM(I37:I39) -> 0 | J40: =SUM(J37:J39) -> 0 | K40: =SUM(K37:K39) -> 0 | L40: =SUM(L37:L39) -> 0 | ... T40: =SUM(T37:T39) -> 35 | V40: =SUM(V37:V39) -> 7 | W40: =SUM(W37:W39) -> 0 | X40: =SUM(X37:X39) -> 5 | Y40: =SUM(Y37:Y39) -> 0 | Z40: =SUM(Z37:Z39) -> 0 | AA40: =SUM(AA37:AA39) -> 0 | AB40: =SUM(AB37:AB39) -> 0 | AC40: =SUM(AC37:AC39) -> 0 | ... AL40: =SUM(AL37:AL39) -> 5 | AN40: =SUM(AN37:AN39) -> 6 | AO40: =SUM(AO37:AO39) -> 40 | AP40: =SUM(AP37:AP39) -> 13
B41: F. PRAKTYKI FIZJOTERAPEUTYCZNE - ZAKRES PRAKTYK
B42: 16 | C42: obowiązkowy | D42: Praktyka z fizjoterapii klinicznej, fizykoterapii i masażu | Q42: 100 | S42: =SUM(E42:P42) -> 0 | T42: =SUM(E42:R42) -> 100 | U42: zal | V42: 4 | AO42: =T42+AL42 -> 100 | AP42: =V42+AN42 -> 4
B43: 17 | C43: obowiązkowy | D43: Wakacyjna praktyka profilowana - wybieralna | AI43: 200 | AK43: =SUM(W43:AH43) -> 0 | AL43: =SUM(W43:AJ43) -> 200 | AM43: zal | AN43: 7 | AO43: =T43+AL43 -> 200 | AP43: =V43+AN43 -> 7
B44: RAZEM | E44: =SUM(E42:E43) -> 0 | F44: =SUM(F42:F43) -> 0 | G44: =SUM(G42:G43) -> 0 | H44: =SUM(H42:H43) -> 0 | I44: =SUM(I42:I43) -> 0 | J44: =SUM(J42:J43) -> 0 | K44: =SUM(K42:K43) -> 0 | L44: =SUM(L42:L43) -> 0 | ... T44: =SUM(T42:T43) -> 100 | V44: =SUM(V42:V43) -> 4 | W44: =SUM(W42:W43) -> 0 | X44: =SUM(X42:X43) -> 0 | Y44: =SUM(Y42:Y43) -> 0 | Z44: =SUM(Z42:Z43) -> 0 | AA44: =SUM(AA42:AA43) -> 0 | AB44: =SUM(AB42:AB43) -> 0 | AC44: =SUM(AC42:AC43) -> 0 | ... AL44: =SUM(AL42:AL43) -> 200 | AN44: =SUM(AN42:AN43) -> 7 | AO44: =SUM(AO42:AO43) -> 300 | AP44: =SUM(AP42:AP43) -> 11
B45: G. Autorska oferta uczelni
B46: 18 | C46: obowiązkowy | D46: Praca w zespole badawczym 1 | E46: 20 | K46: 20 | S46: =SUM(E46:P46) -> 40 | T46: =SUM(E46:R46) -> 40 | U46: zal / o | V46: 2 | AO46: =T46+AL46 -> 40 | AP46: =V46+AN46 -> 2
B47: 19 | C47: obowiązkowy | D47: Praca w zespole badawczym 2 | Y47: 20 | AC47: 20 | AK47: =SUM(W47:AH47) -> 40 | AL47: =SUM(W47:AJ47) -> 40 | AM47: zal / o | AN47: 2 | AO47: =T47+AL47 -> 40 | AP47: =V47+AN47 -> 2
...

Sheet 5 rok
B6: Szczegółowy Program Studiów na rok akademicki 2030/2031
J7: .Uchwała Senatu UMW nr 2853 z dnia 18.02.2026 r
J8: zm. Uchwała Senatu UMW nr 2913 z dnia 27.05.2026 r
B9: Wydział Fizjoterapii | J9: zm. Uchwała Senatu UMW nr 2929 z dnia 24.06.2026 r
B10: Kierunek Fizjoterapia | J10: zm. Uchwała Senatu UMW nr 2951 z dnia 30.09.2026 r.
B11: Rok studiów 5
B12: Forma studiów stacjonarna
B13: Cykl kształcenia rozpoczynający się w roku akademickim: 2026/2027
B16: Lp. | D16: Przedmiot (nazwa) | E16: semestr zimowy - IX | W16: semestr letni - X | AO16: SUMA GODZIN DYDAKTYCZNYCH | AP16: SUMA PUNKTÓW ECTS ZA PRZEDMIOT
C17: Rodzaj zajęć (obowiązkowe / wolnego wyboru / ograniczonego wyboru) | E17: wykład (WY) | F17: seminarium (SE) | G17: ćwiczenia audytoryjne (CA) | H17: ćwiczenia kierunkowe - niekliniczne (CN) | I17: ćwiczenia w warunkach symulowanych (CS) | J17: ćwiczenia laboratoryjne (CL) | K17: ćwiczenia kliniczne (CK) | L17: zajęcia praktyczne przy pacjencie (PP) | M17: ćwiczenia specjalistyczne - magisterskie (CM) | N17: lektoraty (LE) | O17: e-learning (EL) | P17: zajęcia wychowania fizycznego-obowiązkowe (WF) | Q17: praktyka zawodowa (PZ) | R17: samokształcenie | S17: liczba godzin z nauczycielem | T17: ogólna liczba godzin dydaktycznych | U17: forma zakończenia semestru | V17: punkty ECTS w semestrze | W17: wykład (WY) | X17: seminarium (SE) | Y17: ćwiczenia audytoryjne CA) | Z17: ćwiczenia kierunkowe - niekliniczne (CN) | AA17: ćwiczenia w warunkach symulowanych (CS) | AB17: ćwiczenia laboratoryjne (CL) | AC17: ćwiczenia kliniczne (CK) | AD17: zajęcia praktyczne przy pacjencie (PP) | AE17: ćwiczenia specjalistyczne - magisterskie (CM) | AF17: lektoraty (LE) | AG17: e-learning (EL) | AH17: zajęcia wychowania fizycznego-obowiązkowe (WF) | AI17: praktyka zawodowa (PZ) | AJ17: samokształcenie | AK17: liczba godzin z nauczycielem | AL17: ogólna liczba godzin dydaktycznych | AM17: forma zakończenia semestru | AN17: punkty ECTS w semestrze
B18: C. PODSTAWY FIZJOTERAPII
B19: 1 | C19: obowiązkowy | D19: Adaptowana aktywność fizyczna | E19: 15 | H19: 10 | S19: =SUM(E19:P19) -> 25 | T19: =SUM(E19:R19) -> 25 | U19: zal / o | V19: 1 | AO19: =T19+AL19 -> 25 | AP19: =V19+AN19 -> 1
B20: 2 | C20: obowiązkowy | D20: Sport osób z niepełnosprawnościami | E20: 10 | H20: 15 | S20: =SUM(E20:P20) -> 25 | T20: =SUM(E20:R20) -> 25 | U20: zal / o | V20: 1 | AO20: =T20+AL20 -> 25 | AP20: =V20+AN20 -> 1
B21: 3 | C21: obowiązkowy | D21: Wyroby medyczne | E21: 25 | G21: 5 | S21: =SUM(E21:P21) -> 30 | T21: =SUM(E21:R21) -> 30 | U21: egz | V21: 2 | AO21: =T21+AL21 -> 30 | AP21: =V21+AN21 -> 2
B22: RAZEM | E22: =SUM(E19:E21) -> 50 | F22: =SUM(F19:F21) -> 0 | G22: =SUM(G19:G21) -> 5 | H22: =SUM(H19:H21) -> 25 | I22: =SUM(I19:I21) -> 0 | J22: =SUM(J19:J21) -> 0 | K22: =SUM(K19:K21) -> 0 | L22: =SUM(L19:L21) -> 0 | ... T22: =SUM(T19:T21) -> 80 | V22: =SUM(V19:V21) -> 4 | W22: =SUM(W19:W21) -> 0 | X22: =SUM(X19:X21) -> 0 | Y22: =SUM(Y19:Y21) -> 0 | Z22: =SUM(Z19:Z21) -> 0 | AA22: =SUM(AA19:AA21) -> 0 | AB22: =SUM(AB19:AB21) -> 0 | AC22: =SUM(AC19:AC21) -> 0 | ... AL22: =SUM(AL19:AL21) -> 0 | AN22: =SUM(AN19:AN21) -> 0 | AO22: =SUM(AO19:AO21) -> 80 | AP22: =SUM(AP19:AP21) -> 4
B23: E. METODOLOGIA BADAŃ NAUKOWYCH
B24: 5 | C24: obowiązkowy | D24: Seminarium magisterskie 3 | F24: 5 | S24: =SUM(E24:P24) -> 5 | T24: =SUM(E24:R24) -> 5 | U24: zal / o | V24: 6 | AO24: =T24+AL24 -> 5 | AP24: =V24+AN24 -> 6
B25: 6 | C25: obowiązkowy | D25: Seminarium magisterskie 4 | X25: 5 | AK25: =SUM(W25:AH25) -> 5 | AL25: =SUM(W25:AJ25) -> 5 | AM25: zal / o | AN25: 6 | AO25: =T25+AL25 -> 5 | AP25: =V25+AN25 -> 6
B26: RAZEM | E26: =SUM(E24:E25) -> 0 | F26: =SUM(F24:F25) -> 5 | G26: =SUM(G24:G25) -> 0 | H26: =SUM(H24:H25) -> 0 | I26: =SUM(I24:I25) -> 0 | J26: =SUM(J24:J25) -> 0 | K26: =SUM(K24:K25) -> 0 | L26: =SUM(L24:L25) -> 0 | ... T26: =SUM(T24:T25) -> 5 | V26: =SUM(V24:V25) -> 6 | W26: =SUM(W24:W25) -> 0 | X26: =SUM(X24:X25) -> 5 | Y26: =SUM(Y24:Y25) -> 0 | Z26: =SUM(Z24:Z25) -> 0 | AA26: =SUM(AA24:AA25) -> 0 | AB26: =SUM(AB24:AB25) -> 0 | AC26: =SUM(AC24:AC25) -> 0 | ... AL26: =SUM(AL24:AL25) -> 5 | AN26: =SUM(AN24:AN25) -> 6 | AO26: =SUM(AO24:AO25) -> 10 | AP26: =SUM(AP24:AP25) -> 12
B27: F. PRAKTYKI FIZJOTERAPEUTYCZNE - ZAKRES PRAKTYK
