Workbook

Sheet Elektr_IIst-program szczegółowy
G5: Wydział | I5: Wydział Nauk o Zdrowiu
G6: Kierunek | I6: Elektroradiologia | AM6: Szczegółowy Program Studiów dla cyklu kształcenia rozpoczynającego się w roku akademickim: 20../20..
G7: Cykl kształcenia | I7: 2026/2027-20027/2028 | AN7: uchwała Senatu nr…. z dnia …..202….
G8: Poziom kształcenia | I8: studia drugiego stopnia | AW8: Uniwersytetu Medycznego we Wrocławiu
G9: Profil kształcenia | I9: praktyczny | AW9: z dnia …..20.. r.
G10: Forma studiów | I10: niestacjonarne
G11: Liczba semestrów | I11: 4
G12: Łączna liczba godzin | I12: =P72 -> 1431
G13: Łączna liczba ECTS | I13: 120
A15: Lp. | B15: kod grupy* | C15: Cykl kształcenia (nabór) | D15: Ścieżka** | E15: Rok studiów | F15: Rok akademicki | G15: Rodzaj zajęć*** (RPS, POW, PSW) | H15: ****Pula godzin (ze standardu, do dyspozycji uczelni (Autorska oferta uczelni)) | I15: Przedmiot (nazwa) | J15: Czy przedmiot kształtuje kompetencje komunikacyjne | K15: Czy przedmiot humanistyczny lub społeczny | L15: Czy zajęcia kształtują umiejętności praktyczne | M15: łącznie dla przedmiotu | W15: semestr zimowy - I | AT15: semestr letni - II | BQ15: LICZBA GODZIN W PRZELICZENIU NA 1 ECTS | BS15: Nakład pracy- liczba godzin | BZ15: Nakład pracy- punktów ECTS | CG15: Wskaźiki- liczba godzin | CI15: Wskaźiki- punktów ECTS | CK15: Suma efektów w poszczególnych kategoriach
M16: SUMA GODZIN PRZEDMIOTU | Q16: SUMA PUNKTÓW ECTS ZA PRZEDMIOT | V16: forma zakończenia przedmiotu ***** | W16: forma zakończenia semestru ****** | X16: punkty ECTS w semestrze | Y16: nakład pracy studenta (godz. dyd. + samodzielna praca) | Z16: ogólna liczba godzin dydaktycznych | AA16: liczba godzin z nauczycielem | AB16: wykład (WY) | AD16: seminarium (SE) | AE16: ćwiczenia audytoryjne (CA) | AF16: ćwiczenia kierunkowe - niekliniczne (CN) | AG16: ćwiczenia w warunkach symulowanych (CS)******* | AJ16: ćwiczenia laboratoryjne (CL) | AK16: ćwiczenia kliniczne (CK) | AL16: zajęcia praktyczne przy pacjencie (PP) | AM16: ćwiczenia specjalistyczne - magisterskie (CM) | AN16: lektoraty (LE) | AO16: e-learning (EL) | AP16: zajęcia wychowania fizycznego (WF) | AQ16: praktyka zawodowa (PZ) | AR16: samokształcenie kierowane (SK) | AS16: samodzielna praca studenta | AT16: forma zakończenia semestru ****** | AU16: punkty ECTS w semestrze | AV16: całkowity nakład pracy studenta | AW16: ogólna liczba godzin dydaktycznych | AX16: liczba godzin z nauczycielem | AY16: wykład (WY) | BA16: seminarium (SE) | BB16: ćwiczenia audytoryjne CA) | BC16: ćwiczenia kierunkowe - niekliniczne (CN) | BD16: ćwiczenia w warunkach symulowanych (CS)******* | BG16: ćwiczenia laboratoryjne (CL) | BH16: ćwiczenia kliniczne (CK) | BI16: zajęcia praktyczne przy pacjencie (PP) | BJ16: ćwiczenia specjalistyczne - magisterskie (CM) | BK16: lektoraty (LE) | BL16: e-learning (EL) | BM16: zajęcia wychowania fizycznego (WF) | BN16: praktyka zawodowa (PZ) | BO16: samokształcenie kierowane (SK) | BP16: samodzielna praca studenta | BS16: Kształcenie bezpośrednie stacjonarne | BT16: Kształcenie bezpośrednie z wykorzystaniem metod i technik kształcenia na odległość (synchroniczne) | BU16: Kształcenie asynchroniczne z wykorzystaniem metod i technik kształcenia na odległość | BV16: Samokształcenie kierowane (dotyczy tylko kierunków pielęgniarstwo i położnictwo) | BW16: Indywidualna praca własna studenta | BX16: Praktyka zawodowa | BY16: Łączny nakład pracy studenta | BZ16: Kształcenie bezpośrednie stacjonarne | CA16: Kształcenie bezpośrednie z wykorzystaniem metod i technik kształcenia na odległość (synchroniczne) | CB16: Kształcenie asynchroniczne z wykorzystaniem metod i technik kształcenia na odległość | CC16: Samokształcenie kierowane (dotyczy tylko kierunków pielęgniarstwo i położnictwo) | CD16: Indywidualna praca własna studenta | CE16: Praktyka zawodowa | CF16: Łączny nakład pracy studenta | CG16: Łącznie kształcenie bezpośrednie | CH16: Łącznie kształcenie z użyciem metod i technik kształcenia na odległość | CI16: Łącznie kształcenie bezpośrednie | CJ16: Łącznie kształcenie z użyciem metod i technik kształcenia na odległość
M17: NAKŁAD PRACY STUDENTA (godz. dyd. + samodzielna praca) | N17: SAMODZIELNA PRACA STUDENTA | O17: GODZINY DYDAKTYCZNE | P17: GODZINY Z NAUCZYCIELEM | Q17: Łącznie | R17: za zajecia praktyczne (PP) | S17: za zajęcia kształtujące umiejętności praktyczne | T17: za zajęcia z wykorzystaniem met i technik na odl. | U17: za zajęcia z bezpośrednim udziałem prowadzących | AB17: łącznie | AC17: w tym on-line | AG17: CSM WW | AH17: CSM NW | AI17: CSP NW | AY17: łącznie | AZ17: w tym on-line | BD17: CSM WW | BE17: CSM NW | BF17: CSP NW | BQ17: wartość | BR17: UWAGI | CK17: Wiedza | CL17: Umiejetności | CM17: Kompetencje społeczne
M18: 1 | N18: 2 | O18: 3 | P18: 4 | Q18: 5 | R18: 6 | S18: 7 | T18: 8 | U18: 9 | V18: 10 | W18: 11 | X18: 12 | Y18: 13 | Z18: 14 | AA18: 15 | AB18: 16 | AC18: 17 | AD18: 18 | AE18: 19 | AF18: 20 | AG18: 21 | AH18: 22 | AI18: 23 | AJ18: 24 | AK18: 25 | AL18: 26 | AM18: 27 | AN18: 28 | AO18: 29 | AP18: 30 | AQ18: 31 | AR18: 32 | AS18: 33 | AT18: 34 | AU18: 35 | AV18: 36 | AW18: 37 | AX18: 38 | AY18: 39 | AZ18: 40 | BA18: 41 | BB18: 42 | BC18: 43 | BD18: 44 | BE18: 45 | BF18: 46 | BG18: 47 | BH18: 48 | BI18: 49 | BJ18: 50 | BK18: 51 | BL18: 52 | BM18: 53 | BN18: 54 | BO18: 55 | BP18: 56 | BQ18: 57 | BR18: 58
M19: 13+36 | N19: 33+56 | O19: 14+37 | P19: 15+38 | Q19: 12+35 | R19: (26+49)*5/3 | S19: jeżeli L="tak"(19:26;31;42:49;54)*5/3 | T19: (17+29+40+52)*5/3 | U19: (suma(16;18:28;30:31)+suma(39;41:51;53:54))*5/1 | Y19: 14+33 | Z19: 15+32 | AA19: (suma 16-31)-17 | AV19: 37+56 | AW19: 38+55 | AX19: (suma 39-54)-40 | BQ19: 1/5
A20: 1 | C20: 2026/2027 | E20: 1 | F20: 2026/2027 | G20: RPS | I20: Zawansowane techniki radiologiczne | L20: tak | M20: =Y20+AV20 -> 75 | N20: =AS20+BP20 -> 50 | O20: =Z20+AW20 -> 25 | P20: =AA20+AX20 -> 25 | Q20: =X20+AU20 -> 3 | R20: =IFERROR((AL20+BI20)*Q20/O20," ") -> 0 | S20: =IFERROR(IF(L20="tak",(SUM(AE20:AL20,AQ20,BB20:BI20,BN20))*Q20/O20,0),0) -> 1.8 | T20: =IFERROR((AC20+AO20+AZ20+BL20)*Q20/O20," ") -> 1.2 | U20: =IFERROR((SUM(AB20,AD20:AN20,AP20:AQ20,AY20,BA20:BK20,BM20:BN20)*Q20/M20)," ") -> 1 | V20: egz | W20: zal | X20: 3 | Y20: =AS20+Z20 -> 75 | Z20: =AR20+AA20 -> 25 | AA20: =(SUM(AB20:AQ20))-AC20 -> 25 | AB20: 10 | AC20: 10 | AE20: 15 | AS20: 50 | AV20: =BP20+AW20 -> 0 | AW20: =BO20+AX20 -> 0 | AX20: =(SUM(AY20:BN20))-AZ20 -> 0 | BQ20: =IFERROR(M20/Q20," ") -> 25 | BR20: =IF(OR(BQ20>30,BQ20<25),"1 ECTS powinien mieścić się przedziale 25-30h","Wartość prawidłowa") -> Wartość prawidłowa | BS20: =SUM(AB20,AD20:AP20,AY20,BA20:BM20)-AC20-AZ20-AO20-BL20 -> 15 | BT20: =AC20+AZ20 -> 10 | BU20: =AO20+BL20 -> 0 | BV20: =AR20+BO20 -> 0 | BW20: =N20 -> 50 | BX20: =AQ20+BN20 -> 0 | BY20: =SUM(BS20:BX20) -> 75 | BZ20: =IFERROR((BS20*Q20)/BY20," ") -> 0.6 | CA20: =IFERROR((BT20*Q20)/BY20," ") -> 0.4 | CB20: =IFERROR((BU20*Q20)/BY20," ") -> 0 | CC20: =IFERROR((BV20*Q20)/BY20," ") -> 0 | CD20: =IFERROR((BW20*Q20)/BY20," ") -> 2 | CE20: =IFERROR((BX20*Q20)/BY20," ") -> 0 | CF20: =IFERROR((SUM(BZ20:CE20))," ") -> 3 | CG20: =SUM(BS20:BT20,CE20) -> 25 | CH20: =SUM(BT20:BU20) -> 10 | CI20: =SUM(BZ20:CA20,CE20) -> 1 | CJ20: =SUM(CA20:CB20) -> 0.4 | CK20: =Matryca!Q20 -> 9 | CL20: =Matryca!R20 -> 3 | CM20: =Matryca!S20 -> 1
A21: 2 | C21: 2026/2027 | E21: 1 | F21: 2026/2027 | G21: RPS | I21: Tomografia komputerowa serca i układu krążenia | L21: tak | M21: =Y21+AV21 -> 50 | N21: =AS21+BP21 -> 25 | O21: =Z21+AW21 -> 25 | P21: =AA21+AX21 -> 25 | Q21: =X21+AU21 -> 2 | R21: =IFERROR((AL21+BI21)*Q21/O21," ") -> 0 | S21: =IFERROR(IF(L21="tak",(SUM(AE21:AL21,AQ21,BB21:BI21,BN21))*Q21/O21,0),0) -> 1.2 | T21: =IFERROR((AC21+AO21+AZ21+BL21)*Q21/O21," ") -> 0.8 | U21: =IFERROR((SUM(AB21,AD21:AN21,AP21:AQ21,AY21,BA21:BK21,BM21:BN21)*Q21/M21)," ") -> 1 | V21: zal/oc | W21: zal/oc | X21: 2 | Y21: =AS21+Z21 -> 50 | Z21: =AR21+AA21 -> 25 | AA21: =(SUM(AB21:AQ21))-AC21 -> 25 | AB21: 10 | AC21: 10 | AE21: 15 | AS21: 25 | AV21: =BP21+AW21 -> 0 | AW21: =BO21+AX21 -> 0 | AX21: =(SUM(AY21:BN21))-AZ21 -> 0 | BQ21: =IFERROR(M21/Q21," ") -> 25 | BR21: =IF(OR(BQ21>30,BQ21<25),"1 ECTS powinien mieścić się przedziale 25-30h","Wartość prawidłowa") -> Wartość prawidłowa | BS21: =SUM(AB21,AD21:AP21,AY21,BA21:BM21)-AC21-AZ21-AO21-BL21 -> 15 | BT21: =AC21+AZ21 -> 10 | BU21: =AO21+BL21 -> 0 | BV21: =AR21+BO21 -> 0 | BW21: =N21 -> 25 | BX21: =AQ21+BN21 -> 0 | BY21: =SUM(BS21:BX21) -> 50 | BZ21: =IFERROR((BS21*Q21)/BY21," ") -> 0.6 | CA21: =IFERROR((BT21*Q21)/BY21," ") -> 0.4 | CB21: =IFERROR((BU21*Q21)/BY21," ") -> 0 | CC21: =IFERROR((BV21*Q21)/BY21," ") -> 0 | CD21: =IFERROR((BW21*Q21)/BY21," ") -> 1 | CE21: =IFERROR((BX21*Q21)/BY21," ") -> 0 | CF21: =IFERROR((SUM(BZ21:CE21))," ") -> 2 | CG21: =SUM(BS21:BT21,CE21) -> 25 | CH21: =SUM(BT21:BU21) -> 10 | CI21: =SUM(BZ21:CA21,CE21) -> 1 | CJ21: =SUM(CA21:CB21) -> 0.4 | CK21: =Matryca!Q21 -> 2 | CL21: =Matryca!R21 -> 4 | CM21: =Matryca!S21 -> 1
A22: 3 | C22: 2026/2027 | E22: 1 | F22: 2026/2027 | G22: RPS | I22: Zaawansowane techniki rezonansu magnetycznego (MR) w neurologii | L22: tak | M22: =Y22+AV22 -> 50 | N22: =AS22+BP22 -> 25 | O22: =Z22+AW22 -> 25 | P22: =AA22+AX22 -> 25 | Q22: =X22+AU22 -> 2 | R22: =IFERROR((AL22+BI22)*Q22/O22," ") -> 0 | S22: =IFERROR(IF(L22="tak",(SUM(AE22:AL22,AQ22,BB22:BI22,BN22))*Q22/O22,0),0) -> 1.2 | T22: =IFERROR((AC22+AO22+AZ22+BL22)*Q22/O22," ") -> 0.8 | U22: =IFERROR((SUM(AB22,AD22:AN22,AP22:AQ22,AY22,BA22:BK22,BM22:BN22)*Q22/M22)," ") -> 1 | V22: zal/oc | W22: zal/oc | X22: 2 | Y22: =AS22+Z22 -> 50 | Z22: =AR22+AA22 -> 25 | AA22: =(SUM(AB22:AQ22))-AC22 -> 25 | AB22: 10 | AC22: 10 | AE22: 15 | AS22: 25 | AV22: =BP22+AW22 -> 0 | AW22: =BO22+AX22 -> 0 | AX22: =(SUM(AY22:BN22))-AZ22 -> 0 | BQ22: =IFERROR(M22/Q22," ") -> 25 | BR22: =IF(OR(BQ22>30,BQ22<25),"1 ECTS powinien mieścić się przedziale 25-30h","Wartość prawidłowa") -> Wartość prawidłowa | BS22: =SUM(AB22,AD22:AP22,AY22,BA22:BM22)-AC22-AZ22-AO22-BL22 -> 15 | BT22: =AC22+AZ22 -> 10 | BU22: =AO22+BL22 -> 0 | BV22: =AR22+BO22 -> 0 | BW22: =N22 -> 25 | BX22: =AQ22+BN22 -> 0 | BY22: =SUM(BS22:BX22) -> 50 | BZ22: =IFERROR((BS22*Q22)/BY22," ") -> 0.6 | CA22: =IFERROR((BT22*Q22)/BY22," ") -> 0.4 | CB22: =IFERROR((BU22*Q22)/BY22," ") -> 0 | CC22: =IFERROR((BV22*Q22)/BY22," ") -> 0 | CD22: =IFERROR((BW22*Q22)/BY22," ") -> 1 | CE22: =IFERROR((BX22*Q22)/BY22," ") -> 0 | CF22: =IFERROR((SUM(BZ22:CE22))," ") -> 2 | CG22: =SUM(BS22:BT22,CE22) -> 25 | CH22: =SUM(BT22:BU22) -> 10 | CI22: =SUM(BZ22:CA22,CE22) -> 1 | CJ22: =SUM(CA22:CB22) -> 0.4 | CK22: =Matryca!Q22 -> 3 | CL22: =Matryca!R22 -> 4 | CM22: =Matryca!S22 -> 2
A23: 4 | C23: 2026/2027 | E23: 1 | F23: 2026/2027 | G23: RPS | I23: Zaawansowane techniki rezonansu magnetycznego (MR) w kardiologii | L23: tak | M23: =Y23+AV23 -> 50 | N23: =AS23+BP23 -> 25 | O23: =Z23+AW23 -> 25 | P23: =AA23+AX23 -> 25 | Q23: =X23+AU23 -> 2 | R23: =IFERROR((AL23+BI23)*Q23/O23," ") -> 0 | S23: =IFERROR(IF(L23="tak",(SUM(AE23:AL23,AQ23,BB23:BI23,BN23))*Q23/O23,0),0) -> 1.2 | T23: =IFERROR((AC23+AO23+AZ23+BL23)*Q23/O23," ") -> 0.8 | U23: =IFERROR((SUM(AB23,AD23:AN23,AP23:AQ23,AY23,BA23:BK23,BM23:BN23)*Q23/M23)," ") -> 1 | V23: zal/oc | W23: zal/oc | X23: 2 | Y23: =AS23+Z23 -> 50 | Z23: =AR23+AA23 -> 25 | AA23: =(SUM(AB23:AQ23))-AC23 -> 25 | AB23: 10 | AC23: 10 | AE23: 15 | AS23: 25 | AV23: =BP23+AW23 -> 0 | AW23: =BO23+AX23 -> 0 | AX23: =(SUM(AY23:BN23))-AZ23 -> 0 | BQ23: =IFERROR(M23/Q23," ") -> 25 | BR23: =IF(OR(BQ23>30,BQ23<25),"1 ECTS powinien mieścić się przedziale 25-30h","Wartość prawidłowa") -> Wartość prawidłowa | BS23: =SUM(AB23,AD23:AP23,AY23,BA23:BM23)-AC23-AZ23-AO23-BL23 -> 15 | BT23: =AC23+AZ23 -> 10 | BU23: =AO23+BL23 -> 0 | BV23: =AR23+BO23 -> 0 | BW23: =N23 -> 25 | BX23: =AQ23+BN23 -> 0 | BY23: =SUM(BS23:BX23) -> 50 | BZ23: =IFERROR((BS23*Q23)/BY23," ") -> 0.6 | CA23: =IFERROR((BT23*Q23)/BY23," ") -> 0.4 | CB23: =IFERROR((BU23*Q23)/BY23," ") -> 0 | CC23: =IFERROR((BV23*Q23)/BY23," ") -> 0 | CD23: =IFERROR((BW23*Q23)/BY23," ") -> 1 | CE23: =IFERROR((BX23*Q23)/BY23," ") -> 0 | CF23: =IFERROR((SUM(BZ23:CE23))," ") -> 2 | CG23: =SUM(BS23:BT23,CE23) -> 25 | CH23: =SUM(BT23:BU23) -> 10 | CI23: =SUM(BZ23:CA23,CE23) -> 1 | CJ23: =SUM(CA23:CB23) -> 0.4 | CK23: =Matryca!Q23 -> 5 | CL23: =Matryca!R23 -> 4 | CM23: =Matryca!S23 -> 2
A24: 5 | C24: 2026/2027 | E24: 1 | F24: 2026/2027 | G24: RPS | I24: Zajęcia praktyczne: Tomografia komputerowa (TK) | L24: tak | M24: =Y24+AV24 -> 50 | N24: =AS24+BP24 -> 20 | O24: =Z24+AW24 -> 30 | P24: =AA24+AX24 -> 30 | Q24: =X24+AU24 -> 2 | R24: =IFERROR((AL24+BI24)*Q24/O24," ") -> 0 | S24: =IFERROR(IF(L24="tak",(SUM(AE24:AL24,AQ24,BB24:BI24,BN24))*Q24/O24,0),0) -> 2 | T24: =IFERROR((AC24+AO24+AZ24+BL24)*Q24/O24," ") -> 0 | U24: =IFERROR((SUM(AB24,AD24:AN24,AP24:AQ24,AY24,BA24:BK24,BM24:BN24)*Q24/M24)," ") -> 1.2 | V24: zal | W24: zal | X24: 2 | Y24: =AS24+Z24 -> 50 | Z24: =AR24+AA24 -> 30 | AA24: =(SUM(AB24:AQ24))-AC24 -> 30 | AK24: 30 | AS24: 20 | AV24: =BP24+AW24 -> 0 | AW24: =BO24+AX24 -> 0 | AX24: =(SUM(AY24:BN24))-AZ24 -> 0 | BQ24: =IFERROR(M24/Q24," ") -> 25 | BR24: =IF(OR(BQ24>30,BQ24<25),"1 ECTS powinien mieścić się przedziale 25-30h","Wartość prawidłowa") -> Wartość prawidłowa | BS24: =SUM(AB24,AD24:AP24,AY24,BA24:BM24)-AC24-AZ24-AO24-BL24 -> 30 | BT24: =AC24+AZ24 -> 0 | BU24: =AO24+BL24 -> 0 | BV24: =AR24+BO24 -> 0 | BW24: =N24 -> 20 | BX24: =AQ24+BN24 -> 0 | BY24: =SUM(BS24:BX24) -> 50 | BZ24: =IFERROR((BS24*Q24)/BY24," ") -> 1.2 | CA24: =IFERROR((BT24*Q24)/BY24," ") -> 0 | CB24: =IFERROR((BU24*Q24)/BY24," ") -> 0 | CC24: =IFERROR((BV24*Q24)/BY24," ") -> 0 | CD24: =IFERROR((BW24*Q24)/BY24," ") -> 0.8 | CE24: =IFERROR((BX24*Q24)/BY24," ") -> 0 | CF24: =IFERROR((SUM(BZ24:CE24))," ") -> 2 | CG24: =SUM(BS24:BT24,CE24) -> 30 | CH24: =SUM(BT24:BU24) -> 0 | CI24: =SUM(BZ24:CA24,CE24) -> 1.2 | CJ24: =SUM(CA24:CB24) -> 0 | CK24: =Matryca!Q24 -> 2 | CL24: =Matryca!R24 -> 5 | CM24: =Matryca!S24 -> 2
A25: 6 | C25: 2026/2027 | E25: 1 | F25: 2026/2027 | G25: RPS | I25: Zajęcia praktyczne: Rezonans magnetyczny (MR) | L25: tak | M25: =Y25+AV25 -> 50 | N25: =AS25+BP25 -> 20 | O25: =Z25+AW25 -> 30 | P25: =AA25+AX25 -> 30 | Q25: =X25+AU25 -> 2 | R25: =IFERROR((AL25+BI25)*Q25/O25," ") -> 0 | S25: =IFERROR(IF(L25="tak",(SUM(AE25:AL25,AQ25,BB25:BI25,BN25))*Q25/O25,0),0) -> 2 | T25: =IFERROR((AC25+AO25+AZ25+BL25)*Q25/O25," ") -> 0 | U25: =IFERROR((SUM(AB25,AD25:AN25,AP25:AQ25,AY25,BA25:BK25,BM25:BN25)*Q25/M25)," ") -> 1.2 | V25: zal | W25: zal | X25: 2 | Y25: =AS25+Z25 -> 50 | Z25: =AR25+AA25 -> 30 | AA25: =(SUM(AB25:AQ25))-AC25 -> 30 | AK25: 30 | AS25: 20 | AV25: =BP25+AW25 -> 0 | AW25: =BO25+AX25 -> 0 | AX25: =(SUM(AY25:BN25))-AZ25 -> 0 | BQ25: =IFERROR(M25/Q25," ") -> 25 | BR25: =IF(OR(BQ25>30,BQ25<25),"1 ECTS powinien mieścić się przedziale 25-30h","Wartość prawidłowa") -> Wartość prawidłowa | BS25: =SUM(AB25,AD25:AP25,AY25,BA25:BM25)-AC25-AZ25-AO25-BL25 -> 30 | BT25: =AC25+AZ25 -> 0 | BU25: =AO25+BL25 -> 0 | BV25: =AR25+BO25 -> 0 | BW25: =N25 -> 20 | BX25: =AQ25+BN25 -> 0 | BY25: =SUM(BS25:BX25) -> 50 | BZ25: =IFERROR((BS25*Q25)/BY25," ") -> 1.2 | CA25: =IFERROR((BT25*Q25)/BY25," ") -> 0 | CB25: =IFERROR((BU25*Q25)/BY25," ") -> 0 | CC25: =IFERROR((BV25*Q25)/BY25," ") -> 0 | CD25: =IFERROR((BW25*Q25)/BY25," ") -> 0.8 | CE25: =IFERROR((BX25*Q25)/BY25," ") -> 0 | CF25: =IFERROR((SUM(BZ25:CE25))," ") -> 2 | CG25: =SUM(BS25:BT25,CE25) -> 30 | CH25: =SUM(BT25:BU25) -> 0 | CI25: =SUM(BZ25:CA25,CE25) -> 1.2 | CJ25: =SUM(CA25:CB25) -> 0 | CK25: =Matryca!Q25 -> 5 | CL25: =Matryca!R25 -> 5 | CM25: =Matryca!S25 -> 2
A26: 7 | C26: 2026/2027 | E26: 1 | F26: 2026/2027 | G26: RPS | I26: Metody i techniki badań naukowych | K26: tak | M26: =Y26+AV26 -> 50 | N26: =AS26+BP26 -> 20 | O26: =Z26+AW26 -> 30 | P26: =AA26+AX26 -> 30 | Q26: =X26+AU26 -> 2 | R26: =IFERROR((AL26+BI26)*Q26/O26," ") -> 0 | S26: =IFERROR(IF(L26="tak",(SUM(AE26:AL26,AQ26,BB26:BI26,BN26))*Q26/O26,0),0) -> 0 | T26: =IFERROR((AC26+AO26+AZ26+BL26)*Q26/O26," ") -> 0.66666667 | U26: =IFERROR((SUM(AB26,AD26:AN26,AP26:AQ26,AY26,BA26:BK26,BM26:BN26)*Q26/M26)," ") -> 1.2 | V26: zal/oc | W26: zal/oc | X26: 2 | Y26: =AS26+Z26 -> 50 | Z26: =AR26+AA26 -> 30 | AA26: =(SUM(AB26:AQ26))-AC26 -> 30 | AB26: 10 | AC26: 10 | AE26: 20 | AS26: 20 | AV26: =BP26+AW26 -> 0 | AW26: =BO26+AX26 -> 0 | AX26: =(SUM(AY26:BN26))-AZ26 -> 0 | BQ26: =IFERROR(M26/Q26," ") -> 25 | BR26: =IF(OR(BQ26>30,BQ26<25),"1 ECTS powinien mieścić się przedziale 25-30h","Wartość prawidłowa") -> Wartość prawidłowa | BS26: =SUM(AB26,AD26:AP26,AY26,BA26:BM26)-AC26-AZ26-AO26-BL26 -> 20 | BT26: =AC26+AZ26 -> 10 | BU26: =AO26+BL26 -> 0 | BV26: =AR26+BO26 -> 0 | BW26: =N26 -> 20 | BX26: =AQ26+BN26 -> 0 | BY26: =SUM(BS26:BX26) -> 50 | BZ26: =IFERROR((BS26*Q26)/BY26," ") -> 0.8 | CA26: =IFERROR((BT26*Q26)/BY26," ") -> 0.4 | CB26: =IFERROR((BU26*Q26)/BY26," ") -> 0 | CC26: =IFERROR((BV26*Q26)/BY26," ") -> 0 | CD26: =IFERROR((BW26*Q26)/BY26," ") -> 0.8 | CE26: =IFERROR((BX26*Q26)/BY26," ") -> 0 | CF26: =IFERROR((SUM(BZ26:CE26))," ") -> 2 | CG26: =SUM(BS26:BT26,CE26) -> 30 | CH26: =SUM(BT26:BU26) -> 10 | CI26: =SUM(BZ26:CA26,CE26) -> 1.2 | CJ26: =SUM(CA26:CB26) -> 0.4 | CK26: =Matryca!Q26 -> 3 | CL26: =Matryca!R26 -> 4 | CM26: =Matryca!S26 -> 1
A27: 8 | C27: 2026/2027 | E27: 1 | F27: 2026/2027 | G27: POW | I27: Zdrowie środowiskowe / Zagrożenia epidemiologiczne | L27: tak | M27: =Y27+AV27 -> 75 | N27: =AS27+BP27 -> 50 | O27: =Z27+AW27 -> 25 | P27: =AA27+AX27 -> 25 | Q27: =X27+AU27 -> 3 | R27: =IFERROR((AL27+BI27)*Q27/O27," ") -> 0 | S27: =IFERROR(IF(L27="tak",(SUM(AE27:AL27,AQ27,BB27:BI27,BN27))*Q27/O27,0),0) -> 1.8 | T27: =IFERROR((AC27+AO27+AZ27+BL27)*Q27/O27," ") -> 1.2 | U27: =IFERROR((SUM(AB27,AD27:AN27,AP27:AQ27,AY27,BA27:BK27,BM27:BN27)*Q27/M27)," ") -> 1 | V27: zal | W27: zal | X27: 3 | Y27: =AS27+Z27 -> 75 | Z27: =AR27+AA27 -> 25 | AA27: =(SUM(AB27:AQ27))-AC27 -> 25 | AB27: 10 | AC27: 10 | AE27: 15 | AS27: 50 | AV27: =BP27+AW27 -> 0 | AW27: =BO27+AX27 -> 0 | AX27: =(SUM(AY27:BN27))-AZ27 -> 0 | BQ27: =IFERROR(M27/Q27," ") -> 25 | BR27: =IF(OR(BQ27>30,BQ27<25),"1 ECTS powinien mieścić się przedziale 25-30h","Wartość prawidłowa") -> Wartość prawidłowa | BS27: =SUM(AB27,AD27:AP27,AY27,BA27:BM27)-AC27-AZ27-AO27-BL27 -> 15 | BT27: =AC27+AZ27 -> 10 | BU27: =AO27+BL27 -> 0 | BV27: =AR27+BO27 -> 0 | BW27: =N27 -> 50 | BX27: =AQ27+BN27 -> 0 | BY27: =SUM(BS27:BX27) -> 75 | BZ27: =IFERROR((BS27*Q27)/BY27," ") -> 0.6 | CA27: =IFERROR((BT27*Q27)/BY27," ") -> 0.4 | CB27: =IFERROR((BU27*Q27)/BY27," ") -> 0 | CC27: =IFERROR((BV27*Q27)/BY27," ") -> 0 | CD27: =IFERROR((BW27*Q27)/BY27," ") -> 2 | CE27: =IFERROR((BX27*Q27)/BY27," ") -> 0 | CF27: =IFERROR((SUM(BZ27:CE27))," ") -> 3 | CG27: =SUM(BS27:BT27,CE27) -> 25 | CH27: =SUM(BT27:BU27) -> 10 | CI27: =SUM(BZ27:CA27,CE27) -> 1 | CJ27: =SUM(CA27:CB27) -> 0.4 | CK27: =Matryca!Q27 -> 4 | CL27: =Matryca!R27 -> 3 | CM27: =Matryca!S27 -> 2
A28: 9 | C28: 2026/2027 | E28: 1 | F28: 2026/2027 | G28: RPS | I28: Praktyka zawodowa 1 | L28: tak | M28: =Y28+AV28 -> 75 | N28: =AS28+BP28 -> 15 | O28: =Z28+AW28 -> 60 | P28: =AA28+AX28 -> 60 | Q28: =X28+AU28 -> 3 | R28: =IFERROR((AL28+BI28)*Q28/O28," ") -> 0 | S28: =IFERROR(IF(L28="tak",(SUM(AE28:AL28,AQ28,BB28:BI28,BN28))*Q28/O28,0),0) -> 3 | T28: =IFERROR((AC28+AO28+AZ28+BL28)*Q28/O28," ") -> 0 | U28: =IFERROR((SUM(AB28,AD28:AN28,AP28:AQ28,AY28,BA28:BK28,BM28:BN28)*Q28/M28)," ") -> 2.4 | V28: zal | W28: zal | X28: 3 | Y28: =AS28+Z28 -> 75 | Z28: =AR28+AA28 -> 60 | AA28: =(SUM(AB28:AQ28))-AC28 -> 60 | AQ28: 60 | AS28: 15 | AV28: =BP28+AW28 -> 0 | AW28: =BO28+AX28 -> 0 | AX28: =(SUM(AY28:BN28))-AZ28 -> 0 | BQ28: =IFERROR(M28/Q28," ") -> 25 | BR28: =IF(OR(BQ28>30,BQ28<25),"1 ECTS powinien mieścić się przedziale 25-30h","Wartość prawidłowa") -> Wartość prawidłowa | BS28: =SUM(AB28,AD28:AP28,AY28,BA28:BM28)-AC28-AZ28-AO28-BL28 -> 0 | BT28: =AC28+AZ28 -> 0 | BU28: =AO28+BL28 -> 0 | BV28: =AR28+BO28 -> 0 | BW28: =N28 -> 15 | BX28: =AQ28+BN28 -> 60 | BY28: =SUM(BS28:BX28) -> 75 | BZ28: =IFERROR((BS28*Q28)/BY28," ") -> 0 | CA28: =IFERROR((BT28*Q28)/BY28," ") -> 0 | CB28: =IFERROR((BU28*Q28)/BY28," ") -> 0 | CC28: =IFERROR((BV28*Q28)/BY28," ") -> 0 | CD28: =IFERROR((BW28*Q28)/BY28," ") -> 0.6 | CE28: =IFERROR((BX28*Q28)/BY28," ") -> 2.4 | CF28: =IFERROR((SUM(BZ28:CE28))," ") -> 3 | CG28: =SUM(BS28:BT28,CE28) -> 2.4 | CH28: =SUM(BT28:BU28) -> 0 | CI28: =SUM(BZ28:CA28,CE28) -> 2.4 | CJ28: =SUM(CA28:CB28) -> 0 | CK28: =Matryca!Q28 -> 2 | CL28: =Matryca!R28 -> 6 | CM28: =Matryca!S28 -> 3
A29: 10 | C29: 2026/2027 | E29: 1 | F29: 2026/2027 | G29: RPS | I29: Język obcy | M29: =Y29+AV29 -> 100 | N29: =AS29+BP29 -> 40 | O29: =Z29+AW29 -> 60 | P29: =AA29+AX29 -> 60 | Q29: =X29+AU29 -> 4 | R29: =IFERROR((AL29+BI29)*Q29/O29," ") -> 0 | S29: =IFERROR(IF(L29="tak",(SUM(AE29:AL29,AQ29,BB29:BI29,BN29))*Q29/O29,0),0) -> 0 | T29: =IFERROR((AC29+AO29+AZ29+BL29)*Q29/O29," ") -> 0 | U29: =IFERROR((SUM(AB29,AD29:AN29,AP29:AQ29,AY29,BA29:BK29,BM29:BN29)*Q29/M29)," ") -> 2.4 | V29: zal/o | W29: zal/oc | X29: 2 | Y29: =AS29+Z29 -> 50 | Z29: =AR29+AA29 -> 30 | AA29: =(SUM(AB29:AQ29))-AC29 -> 30 | AN29: 30 | AS29: 20 | AT29: zal/oc | AU29: 2 | AV29: =BP29+AW29 -> 50 | AW29: =BO29+AX29 -> 30 | AX29: =(SUM(AY29:BN29))-AZ29 -> 30 | BK29: 30 | BP29: 20 | BQ29: =IFERROR(M29/Q29," ") -> 25 | BR29: =IF(OR(BQ29>30,BQ29<25),"1 ECTS powinien mieścić się przedziale 25-30h","Wartość prawidłowa") -> Wartość prawidłowa | BS29: =SUM(AB29,AD29:AP29,AY29,BA29:BM29)-AC29-AZ29-AO29-BL29 -> 60 | BT29: =AC29+AZ29 -> 0 | BU29: =AO29+BL29 -> 0 | BV29: =AR29+BO29 -> 0 | BW29: =N29 -> 40 | BX29: =AQ29+BN29 -> 0 | BY29: =SUM(BS29:BX29) -> 100 | BZ29: =IFERROR((BS29*Q29)/BY29," ") -> 2.4 | CA29: =IFERROR((BT29*Q29)/BY29," ") -> 0 | CB29: =IFERROR((BU29*Q29)/BY29," ") -> 0 | CC29: =IFERROR((BV29*Q29)/BY29," ") -> 0 | CD29: =IFERROR((BW29*Q29)/BY29," ") -> 1.6 | CE29: =IFERROR((BX29*Q29)/BY29," ") -> 0 | CF29: =IFERROR((SUM(BZ29:CE29))," ") -> 4 | CG29: =SUM(BS29:BT29,CE29) -> 60 | CH29: =SUM(BT29:BU29) -> 0 | CI29: =SUM(BZ29:CA29,CE29) -> 2.4 | CJ29: =SUM(CA29:CB29) -> 0 | CK29: =Matryca!Q29 -> 0 | CL29: =Matryca!R29 -> 3 | CM29: =Matryca!S29 -> 1
A30: 11 | C30: 2026/2027 | E30: 1 | F30: 2026/2027 | G30: RPS | I30: Radiologia zabiegowa | L30: tak | M30: =Y30+AV30 -> 50 | N30: =AS30+BP30 -> 25 | O30: =Z30+AW30 -> 25 | P30: =AA30+AX30 -> 25 | Q30: =X30+AU30 -> 2 | R30: =IFERROR((AL30+BI30)*Q30/O30," ") -> 0 | S30: =IFERROR(IF(L30="tak",(SUM(AE30:AL30,AQ30,BB30:BI30,BN30))*Q30/O30,0),0) -> 1.2 | T30: =IFERROR((AC30+AO30+AZ30+BL30)*Q30/O30," ") -> 0.8 | U30: =IFERROR((SUM(AB30,AD30:AN30,AP30:AQ30,AY30,BA30:BK30,BM30:BN30)*Q30/M30)," ") -> 1 | V30: zal/o | Y30: =AS30+Z30 -> 0 | Z30: =AR30+AA30 -> 0 | AA30: =(SUM(AB30:AQ30))-AC30 -> 0 | AT30: zal/o | AU30: 2 | AV30: =BP30+AW30 -> 50 | AW30: =BO30+AX30 -> 25 | AX30: =(SUM(AY30:BN30))-AZ30 -> 25 | AY30: 10 | AZ30: 10 | BB30: 15 | BP30: 25 | BQ30: =IFERROR(M30/Q30," ") -> 25 | BR30: =IF(OR(BQ30>30,BQ30<25),"1 ECTS powinien mieścić się przedziale 25-30h","Wartość prawidłowa") -> Wartość prawidłowa | BS30: =SUM(AB30,AD30:AP30,AY30,BA30:BM30)-AC30-AZ30-AO30-BL30 -> 15 | BT30: =AC30+AZ30 -> 10 | BU30: =AO30+BL30 -> 0 | BV30: =AR30+BO30 -> 0 | BW30: =N30 -> 25 | BX30: =AQ30+BN30 -> 0 | BY30: =SUM(BS30:BX30) -> 50 | BZ30: =IFERROR((BS30*Q30)/BY30," ") -> 0.6 | CA30: =IFERROR((BT30*Q30)/BY30," ") -> 0.4 | CB30: =IFERROR((BU30*Q30)/BY30," ") -> 0 | CC30: =IFERROR((BV30*Q30)/BY30," ") -> 0 | CD30: =IFERROR((BW30*Q30)/BY30," ") -> 1 | CE30: =IFERROR((BX30*Q30)/BY30," ") -> 0 | CF30: =IFERROR((SUM(BZ30:CE30))," ") -> 2 | CG30: =SUM(BS30:BT30,CE30) -> 25 | CH30: =SUM(BT30:BU30) -> 10 | CI30: =SUM(BZ30:CA30,CE30) -> 1 | CJ30: =SUM(CA30:CB30) -> 0.4 | CK30: =Matryca!Q30 -> 4 | CL30: =Matryca!R30 -> 5 | CM30: =Matryca!S30 -> 3
A31: 12 | C31: 2026/2027 | E31: 1 | F31: 2026/2027 | G31: RPS | I31: Zajęcia praktyczne: Radiologia zabiegowa | L31: tak | M31: =Y31+AV31 -> 50 | N31: =AS31+BP31 -> 20 | O31: =Z31+AW31 -> 30 | P31: =AA31+AX31 -> 30 | Q31: =X31+AU31 -> 2 | R31: =IFERROR((AL31+BI31)*Q31/O31," ") -> 0 | S31: =IFERROR(IF(L31="tak",(SUM(AE31:AL31,AQ31,BB31:BI31,BN31))*Q31/O31,0),0) -> 2 | T31: =IFERROR((AC31+AO31+AZ31+BL31)*Q31/O31," ") -> 0 | U31: =IFERROR((SUM(AB31,AD31:AN31,AP31:AQ31,AY31,BA31:BK31,BM31:BN31)*Q31/M31)," ") -> 1.2 | V31: zal | Y31: =AS31+Z31 -> 0 | Z31: =AR31+AA31 -> 0 | AA31: =(SUM(AB31:AQ31))-AC31 -> 0 | AT31: zal | AU31: 2 | AV31: =BP31+AW31 -> 50 | AW31: =BO31+AX31 -> 30 | AX31: =(SUM(AY31:BN31))-AZ31 -> 30 | BH31: 30 | BP31: 20 | BQ31: =IFERROR(M31/Q31," ") -> 25 | BR31: =IF(OR(BQ31>30,BQ31<25),"1 ECTS powinien mieścić się przedziale 25-30h","Wartość prawidłowa") -> Wartość prawidłowa | BS31: =SUM(AB31,AD31:AP31,AY31,BA31:BM31)-AC31-AZ31-AO31-BL31 -> 30 | BT31: =AC31+AZ31 -> 0 | BU31: =AO31+BL31 -> 0 | BV31: =AR31+BO31 -> 0 | BW31: =N31 -> 20 | BX31: =AQ31+BN31 -> 0 | BY31: =SUM(BS31:BX31) -> 50 | BZ31: =IFERROR((BS31*Q31)/BY31," ") -> 1.2 | CA31: =IFERROR((BT31*Q31)/BY31," ") -> 0 | CB31: =IFERROR((BU31*Q31)/BY31," ") -> 0 | CC31: =IFERROR((BV31*Q31)/BY31," ") -> 0 | CD31: =IFERROR((BW31*Q31)/BY31," ") -> 0.8 | CE31: =IFERROR((BX31*Q31)/BY31," ") -> 0 | CF31: =IFERROR((SUM(BZ31:CE31))," ") -> 2 | CG31: =SUM(BS31:BT31,CE31) -> 30 | CH31: =SUM(BT31:BU31) -> 0 | CI31: =SUM(BZ31:CA31,CE31) -> 1.2 | CJ31: =SUM(CA31:CB31) -> 0 | CK31: =Matryca!Q31 -> 3 | CL31: =Matryca!R31 -> 6 | CM31: =Matryca!S31 -> 3
A32: 13 | C32: 2026/2027 | E32: 1 | F32: 2026/2027 | G32: RPS | I32: Procedury wzorcowe | L32: tak | M32: =Y32+AV32 -> 75 | N32: =AS32+BP32 -> 50 | O32: =Z32+AW32 -> 25 | P32: =AA32+AX32 -> 25 | Q32: =X32+AU32 -> 3 | R32: =IFERROR((AL32+BI32)*Q32/O32," ") -> 0 | S32: =IFERROR(IF(L32="tak",(SUM(AE32:AL32,AQ32,BB32:BI32,BN32))*Q32/O32,0),0) -> 1.8 | T32: =IFERROR((AC32+AO32+AZ32+BL32)*Q32/O32," ") -> 1.2 | U32: =IFERROR((SUM(AB32,AD32:AN32,AP32:AQ32,AY32,BA32:BK32,BM32:BN32)*Q32/M32)," ") -> 1 | V32: zal/o | Y32: =AS32+Z32 -> 0 | Z32: =AR32+AA32 -> 0 | AA32: =(SUM(AB32:AQ32))-AC32 -> 0 | AT32: zal/o | AU32: 3 | AV32: =BP32+AW32 -> 75 | AW32: =BO32+AX32 -> 25 | AX32: =(SUM(AY32:BN32))-AZ32 -> 25 | AY32: 10 | AZ32: 10 | BB32: 15 | BP32: 50 | BQ32: =IFERROR(M32/Q32," ") -> 25 | BR32: =IF(OR(BQ32>30,BQ32<25),"1 ECTS powinien mieścić się przedziale 25-30h","Wartość prawidłowa") -> Wartość prawidłowa | BS32: =SUM(AB32,AD32:AP32,AY32,BA32:BM32)-AC32-AZ32-AO32-BL32 -> 15 | BT32: =AC32+AZ32 -> 10 | BU32: =AO32+BL32 -> 0 | BV32: =AR32+BO32 -> 0 | BW32: =N32 -> 50 | BX32: =AQ32+BN32 -> 0 | BY32: =SUM(BS32:BX32) -> 75 | BZ32: =IFERROR((BS32*Q32)/BY32," ") -> 0.6 | CA32: =IFERROR((BT32*Q32)/BY32," ") -> 0.4 | CB32: =IFERROR((BU32*Q32)/BY32," ") -> 0 | CC32: =IFERROR((BV32*Q32)/BY32," ") -> 0 | CD32: =IFERROR((BW32*Q32)/BY32," ") -> 2 | CE32: =IFERROR((BX32*Q32)/BY32," ") -> 0 | CF32: =IFERROR((SUM(BZ32:CE32))," ") -> 3 | CG32: =SUM(BS32:BT32,CE32) -> 25 | CH32: =SUM(BT32:BU32) -> 10 | CI32: =SUM(BZ32:CA32,CE32) -> 1 | CJ32: =SUM(CA32:CB32) -> 0.4 | CK32: =Matryca!Q32 -> 12 | CL32: =Matryca!R32 -> 5 | CM32: =Matryca!S32 -> 2
A33: 14 | C33: 2026/2027 | E33: 1 | F33: 2026/2027 | G33: RPS | I33: Transformacja cyfrowa w zdrowiu: od e-zdrowia do teleopieki | L33: tak | M33: =Y33+AV33 -> 75 | N33: =AS33+BP33 -> 55 | O33: =Z33+AW33 -> 20 | P33: =AA33+AX33 -> 20 | Q33: =X33+AU33 -> 2 | R33: =IFERROR((AL33+BI33)*Q33/O33," ") -> 0 | S33: =IFERROR(IF(L33="tak",(SUM(AE33:AL33,AQ33,BB33:BI33,BN33))*Q33/O33,0),0) -> 1 | T33: =IFERROR((AC33+AO33+AZ33+BL33)*Q33/O33," ") -> 1 | U33: =IFERROR((SUM(AB33,AD33:AN33,AP33:AQ33,AY33,BA33:BK33,BM33:BN33)*Q33/M33)," ") -> 0.53333333 | V33: zal | Y33: =AS33+Z33 -> 0 | Z33: =AR33+AA33 -> 0 | AA33: =(SUM(AB33:AQ33))-AC33 -> 0 | AT33: zal | AU33: 2 | AV33: =BP33+AW33 -> 75 | AW33: =BO33+AX33 -> 20 | AX33: =(SUM(AY33:BN33))-AZ33 -> 20 | AY33: 10 | AZ33: 10 | BB33: 10 | BP33: 55 | BQ33: =IFERROR(M33/Q33," ") -> 37.5 | BR33: =IF(OR(BQ33>30,BQ33<25),"1 ECTS powinien mieścić się przedziale 25-30h","Wartość prawidłowa") -> 1 ECTS powinien mieścić się przedziale 25-30h | BS33: =SUM(AB33,AD33:AP33,AY33,BA33:BM33)-AC33-AZ33-AO33-BL33 -> 10 | BT33: =AC33+AZ33 -> 10 | BU33: =AO33+BL33 -> 0 | BV33: =AR33+BO33 -> 0 | BW33: =N33 -> 55 | BX33: =AQ33+BN33 -> 0 | BY33: =SUM(BS33:BX33) -> 75 | BZ33: =IFERROR((BS33*Q33)/BY33," ") -> 0.26666667 | CA33: =IFERROR((BT33*Q33)/BY33," ") -> 0.26666667 | CB33: =IFERROR((BU33*Q33)/BY33," ") -> 0 | CC33: =IFERROR((BV33*Q33)/BY33," ") -> 0 | CD33: =IFERROR((BW33*Q33)/BY33," ") -> 1.4666667 | CE33: =IFERROR((BX33*Q33)/BY33," ") -> 0 | CF33: =IFERROR((SUM(BZ33:CE33))," ") -> 2 | CG33: =SUM(BS33:BT33,CE33) -> 20 | CH33: =SUM(BT33:BU33) -> 10 | CI33: =SUM(BZ33:CA33,CE33) -> 0.53333333 | CJ33: =SUM(CA33:CB33) -> 0.26666667 | CK33: =Matryca!Q33 -> 4 | CL33: =Matryca!R33 -> 2 | CM33: =Matryca!S33 -> 2
A34: 15 | C34: 2026/2027 | E34: 1 | F34: 2026/2027 | G34: RPS | I34: Prawo medyczne | M34: =Y34+AV34 -> 50 | N34: =AS34+BP34 -> 30 | O34: =Z34+AW34 -> 20 | P34: =AA34+AX34 -> 20 | Q34: =X34+AU34 -> 2 | R34: =IFERROR((AL34+BI34)*Q34/O34," ") -> 0 | S34: =IFERROR(IF(L34="tak",(SUM(AE34:AL34,AQ34,BB34:BI34,BN34))*Q34/O34,0),0) -> 0 | T34: =IFERROR((AC34+AO34+AZ34+BL34)*Q34/O34," ") -> 1 | U34: =IFERROR((SUM(AB34,AD34:AN34,AP34:AQ34,AY34,BA34:BK34,BM34:BN34)*Q34/M34)," ") -> 0.8 | V34: zal | Y34: =AS34+Z34 -> 0 | Z34: =AR34+AA34 -> 0 | AA34: =(SUM(AB34:AQ34))-AC34 -> 0 | AT34: zal | AU34: 2 | AV34: =BP34+AW34 -> 50 | AW34: =BO34+AX34 -> 20 | AX34: =(SUM(AY34:BN34))-AZ34 -> 20 | AY34: 10 | AZ34: 10 | BA34: 10 | BP34: 30 | BQ34: =IFERROR(M34/Q34," ") -> 25 | BR34: =IF(OR(BQ34>30,BQ34<25),"1 ECTS powinien mieścić się przedziale 25-30h","Wartość prawidłowa") -> Wartość prawidłowa | BS34: =SUM(AB34,AD34:AP34,AY34,BA34:BM34)-AC34-AZ34-AO34-BL34 -> 10 | BT34: =AC34+AZ34 -> 10 | BU34: =AO34+BL34 -> 0 | BV34: =AR34+BO34 -> 0 | BW34: =N34 -> 30 | BX34: =AQ34+BN34 -> 0 | BY34: =SUM(BS34:BX34) -> 50 | BZ34: =IFERROR((BS34*Q34)/BY34," ") -> 0.4 | CA34: =IFERROR((BT34*Q34)/BY34," ") -> 0.4 | CB34: =IFERROR((BU34*Q34)/BY34," ") -> 0 | CC34: =IFERROR((BV34*Q34)/BY34," ") -> 0 | CD34: =IFERROR((BW34*Q34)/BY34," ") -> 1.2 | CE34: =IFERROR((BX34*Q34)/BY34," ") -> 0 | CF34: =IFERROR((SUM(BZ34:CE34))," ") -> 2 | CG34: =SUM(BS34:BT34,CE34) -> 20 | CH34: =SUM(BT34:BU34) -> 10 | CI34: =SUM(BZ34:CA34,CE34) -> 0.8 | CJ34: =SUM(CA34:CB34) -> 0.4 | CK34: =Matryca!Q34 -> 7 | CL34: =Matryca!R34 -> 1 | CM34: =Matryca!S34 -> 3
A35: 16 | C35: 2026/2027 | E35: 1 | F35: 2026/2027 | G35: RPS | I35: Evidence Based Medicine (EBM) | M35: =Y35+AV35 -> 50 | N35: =AS35+BP35 -> 20 | O35: =Z35+AW35 -> 30 | P35: =AA35+AX35 -> 30 | Q35: =X35+AU35 -> 2 | R35: =IFERROR((AL35+BI35)*Q35/O35," ") -> 0 | S35: =IFERROR(IF(L35="tak",(SUM(AE35:AL35,AQ35,BB35:BI35,BN35))*Q35/O35,0),0) -> 0 | T35: =IFERROR((AC35+AO35+AZ35+BL35)*Q35/O35," ") -> 1 | U35: =IFERROR((SUM(AB35,AD35:AN35,AP35:AQ35,AY35,BA35:BK35,BM35:BN35)*Q35/M35)," ") -> 1.2 | V35: zal/o | Y35: =AS35+Z35 -> 0 | Z35: =AR35+AA35 -> 0 | AA35: =(SUM(AB35:AQ35))-AC35 -> 0 | AT35: zal/o | AU35: 2 | AV35: =BP35+AW35 -> 50 | AW35: =BO35+AX35 -> 30 | AX35: =(SUM(AY35:BN35))-AZ35 -> 30 | AY35: 15 | AZ35: 15 | BB35: 15 | BP35: 20 | BQ35: =IFERROR(M35/Q35," ") -> 25 | BR35: =IF(OR(BQ35>30,BQ35<25),"1 ECTS powinien mieścić się przedziale 25-30h","Wartość prawidłowa") -> Wartość prawidłowa | BS35: =SUM(AB35,AD35:AP35,AY35,BA35:BM35)-AC35-AZ35-AO35-BL35 -> 15 | BT35: =AC35+AZ35 -> 15 | BU35: =AO35+BL35 -> 0 | BV35: =AR35+BO35 -> 0 | BW35: =N35 -> 20 | BX35: =AQ35+BN35 -> 0 | BY35: =SUM(BS35:BX35) -> 50 | BZ35: =IFERROR((BS35*Q35)/BY35," ") -> 0.6 | CA35: =IFERROR((BT35*Q35)/BY35," ") -> 0.6 | CB35: =IFERROR((BU35*Q35)/BY35," ") -> 0 | CC35: =IFERROR((BV35*Q35)/BY35," ") -> 0 | CD35: =IFERROR((BW35*Q35)/BY35," ") -> 0.8 | CE35: =IFERROR((BX35*Q35)/BY35," ") -> 0 | CF35: =IFERROR((SUM(BZ35:CE35))," ") -> 2 | CG35: =SUM(BS35:BT35,CE35) -> 30 | CH35: =SUM(BT35:BU35) -> 15 | CI35: =SUM(BZ35:CA35,CE35) -> 1.2 | CJ35: =SUM(CA35:CB35) -> 0.6 | CK35: =Matryca!Q35 -> 3 | CL35: =Matryca!R35 -> 4 | CM35: =Matryca!S35 -> 2
A36: 17 | C36: 2026/2027 | E36: 1 | F36: 2026/2027 | G36: RPS | I36: Pielęgniarstwo radiologiczne | L36: tak | M36: =Y36+AV36 -> 50 | N36: =AS36+BP36 -> 30 | O36: =Z36+AW36 -> 20 | P36: =AA36+AX36 -> 20 | Q36: =X36+AU36 -> 2 | R36: =IFERROR((AL36+BI36)*Q36/O36," ") -> 0 | S36: =IFERROR(IF(L36="tak",(SUM(AE36:AL36,AQ36,BB36:BI36,BN36))*Q36/O36,0),0) -> 0 | T36: =IFERROR((AC36+AO36+AZ36+BL36)*Q36/O36," ") -> 1 | U36: =IFERROR((SUM(AB36,AD36:AN36,AP36:AQ36,AY36,BA36:BK36,BM36:BN36)*Q36/M36)," ") -> 0.8 | V36: zal | Y36: =AS36+Z36 -> 0 | Z36: =AR36+AA36 -> 0 | AA36: =(SUM(AB36:AQ36))-AC36 -> 0 | AT36: zal | AU36: 2 | AV36: =BP36+AW36 -> 50 | AW36: =BO36+AX36 -> 20 | AX36: =(SUM(AY36:BN36))-AZ36 -> 20 | AY36: 10 | AZ36: 10 | BA36: 10 | BP36: 30 | BQ36: =IFERROR(M36/Q36," ") -> 25 | BR36: =IF(OR(BQ36>30,BQ36<25),"1 ECTS powinien mieścić się przedziale 25-30h","Wartość prawidłowa") -> Wartość prawidłowa | BS36: =SUM(AB36,AD36:AP36,AY36,BA36:BM36)-AC36-AZ36-AO36-BL36 -> 10 | BT36: =AC36+AZ36 -> 10 | BU36: =AO36+BL36 -> 0 | BV36: =AR36+BO36 -> 0 | BW36: =N36 -> 30 | BX36: =AQ36+BN36 -> 0 | BY36: =SUM(BS36:BX36) -> 50 | BZ36: =IFERROR((BS36*Q36)/BY36," ") -> 0.4 | CA36: =IFERROR((BT36*Q36)/BY36," ") -> 0.4 | CB36: =IFERROR((BU36*Q36)/BY36," ") -> 0 | CC36: =IFERROR((BV36*Q36)/BY36," ") -> 0 | CD36: =IFERROR((BW36*Q36)/BY36," ") -> 1.2 | CE36: =IFERROR((BX36*Q36)/BY36," ") -> 0 | CF36: =IFERROR((SUM(BZ36:CE36))," ") -> 2 | CG36: =SUM(BS36:BT36,CE36) -> 20 | CH36: =SUM(BT36:BU36) -> 10 | CI36: =SUM(BZ36:CA36,CE36) -> 0.8 | CJ36: =SUM(CA36:CB36) -> 0.4 | CK36: =Matryca!Q36 -> 8 | CL36: =Matryca!R36 -> 3 | CM36: =Matryca!S36 -> 3
A37: 18 | C37: 2026/2027 | E37: 1 | F37: 2026/2027 | G37: POW | I37: Seminarium dyplomowe | M37: =Y37+AV37 -> 75 | N37: =AS37+BP37 -> 60 | O37: =Z37+AW37 -> 15 | P37: =AA37+AX37 -> 15 | Q37: =X37+AU37 -> 3 | R37: =IFERROR((AL37+BI37)*Q37/O37," ") -> 0 | S37: =IFERROR(IF(L37="tak",(SUM(AE37:AL37,AQ37,BB37:BI37,BN37))*Q37/O37,0),0) -> 0 | T37: =IFERROR((AC37+AO37+AZ37+BL37)*Q37/O37," ") -> 0 | U37: =IFERROR((SUM(AB37,AD37:AN37,AP37:AQ37,AY37,BA37:BK37,BM37:BN37)*Q37/M37)," ") -> 0.6 | V37: zal | Y37: =AS37+Z37 -> 0 | Z37: =AR37+AA37 -> 0 | AA37: =(SUM(AB37:AQ37))-AC37 -> 0 | AT37: zal | AU37: 3 | AV37: =BP37+AW37 -> 75 | AW37: =BO37+AX37 -> 15 | AX37: =(SUM(AY37:BN37))-AZ37 -> 15 | BA37: 15 | BP37: 60 | BQ37: =IFERROR(M37/Q37," ") -> 25 | BR37: =IF(OR(BQ37>30,BQ37<25),"1 ECTS powinien mieścić się przedziale 25-30h","Wartość prawidłowa") -> Wartość prawidłowa | BS37: =SUM(AB37,AD37:AP37,AY37,BA37:BM37)-AC37-AZ37-AO37-BL37 -> 15 | BT37: =AC37+AZ37 -> 0 | BU37: =AO37+BL37 -> 0 | BV37: =AR37+BO37 -> 0 | BW37: =N37 -> 60 | BX37: =AQ37+BN37 -> 0 | BY37: =SUM(BS37:BX37) -> 75 | BZ37: =IFERROR((BS37*Q37)/BY37," ") -> 0.6 | CA37: =IFERROR((BT37*Q37)/BY37," ") -> 0 | CB37: =IFERROR((BU37*Q37)/BY37," ") -> 0 | CC37: =IFERROR((BV37*Q37)/BY37," ") -> 0 | CD37: =IFERROR((BW37*Q37)/BY37," ") -> 2.4 | CE37: =IFERROR((BX37*Q37)/BY37," ") -> 0 | CF37: =IFERROR((SUM(BZ37:CE37))," ") -> 3 | CG37: =SUM(BS37:BT37,CE37) -> 15 | CH37: =SUM(BT37:BU37) -> 0 | CI37: =SUM(BZ37:CA37,CE37) -> 0.6 | CJ37: =SUM(CA37:CB37) -> 0 | CK37: =Matryca!Q37 -> 3 | CL37: =Matryca!R37 -> 4 | CM37: =Matryca!S37 -> 1
A38: 19 | C38: 2026/2027 | E38: 1 | F38: 2026/2027 | G38: RPS | I38: Praktyka zawodowa 2 | L38: tak | M38: =Y38+AV38 -> 175 | N38: =AS38+BP38 -> 15 | O38: =Z38+AW38 -> 160 | P38: =AA38+AX38 -> 160 | Q38: =X38+AU38 -> 7 | R38: =IFERROR((AL38+BI38)*Q38/O38," ") -> 0 | S38: =IFERROR(IF(L38="tak",(SUM(AE38:AL38,AQ38,BB38:BI38,BN38))*Q38/O38,0),0) -> 7 | T38: =IFERROR((AC38+AO38+AZ38+BL38)*Q38/O38," ") -> 0 | U38: =IFERROR((SUM(AB38,AD38:AN38,AP38:AQ38,AY38,BA38:BK38,BM38:BN38)*Q38/M38)," ") -> 6.4 | V38: zal | Y38: =AS38+Z38 -> 0 | Z38: =AR38+AA38 -> 0 | AA38: =(SUM(AB38:AQ38))-AC38 -> 0 | AT38: zal | AU38: 7 | AV38: =BP38+AW38 -> 175 | AW38: =BO38+AX38 -> 160 | AX38: =(SUM(AY38:BN38))-AZ38 -> 160 | BN38: 160 | BP38: 15 | BQ38: =IFERROR(M38/Q38," ") -> 25 | BR38: =IF(OR(BQ38>30,BQ38<25),"1 ECTS powinien mieścić się przedziale 25-30h","Wartość prawidłowa") -> Wartość prawidłowa | BS38: =SUM(AB38,AD38:AP38,AY38,BA38:BM38)-AC38-AZ38-AO38-BL38 -> 0 | BT38: =AC38+AZ38 -> 0 | BU38: =AO38+BL38 -> 0 | BV38: =AR38+BO38 -> 0 | BW38: =N38 -> 15 | BX38: =AQ38+BN38 -> 160 | BY38: =SUM(BS38:BX38) -> 175 | BZ38: =IFERROR((BS38*Q38)/BY38," ") -> 0 | CA38: =IFERROR((BT38*Q38)/BY38," ") -> 0 | CB38: =IFERROR((BU38*Q38)/BY38," ") -> 0 | CC38: =IFERROR((BV38*Q38)/BY38," ") -> 0 | CD38: =IFERROR((BW38*Q38)/BY38," ") -> 0.6 | CE38: =IFERROR((BX38*Q38)/BY38," ") -> 6.4 | CF38: =IFERROR((SUM(BZ38:CE38))," ") -> 7 | CG38: =SUM(BS38:BT38,CE38) -> 6.4 | CH38: =SUM(BT38:BU38) -> 0 | CI38: =SUM(BZ38:CA38,CE38) -> 6.4 | CJ38: =SUM(CA38:CB38) -> 0 | CK38: =Matryca!Q38 -> 4 | CL38: =Matryca!R38 -> 5 | CM38: =Matryca!S38 -> 3
A39: 20 | C39: 2026/2027 | E39: 1 | F39: 2026/2027 | G39: RPS | I39: Praktyka zawodowa 3 | L39: tak | M39: =Y39+AV39 -> 175 | N39: =AS39+BP39 -> 15 | O39: =Z39+AW39 -> 160 | P39: =AA39+AX39 -> 160 | Q39: =X39+AU39 -> 7 | R39: =IFERROR((AL39+BI39)*Q39/O39," ") -> 0 | S39: =IFERROR(IF(L39="tak",(SUM(AE39:AL39,AQ39,BB39:BI39,BN39))*Q39/O39,0),0) -> 7 | T39: =IFERROR((AC39+AO39+AZ39+BL39)*Q39/O39," ") -> 0 | U39: =IFERROR((SUM(AB39,AD39:AN39,AP39:AQ39,AY39,BA39:BK39,BM39:BN39)*Q39/M39)," ") -> 6.4 | V39: zal | Y39: =AS39+Z39 -> 0 | Z39: =AR39+AA39 -> 0 | AA39: =(SUM(AB39:AQ39))-AC39 -> 0 | AT39: zal | AU39: 7 | AV39: =BP39+AW39 -> 175 | AW39: =BO39+AX39 -> 160 | AX39: =(SUM(AY39:BN39))-AZ39 -> 160 | BN39: 160 | BP39: 15 | BQ39: =IFERROR(M39/Q39," ") -> 25 | BR39: =IF(OR(BQ39>30,BQ39<25),"1 ECTS powinien mieścić się przedziale 25-30h","Wartość prawidłowa") -> Wartość prawidłowa | BS39: =SUM(AB39,AD39:AP39,AY39,BA39:BM39)-AC39-AZ39-AO39-BL39 -> 0 | BT39: =AC39+AZ39 -> 0 | BU39: =AO39+BL39 -> 0 | BV39: =AR39+BO39 -> 0 | BW39: =N39 -> 15 | BX39: =AQ39+BN39 -> 160 | BY39: =SUM(BS39:BX39) -> 175 | BZ39: =IFERROR((BS39*Q39)/BY39," ") -> 0 | CA39: =IFERROR((BT39*Q39)/BY39," ") -> 0 | CB39: =IFERROR((BU39*Q39)/BY39," ") -> 0 | CC39: =IFERROR((BV39*Q39)/BY39," ") -> 0 | CD39: =IFERROR((BW39*Q39)/BY39," ") -> 0.6 | CE39: =IFERROR((BX39*Q39)/BY39," ") -> 6.4 | CF39: =IFERROR((SUM(BZ39:CE39))," ") -> 7 | CG39: =SUM(BS39:BT39,CE39) -> 6.4 | CH39: =SUM(BT39:BU39) -> 0 | CI39: =SUM(BZ39:CA39,CE39) -> 6.4 | CJ39: =SUM(CA39:CB39) -> 0 | CK39: =Matryca!Q39 -> 4 | CL39: =Matryca!R39 -> 4 | CM39: =Matryca!S39 -> 3
A40: 21 | C40: 2026/2027 | E40: 1 | F40: 2026/2027 | I40: Szkolenie BHP i P.P | M40: =Y40+AV40 -> 4 | N40: =AS40+BP40 -> 0 | O40: =Z40+AW40 -> 4 | P40: =AA40+AX40 -> 4 | Q40: =X40+AU40 -> 0 | R40: =IFERROR((AL40+BI40)*Q40/O40," ") -> 0 | S40: =IFERROR(IF(L40="tak",(SUM(AE40:AL40,AQ40,BB40:BI40,BN40))*Q40/O40,0),0) -> 0 | T40: =IFERROR((AC40+AO40+AZ40+BL40)*Q40/O40," ") -> 0 | U40: =IFERROR((SUM(AB40,AD40:AN40,AP40:AQ40,AY40,BA40:BK40,BM40:BN40)*Q40/M40)," ") -> 0 | V40: zal | W40: zal | X40: 0 | Y40: =AS40+Z40 -> 4 | Z40: =AR40+AA40 -> 4 | AA40: =(SUM(AB40:AQ40))-AC40 -> 4 | AO40: 4 | AV40: =BP40+AW40 -> 0 | AW40: =BO40+AX40 -> 0 | AX40: =(SUM(AY40:BN40))-AZ40 -> 0 | BQ40: =IFERROR(M40/Q40," ") | BR40: =IF(OR(BQ40>30,BQ40<25),"1 ECTS powinien mieścić się przedziale 25-30h","Wartość prawidłowa") -> 1 ECTS powinien mieścić się przedziale 25-30h | BS40: =SUM(AB40,AD40:AP40,AY40,BA40:BM40)-AC40-AZ40-AO40-BL40 -> 0 | BT40: =AC40+AZ40 -> 0 | BU40: =AO40+BL40 -> 4 | BV40: =AR40+BO40 -> 0 | BW40: =N40 -> 0 | BX40: =AQ40+BN40 -> 0 | BY40: =SUM(BS40:BX40) -> 4 | BZ40: =IFERROR((BS40*Q40)/BY40," ") -> 0 | CA40: =IFERROR((BT40*Q40)/BY40," ") -> 0 | CB40: =IFERROR((BU40*Q40)/BY40," ") -> 0 | CC40: =IFERROR((BV40*Q40)/BY40," ") -> 0 | CD40: =IFERROR((BW40*Q40)/BY40," ") -> 0 | CE40: =IFERROR((BX40*Q40)/BY40," ") -> 0 | CF40: =IFERROR((SUM(BZ40:CE40))," ") -> 0 | CG40: =SUM(BS40:BT40,CE40) -> 0 | CH40: =SUM(BT40:BU40) -> 4 | CI40: =SUM(BZ40:CA40,CE40) -> 0 | CJ40: =SUM(CA40:CB40) -> 0 | CK40: =Matryca!Q40 -> 3 | CL40: =Matryca!R40 -> 0 | CM40: =Matryca!S40 -> 0
A41: 22 | C41: 2026/2027 | E41: 1 | F41: 2026/2027 | I41: Przysposobienie biblioteczne | M41: =Y41+AV41 -> 2 | N41: =AS41+BP41 -> 0 | O41: =Z41+AW41 -> 2 | P41: =AA41+AX41 -> 2 | Q41: =X41+AU41 -> 0 | R41: =IFERROR((AL41+BI41)*Q41/O41," ") -> 0 | S41: =IFERROR(IF(L41="tak",(SUM(AE41:AL41,AQ41,BB41:BI41,BN41))*Q41/O41,0),0) -> 0 | T41: =IFERROR((AC41+AO41+AZ41+BL41)*Q41/O41," ") -> 0 | U41: =IFERROR((SUM(AB41,AD41:AN41,AP41:AQ41,AY41,BA41:BK41,BM41:BN41)*Q41/M41)," ") -> 0 | V41: zal | W41: zal | X41: 0 | Y41: =AS41+Z41 -> 2 | Z41: =AR41+AA41 -> 2 | AA41: =(SUM(AB41:AQ41))-AC41 -> 2 | AO41: 2 | AV41: =BP41+AW41 -> 0 | AW41: =BO41+AX41 -> 0 | AX41: =(SUM(AY41:BN41))-AZ41 -> 0 | BQ41: =IFERROR(M41/Q41," ") | BR41: =IF(OR(BQ41>30,BQ41<25),"1 ECTS powinien mieścić się przedziale 25-30h","Wartość prawidłowa") -> 1 ECTS powinien mieścić się przedziale 25-30h | BS41: =SUM(AB41,AD41:AP41,AY41,BA41:BM41)-AC41-AZ41-AO41-BL41 -> 0 | BT41: =AC41+AZ41 -> 0 | BU41: =AO41+BL41 -> 2 | BV41: =AR41+BO41 -> 0 | BW41: =N41 -> 0 | BX41: =AQ41+BN41 -> 0 | BY41: =SUM(BS41:BX41) -> 2 | BZ41: =IFERROR((BS41*Q41)/BY41," ") -> 0 | CA41: =IFERROR((BT41*Q41)/BY41," ") -> 0 | CB41: =IFERROR((BU41*Q41)/BY41," ") -> 0 | CC41: =IFERROR((BV41*Q41)/BY41," ") -> 0 | CD41: =IFERROR((BW41*Q41)/BY41," ") -> 0 | CE41: =IFERROR((BX41*Q41)/BY41," ") -> 0 | CF41: =IFERROR((SUM(BZ41:CE41))," ") -> 0 | CG41: =SUM(BS41:BT41,CE41) -> 0 | CH41: =SUM(BT41:BU41) -> 2 | CI41: =SUM(BZ41:CA41,CE41) -> 0 | CJ41: =SUM(CA41:CB41) -> 0 | CK41: =Matryca!Q41 -> 3 | CL41: =Matryca!R41 -> 0 | CM41: =Matryca!S41 -> 0
A42: 23 | C42: 2026/2027 | E42: 1 | F42: 2027/2028 | G42: POW | I42: Żywienie w profilaktyce chorób/ Profilaktyka swoista i badania przesiewowe | L42: tak | M42: =Y42+AV42 -> 75 | N42: =AS42+BP42 -> 50 | O42: =Z42+AW42 -> 25 | P42: =AA42+AX42 -> 25 | Q42: =X42+AU42 -> 3 | R42: =IFERROR((AL42+BI42)*Q42/O42," ") -> 0 | S42: =IFERROR(IF(L42="tak",(SUM(AE42:AL42,AQ42,BB42:BI42,BN42))*Q42/O42,0),0) -> 1.8 | T42: =IFERROR((AC42+AO42+AZ42+BL42)*Q42/O42," ") -> 1.2 | U42: =IFERROR((SUM(AB42,AD42:AN42,AP42:AQ42,AY42,BA42:BK42,BM42:BN42)*Q42/M42)," ") -> 1 | V42: zal | W42: zal | X42: 3 | Y42: =AS42+Z42 -> 50 | Z42: =AR42+AA42 -> 0 | AA42: =(SUM(AB42:AQ42))-AC42 -> 0 | AS42: 50 | AV42: =BP42+AW42 -> 25 | AW42: =BO42+AX42 -> 25 | AX42: =(SUM(AY42:BN42))-AZ42 -> 25 | AY42: 10 | AZ42: 10 | BB42: 15 | BQ42: =IFERROR(M42/Q42," ") -> 25 | BR42: =IF(OR(BQ42>30,BQ42<25),"1 ECTS powinien mieścić się przedziale 25-30h","Wartość prawidłowa") -> Wartość prawidłowa | BS42: =SUM(AB42,AD42:AP42,AY42,BA42:BM42)-AC42-AZ42-AO42-BL42 -> 15 | BT42: =AC42+AZ42 -> 10 | BU42: =AO42+BL42 -> 0 | BV42: =AR42+BO42 -> 0 | BW42: =N42 -> 50 | BX42: =AQ42+BN42 -> 0 | BY42: =SUM(BS42:BX42) -> 75 | BZ42: =IFERROR((BS42*Q42)/BY42," ") -> 0.6 | CA42: =IFERROR((BT42*Q42)/BY42," ") -> 0.4 | CB42: =IFERROR((BU42*Q42)/BY42," ") -> 0 | CC42: =IFERROR((BV42*Q42)/BY42," ") -> 0 | CD42: =IFERROR((BW42*Q42)/BY42," ") -> 2 | CE42: =IFERROR((BX42*Q42)/BY42," ") -> 0 | CF42: =IFERROR((SUM(BZ42:CE42))," ") -> 3 | CG42: =SUM(BS42:BT42,CE42) -> 25 | CH42: =SUM(BT42:BU42) -> 10 | CI42: =SUM(BZ42:CA42,CE42) -> 1 | CJ42: =SUM(CA42:CB42) -> 0.4 | CK42: =Matryca!Q42 -> 0 | CL42: =Matryca!R42 -> 3 | CM42: =Matryca!S42 -> 2
I43: sumy dla 1 roku | J43: =COUNTIF(J20:J42,"tak") -> 0 | K43: =COUNTIF(K20:K42,"tak") -> 1 | L43: =COUNTIF(L20:L42,"tak") -> 16 | M43: =SUM(M20:M42) -> 1531 | N43: =SUM(N20:N42) -> 660 | O43: =SUM(O20:O42) -> 871 | P43: =SUM(P20:P42) -> 871 | Q43: =SUM(Q20:Q42) -> 60 | R43: =SUM(R20:R42) -> 0 | S43: =SUM(S20:S42) -> 36 | T43: =SUM(T20:T42) -> 12.666667 | ... BP43: =SUM(BP20:BP42) -> 340 | BS43: =SUM(BS20:BS42) -> 350 | BT43: =SUM(BT20:BT42) -> 135 | BU43: =SUM(BU20:BU42) -> 6 | BV43: =SUM(BV20:BV42) -> 0 | BW43: =SUM(BW20:BW42) -> 660 | BX43: =SUM(BX20:BX42) -> 380 | BY43: =SUM(BY20:BY42) -> 1531 | BZ43: =SUM(BZ20:BZ42) -> 13.866667 | ... CM43: =SUM(CM20:CM42) -> 44
A44: 24 | C44: 2026/2027 | E44: 2 | F44: 2027/2028 | G44: RPS | I44: Zaawansowane badania TK i MR w pediatrii | L44: tak | M44: =Y44+AV44 -> 75 | N44: =AS44+BP44 -> 45 | O44: =Z44+AW44 -> 30 | P44: =AA44+AX44 -> 30 | Q44: =X44+AU44 -> 3 | R44: =IFERROR((AL44+BI44)*Q44/O44," ") -> 0 | S44: =IFERROR(IF(L44="tak",(SUM(AE44:AL44,AQ44,BB44:BI44,BN44))*Q44/O44,0),0) -> 1.5 | T44: =IFERROR((AC44+AO44+AZ44+BL44)*Q44/O44," ") -> 1.5 | U44: =IFERROR((SUM(AB44,AD44:AN44,AP44:AQ44,AY44,BA44:BK44,BM44:BN44)*Q44/M44)," ") -> 1.2 | V44: zal/o | W44: zal/o | X44: 3 | Y44: =AS44+Z44 -> 75 | Z44: =AR44+AA44 -> 30 | AA44: =(SUM(AB44:AQ44))-AC44 -> 30 | AB44: 15 | AC44: 15 | AE44: 15 | AS44: 45 | AV44: =BP44+AW44 -> 0 | AW44: =BO44+AX44 -> 0 | AX44: =(SUM(AY44:BN44))-AZ44 -> 0 | BQ44: =IFERROR(M44/Q44," ") -> 25 | BR44: =IF(OR(BQ44>30,BQ44<25),"1 ECTS powinien mieścić się przedziale 25-30h","Wartość prawidłowa") -> Wartość prawidłowa | BS44: =SUM(AB44,AD44:AP44,AY44,BA44:BM44)-AC44-AZ44-AO44-BL44 -> 15 | BT44: =AC44+AZ44 -> 15 | BU44: =AO44+BL44 -> 0 | BV44: =AR44+BO44 -> 0 | BW44: =N44 -> 45 | BX44: =AQ44+BN44 -> 0 | BY44: =SUM(BS44:BX44) -> 75 | BZ44: =IFERROR((BS44*Q44)/BY44," ") -> 0.6 | CA44: =IFERROR((BT44*Q44)/BY44," ") -> 0.6 | CB44: =IFERROR((BU44*Q44)/BY44," ") -> 0 | CC44: =IFERROR((BV44*Q44)/BY44," ") -> 0 | CD44: =IFERROR((BW44*Q44)/BY44," ") -> 1.8 | CE44: =IFERROR((BX44*Q44)/BY44," ") -> 0 | CF44: =IFERROR((SUM(BZ44:CE44))," ") -> 3 | CG44: =SUM(BS44:BT44,CE44) -> 30 | CH44: =SUM(BT44:BU44) -> 15 | CI44: =SUM(BZ44:CA44,CE44) -> 1.2 | CJ44: =SUM(CA44:CB44) -> 0.6 | CK44: =Matryca!Q44 -> 7 | CL44: =Matryca!R44 -> 4 | CM44: =Matryca!S44 -> 2
A45: 25 | C45: 2026/2027 | E45: 2 | F45: 2027/2028 | G45: RPS | I45: Nowoczesne techniki radioterapii | L45: tak | M45: =Y45+AV45 -> 75 | N45: =AS45+BP45 -> 45 | O45: =Z45+AW45 -> 30 | P45: =AA45+AX45 -> 30 | Q45: =X45+AU45 -> 3 | R45: =IFERROR((AL45+BI45)*Q45/O45," ") -> 0 | S45: =IFERROR(IF(L45="tak",(SUM(AE45:AL45,AQ45,BB45:BI45,BN45))*Q45/O45,0),0) -> 1.5 | T45: =IFERROR((AC45+AO45+AZ45+BL45)*Q45/O45," ") -> 1.5 | U45: =IFERROR((SUM(AB45,AD45:AN45,AP45:AQ45,AY45,BA45:BK45,BM45:BN45)*Q45/M45)," ") -> 1.2 | V45: zal/o | W45: zal/o | X45: 3 | Y45: =AS45+Z45 -> 75 | Z45: =AR45+AA45 -> 30 | AA45: =(SUM(AB45:AQ45))-AC45 -> 30 | AB45: 15 | AC45: 15 | AK45: 15 | AS45: 45 | AV45: =BP45+AW45 -> 0 | AW45: =BO45+AX45 -> 0 | AX45: =(SUM(AY45:BN45))-AZ45 -> 0 | BQ45: =IFERROR(M45/Q45," ") -> 25 | BR45: =IF(OR(BQ45>30,BQ45<25),"1 ECTS powinien mieścić się przedziale 25-30h","Wartość prawidłowa") -> Wartość prawidłowa | BS45: =SUM(AB45,AD45:AP45,AY45,BA45:BM45)-AC45-AZ45-AO45-BL45 -> 15 | BT45: =AC45+AZ45 -> 15 | BU45: =AO45+BL45 -> 0 | BV45: =AR45+BO45 -> 0 | BW45: =N45 -> 45 | BX45: =AQ45+BN45 -> 0 | BY45: =SUM(BS45:BX45) -> 75 | BZ45: =IFERROR((BS45*Q45)/BY45," ") -> 0.6 | CA45: =IFERROR((BT45*Q45)/BY45," ") -> 0.6 | CB45: =IFERROR((BU45*Q45)/BY45," ") -> 0 | CC45: =IFERROR((BV45*Q45)/BY45," ") -> 0 | CD45: =IFERROR((BW45*Q45)/BY45," ") -> 1.8 | CE45: =IFERROR((BX45*Q45)/BY45," ") -> 0 | CF45: =IFERROR((SUM(BZ45:CE45))," ") -> 3 | CG45: =SUM(BS45:BT45,CE45) -> 30 | CH45: =SUM(BT45:BU45) -> 15 | CI45: =SUM(BZ45:CA45,CE45) -> 1.2 | CJ45: =SUM(CA45:CB45) -> 0.6 | CK45: =Matryca!Q45 -> 3 | CL45: =Matryca!R45 -> 4 | CM45: =Matryca!S45 -> 3
...

Sheet Wskaźniki
A1: LP | B1: KOD_GPS | C1: Wskaźnik | D1: wg standardu | G1: realizacja wskaźnika | H1: uwagi do realizacji
D2: % | E2: suma godz./ECTS dyd. wg regulacji | F2: wskaźnik wg regulacji
A3: 1 | B3: GODZINY_ogolem | C3: Liczba godzin zajęć w cyklu kształcenia (zajęcia +praktyki) | G3: =SUM('Elektr_IIst-program szczegółowy'!O20:O42,'Elektr_IIst-program szczegółowy'!O44:O61) -> 1431 | H3: =IF(G3=F3,"OK","Wartość wymaga weryfikacji") -> Wartość wymaga weryfikacji
A4: 2 | C4: Minimalna liczba punktów ECTS w cyklu kształcenia | F4: 120 | G4: =SUM('Elektr_IIst-program szczegółowy'!Q20:Q42,'Elektr_IIst-program szczegółowy'!Q44:Q61) -> 124 | H4: =IF(G4=F4,"OK","Wartość wymaga weryfikacji") -> Wartość wymaga weryfikacji
A5: 3 | C5: Liczba godzin całkowitego nakładu pracy w cyklu kształcenia (zajęcia, praktyki i pracał własna studenta) | E5: =G4*25 -> 3100 | F5: =G4*30 -> 3720 | G5: =SUM('Elektr_IIst-program szczegółowy'!M20:M42,'Elektr_IIst-program szczegółowy'!M44:M61) -> 3146 | H5: =IF(G5=F5,"OK","Wartość wymaga weryfikacji") -> Wartość wymaga weryfikacji
A6: 4 | C6: Liczba godzin zajęć dydaktycznych w cyklu kształcenia- bez praktyk | F6: =G5/2 -> 1573 | G6: =G3-G14 -> 951 | H6: =IF(G6=F6,"OK","Wartość wymaga weryfikacji") -> Wartość wymaga weryfikacji
A7: 5 | B7: ECTS_bezposredni | C7: Minimalna liczba godzin z bezpośrednim udziałem nauczycieli akademickich lub innych osób prowadzących zajęcia- wg kolumny "U" | D7: 0.5 | E7: =G4 -> 124 | F7: 60 | G7: =SUM('Elektr_IIst-program szczegółowy'!U20:U42,'Elektr_IIst-program szczegółowy'!U44:U61) -> 56.211594 | H7: =IF(G7=F7,"OK","Wartość wymaga weryfikacji") -> Wartość wymaga weryfikacji
A8: 6 | B8: ECTS_online | C8: Liczba punktów ECTS przypisana do zajęć prowadzonych z wykorzystaniem metod i technik kształcenia na odległość -profil praktyczny | D8: 0.5 | E8: =G4 -> 124 | F8: =D8*E8 -> 62 | G8: =SUM('Elektr_IIst-program szczegółowy'!T20:T42,'Elektr_IIst-program szczegółowy'!T44:T61) -> 28.152381 | H8: =IF(G8=F8,"OK","Wartość wymaga weryfikacji") -> Wartość wymaga weryfikacji
C9: Liczba punktów ECTS przypisana do zajęć prowadzonych z wykorzystaniem metod i technik kształcenia na odległość -profil ogólnoakademicki | D9: 0.75 | E9: =G4 -> 124 | F9: =D9*E9 -> 93 | G9: =SUM('Elektr_IIst-program szczegółowy'!T20:T42,'Elektr_IIst-program szczegółowy'!T44:T61) -> 28.152381 | H9: =IF(G9=F9,"OK","Wartość wymaga weryfikacji") -> Wartość wymaga weryfikacji
A10: 7 | B10: ECTS_dyspozycja | C10: Minimalna liczba ECTS za zajęcia do wyboru | D10: 0.3 | E10: =G4 -> 124 | F10: =D10*E10 -> 37.2 | G10: =(SUMIF('Elektr_IIst-program szczegółowy'!G20:G62,"POW",'Elektr_IIst-program szczegółowy'!Q20:Q62))+(SUMIF('Elektr_IIst-program szczegółowy'!G20:G62,"PSW",'Elektr_IIst-program szczegółowy'!Q20:Q62)) -> 38 | H10: =IF(G10=F10,"OK","Wartość wymaga weryfikacji") -> Wartość wymaga weryfikacji
A11: 8 | B11: GODZINY_jezyki | C11: Liczba godzin zajęć z języka obcego | G11: =SUM('Elektr_IIst-program szczegółowy'!AN20:AN42,'Elektr_IIst-program szczegółowy'!AN44:AN61,'Elektr_IIst-program szczegółowy'!BK20:BK42,'Elektr_IIst-program szczegółowy'!BK44:BK61) -> 60 | H11: =IF(G11=F11,"OK","Wartość wymaga weryfikacji") -> Wartość wymaga weryfikacji
A12: 9 | B12: ECTS_jezyki | C12: Liczba ECTS za zajęcia z języka obcego | G12: =SUMIF('Elektr_IIst-program szczegółowy'!I20:I61,"język obcy",'Elektr_IIst-program szczegółowy'!Q20:Q61) -> 4 | H12: =IF(G12=F12,"OK","Wartość wymaga weryfikacji") -> Wartość wymaga weryfikacji | I12: zlicza zajęcia wg nazwy "język obcy"
A13: 10 | B13: ECTS_humanistyczne | C13: Minimalna liczba punktów ECTS za zajęcia z dziedziny nauk humanistycznych lub nauk społecznych | E13: 5 | F13: 5 | G13: =SUMIF('Elektr_IIst-program szczegółowy'!K20:K42,"tak",'Elektr_IIst-program szczegółowy'!Q20:Q42)+SUMIF('Elektr_IIst-program szczegółowy'!K44:K61,"tak",'Elektr_IIst-program szczegółowy'!Q44:Q61) -> 8 | H13: =IF(G13=F13,"OK","Wartość wymaga weryfikacji") -> Wartość wymaga weryfikacji
A14: 11 | B14: GODZINY_praktyki | C14: Liczba godzin praktyk- profil praktyczny | D14: 3 miesiące | E14: 3m-cex4tygx30hx60min/45 min | F14: 480 | G14: =SUM('Elektr_IIst-program szczegółowy'!AQ20:AQ42,'Elektr_IIst-program szczegółowy'!AQ44:AQ61,'Elektr_IIst-program szczegółowy'!BN20:BN42,'Elektr_IIst-program szczegółowy'!BN44:BN61) -> 480 | H14: =IF(G14=F14,"OK","Wartość wymaga weryfikacji") -> OK | I14: 360h zegarowych co odpowiada 480h dydaktycznym
A15: 12 | B15: ECTS_praktyki | C15: Liczba ECTS za praktyki -profil praktyczny | G15: =(SUMIF('Elektr_IIst-program szczegółowy'!I20:I62,"*praktyki zawodowe*",'Elektr_IIst-program szczegółowy'!Q20:Q62))+(SUMIF('Elektr_IIst-program szczegółowy'!I20:I62,"*praktyka zawodowa*",'Elektr_IIst-program szczegółowy'!Q20:Q62)) -> 21 | H15: =IF(G15=F15,"OK","Wartość wymaga weryfikacji") -> Wartość wymaga weryfikacji
A16: 13 | B16: ECTS_profil_praktyczny | C16: Liczba punktów ECTS przyporządkowana do zajęć kształtujących umiejętności praktyczne w wymiarze większym niż 50% liczby punktów ECTS koniecznej do ukończenia studiów -profil praktyczny | D16: 0.5 | E16: =G4 -> 124 | F16: =D16*E16 -> 62 | G16: =ROUND((SUM('Elektr_IIst-program szczegółowy'!S20:S42,'Elektr_IIst-program szczegółowy'!S44:S61)),0) -> 63 | H16: =IF(G16=F16,"OK","Wartość wymaga weryfikacji") -> Wartość wymaga weryfikacji | I16: w przedmiotach oznaczonych w kolumnie "L" jako "tak"-formuła uwzględnia następujące formy zajęć: PP+PZ+CA+CN+CS+CL+CK
C17: Liczba punktów ECTS przyporządkowana zajęciom związanym z prowadzoną w uczelni działalnością naukową w dyscyplinie lub dyscyplinach, do których przyporządkowany jest kierunek studiów w wymiarze większym niż 50% liczby punktów ECTS koniecznej do ukończenia studiów-profil ogólnoakademicki | D17: 0.5 | E17: =G4 -> 124 | F17: =D17*E17 -> 62 | H17: =IF(G17=F17,"OK","Wartość wymaga weryfikacji") -> Wartość wymaga weryfikacji
A18: 14 | C18: Średnia liczba godzin pracy studenta przypadająca na 1 ECTS | E18: 25 | F18: 30 | G18: =G5/G4 -> 25.370968 | H18: =IF(G18=F18,"OK","Wartość wymaga weryfikacji") -> Wartość wymaga weryfikacji

Sheet Matryca
G2: Matryca
G5: Wydział | I5: Wydział Nauk o Zdrowiu
G6: Kierunek | I6: Elektroradiologia
G7: Cykl kształcenia | I7: 2026/2027-20027/2028
G8: Poziom kształcenia | I8: studia drugiego stopnia
G9: Profil kształcenia | I9: praktyczny
G10: Forma studiów | I10: niestacjonarne
G11: Liczba semestrów | I11: 4
G12: Łączna liczba godzin | I12: ='Elektr_IIst-program szczegółowy'!P72 -> 1431
G13: Łączna liczba ECTS | I13: 120
A16: Lp. | B16: kod grupy* | C16: Cykl kształcenia (nabór) | D16: Ścieżka** | E16: Rok studiów | F16: Rok akademicki | G16: Rodzaj zajęć*** (RPS, POW, PSW) | H16: ****Pula godzin (ze standardu, do dyspozycji uczelni (Autorska oferta uczelni)) | I16: Przedmiot (nazwa) | J16: łącznie dla przedmiotu | Q16: Suma efektów w poszczególnych kategoriach
J17: SUMA GODZIN PRZEDMIOTU | O17: ECTS | P17: forma zakończenia przedmiotu
J18: NAKŁAD PRACY STUDENTA (godz. dyd. + samodzielna praca) | K18: SAMODZIELNA PRACA STUDENTA | L18: GODZINY DYDAKTYCZNE | M18: W TYM TEORIA (WY+SE) | N18: GODZINY Z NAUCZYCIELEM | Q18: Wiedza | R18: Umiejetności | S18: Kompetencje społeczne | T18: Wiedza | BU18: Kształcenie ogólne | CA18: Umiejętności | CV18: Kompetencje społeczne | DC18: Wiedza | GO18: Umiejętności | KA18: Kompetencje społeczne | KP18: Wiedza | KQ18: Umiejetności | KR18: Kompetencje społeczne | KS18: Proporcje poszczególnych kategorii efektów dla przedmiotu
T19: K_W01 | U19: K_W02 | V19: K_W03 | W19: K_W04 | X19: K_W05 | Y19: K_W06 | Z19: K_W07 | AA19: K_W08 | AB19: K_W09 | AC19: K_W10 | AD19: K_W11 | AE19: K_W12 | AF19: K_W13 | AG19: K_W14 | AH19: K_W15 | AI19: K_W16 | AJ19: K_W17 | AK19: K_W18 | AL19: K_W19 | AM19: K_W20 | AN19: K_W21 | AO19: K_W22 | AP19: K_W23 | AQ19: K_W24 | AR19: K_W25 | AS19: K_W26 | AT19: K_W27 | AU19: K_W28 | AV19: K_W29 | AW19: K_W30 | AX19: K_W31 | AY19: K_W32 | AZ19: K_W33 | BA19: K_W34 | BB19: K_W35 | BC19: K_W36 | BD19: K_W37 | BE19: K_W38 | BF19: K_W39 | BG19: K_W40 | BH19: K_W41 | BI19: K_W42 | BJ19: K_W43 | BK19: K_W44 | BL19: K_W45 | BM19: K_W46 | BN19: K_W47 | BO19: K_W48 | BP19: K_W49 | BQ19: K_W50 | BR19: K_W51 | BS19: K_W52 | BT19: K_W53 | BU19: S.W1 | BV19: S.W2 | BW19: S.W3 | BX19: P.W1 | BY19: P.W2 | BZ19: P.W3 | CA19: K_U01 | CB19: K_U02 | CC19: K_U03 | CD19: K_U04 | CE19: K_U05 | CF19: K_U06 | CG19: K_U07 | CH19: K_U08 | CI19: K_U09 | CJ19: K_U10 | CK19: K_U11 | CL19: K_U12 | CM19: K_U13 | CN19: K_U14 | CO19: K_U15 | CP19: K_U16 | CQ19: K_U17 | CR19: K_U18 | CS19: K_U19 | CT19: K_U20 | CU19: K_U21 | CV19: K_K01 | CW19: K_K02 | CX19: K_K03 | CY19: K_K04 | CZ19: K_K05 | DA19: K_K06 | DB19: K_K07 | DC19: P_W01 | DD19: P_W02 | DE19: P_W03 | DF19: P_W04 | DG19: P_W05 | DH19: P_W06 | DI19: P_W07 | DJ19: P_W08 | DK19: P_W09 | DL19: P_W10 | DM19: P_W11 | DN19: P_W12 | DO19: P_W13 | DP19: P_W14 | DQ19: P_W15 | DR19: P_W16 | DS19: P_W17 | DT19: P_W18 | DU19: P_W19 | DV19: P_W20 | DW19: P_W21 | DX19: P_W22 | DY19: P_W23 | DZ19: P_W24 | EA19: P_W25 | EB19: P_W26 | EC19: P_W27 | ED19: P_W28 | EE19: P_W29 | EF19: P_W30 | EG19: P_W31 | EH19: P_W32 | EI19: P_W33 | EJ19: P_W34 | EK19: P_W35 | EL19: P_W36 | EM19: P_W37 | EN19: P_W38 | EO19: P_W39 | EP19: P_W40 | EQ19: P_W41 | ER19: P_W42 | ES19: P_W43 | ET19: P_W44 | EU19: P_W45 | EV19: P_W46 | EW19: P_W47 | EX19: P_W48 | EY19: P_W49 | EZ19: P_W50 | FA19: P_W51 | FB19: P_W52 | FC19: P_W53 | FD19: P_W54 | FE19: P_W55 | FF19: P_W56 | FG19: P_W57 | FH19: P_W58 | FI19: P_W59 | FJ19: P_W60 | FK19: P_W61 | FL19: P_W62 | FM19: P_W63 | FN19: P_W64 | FO19: P_W65 | FP19: P_W66 | FQ19: P_W67 | FR19: P_W68 | FS19: P_W69 | FT19: P_W70 | FU19: P_W71 | FV19: P_W72 | FW19: P_W73 | FX19: P_W74 | FY19: P_W75 | FZ19: P_W76 | GA19: P_W77 | GB19: P_W78 | GC19: P_W79 | GD19: P_W80 | GE19: P_W81 | GF19: P_W82 | GG19: P_W83 | GH19: P_W84 | GI19: P_W85 | GJ19: P_W86 | GK19: P_W87 | GL19: P_W88 | GM19: P_W89 | GN19: P_W90 | GO19: P_U01 | GP19: P_U02 | GQ19: P_U03 | GR19: P_U04 | GS19: P_U05 | GT19: P_U06 | GU19: P_U07 | GV19: P_U08 | GW19: P_U09 | GX19: P_U10 | GY19: P_U11 | GZ19: P_U12 | HA19: P_U13 | HB19: P_U14 | HC19: P_U15 | HD19: P_U16 | HE19: P_U17 | HF19: P_U18 | HG19: P_U19 | HH19: P_U20 | HI19: P_U21 | HJ19: P_U22 | HK19: P_U23 | HL19: P_U24 | HM19: P_U25 | HN19: P_U26 | HO19: P_U27 | HP19: P_U28 | HQ19: P_U29 | HR19: P_U30 | HS19: P_U31 | HT19: P_U32 | HU19: P_U33 | HV19: P_U34 | HW19: P_U35 | HX19: P_U36 | HY19: P_U37 | HZ19: P_U38 | IA19: P_U39 | IB19: P_U40 | IC19: P_U41 | ID19: P_U42 | IE19: P_U43 | IF19: P_U44 | IG19: P_U45 | IH19: P_U46 | II19: P_U47 | IJ19: P_U48 | IK19: P_U49 | IL19: P_U50 | IM19: P_U51 | IN19: P_U52 | IO19: P_U53 | IP19: P_U54 | IQ19: P_U55 | IR19: P_U56 | IS19: P_U57 | IT19: P_U58 | IU19: P_U59 | IV19: P_U60 | IW19: P_U61 | IX19: P_U62 | IY19: P_U63 | IZ19: P_U64 | JA19: P_U65 | JB19: P_U66 | JC19: P_U67 | JD19: P_U68 | JE19: P_U69 | JF19: P_U70 | JG19: P_U71 | JH19: P_U72 | JI19: P_U73 | JJ19: P_U74 | JK19: P_U75 | JL19: P_U76 | JM19: P_U77 | JN19: P_U78 | JO19: P_U79 | JP19: P_U80 | JQ19: P_U81 | JR19: P_U82 | JS19: P_U83 | JT19: P_U84 | JU19: P_U85 | JV19: P_U86 | JW19: P_U87 | JX19: P_U88 | JY19: P_U89 | JZ19: P_U90 | KA19: P_K01 | KB19: P_K02 | KC19: P_K03 | KD19: P_K04 | KE19: P_K05 | KF19: P_K06 | KG19: P_K07 | KH19: P_K08 | KI19: P_K09 | KJ19: P_K10 | KK19: P_K11 | KL19: P_K12 | KM19: P_K13 | KN19: P_K14 | KO19: P_K15
