Workbook

Sheet Elektr_IIst-program szczegółowy
G5: Wydział | I5: Wydział Nauk o Zdrowiu
G6: Kierunek | I6: Elektroradiologia | AM6: Szczegółowy Program Studiów dla cyklu kształcenia rozpoczynającego się w roku akademickim: 20../20..
G7: Cykl kształcenia | I7: 2026/2027-20027/2028 | AN7: uchwała Senatu nr…. z dnia …..202….
G8: Poziom kształcenia | I8: studia drugiego stopnia | AW8: Uniwersytetu Medycznego we Wrocławiu
G9: Profil kształcenia | I9: praktyczny | AW9: z dnia …..20.. r.
G10: Forma studiów | I10: niestacjonarne
G11: Liczba semestrów | I11: 4
G12: Łączna liczba godzin | I12: =P72 -> 1431
G13: Łączna liczba ECTS | I13: 120
A15: Lp. | B15: kod grupy* | C15: Cykl kształcenia (nabór) | D15: Ścieżka** | E15: Rok studiów | F15: Rok akademicki | G15: Rodzaj zajęć*** (RPS, POW, PSW) | H15: ****Pula godzin (ze standardu, do dyspozycji uczelni (Autorska oferta uczelni)) | I15: Przedmiot (nazwa) | J15: Czy przedmiot kształtuje kompetencje komunikacyjne | K15: Czy przedmiot humanistyczny lub społeczny | L15: Czy zajęcia kształtują umiejętności praktyczne | M15: łącznie dla przedmiotu | W15: semestr zimowy - I | AT15: semestr letni - II | BQ15: LICZBA GODZIN W PRZELICZENIU NA 1 ECTS | BS15: Nakład pracy- liczba godzin | BZ15: Nakład pracy- punktów ECTS | CG15: Wskaźiki- liczba godzin | CI15: Wskaźiki- punktów ECTS | CK15: Suma efektów w poszczególnych kategoriach
M16: SUMA GODZIN PRZEDMIOTU | Q16: SUMA PUNKTÓW ECTS ZA PRZEDMIOT | V16: forma zakończenia przedmiotu ***** | W16: forma zakończenia semestru ****** | X16: punkty ECTS w semestrze | Y16: nakład pracy studenta (godz. dyd. + samodzielna praca) | Z16: ogólna liczba godzin dydaktycznych | AA16: liczba godzin z nauczycielem | AB16: wykład (WY) | AD16: seminarium (SE) | AE16: ćwiczenia audytoryjne (CA) | AF16: ćwiczenia kierunkowe - niekliniczne (CN) | AG16: ćwiczenia w warunkach symulowanych (CS)******* | AJ16: ćwiczenia laboratoryjne (CL) | AK16: ćwiczenia kliniczne (CK) | AL16: zajęcia praktyczne przy pacjencie (PP) | AM16: ćwiczenia specjalistyczne - magisterskie (CM) | AN16: lektoraty (LE) | AO16: e-learning (EL) | AP16: zajęcia wychowania fizycznego (WF) | AQ16: praktyka zawodowa (PZ) | AR16: samokształcenie kierowane (SK) | AS16: samodzielna praca studenta | AT16: forma zakończenia semestru ****** | AU16: punkty ECTS w semestrze | AV16: całkowity nakład pracy studenta | AW16: ogólna liczba godzin dydaktycznych | AX16: liczba godzin z nauczycielem | AY16: wykład (WY) | BA16: seminarium (SE) | BB16: ćwiczenia audytoryjne CA) | BC16: ćwiczenia kierunkowe - niekliniczne (CN) | BD16: ćwiczenia w warunkach symulowanych (CS)******* | BG16: ćwiczenia laboratoryjne (CL) | BH16: ćwiczenia kliniczne (CK) | BI16: zajęcia praktyczne przy pacjencie (PP) | BJ16: ćwiczenia specjalistyczne - magisterskie (CM) | BK16: lektoraty (LE) | BL16: e-learning (EL) | BM16: zajęcia wychowania fizycznego (WF) | BN16: praktyka zawodowa (PZ) | BO16: samokształcenie kierowane (SK) | BP16: samodzielna praca studenta | BS16: Kształcenie bezpośrednie stacjonarne | BT16: Kształcenie bezpośrednie z wykorzystaniem metod i technik kształcenia na odległość (synchroniczne) | BU16: Kształcenie asynchroniczne z wykorzystaniem metod i technik kształcenia na odległość | BV16: Samokształcenie kierowane (dotyczy tylko kierunków pielęgniarstwo i położnictwo) | BW16: Indywidualna praca własna studenta | BX16: Praktyka zawodowa | BY16: Łączny nakład pracy studenta | BZ16: Kształcenie bezpośrednie stacjonarne | CA16: Kształcenie bezpośrednie z wykorzystaniem metod i technik kształcenia na odległość (synchroniczne) | CB16: Kształcenie asynchroniczne z wykorzystaniem metod i technik kształcenia na odległość | CC16: Samokształcenie kierowane (dotyczy tylko kierunków pielęgniarstwo i położnictwo) | CD16: Indywidualna praca własna studenta | CE16: Praktyka zawodowa | CF16: Łączny nakład pracy studenta | CG16: Łącznie kształcenie bezpośrednie | CH16: Łącznie kształcenie z użyciem metod i technik kształcenia na odległość | CI16: Łącznie kształcenie bezpośrednie | CJ16: Łącznie kształcenie z użyciem metod i technik kształcenia na odległość
M17: NAKŁAD PRACY STUDENTA (godz. dyd. + samodzielna praca) | N17: SAMODZIELNA PRACA STUDENTA | O17: GODZINY DYDAKTYCZNE | P17: GODZINY Z NAUCZYCIELEM | Q17: Łącznie | R17: za zajecia praktyczne (PP) | S17: za zajęcia kształtujące umiejętności praktyczne | T17: za zajęcia z wykorzystaniem met i technik na odl. | U17: za zajęcia z bezpośrednim udziałem prowadzących | AB17: łącznie | AC17: w tym on-line | AG17: CSM WW | AH17: CSM NW | AI17: CSP NW | AY17: łącznie | AZ17: w tym on-line | BD17: CSM WW | BE17: CSM NW | BF17: CSP NW | BQ17: wartość | BR17: UWAGI | CK17: Wiedza | CL17: Umiejetności | CM17: Kompetencje społeczne
M18: 1 | N18: 2 | O18: 3 | P18: 4 | Q18: 5 | R18: 6 | S18: 7 | T18: 8 | U18: 9 | V18: 10 | W18: 11 | X18: 12 | Y18: 13 | Z18: 14 | AA18: 15 | AB18: 16 | AC18: 17 | AD18: 18 | AE18: 19 | AF18: 20 | AG18: 21 | AH18: 22 | AI18: 23 | AJ18: 24 | AK18: 25 | AL18: 26 | AM18: 27 | AN18: 28 | AO18: 29 | AP18: 30 | AQ18: 31 | AR18: 32 | AS18: 33 | AT18: 34 | AU18: 35 | AV18: 36 | AW18: 37 | AX18: 38 | AY18: 39 | AZ18: 40 | BA18: 41 | BB18: 42 | BC18: 43 | BD18: 44 | BE18: 45 | BF18: 46 | BG18: 47 | BH18: 48 | BI18: 49 | BJ18: 50 | BK18: 51 | BL18: 52 | BM18: 53 | BN18: 54 | BO18: 55 | BP18: 56 | BQ18: 57 | BR18: 58
M19: 13+36 | N19: 33+56 | O19: 14+37 | P19: 15+38 | Q19: 12+35 | R19: (26+49)*5/3 | S19: jeżeli L="tak"(19:26;31;42:49;54)*5/3 | T19: (17+29+40+52)*5/3 | U19: (suma(16;18:28;30:31)+suma(39;41:51;53:54))*5/1 | Y19: 14+33 | Z19: 15+32 | AA19: (suma 16-31)-17 | AV19: 37+56 | AW19: 38+55 | AX19: (suma 39-54)-40 | BQ19: 1/5
A20: 1 | C20: 2026/2027 | E20: 1 | F20: 2026/2027 | G20: RPS | I20: Zawansowane techniki radiologiczne | L20: tak | M20: =Y20+AV20 -> 75 | N20: =AS20+BP20 -> 50 | O20: =Z20+AW20 -> 25 | P20: =AA20+AX20 -> 25 | Q20: =X20+AU20 -> 3 | R20: =IFERROR((AL20+BI20)*Q20/O20," ") -> 0 | S20: =IFERROR(IF(L20="tak",(SUM(AE20:AL20,AQ20,BB20:BI20,BN20))*Q20/O20,0),0) -> 1.8 | T20: =IFERROR((AC20+AO20+AZ20+BL20)*Q20/O20," ") -> 1.2 | U20: =IFERROR((SUM(AB20,AD20:AN20,AP20:AQ20,AY20,BA20:BK20,BM20:BN20)*Q20/M20)," ") -> 1 | V20: egz | W20: zal | X20: 3 | Y20: =AS20+Z20 -> 75 | Z20: =AR20+AA20 -> 25 | AA20: =(SUM(AB20:AQ20))-AC20 -> 25 | AB20: 10 | AC20: 10 | AE20: 15 | AS20: 50 | AV20: =BP20+AW20 -> 0 | AW20: =BO20+AX20 -> 0 | AX20: =(SUM(AY20:BN20))-AZ20 -> 0 | BQ20: =IFERROR(M20/Q20," ") -> 25 | BR20: =IF(OR(BQ20>30,BQ20<25),"1 ECTS powinien mieścić się przedziale 25-30h","Wartość prawidłowa") -> Wartość prawidłowa | BS20: =SUM(AB20,AD20:AP20,AY20,BA20:BM20)-AC20-AZ20-AO20-BL20 -> 15 | BT20: =AC20+AZ20 -> 10 | BU20: =AO20+BL20 -> 0 | BV20: =AR20+BO20 -> 0 | BW20: =N20 -> 50 | BX20: =AQ20+BN20 -> 0 | BY20: =SUM(BS20:BX20) -> 75 | BZ20: =IFERROR((BS20*Q20)/BY20," ") -> 0.6 | CA20: =IFERROR((BT20*Q20)/BY20," ") -> 0.4 | CB20: =IFERROR((BU20*Q20)/BY20," ") -> 0 | CC20: =IFERROR((BV20*Q20)/BY20," ") -> 0 | CD20: =IFERROR((BW20*Q20)/BY20," ") -> 2 | CE20: =IFERROR((BX20*Q20)/BY20," ") -> 0 | CF20: =IFERROR((SUM(BZ20:CE20))," ") -> 3 | CG20: =SUM(BS20:BT20,CE20) -> 25 | CH20: =SUM(BT20:BU20) -> 10 | CI20: =SUM(BZ20:CA20,CE20) -> 1 | CJ20: =SUM(CA20:CB20) -> 0.4 | CK20: =Matryca!Q20 -> 9 | CL20: =Matryca!R20 -> 3 | CM20: =Matryca!S20 -> 1
A21: 2 | C21: 2026/2027 | E21: 1 | F21: 2026/2027 | G21: RPS | I21: Tomografia komputerowa serca i układu krążenia | L21: tak | M21: =Y21+AV21 -> 50 | N21: =AS21+BP21 -> 25 | O21: =Z21+AW21 -> 25 | P21: =AA21+AX21 -> 25 | Q21: =X21+AU21 -> 2 | R21: =IFERROR((AL21+BI21)*Q21/O21," ") -> 0 | S21: =IFERROR(IF(L21="tak",(SUM(AE21:AL21,AQ21,BB21:BI21,BN21))*Q21/O21,0),0) -> 1.2 | T21: =IFERROR((AC21+AO21+AZ21+BL21)*Q21/O21," ") -> 0.8 | U21: =IFERROR((SUM(AB21,AD21:AN21,AP21:AQ21,AY21,BA21:BK21,BM21:BN21)*Q21/M21)," ") -> 1 | V21: zal/oc | W21: zal/oc | X21: 2 | Y21: =AS21+Z21 -> 50 | Z21: =AR21+AA21 -> 25 | AA21: =(SUM(AB21:AQ21))-AC21 -> 25 | AB21: 10 | AC21: 10 | AE21: 15 | AS21: 25 | AV21: =BP21+AW21 -> 0 | AW21: =BO21+AX21 -> 0 | AX21: =(SUM(AY21:BN21))-AZ21 -> 0 | BQ21: =IFERROR(M21/Q21," ") -> 25 | BR21: =IF(OR(BQ21>30,BQ21<25),"1 ECTS powinien mieścić się przedziale 25-30h","Wartość prawidłowa") -> Wartość prawidłowa | BS21: =SUM(AB21,AD21:AP21,AY21,BA21:BM21)-AC21-AZ21-AO21-BL21 -> 15 | BT21: =AC21+AZ21 -> 10 | BU21: =AO21+BL21 -> 0 | BV21: =AR21+BO21 -> 0 | BW21: =N21 -> 25 | BX21: =AQ21+BN21 -> 0 | BY21: =SUM(BS21:BX21) -> 50 | BZ21: =IFERROR((BS21*Q21)/BY21," ") -> 0.6 | CA21: =IFERROR((BT21*Q21)/BY21," ") -> 0.4 | CB21: =IFERROR((BU21*Q21)/BY21," ") -> 0 | CC21: =IFERROR((BV21*Q21)/BY21," ") -> 0 | CD21: =IFERROR((BW21*Q21)/BY21," ") -> 1 | CE21: =IFERROR((BX21*Q21)/BY21," ") -> 0 | CF21: =IFERROR((SUM(BZ21:CE21))," ") -> 2 | CG21: =SUM(BS21:BT21,CE21) -> 25 | CH21: =SUM(BT21:BU21) -> 10 | CI21: =SUM(BZ21:CA21,CE21) -> 1 | CJ21: =SUM(CA21:CB21) -> 0.4 | CK21: =Matryca!Q21 -> 2 | CL21: =Matryca!R21 -> 4 | CM21: =Matryca!S21 -> 1
A22: 3 | C22: 2026/2027 | E22: 1 | F22: 2026/2027 | G22: RPS | I22: Zaawansowane techniki rezonansu magnetycznego (MR) w neurologii | L22: tak | M22: =Y22+AV22 -> 50 | N22: =AS22+BP22 -> 25 | O22: =Z22+AW22 -> 25 | P22: =AA22+AX22 -> 25 | Q22: =X22+AU22 -> 2 | R22: =IFERROR((AL22+BI22)*Q22/O22," ") -> 0 | S22: =IFERROR(IF(L22="tak",(SUM(AE22:AL22,AQ22,BB22:BI22,BN22))*Q22/O22,0),0) -> 1.2 | T22: =IFERROR((AC22+AO22+AZ22+BL22)*Q22/O22," ") -> 0.8 | U22: =IFERROR((SUM(AB22,AD22:AN22,AP22:AQ22,AY22,BA22:BK22,BM22:BN22)*Q22/M22)," ") -> 1 | V22: zal/oc | W22: zal/oc | X22: 2 | Y22: =AS22+Z22 -> 50 | Z22: =AR22+AA22 -> 25 | AA22: =(SUM(AB22:AQ22))-AC22 -> 25 | AB22: 10 | AC22: 10 | AE22: 15 | AS22: 25 | AV22: =BP22+AW22 -> 0 | AW22: =BO22+AX22 -> 0 | AX22: =(SUM(AY22:BN22))-AZ22 -> 0 | BQ22: =IFERROR(M22/Q22," ") -> 25 | BR22: =IF(OR(BQ22>30,BQ22<25),"1 ECTS powinien mieścić się przedziale 25-30h","Wartość prawidłowa") -> Wartość prawidłowa | BS22: =SUM(AB22,AD22:AP22,AY22,BA22:BM22)-AC22-AZ22-AO22-BL22 -> 15 | BT22: =AC22+AZ22 -> 10 | BU22: =AO22+BL22 -> 0 | BV22: =AR22+BO22 -> 0 | BW22: =N22 -> 25 | BX22: =AQ22+BN22 -> 0 | BY22: =SUM(BS22:BX22) -> 50 | BZ22: =IFERROR((BS22*Q22)/BY22," ") -> 0.6 | CA22: =IFERROR((BT22*Q22)/BY22," ") -> 0.4 | CB22: =IFERROR((BU22*Q22)/BY22," ") -> 0 | CC22: =IFERROR((BV22*Q22)/BY22," ") -> 0 | CD22: =IFERROR((BW22*Q22)/BY22," ") -> 1 | CE22: =IFERROR((BX22*Q22)/BY22," ") -> 0 | CF22: =IFERROR((SUM(BZ22:CE22))," ") -> 2 | CG22: =SUM(BS22:BT22,CE22) -> 25 | CH22: =SUM(BT22:BU22) -> 10 | CI22: =SUM(BZ22:CA22,CE22) -> 1 | CJ22: =SUM(CA22:CB22) -> 0.4 | CK22: =Matryca!Q22 -> 3 | CL22: =Matryca!R22 -> 4 | CM22: =Matryca!S22 -> 2
A23: 4 | C23: 2026/2027 | E23: 1 | F23: 2026/2027 | G23: RPS | I23: Zaawansowane techniki rezonansu magnetycznego (MR) w kardiologii | L23: tak | M23: =Y23+AV23 -> 50 | N23: =AS23+BP23 -> 25 | O23: =Z23+AW23 -> 25 | P23: =AA23+AX23 -> 25 | Q23: =X23+AU23 -> 2 | R23: =IFERROR((AL23+BI23)*Q23/O23," ") -> 0 | S23: =IFERROR(IF(L23="tak",(SUM(AE23:AL23,AQ23,BB23:BI23,BN23))*Q23/O23,0),0) -> 1.2 | T23: =IFERROR((AC23+AO23+AZ23+BL23)*Q23/O23," ") -> 0.8 | U23: =IFERROR((SUM(AB23,AD23:AN23,AP23:AQ23,AY23,BA23:BK23,BM23:BN23)*Q23/M23)," ") -> 1 | V23: zal/oc | W23: zal/oc | X23: 2 | Y23: =AS23+Z23 -> 50 | Z23: =AR23+AA23 -> 25 | AA23: =(SUM(AB23:AQ23))-AC23 -> 25 | AB23: 10 | AC23: 10 | AE23: 15 | AS23: 25 | AV23: =BP23+AW23 -> 0 | AW23: =BO23+AX23 -> 0 | AX23: =(SUM(AY23:BN23))-AZ23 -> 0 | BQ23: =IFERROR(M23/Q23," ") -> 25 | BR23: =IF(OR(BQ23>30,BQ23<25),"1 ECTS powinien mieścić się przedziale 25-30h","Wartość prawidłowa") -> Wartość prawidłowa | BS23: =SUM(AB23,AD23:AP23,AY23,BA23:BM23)-AC23-AZ23-AO23-BL23 -> 15 | BT23: =AC23+AZ23 -> 10 | BU23: =AO23+BL23 -> 0 | BV23: =AR23+BO23 -> 0 | BW23: =N23 -> 25 | BX23: =AQ23+BN23 -> 0 | BY23: =SUM(BS23:BX23) -> 50 | BZ23: =IFERROR((BS23*Q23)/BY23," ") -> 0.6 | CA23: =IFERROR((BT23*Q23)/BY23," ") -> 0.4 | CB23: =IFERROR((BU23*Q23)/BY23," ") -> 0 | CC23: =IFERROR((BV23*Q23)/BY23," ") -> 0 | CD23: =IFERROR((BW23*Q23)/BY23," ") -> 1 | CE23: =IFERROR((BX23*Q23)/BY23," ") -> 0 | CF23: =IFERROR((SUM(BZ23:CE23))," ") -> 2 | CG23: =SUM(BS23:BT23,CE23) -> 25 | CH23: =SUM(BT23:BU23) -> 10 | CI23: =SUM(BZ23:CA23,CE23) -> 1 | CJ23: =SUM(CA23:CB23) -> 0.4 | CK23: =Matryca!Q23 -> 5 | CL23: =Matryca!R23 -> 4 | CM23: =Matryca!S23 -> 2
A24: 5 | C24: 2026/2027 | E24: 1 | F24: 2026/2027 | G24: RPS | I24: Zajęcia praktyczne: Tomografia komputerowa (TK) | L24: tak | M24: =Y24+AV24 -> 50 | N24: =AS24+BP24 -> 20 | O24: =Z24+AW24 -> 30 | P24: =AA24+AX24 -> 30 | Q24: =X24+AU24 -> 2 | R24: =IFERROR((AL24+BI24)*Q24/O24," ") -> 0 | S24: =IFERROR(IF(L24="tak",(SUM(AE24:AL24,AQ24,BB24:BI24,BN24))*Q24/O24,0),0) -> 2 | T24: =IFERROR((AC24+AO24+AZ24+BL24)*Q24/O24," ") -> 0 | U24: =IFERROR((SUM(AB24,AD24:AN24,AP24:AQ24,AY24,BA24:BK24,BM24:BN24)*Q24/M24)," ") -> 1.2 | V24: zal | W24: zal | X24: 2 | Y24: =AS24+Z24 -> 50 | Z24: =AR24+AA24 -> 30 | AA24: =(SUM(AB24:AQ24))-AC24 -> 30 | AK24: 30 | AS24: 20 | AV24: =BP24+AW24 -> 0 | AW24: =BO24+AX24 -> 0 | AX24: =(SUM(AY24:BN24))-AZ24 -> 0 | BQ24: =IFERROR(M24/Q24," ") -> 25 | BR24: =IF(OR(BQ24>30,BQ24<25),"1 ECTS powinien mieścić się przedziale 25-30h","Wartość prawidłowa") -> Wartość prawidłowa | BS24: =SUM(AB24,AD24:AP24,AY24,BA24:BM24)-AC24-AZ24-AO24-BL24 -> 30 | BT24: =AC24+AZ24 -> 0 | BU24: =AO24+BL24 -> 0 | BV24: =AR24+BO24 -> 0 | BW24: =N24 -> 20 | BX24: =AQ24+BN24 -> 0 | BY24: =SUM(BS24:BX24) -> 50 | BZ24: =IFERROR((BS24*Q24)/BY24," ") -> 1.2 | CA24: =IFERROR((BT24*Q24)/BY24," ") -> 0 | CB24: =IFERROR((BU24*Q24)/BY24," ") -> 0 | CC24: =IFERROR((BV24*Q24)/BY24," ") -> 0 | CD24: =IFERROR((BW24*Q24)/BY24," ") -> 0.8 | CE24: =IFERROR((BX24*Q24)/BY24," ") -> 0 | CF24: =IFERROR((SUM(BZ24:CE24))," ") -> 2 | CG24: =SUM(BS24:BT24,CE24) -> 30 | CH24: =SUM(BT24:BU24) -> 0 | CI24: =SUM(BZ24:CA24,CE24) -> 1.2 | CJ24: =SUM(CA24:CB24) -> 0 | CK24: =Matryca!Q24 -> 2 | CL24: =Matryca!R24 -> 5 | CM24: =Matryca!S24 -> 2
A25: 6 | C25: 2026/2027 | E25: 1 | F25: 2026/2027 | G25: RPS | I25: Zajęcia praktyczne: Rezonans magnetyczny (MR) | L25: tak | M25: =Y25+AV25 -> 50 | N25: =AS25+BP25 -> 20 | O25: =Z25+AW25 -> 30 | P25: =AA25+AX25 -> 30 | Q25: =X25+AU25 -> 2 | R25: =IFERROR((AL25+BI25)*Q25/O25," ") -> 0 | S25: =IFERROR(IF(L25="tak",(SUM(AE25:AL25,AQ25,BB25:BI25,BN25))*Q25/O25,0),0) -> 2 | T25: =IFERROR((AC25+AO25+AZ25+BL25)*Q25/O25," ") -> 0 | U25: =IFERROR((SUM(AB25,AD25:AN25,AP25:AQ25,AY25,BA25:BK25,BM25:BN25)*Q25/M25)," ") -> 1.2 | V25: zal | W25: zal | X25: 2 | Y25: =AS25+Z25 -> 50 | Z25: =AR25+AA25 -> 30 | AA25: =(SUM(AB25:AQ25))-AC25 -> 30 | AK25: 30 | AS25: 20 | AV25: =BP25+AW25 -> 0 | AW25: =BO25+AX25 -> 0 | AX25: =(SUM(AY25:BN25))-AZ25 -> 0 | BQ25: =IFERROR(M25/Q25," ") -> 25 | BR25: =IF(OR(BQ25>30,BQ25<25),"1 ECTS powinien mieścić się przedziale 25-30h","Wartość prawidłowa") -> Wartość prawidłowa | BS25: =SUM(AB25,AD25:AP25,AY25,BA25:BM25)-AC25-AZ25-AO25-BL25 -> 30 | BT25: =AC25+AZ25 -> 0 | BU25: =AO25+BL25 -> 0 | BV25: =AR25+BO25 -> 0 | BW25: =N25 -> 20 | BX25: =AQ25+BN25 -> 0 | BY25: =SUM(BS25:BX25) -> 50 | BZ25: =IFERROR((BS25*Q25)/BY25," ") -> 1.2 | CA25: =IFERROR((BT25*Q25)/BY25," ") -> 0 | CB25: =IFERROR((BU25*Q25)/BY25," ") -> 0 | CC25: =IFERROR((BV25*Q25)/BY25," ") -> 0 | CD25: =IFERROR((BW25*Q25)/BY25," ") -> 0.8 | CE25: =IFERROR((BX25*Q25)/BY25," ") -> 0 | CF25: =IFERROR((SUM(BZ25:CE25))," ") -> 2 | CG25: =SUM(BS25:BT25,CE25) -> 30 | CH25: =SUM(BT25:BU25) -> 0 | CI25: =SUM(BZ25:CA25,CE25) -> 1.2 | CJ25: =SUM(CA25:CB25) -> 0 | CK25: =Matryca!Q25 -> 5 | CL25: =Matryca!R25 -> 5 | CM25: =Matryca!S25 -> 2
A26: 7 | C26: 2026/2027 | E26: 1 | F26: 2026/2027 | G26: RPS | I26: Metody i techniki badań naukowych | K26: tak | M26: =Y26+AV26 -> 50 | N26: =AS26+BP26 -> 20 | O26: =Z26+AW26 -> 30 | P26: =AA26+AX26 -> 30 | Q26: =X26+AU26 -> 2 | R26: =IFERROR((AL26+BI26)*Q26/O26," ") -> 0 | S26: =IFERROR(IF(L26="tak",(SUM(AE26:AL26,AQ26,BB26:BI26,BN26))*Q26/O26,0),0) -> 0 | T26: =IFERROR((AC26+AO26+AZ26+BL26)*Q26/O26," ") -> 0.66666667 | U26: =IFERROR((SUM(AB26,AD26:AN26,AP26:AQ26,AY26,BA26:BK26,BM26:BN26)*Q26/M26)," ") -> 1.2 | V26: zal/oc | W26: zal/oc | X26: 2 | Y26: =AS26+Z26 -> 50 | Z26: =AR26+AA26 -> 30 | AA26: =(SUM(AB26:AQ26))-AC26 -> 30 | AB26: 10 | AC26: 10 | AE26: 20 | AS26: 20 | AV26: =BP26+AW26 -> 0 | AW26: =BO26+AX26 -> 0 | AX26: =(SUM(AY26:BN26))-AZ26 -> 0 | BQ26: =IFERROR(M26/Q26," ") -> 25 | BR26: =IF(OR(BQ26>30,BQ26<25),"1 ECTS powinien mieścić się przedziale 25-30h","Wartość prawidłowa") -> Wartość prawidłowa | BS26: =SUM(AB26,AD26:AP26,AY26,BA26:BM26)-AC26-AZ26-AO26-BL26 -> 20 | BT26: =AC26+AZ26 -> 10 | BU26: =AO26+BL26 -> 0 | BV26: =AR26+BO26 -> 0 | BW26: =N26 -> 20 | BX26: =AQ26+BN26 -> 0 | BY26: =SUM(BS26:BX26) -> 50 | BZ26: =IFERROR((BS26*Q26)/BY26," ") -> 0.8 | CA26: =IFERROR((BT26*Q26)/BY26," ") -> 0.4 | CB26: =IFERROR((BU26*Q26)/BY26," ") -> 0 | CC26: =IFERROR((BV26*Q26)/BY26," ") -> 0 | CD26: =IFERROR((BW26*Q26)/BY26," ") -> 0.8 | CE26: =IFERROR((BX26*Q26)/BY26," ") -> 0 | CF26: =IFERROR((SUM(BZ26:CE26))," ") -> 2 | CG26: =SUM(BS26:BT26,CE26) -> 30 | CH26: =SUM(BT26:BU26) -> 10 | CI26: =SUM(BZ26:CA26,CE26) -> 1.2 | CJ26: =SUM(CA26:CB26) -> 0.4 | CK26: =Matryca!Q26 -> 3 | CL26: =Matryca!R26 -> 4 | CM26: =Matryca!S26 -> 1
A27: 8 | C27: 2026/2027 | E27: 1 | F27: 2026/2027 | G27: POW | I27: Zdrowie środowiskowe / Zagrożenia epidemiologiczne | L27: tak | M27: =Y27+AV27 -> 75 | N27: =AS27+BP27 -> 50 | O27: =Z27+AW27 -> 25 | P27: =AA27+AX27 -> 25 | Q27: =X27+AU27 -> 3 | R27: =IFERROR((AL27+BI27)*Q27/O27," ") -> 0 | S27: =IFERROR(IF(L27="tak",(SUM(AE27:AL27,AQ27,BB27:BI27,BN27))*Q27/O27,0),0) -> 1.8 | T27: =IFERROR((AC27+AO27+AZ27+BL27)*Q27/O27," ") -> 1.2 | U27: =IFERROR((SUM(AB27,AD27:AN27,AP27:AQ27,AY27,BA27:BK27,BM27:BN27)*Q27/M27)," ") -> 1 | V27: zal | W27: zal | X27: 3 | Y27: =AS27+Z27 -> 75 | Z27: =AR27+AA27 -> 25 | AA27: =(SUM(AB27:AQ27))-AC27 -> 25 | AB27: 10 | AC27: 10 | AE27: 15 | AS27: 50 | AV27: =BP27+AW27 -> 0 | AW27: =BO27+AX27 -> 0 | AX27: =(SUM(AY27:BN27))-AZ27 -> 0 | BQ27: =IFERROR(M27/Q27," ") -> 25 | BR27: =IF(OR(BQ27>30,BQ27<25),"1 ECTS powinien mieścić się przedziale 25-30h","Wartość prawidłowa") -> Wartość prawidłowa | BS27: =SUM(AB27,AD27:AP27,AY27,BA27:BM27)-AC27-AZ27-AO27-BL27 -> 15 | BT27: =AC27+AZ27 -> 10 | BU27: =AO27+BL27 -> 0 | BV27: =AR27+BO27 -> 0 | BW27: =N27 -> 50 | BX27: =AQ27+BN27 -> 0 | BY27: =SUM(BS27:BX27) -> 75 | BZ27: =IFERROR((BS27*Q27)/BY27," ") -> 0.6 | CA27: =IFERROR((BT27*Q27)/BY27," ") -> 0.4 | CB27: =IFERROR((BU27*Q27)/BY27," ") -> 0 | CC27: =IFERROR((BV27*Q27)/BY27," ") -> 0 | CD27: =IFERROR((BW27*Q27)/BY27," ") -> 2 | CE27: =IFERROR((BX27*Q27)/BY27," ") -> 0 | CF27: =IFERROR((SUM(BZ27:CE27))," ") -> 3 | CG27: =SUM(BS27:BT27,CE27) -> 25 | CH27: =SUM(BT27:BU27) -> 10 | CI27: =SUM(BZ27:CA27,CE27) -> 1 | CJ27: =SUM(CA27:CB27) -> 0.4 | CK27: =Matryca!Q27 -> 4 | CL27: =Matryca!R27 -> 3 | CM27: =Matryca!S27 -> 2
A28: 9 | C28: 2026/2027 | E28: 1 | F28: 2026/2027 | G28: RPS | I28: Praktyka zawodowa 1 | L28: tak | M28: =Y28+AV28 -> 75 | N28: =AS28+BP28 -> 15 | O28: =Z28+AW28 -> 60 | P28: =AA28+AX28 -> 60 | Q28: =X28+AU28 -> 3 | R28: =IFERROR((AL28+BI28)*Q28/O28," ") -> 0 | S28: =IFERROR(IF(L28="tak",(SUM(AE28:AL28,AQ28,BB28:BI28,BN28))*Q28/O28,0),0) -> 3 | T28: =IFERROR((AC28+AO28+AZ28+BL28)*Q28/O28," ") -> 0 | U28: =IFERROR((SUM(AB28,AD28:AN28,AP28:AQ28,AY28,BA28:BK28,BM28:BN28)*Q28/M28)," ") -> 2.4 | V28: zal | W28: zal | X28: 3 | Y28: =AS28+Z28 -> 75 | Z28: =AR28+AA28 -> 60 | AA28: =(SUM(AB28:AQ28))-AC28 -> 60 | AQ28: 60 | AS28: 15 | AV28: =BP28+AW28 -> 0 | AW28: =BO28+AX28 -> 0 | AX28: =(SUM(AY28:BN28))-AZ28 -> 0 | BQ28: =IFERROR(M28/Q28," ") -> 25 | BR28: =IF(OR(BQ28>30,BQ28<25),"1 ECTS powinien mieścić się przedziale 25-30h","Wartość prawidłowa") -> Wartość prawidłowa | BS28: =SUM(AB28,AD28:AP28,AY28,BA28:BM28)-AC28-AZ28-AO28-BL28 -> 0 | BT28: =AC28+AZ28 -> 0 | BU28: =AO28+BL28 -> 0 | BV28: =AR28+BO28 -> 0 | BW28: =N28 -> 15 | BX28: =AQ28+BN28 -> 60 | BY28: =SUM(BS28:BX28) -> 75 | BZ28: =IFERROR((BS28*Q28)/BY28," ") -> 0 | CA28: =IFERROR((BT28*Q28)/BY28," ") -> 0 | CB28: =IFERROR((BU28*Q28)/BY28," ") -> 0 | CC28: =IFERROR((BV28*Q28)/BY28," ") -> 0 | CD28: =IFERROR((BW28*Q28)/BY28," ") -> 0.6 | CE28: =IFERROR((BX28*Q28)/BY28," ") -> 2.4 | CF28: =IFERROR((SUM(BZ28:CE28))," ") -> 3 | CG28: =SUM(BS28:BT28,CE28) -> 2.4 | CH28: =SUM(BT28:BU28) -> 0 | CI28: =SUM(BZ28:CA28,CE28) -> 2.4 | CJ28: =SUM(CA28:CB28) -> 0 | CK28: =Matryca!Q28 -> 2 | CL28: =Matryca!R28 -> 6 | CM28: =Matryca!S28 -> 3
A29: 10 | C29: 2026/2027 | E29: 1 | F29: 2026/2027 | G29: RPS | I29: Język obcy | M29: =Y29+AV29 -> 100 | N29: =AS29+BP29 -> 40 | O29: =Z29+AW29 -> 60 | P29: =AA29+AX29 -> 60 | Q29: =X29+AU29 -> 4 | R29: =IFERROR((AL29+BI29)*Q29/O29," ") -> 0 | S29: =IFERROR(IF(L29="tak",(SUM(AE29:AL29,AQ29,BB29:BI29,BN29))*Q29/O29,0),0) -> 0 | T29: =IFERROR((AC29+AO29+AZ29+BL29)*Q29/O29," ") -> 0 | U29: =IFERROR((SUM(AB29,AD29:AN29,AP29:AQ29,AY29,BA29:BK29,BM29:BN29)*Q29/M29)," ") -> 2.4 | V29: zal/o | W29: zal/oc | X29: 2 | Y29: =AS29+Z29 -> 50 | Z29: =AR29+AA29 -> 30 | AA29: =(SUM(AB29:AQ29))-AC29 -> 30 | AN29: 30 | AS29: 20 | AT29: zal/oc | AU29: 2 | AV29: =BP29+AW29 -> 50 | AW29: =BO29+AX29 -> 30 | AX29: =(SUM(AY29:BN29))-AZ29 -> 30 | BK29: 30 | BP29: 20 | BQ29: =IFERROR(M29/Q29," ") -> 25 | BR29: =IF(OR(BQ29>30,BQ29<25),"1 ECTS powinien mieścić się przedziale 25-30h","Wartość prawidłowa") -> Wartość prawidłowa | BS29: =SUM(AB29,AD29:AP29,AY29,BA29:BM29)-AC29-AZ29-AO29-BL29 -> 60 | BT29: =AC29+AZ29 -> 0 | BU29: =AO29+BL29 -> 0 | BV29: =AR29+BO29 -> 0 | BW29: =N29 -> 40 | BX29: =AQ29+BN29 -> 0 | BY29: =SUM(BS29:BX29) -> 100 | BZ29: =IFERROR((BS29*Q29)/BY29," ") -> 2.4 | CA29: =IFERROR((BT29*Q29)/BY29," ") -> 0 | CB29: =IFERROR((BU29*Q29)/BY29," ") -> 0 | CC29: =IFERROR((BV29*Q29)/BY29," ") -> 0 | CD29: =IFERROR((BW29*Q29)/BY29," ") -> 1.6 | CE29: =IFERROR((BX29*Q29)/BY29," ") -> 0 | CF29: =IFERROR((SUM(BZ29:CE29))," ") -> 4 | CG29: =SUM(BS29:BT29,CE29) -> 60 | CH29: =SUM(BT29:BU29) -> 0 | CI29: =SUM(BZ29:CA29,CE29) -> 2.4 | CJ29: =SUM(CA29:CB29) -> 0 | CK29: =Matryca!Q29 -> 0 | CL29: =Matryca!R29 -> 3 | CM29: =Matryca!S29 -> 1
A30: 11 | C30: 2026/2027 | E30: 1 | F30: 2026/2027 | G30: RPS | I30: Radiologia zabiegowa | L30: tak | M30: =Y30+AV30 -> 50 | N30: =AS30+BP30 -> 25 | O30: =Z30+AW30 -> 25 | P30: =AA30+AX30 -> 25 | Q30: =X30+AU30 -> 2 | R30: =IFERROR((AL30+BI30)*Q30/O30," ") -> 0 | S30: =IFERROR(IF(L30="tak",(SUM(AE30:AL30,AQ30,BB30:BI30,BN30))*Q30/O30,0),0) -> 1.2 | T30: =IFERROR((AC30+AO30+AZ30+BL30)*Q30/O30," ") -> 0.8 | U30: =IFERROR((SUM(AB30,AD30:AN30,AP30:AQ30,AY30,BA30:BK30,BM30:BN30)*Q30/M30)," ") -> 1 | V30: zal/o | Y30: =AS30+Z30 -> 0 | Z30: =AR30+AA30 -> 0 | AA30: =(SUM(AB30:AQ30))-AC30 -> 0 | AT30: zal/o | AU30: 2 | AV30: =BP30+AW30 -> 50 | AW30: =BO30+AX30 -> 25 | AX30: =(SUM(AY30:BN30))-AZ30 -> 25 | AY30: 10 | AZ30: 10 | BB30: 15 | BP30: 25 | BQ30: =IFERROR(M30/Q30," ") -> 25 | BR30: =IF(OR(BQ30>30,BQ30<25),"1 ECTS powinien mieścić się przedziale 25-30h","Wartość prawidłowa") -> Wartość prawidłowa | BS30: =SUM(AB30,AD30:AP30,AY30,BA30:BM30)-AC30-AZ30-AO30-BL30 -> 15 | BT30: =AC30+AZ30 -> 10 | BU30: =AO30+BL30 -> 0 | BV30: =AR30+BO30 -> 0 | BW30: =N30 -> 25 | BX30: =AQ30+BN30 -> 0 | BY30: =SUM(BS30:BX30) -> 50 | BZ30: =IFERROR((BS30*Q30)/BY30," ") -> 0.6 | CA30: =IFERROR((BT30*Q30)/BY30," ") -> 0.4 | CB30: =IFERROR((BU30*Q30)/BY30," ") -> 0 | CC30: =IFERROR((BV30*Q30)/BY30," ") -> 0 | CD30: =IFERROR((BW30*Q30)/BY30," ") -> 1 | CE30: =IFERROR((BX30*Q30)/BY30," ") -> 0 | CF30: =IFERROR((SUM(BZ30:CE30))," ") -> 2 | CG30: =SUM(BS30:BT30,CE30) -> 25 | CH30: =SUM(BT30:BU30) -> 10 | CI30: =SUM(BZ30:CA30,CE30) -> 1 | CJ30: =SUM(CA30:CB30) -> 0.4 | CK30: =Matryca!Q30 -> 4 | CL30: =Matryca!R30 -> 5 | CM30: =Matryca!S30 -> 3
A31: 12 | C31: 2026/2027 | E31: 1 | F31: 2026/2027 | G31: RPS | I31: Zajęcia praktyczne: Radiologia zabiegowa | L31: tak | M31: =Y31+AV31 -> 50 | N31: =AS31+BP31 -> 20 | O31: =Z31+AW31 -> 30 | P31: =AA31+AX31 -> 30 | Q31: =X31+AU31 -> 2 | R31: =IFERROR((AL31+BI31)*Q31/O31," ") -> 0 | S31: =IFERROR(IF(L31="tak",(SUM(AE31:AL31,AQ31,BB31:BI31,BN31))*Q31/O31,0),0) -> 2 | T31: =IFERROR((AC31+AO31+AZ31+BL31)*Q31/O31," ") -> 0 | U31: =IFERROR((SUM(AB31,AD31:AN31,AP31:AQ31,AY31,BA31:BK31,BM31:BN31)*Q31/M31)," ") -> 1.2 | V31: zal | Y31: =AS31+Z31 -> 0 | Z31: =AR31+AA31 -> 0 | AA31: =(SUM(AB31:AQ31))-AC31 -> 0 | AT31: zal | AU31: 2 | AV31: =BP31+AW31 -> 50 | AW31: =BO31+AX31 -> 30 | AX31: =(SUM(AY31:BN31))-AZ31 -> 30 | BH31: 30 | BP31: 20 | BQ31: =IFERROR(M31/Q31," ") -> 25 | BR31: =IF(OR(BQ31>30,BQ31<25),"1 ECTS powinien mieścić się przedziale 25-30h","Wartość prawidłowa") -> Wartość prawidłowa | BS31: =SUM(AB31,AD31:AP31,AY31,BA31:BM31)-AC31-AZ31-AO31-BL31 -> 30 | BT31: =AC31+AZ31 -> 0 | BU31: =AO31+BL31 -> 0 | BV31: =AR31+BO31 -> 0 | BW31: =N31 -> 20 | BX31: =AQ31+BN31 -> 0 | BY31: =SUM(BS31:BX31) -> 50 | BZ31: =IFERROR((BS31*Q31)/BY31," ") -> 1.2 | CA31: =IFERROR((BT31*Q31)/BY31," ") -> 0 | CB31: =IFERROR((BU31*Q31)/BY31," ") -> 0 | CC31: =IFERROR((BV31*Q31)/BY31," ") -> 0 | CD31: =IFERROR((BW31*Q31)/BY31," ") -> 0.8 | CE31: =IFERROR((BX31*Q31)/BY31," ") -> 0 | CF31: =IFERROR((SUM(BZ31:CE31))," ") -> 2 | CG31: =SUM(BS31:BT31,CE31) -> 30 | CH31: =SUM(BT31:BU31) -> 0 | CI31: =SUM(BZ31:CA31,CE31) -> 1.2 | CJ31: =SUM(CA31:CB31) -> 0 | CK31: =Matryca!Q31 -> 3 | CL31: =Matryca!R31 -> 6 | CM31: =Matryca!S31 -> 3
A32: 13 | C32: 2026/2027 | E32: 1 | F32: 2026/2027 | G32: RPS | I32: Procedury wzorcowe | L32: tak | M32: =Y32+AV32 -> 75 | N32: =AS32+BP32 -> 50 | O32: =Z32+AW32 -> 25 | P32: =AA32+AX32 -> 25 | Q32: =X32+AU32 -> 3 | R32: =IFERROR((AL32+BI32)*Q32/O32," ") -> 0 | S32: =IFERROR(IF(L32="tak",(SUM(AE32:AL32,AQ32,BB32:BI32,BN32))*Q32/O32,0),0) -> 1.8 | T32: =IFERROR((AC32+AO32+AZ32+BL32)*Q32/O32," ") -> 1.2 | U32: =IFERROR((SUM(AB32,AD32:AN32,AP32:AQ32,AY32,BA32:BK32,BM32:BN32)*Q32/M32)," ") -> 1 | V32: zal/o | Y32: =AS32+Z32 -> 0 | Z32: =AR32+AA32 -> 0 | AA32: =(SUM(AB32:AQ32))-AC32 -> 0 | AT32: zal/o | AU32: 3 | AV32: =BP32+AW32 -> 75 | AW32: =BO32+AX32 -> 25 | AX32: =(SUM(AY32:BN32))-AZ32 -> 25 | AY32: 10 | AZ32: 10 | BB32: 15 | BP32: 50 | BQ32: =IFERROR(M32/Q32," ") -> 25 | BR32: =IF(OR(BQ32>30,BQ32<25),"1 ECTS powinien mieścić się przedziale 25-30h","Wartość prawidłowa") -> Wartość prawidłowa | BS32: =SUM(AB32,AD32:AP32,AY32,BA32:BM32)-AC32-AZ32-AO32-BL32 -> 15 | BT32: =AC32+AZ32 -> 10 | BU32: =AO32+BL32 -> 0 | BV32: =AR32+BO32 -> 0 | BW32: =N32 -> 50 | BX32: =AQ32+BN32 -> 0 | BY32: =SUM(BS32:BX32) -> 75 | BZ32: =IFERROR((BS32*Q32)/BY32," ") -> 0.6 | CA32: =IFERROR((BT32*Q32)/BY32," ") -> 0.4 | CB32: =IFERROR((BU32*Q32)/BY32," ") -> 0 | CC32: =IFERROR((BV32*Q32)/BY32," ") -> 0 | CD32: =IFERROR((BW32*Q32)/BY32," ") -> 2 | CE32: =IFERROR((BX32*Q32)/BY32," ") -> 0 | CF32: =IFERROR((SUM(BZ32:CE32))," ") -> 3 | CG32: =SUM(BS32:BT32,CE32) -> 25 | CH32: =SUM(BT32:BU32) -> 10 | CI32: =SUM(BZ32:CA32,CE32) -> 1 | CJ32: =SUM(CA32:CB32) -> 0.4 | CK32: =Matryca!Q32 -> 12 | CL32: =Matryca!R32 -> 5 | CM32: =Matryca!S32 -> 2
A33: 14 | C33: 2026/2027 | E33: 1 | F33: 2026/2027 | G33: RPS | I33: Transformacja cyfrowa w zdrowiu: od e-zdrowia do teleopieki | L33: tak | M33: =Y33+AV33 -> 75 | N33: =AS33+BP33 -> 55 | O33: =Z33+AW33 -> 20 | P33: =AA33+AX33 -> 20 | Q33: =X33+AU33 -> 2 | R33: =IFERROR((AL33+BI33)*Q33/O33," ") -> 0 | S33: =IFERROR(IF(L33="tak",(SUM(AE33:AL33,AQ33,BB33:BI33,BN33))*Q33/O33,0),0) -> 1 | T33: =IFERROR((AC33+AO33+AZ33+BL33)*Q33/O33," ") -> 1 | U33: =IFERROR((SUM(AB33,AD33:AN33,AP33:AQ33,AY33,BA33:BK33,BM33:BN33)*Q33/M33)," ") -> 0.53333333 | V33: zal | Y33: =AS33+Z33 -> 0 | Z33: =AR33+AA33 -> 0 | AA33: =(SUM(AB33:AQ33))-AC33 -> 0 | AT33: zal | AU33: 2 | AV33: =BP33+AW33 -> 75 | AW33: =BO33+AX33 -> 20 | AX33: =(SUM(AY33:BN33))-AZ33 -> 20 | AY33: 10 | AZ33: 10 | BB33: 10 | BP33: 55 | BQ33: =IFERROR(M33/Q33," ") -> 37.5 | BR33: =IF(OR(BQ33>30,BQ33<25),"1 ECTS powinien mieścić się przedziale 25-30h","Wartość prawidłowa") -> 1 ECTS powinien mieścić się przedziale 25-30h | BS33: =SUM(AB33,AD33:AP33,AY33,BA33:BM33)-AC33-AZ33-AO33-BL33 -> 10 | BT33: =AC33+AZ33 -> 10 | BU33: =AO33+BL33 -> 0 | BV33: =AR33+BO33 -> 0 | BW33: =N33 -> 55 | BX33: =AQ33+BN33 -> 0 | BY33: =SUM(BS33:BX33) -> 75 | BZ33: =IFERROR((BS33*Q33)/BY33," ") -> 0.26666667 | CA33: =IFERROR((BT33*Q33)/BY33," ") -> 0.26666667 | CB33: =IFERROR((BU33*Q33)/BY33," ") -> 0 | CC33: =IFERROR((BV33*Q33)/BY33," ") -> 0 | CD33: =IFERROR((BW33*Q33)/BY33," ") -> 1.4666667 | CE33: =IFERROR((BX33*Q33)/BY33," ") -> 0 | CF33: =IFERROR((SUM(BZ33:CE33))," ") -> 2 | CG33: =SUM(BS33:BT33,CE33) -> 20 | CH33: =SUM(BT33:BU33) -> 10 | CI33: =SUM(BZ33:CA33,CE33) -> 0.53333333 | CJ33: =SUM(CA33:CB33) -> 0.26666667 | CK33: =Matryca!Q33 -> 4 | CL33: =Matryca!R33 -> 2 | CM33: =Matryca!S33 -> 2
A34: 15 | C34: 2026/2027 | E34: 1 | F34: 2026/2027 | G34: RPS | I34: Prawo medyczne | M34: =Y34+AV34 -> 50 | N34: =AS34+BP34 -> 30 | O34: =Z34+AW34 -> 20 | P34: =AA34+AX34 -> 20 | Q34: =X34+AU34 -> 2 | R34: =IFERROR((AL34+BI34)*Q34/O34," ") -> 0 | S34: =IFERROR(IF(L34="tak",(SUM(AE34:AL34,AQ34,BB34:BI34,BN34))*Q34/O34,0),0) -> 0 | T34: =IFERROR((AC34+AO34+AZ34+BL34)*Q34/O34," ") -> 1 | U34: =IFERROR((SUM(AB34,AD34:AN34,AP34:AQ34,AY34,BA34:BK34,BM34:BN34)*Q34/M34)," ") -> 0.8 | V34: zal | Y34: =AS34+Z34 -> 0 | Z34: =AR34+AA34 -> 0 | AA34: =(SUM(AB34:AQ34))-AC34 -> 0 | AT34: zal | AU34: 2 | AV34: =BP34+AW34 -> 50 | AW34: =BO34+AX34 -> 20 | AX34: =(SUM(AY34:BN34))-AZ34 -> 20 | AY34: 10 | AZ34: 10 | BA34: 10 | BP34: 30 | BQ34: =IFERROR(M34/Q34," ") -> 25 | BR34: =IF(OR(BQ34>30,BQ34<25),"1 ECTS powinien mieścić się przedziale 25-30h","Wartość prawidłowa") -> Wartość prawidłowa | BS34: =SUM(AB34,AD34:AP34,AY34,BA34:BM34)-AC34-AZ34-AO34-BL34 -> 10 | BT34: =AC34+AZ34 -> 10 | BU34: =AO34+BL34 -> 0 | BV34: =AR34+BO34 -> 0 | BW34: =N34 -> 30 | BX34: =AQ34+BN34 -> 0 | BY34: =SUM(BS34:BX34) -> 50 | BZ34: =IFERROR((BS34*Q34)/BY34," ") -> 0.4 | CA34: =IFERROR((BT34*Q34)/BY34," ") -> 0.4 | CB34: =IFERROR((BU34*Q34)/BY34," ") -> 0 | CC34: =IFERROR((BV34*Q34)/BY34," ") -> 0 | CD34: =IFERROR((BW34*Q34)/BY34," ") -> 1.2 | CE34: =IFERROR((BX34*Q34)/BY34," ") -> 0 | CF34: =IFERROR((SUM(BZ34:CE34))," ") -> 2 | CG34: =SUM(BS34:BT34,CE34) -> 20 | CH34: =SUM(BT34:BU34) -> 10 | CI34: =SUM(BZ34:CA34,CE34) -> 0.8 | CJ34: =SUM(CA34:CB34) -> 0.4 | CK34: =Matryca!Q34 -> 7 | CL34: =Matryca!R34 -> 1 | CM34: =Matryca!S34 -> 3
A35: 16 | C35: 2026/2027 | E35: 1 | F35: 2026/2027 | G35: RPS | I35: Evidence Based Medicine (EBM) | M35: =Y35+AV35 -> 50 | N35: =AS35+BP35 -> 20 | O35: =Z35+AW35 -> 30 | P35: =AA35+AX35 -> 30 | Q35: =X35+AU35 -> 2 | R35: =IFERROR((AL35+BI35)*Q35/O35," ") -> 0 | S35: =IFERROR(IF(L35="tak",(SUM(AE35:AL35,AQ35,BB35:BI35,BN35))*Q35/O35,0),0) -> 0 | T35: =IFERROR((AC35+AO35+AZ35+BL35)*Q35/O35," ") -> 1 | U35: =IFERROR((SUM(AB35,AD35:AN35,AP35:AQ35,AY35,BA35:BK35,BM35:BN35)*Q35/M35)," ") -> 1.2 | V35: zal/o | Y35: =AS35+Z35 -> 0 | Z35: =AR35+AA35 -> 0 | AA35: =(SUM(AB35:AQ35))-AC35 -> 0 | AT35: zal/o | AU35: 2 | AV35: =BP35+AW35 -> 50 | AW35: =BO35+AX35 -> 30 | AX35: =(SUM(AY35:BN35))-AZ35 -> 30 | AY35: 15 | AZ35: 15 | BB35: 15 | BP35: 20 | BQ35: =IFERROR(M35/Q35," ") -> 25 | BR35: =IF(OR(BQ35>30,BQ35<25),"1 ECTS powinien mieścić się przedziale 25-30h","Wartość prawidłowa") -> Wartość prawidłowa | BS35: =SUM(AB35,AD35:AP35,AY35,BA35:BM35)-AC35-AZ35-AO35-BL35 -> 15 | BT35: =AC35+AZ35 -> 15 | BU35: =AO35+BL35 -> 0 | BV35: =AR35+BO35 -> 0 | BW35: =N35 -> 20 | BX35: =AQ35+BN35 -> 0 | BY35: =SUM(BS35:BX35) -> 50 | BZ35: =IFERROR((BS35*Q35)/BY35," ") -> 0.6 | CA35: =IFERROR((BT35*Q35)/BY35," ") -> 0.6 | CB35: =IFERROR((BU35*Q35)/BY35," ") -> 0 | CC35: =IFERROR((BV35*Q35)/BY35," ") -> 0 | CD35: =IFERROR((BW35*Q35)/BY35," ") -> 0.8 | CE35: =IFERROR((BX35*Q35)/BY35," ") -> 0 | CF35: =IFERROR((SUM(BZ35:CE35))," ") -> 2 | CG35: =SUM(BS35:BT35,CE35) -> 30 | CH35: =SUM(BT35:BU35) -> 15 | CI35: =SUM(BZ35:CA35,CE35) -> 1.2 | CJ35: =SUM(CA35:CB35) -> 0.6 | CK35: =Matryca!Q35 -> 3 | CL35: =Matryca!R35 -> 4 | CM35: =Matryca!S35 -> 2
A36: 17 | C36: 2026/2027 | E36: 1 | F36: 2026/2027 | G36: RPS | I36: Pielęgniarstwo radiologiczne | L36: tak | M36: =Y36+AV36 -> 50 | N36: =AS36+BP36 -> 30 | O36: =Z36+AW36 -> 20 | P36: =AA36+AX36 -> 20 | Q36: =X36+AU36 -> 2 | R36: =IFERROR((AL36+BI36)*Q36/O36," ") -> 0 | S36: =IFERROR(IF(L36="tak",(SUM(AE36:AL36,AQ36,BB36:BI36,BN36))*Q36/O36,0),0) -> 0 | T36: =IFERROR((AC36+AO36+AZ36+BL36)*Q36/O36," ") -> 1 | U36: =IFERROR((SUM(AB36,AD36:AN36,AP36:AQ36,AY36,BA36:BK36,BM36:BN36)*Q36/M36)," ") -> 0.8 | V36: zal | Y36: =AS36+Z36 -> 0 | Z36: =AR36+AA36 -> 0 | AA36: =(SUM(AB36:AQ36))-AC36 -> 0 | AT36: zal | AU36: 2 | AV36: =BP36+AW36 -> 50 | AW36: =BO36+AX36 -> 20 | AX36: =(SUM(AY36:BN36))-AZ36 -> 20 | AY36: 10 | AZ36: 10 | BA36: 10 | BP36: 30 | BQ36: =IFERROR(M36/Q36," ") -> 25 | BR36: =IF(OR(BQ36>30,BQ36<25),"1 ECTS powinien mieścić się przedziale 25-30h","Wartość prawidłowa") -> Wartość prawidłowa | BS36: =SUM(AB36,AD36:AP36,AY36,BA36:BM36)-AC36-AZ36-AO36-BL36 -> 10 | BT36: =AC36+AZ36 -> 10 | BU36: =AO36+BL36 -> 0 | BV36: =AR36+BO36 -> 0 | BW36: =N36 -> 30 | BX36: =AQ36+BN36 -> 0 | BY36: =SUM(BS36:BX36) -> 50 | BZ36: =IFERROR((BS36*Q36)/BY36," ") -> 0.4 | CA36: =IFERROR((BT36*Q36)/BY36," ") -> 0.4 | CB36: =IFERROR((BU36*Q36)/BY36," ") -> 0 | CC36: =IFERROR((BV36*Q36)/BY36," ") -> 0 | CD36: =IFERROR((BW36*Q36)/BY36," ") -> 1.2 | CE36: =IFERROR((BX36*Q36)/BY36," ") -> 0 | CF36: =IFERROR((SUM(BZ36:CE36))," ") -> 2 | CG36: =SUM(BS36:BT36,CE36) -> 20 | CH36: =SUM(BT36:BU36) -> 10 | CI36: =SUM(BZ36:CA36,CE36) -> 0.8 | CJ36: =SUM(CA36:CB36) -> 0.4 | CK36: =Matryca!Q36 -> 8 | CL36: =Matryca!R36 -> 3 | CM36: =Matryca!S36 -> 3
A37: 18 | C37: 2026/2027 | E37: 1 | F37: 2026/2027 | G37: POW | I37: Seminarium dyplomowe | M37: =Y37+AV37 -> 75 | N37: =AS37+BP37 -> 60 | O37: =Z37+AW37 -> 15 | P37: =AA37+AX37 -> 15 | Q37: =X37+AU37 -> 3 | R37: =IFERROR((AL37+BI37)*Q37/O37," ") -> 0 | S37: =IFERROR(IF(L37="tak",(SUM(AE37:AL37,AQ37,BB37:BI37,BN37))*Q37/O37,0),0) -> 0 | T37: =IFERROR((AC37+AO37+AZ37+BL37)*Q37/O37," ") -> 0 | U37: =IFERROR((SUM(AB37,AD37:AN37,AP37:AQ37,AY37,BA37:BK37,BM37:BN37)*Q37/M37)," ") -> 0.6 | V37: zal | Y37: =AS37+Z37 -> 0 | Z37: =AR37+AA37 -> 0 | AA37: =(SUM(AB37:AQ37))-AC37 -> 0 | AT37: zal | AU37: 3 | AV37: =BP37+AW37 -> 75 | AW37: =BO37+AX37 -> 15 | AX37: =(SUM(AY37:BN37))-AZ37 -> 15 | BA37: 15 | BP37: 60 | BQ37: =IFERROR(M37/Q37," ") -> 25 | BR37: =IF(OR(BQ37>30,BQ37<25),"1 ECTS powinien mieścić się przedziale 25-30h","Wartość prawidłowa") -> Wartość prawidłowa | BS37: =SUM(AB37,AD37:AP37,AY37,BA37:BM37)-AC37-AZ37-AO37-BL37 -> 15 | BT37: =AC37+AZ37 -> 0 | BU37: =AO37+BL37 -> 0 | BV37: =AR37+BO37 -> 0 | BW37: =N37 -> 60 | BX37: =AQ37+BN37 -> 0 | BY37: =SUM(BS37:BX37) -> 75 | BZ37: =IFERROR((BS37*Q37)/BY37," ") -> 0.6 | CA37: =IFERROR((BT37*Q37)/BY37," ") -> 0 | CB37: =IFERROR((BU37*Q37)/BY37," ") -> 0 | CC37: =IFERROR((BV37*Q37)/BY37," ") -> 0 | CD37: =IFERROR((BW37*Q37)/BY37," ") -> 2.4 | CE37: =IFERROR((BX37*Q37)/BY37," ") -> 0 | CF37: =IFERROR((SUM(BZ37:CE37))," ") -> 3 | CG37: =SUM(BS37:BT37,CE37) -> 15 | CH37: =SUM(BT37:BU37) -> 0 | CI37: =SUM(BZ37:CA37,CE37) -> 0.6 | CJ37: =SUM(CA37:CB37) -> 0 | CK37: =Matryca!Q37 -> 3 | CL37: =Matryca!R37 -> 4 | CM37: =Matryca!S37 -> 1
A38: 19 | C38: 2026/2027 | E38: 1 | F38: 2026/2027 | G38: RPS | I38: Praktyka zawodowa 2 | L38: tak | M38: =Y38+AV38 -> 175 | N38: =AS38+BP38 -> 15 | O38: =Z38+AW38 -> 160 | P38: =AA38+AX38 -> 160 | Q38: =X38+AU38 -> 7 | R38: =IFERROR((AL38+BI38)*Q38/O38," ") -> 0 | S38: =IFERROR(IF(L38="tak",(SUM(AE38:AL38,AQ38,BB38:BI38,BN38))*Q38/O38,0),0) -> 7 | T38: =IFERROR((AC38+AO38+AZ38+BL38)*Q38/O38," ") -> 0 | U38: =IFERROR((SUM(AB38,AD38:AN38,AP38:AQ38,AY38,BA38:BK38,BM38:BN38)*Q38/M38)," ") -> 6.4 | V38: zal | Y38: =AS38+Z38 -> 0 | Z38: =AR38+AA38 -> 0 | AA38: =(SUM(AB38:AQ38))-AC38 -> 0 | AT38: zal | AU38: 7 | AV38: =BP38+AW38 -> 175 | AW38: =BO38+AX38 -> 160 | AX38: =(SUM(AY38:BN38))-AZ38 -> 160 | BN38: 160 | BP38: 15 | BQ38: =IFERROR(M38/Q38," ") -> 25 | BR38: =IF(OR(BQ38>30,BQ38<25),"1 ECTS powinien mieścić się przedziale 25-30h","Wartość prawidłowa") -> Wartość prawidłowa | BS38: =SUM(AB38,AD38:AP38,AY38,BA38:BM38)-AC38-AZ38-AO38-BL38 -> 0 | BT38: =AC38+AZ38 -> 0 | BU38: =AO38+BL38 -> 0 | BV38: =AR38+BO38 -> 0 | BW38: =N38 -> 15 | BX38: =AQ38+BN38 -> 160 | BY38: =SUM(BS38:BX38) -> 175 | BZ38: =IFERROR((BS38*Q38)/BY38," ") -> 0 | CA38: =IFERROR((BT38*Q38)/BY38," ") -> 0 | CB38: =IFERROR((BU38*Q38)/BY38," ") -> 0 | CC38: =IFERROR((BV38*Q38)/BY38," ") -> 0 | CD38: =IFERROR((BW38*Q38)/BY38," ") -> 0.6 | CE38: =IFERROR((BX38*Q38)/BY38," ") -> 6.4 | CF38: =IFERROR((SUM(BZ38:CE38))," ") -> 7 | CG38: =SUM(BS38:BT38,CE38) -> 6.4 | CH38: =SUM(BT38:BU38) -> 0 | CI38: =SUM(BZ38:CA38,CE38) -> 6.4 | CJ38: =SUM(CA38:CB38) -> 0 | CK38: =Matryca!Q38 -> 4 | CL38: =Matryca!R38 -> 5 | CM38: =Matryca!S38 -> 3
A39: 20 | C39: 2026/2027 | E39: 1 | F39: 2026/2027 | G39: RPS | I39: Praktyka zawodowa 3 | L39: tak | M39: =Y39+AV39 -> 175 | N39: =AS39+BP39 -> 15 | O39: =Z39+AW39 -> 160 | P39: =AA39+AX39 -> 160 | Q39: =X39+AU39 -> 7 | R39: =IFERROR((AL39+BI39)*Q39/O39," ") -> 0 | S39: =IFERROR(IF(L39="tak",(SUM(AE39:AL39,AQ39,BB39:BI39,BN39))*Q39/O39,0),0) -> 7 | T39: =IFERROR((AC39+AO39+AZ39+BL39)*Q39/O39," ") -> 0 | U39: =IFERROR((SUM(AB39,AD39:AN39,AP39:AQ39,AY39,BA39:BK39,BM39:BN39)*Q39/M39)," ") -> 6.4 | V39: zal | Y39: =AS39+Z39 -> 0 | Z39: =AR39+AA39 -> 0 | AA39: =(SUM(AB39:AQ39))-AC39 -> 0 | AT39: zal | AU39: 7 | AV39: =BP39+AW39 -> 175 | AW39: =BO39+AX39 -> 160 | AX39: =(SUM(AY39:BN39))-AZ39 -> 160 | BN39: 160 | BP39: 15 | BQ39: =IFERROR(M39/Q39," ") -> 25 | BR39: =IF(OR(BQ39>30,BQ39<25),"1 ECTS powinien mieścić się przedziale 25-30h","Wartość prawidłowa") -> Wartość prawidłowa | BS39: =SUM(AB39,AD39:AP39,AY39,BA39:BM39)-AC39-AZ39-AO39-BL39 -> 0 | BT39: =AC39+AZ39 -> 0 | BU39: =AO39+BL39 -> 0 | BV39: =AR39+BO39 -> 0 | BW39: =N39 -> 15 | BX39: =AQ39+BN39 -> 160 | BY39: =SUM(BS39:BX39) -> 175 | BZ39: =IFERROR((BS39*Q39)/BY39," ") -> 0 | CA39: =IFERROR((BT39*Q39)/BY39," ") -> 0 | CB39: =IFERROR((BU39*Q39)/BY39," ") -> 0 | CC39: =IFERROR((BV39*Q39)/BY39," ") -> 0 | CD39: =IFERROR((BW39*Q39)/BY39," ") -> 0.6 | CE39: =IFERROR((BX39*Q39)/BY39," ") -> 6.4 | CF39: =IFERROR((SUM(BZ39:CE39))," ") -> 7 | CG39: =SUM(BS39:BT39,CE39) -> 6.4 | CH39: =SUM(BT39:BU39) -> 0 | CI39: =SUM(BZ39:CA39,CE39) -> 6.4 | CJ39: =SUM(CA39:CB39) -> 0 | CK39: =Matryca!Q39 -> 4 | CL39: =Matryca!R39 -> 4 | CM39: =Matryca!S39 -> 3
A40: 21 | C40: 2026/2027 | E40: 1 | F40: 2026/2027 | I40: Szkolenie BHP i P.P | M40: =Y40+AV40 -> 4 | N40: =AS40+BP40 -> 0 | O40: =Z40+AW40 -> 4 | P40: =AA40+AX40 -> 4 | Q40: =X40+AU40 -> 0 | R40: =IFERROR((AL40+BI40)*Q40/O40," ") -> 0 | S40: =IFERROR(IF(L40="tak",(SUM(AE40:AL40,AQ40,BB40:BI40,BN40))*Q40/O40,0),0) -> 0 | T40: =IFERROR((AC40+AO40+AZ40+BL40)*Q40/O40," ") -> 0 | U40: =IFERROR((SUM(AB40,AD40:AN40,AP40:AQ40,AY40,BA40:BK40,BM40:BN40)*Q40/M40)," ") -> 0 | V40: zal | W40: zal | X40: 0 | Y40: =AS40+Z40 -> 4 | Z40: =AR40+AA40 -> 4 | AA40: =(SUM(AB40:AQ40))-AC40 -> 4 | AO40: 4 | AV40: =BP40+AW40 -> 0 | AW40: =BO40+AX40 -> 0 | AX40: =(SUM(AY40:BN40))-AZ40 -> 0 | BQ40: =IFERROR(M40/Q40," ") | BR40: =IF(OR(BQ40>30,BQ40<25),"1 ECTS powinien mieścić się przedziale 25-30h","Wartość prawidłowa") -> 1 ECTS powinien mieścić się przedziale 25-30h | BS40: =SUM(AB40,AD40:AP40,AY40,BA40:BM40)-AC40-AZ40-AO40-BL40 -> 0 | BT40: =AC40+AZ40 -> 0 | BU40: =AO40+BL40 -> 4 | BV40: =AR40+BO40 -> 0 | BW40: =N40 -> 0 | BX40: =AQ40+BN40 -> 0 | BY40: =SUM(BS40:BX40) -> 4 | BZ40: =IFERROR((BS40*Q40)/BY40," ") -> 0 | CA40: =IFERROR((BT40*Q40)/BY40," ") -> 0 | CB40: =IFERROR((BU40*Q40)/BY40," ") -> 0 | CC40: =IFERROR((BV40*Q40)/BY40," ") -> 0 | CD40: =IFERROR((BW40*Q40)/BY40," ") -> 0 | CE40: =IFERROR((BX40*Q40)/BY40," ") -> 0 | CF40: =IFERROR((SUM(BZ40:CE40))," ") -> 0 | CG40: =SUM(BS40:BT40,CE40) -> 0 | CH40: =SUM(BT40:BU40) -> 4 | CI40: =SUM(BZ40:CA40,CE40) -> 0 | CJ40: =SUM(CA40:CB40) -> 0 | CK40: =Matryca!Q40 -> 3 | CL40: =Matryca!R40 -> 0 | CM40: =Matryca!S40 -> 0
A41: 22 | C41: 2026/2027 | E41: 1 | F41: 2026/2027 | I41: Przysposobienie biblioteczne | M41: =Y41+AV41 -> 2 | N41: =AS41+BP41 -> 0 | O41: =Z41+AW41 -> 2 | P41: =AA41+AX41 -> 2 | Q41: =X41+AU41 -> 0 | R41: =IFERROR((AL41+BI41)*Q41/O41," ") -> 0 | S41: =IFERROR(IF(L41="tak",(SUM(AE41:AL41,AQ41,BB41:BI41,BN41))*Q41/O41,0),0) -> 0 | T41: =IFERROR((AC41+AO41+AZ41+BL41)*Q41/O41," ") -> 0 | U41: =IFERROR((SUM(AB41,AD41:AN41,AP41:AQ41,AY41,BA41:BK41,BM41:BN41)*Q41/M41)," ") -> 0 | V41: zal | W41: zal | X41: 0 | Y41: =AS41+Z41 -> 2 | Z41: =AR41+AA41 -> 2 | AA41: =(SUM(AB41:AQ41))-AC41 -> 2 | AO41: 2 | AV41: =BP41+AW41 -> 0 | AW41: =BO41+AX41 -> 0 | AX41: =(SUM(AY41:BN41))-AZ41 -> 0 | BQ41: =IFERROR(M41/Q41," ") | BR41: =IF(OR(BQ41>30,BQ41<25),"1 ECTS powinien mieścić się przedziale 25-30h","Wartość prawidłowa") -> 1 ECTS powinien mieścić się przedziale 25-30h | BS41: =SUM(AB41,AD41:AP41,AY41,BA41:BM41)-AC41-AZ41-AO41-BL41 -> 0 | BT41: =AC41+AZ41 -> 0 | BU41: =AO41+BL41 -> 2 | BV41: =AR41+BO41 -> 0 | BW41: =N41 -> 0 | BX41: =AQ41+BN41 -> 0 | BY41: =SUM(BS41:BX41) -> 2 | BZ41: =IFERROR((BS41*Q41)/BY41," ") -> 0 | CA41: =IFERROR((BT41*Q41)/BY41," ") -> 0 | CB41: =IFERROR((BU41*Q41)/BY41," ") -> 0 | CC41: =IFERROR((BV41*Q41)/BY41," ") -> 0 | CD41: =IFERROR((BW41*Q41)/BY41," ") -> 0 | CE41: =IFERROR((BX41*Q41)/BY41," ") -> 0 | CF41: =IFERROR((SUM(BZ41:CE41))," ") -> 0 | CG41: =SUM(BS41:BT41,CE41) -> 0 | CH41: =SUM(BT41:BU41) -> 2 | CI41: =SUM(BZ41:CA41,CE41) -> 0 | CJ41: =SUM(CA41:CB41) -> 0 | CK41: =Matryca!Q41 -> 3 | CL41: =Matryca!R41 -> 0 | CM41: =Matryca!S41 -> 0
A42: 23 | C42: 2026/2027 | E42: 1 | F42: 2027/2028 | G42: POW | I42: Żywienie w profilaktyce chorób/ Profilaktyka swoista i badania przesiewowe | L42: tak | M42: =Y42+AV42 -> 75 | N42: =AS42+BP42 -> 50 | O42: =Z42+AW42 -> 25 | P42: =AA42+AX42 -> 25 | Q42: =X42+AU42 -> 3 | R42: =IFERROR((AL42+BI42)*Q42/O42," ") -> 0 | S42: =IFERROR(IF(L42="tak",(SUM(AE42:AL42,AQ42,BB42:BI42,BN42))*Q42/O42,0),0) -> 1.8 | T42: =IFERROR((AC42+AO42+AZ42+BL42)*Q42/O42," ") -> 1.2 | U42: =IFERROR((SUM(AB42,AD42:AN42,AP42:AQ42,AY42,BA42:BK42,BM42:BN42)*Q42/M42)," ") -> 1 | V42: zal | W42: zal | X42: 3 | Y42: =AS42+Z42 -> 50 | Z42: =AR42+AA42 -> 0 | AA42: =(SUM(AB42:AQ42))-AC42 -> 0 | AS42: 50 | AV42: =BP42+AW42 -> 25 | AW42: =BO42+AX42 -> 25 | AX42: =(SUM(AY42:BN42))-AZ42 -> 25 | AY42: 10 | AZ42: 10 | BB42: 15 | BQ42: =IFERROR(M42/Q42," ") -> 25 | BR42: =IF(OR(BQ42>30,BQ42<25),"1 ECTS powinien mieścić się przedziale 25-30h","Wartość prawidłowa") -> Wartość prawidłowa | BS42: =SUM(AB42,AD42:AP42,AY42,BA42:BM42)-AC42-AZ42-AO42-BL42 -> 15 | BT42: =AC42+AZ42 -> 10 | BU42: =AO42+BL42 -> 0 | BV42: =AR42+BO42 -> 0 | BW42: =N42 -> 50 | BX42: =AQ42+BN42 -> 0 | BY42: =SUM(BS42:BX42) -> 75 | BZ42: =IFERROR((BS42*Q42)/BY42," ") -> 0.6 | CA42: =IFERROR((BT42*Q42)/BY42," ") -> 0.4 | CB42: =IFERROR((BU42*Q42)/BY42," ") -> 0 | CC42: =IFERROR((BV42*Q42)/BY42," ") -> 0 | CD42: =IFERROR((BW42*Q42)/BY42," ") -> 2 | CE42: =IFERROR((BX42*Q42)/BY42," ") -> 0 | CF42: =IFERROR((SUM(BZ42:CE42))," ") -> 3 | CG42: =SUM(BS42:BT42,CE42) -> 25 | CH42: =SUM(BT42:BU42) -> 10 | CI42: =SUM(BZ42:CA42,CE42) -> 1 | CJ42: =SUM(CA42:CB42) -> 0.4 | CK42: =Matryca!Q42 -> 0 | CL42: =Matryca!R42 -> 3 | CM42: =Matryca!S42 -> 2
I43: sumy dla 1 roku | J43: =COUNTIF(J20:J42,"tak") -> 0 | K43: =COUNTIF(K20:K42,"tak") -> 1 | L43: =COUNTIF(L20:L42,"tak") -> 16 | M43: =SUM(M20:M42) -> 1531 | N43: =SUM(N20:N42) -> 660 | O43: =SUM(O20:O42) -> 871 | P43: =SUM(P20:P42) -> 871 | Q43: =SUM(Q20:Q42) -> 60 | R43: =SUM(R20:R42) -> 0 | S43: =SUM(S20:S42) -> 36 | T43: =SUM(T20:T42) -> 12.666667 | ... BP43: =SUM(BP20:BP42) -> 340 | BS43: =SUM(BS20:BS42) -> 350 | BT43: =SUM(BT20:BT42) -> 135 | BU43: =SUM(BU20:BU42) -> 6 | BV43: =SUM(BV20:BV42) -> 0 | BW43: =SUM(BW20:BW42) -> 660 | BX43: =SUM(BX20:BX42) -> 380 | BY43: =SUM(BY20:BY42) -> 1531 | BZ43: =SUM(BZ20:BZ42) -> 13.866667 | ... CM43: =SUM(CM20:CM42) -> 44
A44: 24 | C44: 2026/2027 | E44: 2 | F44: 2027/2028 | G44: RPS | I44: Zaawansowane badania TK i MR w pediatrii | L44: tak | M44: =Y44+AV44 -> 75 | N44: =AS44+BP44 -> 45 | O44: =Z44+AW44 -> 30 | P44: =AA44+AX44 -> 30 | Q44: =X44+AU44 -> 3 | R44: =IFERROR((AL44+BI44)*Q44/O44," ") -> 0 | S44: =IFERROR(IF(L44="tak",(SUM(AE44:AL44,AQ44,BB44:BI44,BN44))*Q44/O44,0),0) -> 1.5 | T44: =IFERROR((AC44+AO44+AZ44+BL44)*Q44/O44," ") -> 1.5 | U44: =IFERROR((SUM(AB44,AD44:AN44,AP44:AQ44,AY44,BA44:BK44,BM44:BN44)*Q44/M44)," ") -> 1.2 | V44: zal/o | W44: zal/o | X44: 3 | Y44: =AS44+Z44 -> 75 | Z44: =AR44+AA44 -> 30 | AA44: =(SUM(AB44:AQ44))-AC44 -> 30 | AB44: 15 | AC44: 15 | AE44: 15 | AS44: 45 | AV44: =BP44+AW44 -> 0 | AW44: =BO44+AX44 -> 0 | AX44: =(SUM(AY44:BN44))-AZ44 -> 0 | BQ44: =IFERROR(M44/Q44," ") -> 25 | BR44: =IF(OR(BQ44>30,BQ44<25),"1 ECTS powinien mieścić się przedziale 25-30h","Wartość prawidłowa") -> Wartość prawidłowa | BS44: =SUM(AB44,AD44:AP44,AY44,BA44:BM44)-AC44-AZ44-AO44-BL44 -> 15 | BT44: =AC44+AZ44 -> 15 | BU44: =AO44+BL44 -> 0 | BV44: =AR44+BO44 -> 0 | BW44: =N44 -> 45 | BX44: =AQ44+BN44 -> 0 | BY44: =SUM(BS44:BX44) -> 75 | BZ44: =IFERROR((BS44*Q44)/BY44," ") -> 0.6 | CA44: =IFERROR((BT44*Q44)/BY44," ") -> 0.6 | CB44: =IFERROR((BU44*Q44)/BY44," ") -> 0 | CC44: =IFERROR((BV44*Q44)/BY44," ") -> 0 | CD44: =IFERROR((BW44*Q44)/BY44," ") -> 1.8 | CE44: =IFERROR((BX44*Q44)/BY44," ") -> 0 | CF44: =IFERROR((SUM(BZ44:CE44))," ") -> 3 | CG44: =SUM(BS44:BT44,CE44) -> 30 | CH44: =SUM(BT44:BU44) -> 15 | CI44: =SUM(BZ44:CA44,CE44) -> 1.2 | CJ44: =SUM(CA44:CB44) -> 0.6 | CK44: =Matryca!Q44 -> 7 | CL44: =Matryca!R44 -> 4 | CM44: =Matryca!S44 -> 2
A45: 25 | C45: 2026/2027 | E45: 2 | F45: 2027/2028 | G45: RPS | I45: Nowoczesne techniki radioterapii | L45: tak | M45: =Y45+AV45 -> 75 | N45: =AS45+BP45 -> 45 | O45: =Z45+AW45 -> 30 | P45: =AA45+AX45 -> 30 | Q45: =X45+AU45 -> 3 | R45: =IFERROR((AL45+BI45)*Q45/O45," ") -> 0 | S45: =IFERROR(IF(L45="tak",(SUM(AE45:AL45,AQ45,BB45:BI45,BN45))*Q45/O45,0),0) -> 1.5 | T45: =IFERROR((AC45+AO45+AZ45+BL45)*Q45/O45," ") -> 1.5 | U45: =IFERROR((SUM(AB45,AD45:AN45,AP45:AQ45,AY45,BA45:BK45,BM45:BN45)*Q45/M45)," ") -> 1.2 | V45: zal/o | W45: zal/o | X45: 3 | Y45: =AS45+Z45 -> 75 | Z45: =AR45+AA45 -> 30 | AA45: =(SUM(AB45:AQ45))-AC45 -> 30 | AB45: 15 | AC45: 15 | AK45: 15 | AS45: 45 | AV45: =BP45+AW45 -> 0 | AW45: =BO45+AX45 -> 0 | AX45: =(SUM(AY45:BN45))-AZ45 -> 0 | BQ45: =IFERROR(M45/Q45," ") -> 25 | BR45: =IF(OR(BQ45>30,BQ45<25),"1 ECTS powinien mieścić się przedziale 25-30h","Wartość prawidłowa") -> Wartość prawidłowa | BS45: =SUM(AB45,AD45:AP45,AY45,BA45:BM45)-AC45-AZ45-AO45-BL45 -> 15 | BT45: =AC45+AZ45 -> 15 | BU45: =AO45+BL45 -> 0 | BV45: =AR45+BO45 -> 0 | BW45: =N45 -> 45 | BX45: =AQ45+BN45 -> 0 | BY45: =SUM(BS45:BX45) -> 75 | BZ45: =IFERROR((BS45*Q45)/BY45," ") -> 0.6 | CA45: =IFERROR((BT45*Q45)/BY45," ") -> 0.6 | CB45: =IFERROR((BU45*Q45)/BY45," ") -> 0 | CC45: =IFERROR((BV45*Q45)/BY45," ") -> 0 | CD45: =IFERROR((BW45*Q45)/BY45," ") -> 1.8 | CE45: =IFERROR((BX45*Q45)/BY45," ") -> 0 | CF45: =IFERROR((SUM(BZ45:CE45))," ") -> 3 | CG45: =SUM(BS45:BT45,CE45) -> 30 | CH45: =SUM(BT45:BU45) -> 15 | CI45: =SUM(BZ45:CA45,CE45) -> 1.2 | CJ45: =SUM(CA45:CB45) -> 0.6 | CK45: =Matryca!Q45 -> 3 | CL45: =Matryca!R45 -> 4 | CM45: =Matryca!S45 -> 3
A46: 26 | C46: 2026/2027 | E46: 2 | F46: 2027/2028 | G46: RPS | I46: Medycyna nuklearna | L46: tak | M46: =Y46+AV46 -> 75 | N46: =AS46+BP46 -> 45 | O46: =Z46+AW46 -> 30 | P46: =AA46+AX46 -> 30 | Q46: =X46+AU46 -> 3 | R46: =IFERROR((AL46+BI46)*Q46/O46," ") -> 0 | S46: =IFERROR(IF(L46="tak",(SUM(AE46:AL46,AQ46,BB46:BI46,BN46))*Q46/O46,0),0) -> 1.5 | T46: =IFERROR((AC46+AO46+AZ46+BL46)*Q46/O46," ") -> 1.5 | U46: =IFERROR((SUM(AB46,AD46:AN46,AP46:AQ46,AY46,BA46:BK46,BM46:BN46)*Q46/M46)," ") -> 1.2 | V46: zal/o | W46: zal/o | X46: 3 | Y46: =AS46+Z46 -> 75 | Z46: =AR46+AA46 -> 30 | AA46: =(SUM(AB46:AQ46))-AC46 -> 30 | AB46: 15 | AC46: 15 | AE46: 15 | AS46: 45 | AV46: =BP46+AW46 -> 0 | AW46: =BO46+AX46 -> 0 | AX46: =(SUM(AY46:BN46))-AZ46 -> 0 | BQ46: =IFERROR(M46/Q46," ") -> 25 | BR46: =IF(OR(BQ46>30,BQ46<25),"1 ECTS powinien mieścić się przedziale 25-30h","Wartość prawidłowa") -> Wartość prawidłowa | BS46: =SUM(AB46,AD46:AP46,AY46,BA46:BM46)-AC46-AZ46-AO46-BL46 -> 15 | BT46: =AC46+AZ46 -> 15 | BU46: =AO46+BL46 -> 0 | BV46: =AR46+BO46 -> 0 | BW46: =N46 -> 45 | BX46: =AQ46+BN46 -> 0 | BY46: =SUM(BS46:BX46) -> 75 | BZ46: =IFERROR((BS46*Q46)/BY46," ") -> 0.6 | CA46: =IFERROR((BT46*Q46)/BY46," ") -> 0.6 | CB46: =IFERROR((BU46*Q46)/BY46," ") -> 0 | CC46: =IFERROR((BV46*Q46)/BY46," ") -> 0 | CD46: =IFERROR((BW46*Q46)/BY46," ") -> 1.8 | CE46: =IFERROR((BX46*Q46)/BY46," ") -> 0 | CF46: =IFERROR((SUM(BZ46:CE46))," ") -> 3 | CG46: =SUM(BS46:BT46,CE46) -> 30 | CH46: =SUM(BT46:BU46) -> 15 | CI46: =SUM(BZ46:CA46,CE46) -> 1.2 | CJ46: =SUM(CA46:CB46) -> 0.6 | CK46: =Matryca!Q46 -> 4 | CL46: =Matryca!R46 -> 5 | CM46: =Matryca!S46 -> 3
A47: 27 | C47: 2026/2027 | E47: 2 | F47: 2027/2028 | G47: RPS | I47: Zajęcia praktyczne: Zaawansowane badania tomografii komputerowej (TK) | L47: tak | M47: =Y47+AV47 -> 50 | N47: =AS47+BP47 -> 20 | O47: =Z47+AW47 -> 30 | P47: =AA47+AX47 -> 30 | Q47: =X47+AU47 -> 2 | R47: =IFERROR((AL47+BI47)*Q47/O47," ") -> 0 | S47: =IFERROR(IF(L47="tak",(SUM(AE47:AL47,AQ47,BB47:BI47,BN47))*Q47/O47,0),0) -> 2 | T47: =IFERROR((AC47+AO47+AZ47+BL47)*Q47/O47," ") -> 0 | U47: =IFERROR((SUM(AB47,AD47:AN47,AP47:AQ47,AY47,BA47:BK47,BM47:BN47)*Q47/M47)," ") -> 1.2 | V47: zal | W47: zal | X47: 2 | Y47: =AS47+Z47 -> 50 | Z47: =AR47+AA47 -> 30 | AA47: =(SUM(AB47:AQ47))-AC47 -> 30 | AK47: 30 | AS47: 20 | AV47: =BP47+AW47 -> 0 | AW47: =BO47+AX47 -> 0 | AX47: =(SUM(AY47:BN47))-AZ47 -> 0 | BQ47: =IFERROR(M47/Q47," ") -> 25 | BR47: =IF(OR(BQ47>30,BQ47<25),"1 ECTS powinien mieścić się przedziale 25-30h","Wartość prawidłowa") -> Wartość prawidłowa | BS47: =SUM(AB47,AD47:AP47,AY47,BA47:BM47)-AC47-AZ47-AO47-BL47 -> 30 | BT47: =AC47+AZ47 -> 0 | BU47: =AO47+BL47 -> 0 | BV47: =AR47+BO47 -> 0 | BW47: =N47 -> 20 | BX47: =AQ47+BN47 -> 0 | BY47: =SUM(BS47:BX47) -> 50 | BZ47: =IFERROR((BS47*Q47)/BY47," ") -> 1.2 | CA47: =IFERROR((BT47*Q47)/BY47," ") -> 0 | CB47: =IFERROR((BU47*Q47)/BY47," ") -> 0 | CC47: =IFERROR((BV47*Q47)/BY47," ") -> 0 | CD47: =IFERROR((BW47*Q47)/BY47," ") -> 0.8 | CE47: =IFERROR((BX47*Q47)/BY47," ") -> 0 | CF47: =IFERROR((SUM(BZ47:CE47))," ") -> 2 | CG47: =SUM(BS47:BT47,CE47) -> 30 | CH47: =SUM(BT47:BU47) -> 0 | CI47: =SUM(BZ47:CA47,CE47) -> 1.2 | CJ47: =SUM(CA47:CB47) -> 0 | CK47: =Matryca!Q47 -> 2 | CL47: =Matryca!R47 -> 6 | CM47: =Matryca!S47 -> 3
A48: 28 | C48: 2026/2027 | E48: 2 | F48: 2027/2028 | G48: RPS | I48: Biostatystyka | M48: =Y48+AV48 -> 50 | N48: =AS48+BP48 -> 25 | O48: =Z48+AW48 -> 25 | P48: =AA48+AX48 -> 25 | Q48: =X48+AU48 -> 2 | R48: =IFERROR((AL48+BI48)*Q48/O48," ") -> 0 | S48: =IFERROR(IF(L48="tak",(SUM(AE48:AL48,AQ48,BB48:BI48,BN48))*Q48/O48,0),0) -> 0 | T48: =IFERROR((AC48+AO48+AZ48+BL48)*Q48/O48," ") -> 0.8 | U48: =IFERROR((SUM(AB48,AD48:AN48,AP48:AQ48,AY48,BA48:BK48,BM48:BN48)*Q48/M48)," ") -> 1 | V48: zal/o | W48: zal/o | X48: 2 | Y48: =AS48+Z48 -> 50 | Z48: =AR48+AA48 -> 25 | AA48: =(SUM(AB48:AQ48))-AC48 -> 25 | AB48: 10 | AC48: 10 | AF48: 15 | AS48: 25 | AV48: =BP48+AW48 -> 0 | AW48: =BO48+AX48 -> 0 | AX48: =(SUM(AY48:BN48))-AZ48 -> 0 | BQ48: =IFERROR(M48/Q48," ") -> 25 | BR48: =IF(OR(BQ48>30,BQ48<25),"1 ECTS powinien mieścić się przedziale 25-30h","Wartość prawidłowa") -> Wartość prawidłowa | BS48: =SUM(AB48,AD48:AP48,AY48,BA48:BM48)-AC48-AZ48-AO48-BL48 -> 15 | BT48: =AC48+AZ48 -> 10 | BU48: =AO48+BL48 -> 0 | BV48: =AR48+BO48 -> 0 | BW48: =N48 -> 25 | BX48: =AQ48+BN48 -> 0 | BY48: =SUM(BS48:BX48) -> 50 | BZ48: =IFERROR((BS48*Q48)/BY48," ") -> 0.6 | CA48: =IFERROR((BT48*Q48)/BY48," ") -> 0.4 | CB48: =IFERROR((BU48*Q48)/BY48," ") -> 0 | CC48: =IFERROR((BV48*Q48)/BY48," ") -> 0 | CD48: =IFERROR((BW48*Q48)/BY48," ") -> 1 | CE48: =IFERROR((BX48*Q48)/BY48," ") -> 0 | CF48: =IFERROR((SUM(BZ48:CE48))," ") -> 2 | CG48: =SUM(BS48:BT48,CE48) -> 25 | CH48: =SUM(BT48:BU48) -> 10 | CI48: =SUM(BZ48:CA48,CE48) -> 1 | CJ48: =SUM(CA48:CB48) -> 0.4 | CK48: =Matryca!Q48 -> 3 | CL48: =Matryca!R48 -> 4 | CM48: =Matryca!S48 -> 1
A49: 29 | C49: 2026/2027 | E49: 2 | F49: 2027/2028 | G49: RPS | I49: Praktyka zawodowa 4 | L49: tak | M49: =Y49+AV49 -> 115 | N49: =AS49+BP49 -> 15 | O49: =Z49+AW49 -> 100 | P49: =AA49+AX49 -> 100 | Q49: =X49+AU49 -> 4 | R49: =IFERROR((AL49+BI49)*Q49/O49," ") -> 0 | S49: =IFERROR(IF(L49="tak",(SUM(AE49:AL49,AQ49,BB49:BI49,BN49))*Q49/O49,0),0) -> 4 | T49: =IFERROR((AC49+AO49+AZ49+BL49)*Q49/O49," ") -> 0 | U49: =IFERROR((SUM(AB49,AD49:AN49,AP49:AQ49,AY49,BA49:BK49,BM49:BN49)*Q49/M49)," ") -> 3.4782609 | V49: zal | W49: zal | X49: 4 | Y49: =AS49+Z49 -> 115 | Z49: =AR49+AA49 -> 100 | AA49: =(SUM(AB49:AQ49))-AC49 -> 100 | AQ49: 100 | AS49: 15 | AV49: =BP49+AW49 -> 0 | AW49: =BO49+AX49 -> 0 | AX49: =(SUM(AY49:BN49))-AZ49 -> 0 | BQ49: =IFERROR(M49/Q49," ") -> 28.75 | BR49: =IF(OR(BQ49>30,BQ49<25),"1 ECTS powinien mieścić się przedziale 25-30h","Wartość prawidłowa") -> Wartość prawidłowa | BS49: =SUM(AB49,AD49:AP49,AY49,BA49:BM49)-AC49-AZ49-AO49-BL49 -> 0 | BT49: =AC49+AZ49 -> 0 | BU49: =AO49+BL49 -> 0 | BV49: =AR49+BO49 -> 0 | BW49: =N49 -> 15 | BX49: =AQ49+BN49 -> 100 | BY49: =SUM(BS49:BX49) -> 115 | BZ49: =IFERROR((BS49*Q49)/BY49," ") -> 0 | CA49: =IFERROR((BT49*Q49)/BY49," ") -> 0 | CB49: =IFERROR((BU49*Q49)/BY49," ") -> 0 | CC49: =IFERROR((BV49*Q49)/BY49," ") -> 0 | CD49: =IFERROR((BW49*Q49)/BY49," ") -> 0.52173913 | CE49: =IFERROR((BX49*Q49)/BY49," ") -> 3.4782609 | CF49: =IFERROR((SUM(BZ49:CE49))," ") -> 4 | CG49: =SUM(BS49:BT49,CE49) -> 3.4782609 | CH49: =SUM(BT49:BU49) -> 0 | CI49: =SUM(BZ49:CA49,CE49) -> 3.4782609 | CJ49: =SUM(CA49:CB49) -> 0 | CK49: =Matryca!Q49 -> 2 | CL49: =Matryca!R49 -> 6 | CM49: =Matryca!S49 -> 3
A50: 30 | C50: 2026/2027 | E50: 2 | F50: 2027/2028 | G50: RPS | I50: Radiologia zabiegowa w kardiologii | L50: tak | M50: =Y50+AV50 -> 50 | N50: =AS50+BP50 -> 25 | O50: =Z50+AW50 -> 25 | P50: =AA50+AX50 -> 25 | Q50: =X50+AU50 -> 2 | R50: =IFERROR((AL50+BI50)*Q50/O50," ") -> 0 | S50: =IFERROR(IF(L50="tak",(SUM(AE50:AL50,AQ50,BB50:BI50,BN50))*Q50/O50,0),0) -> 1.2 | T50: =IFERROR((AC50+AO50+AZ50+BL50)*Q50/O50," ") -> 0.8 | U50: =IFERROR((SUM(AB50,AD50:AN50,AP50:AQ50,AY50,BA50:BK50,BM50:BN50)*Q50/M50)," ") -> 1 | V50: zal/oc | W50: zal/oc | X50: 2 | Y50: =AS50+Z50 -> 50 | Z50: =AR50+AA50 -> 25 | AA50: =(SUM(AB50:AQ50))-AC50 -> 25 | AB50: 10 | AC50: 10 | AF50: 15 | AS50: 25 | AV50: =BP50+AW50 -> 0 | AW50: =BO50+AX50 -> 0 | AX50: =(SUM(AY50:BN50))-AZ50 -> 0 | BQ50: =IFERROR(M50/Q50," ") -> 25 | BR50: =IF(OR(BQ50>30,BQ50<25),"1 ECTS powinien mieścić się przedziale 25-30h","Wartość prawidłowa") -> Wartość prawidłowa | BS50: =SUM(AB50,AD50:AP50,AY50,BA50:BM50)-AC50-AZ50-AO50-BL50 -> 15 | BT50: =AC50+AZ50 -> 10 | BU50: =AO50+BL50 -> 0 | BV50: =AR50+BO50 -> 0 | BW50: =N50 -> 25 | BX50: =AQ50+BN50 -> 0 | BY50: =SUM(BS50:BX50) -> 50 | BZ50: =IFERROR((BS50*Q50)/BY50," ") -> 0.6 | CA50: =IFERROR((BT50*Q50)/BY50," ") -> 0.4 | CB50: =IFERROR((BU50*Q50)/BY50," ") -> 0 | CC50: =IFERROR((BV50*Q50)/BY50," ") -> 0 | CD50: =IFERROR((BW50*Q50)/BY50," ") -> 1 | CE50: =IFERROR((BX50*Q50)/BY50," ") -> 0 | CF50: =IFERROR((SUM(BZ50:CE50))," ") -> 2 | CG50: =SUM(BS50:BT50,CE50) -> 25 | CH50: =SUM(BT50:BU50) -> 10 | CI50: =SUM(BZ50:CA50,CE50) -> 1 | CJ50: =SUM(CA50:CB50) -> 0.4 | CK50: =Matryca!Q50 -> 4 | CL50: =Matryca!R50 -> 6 | CM50: =Matryca!S50 -> 3
A51: 31 | C51: 2026/2027 | E51: 2 | F51: 2027/2028 | G51: POW | I51: Seminarium dyplomowe | M51: =Y51+AV51 -> 500 | N51: =AS51+BP51 -> 470 | O51: =Z51+AW51 -> 30 | P51: =AA51+AX51 -> 30 | Q51: =X51+AU51 -> 20 | R51: =IFERROR((AL51+BI51)*Q51/O51," ") -> 0 | S51: =IFERROR(IF(L51="tak",(SUM(AE51:AL51,AQ51,BB51:BI51,BN51))*Q51/O51,0),0) -> 0 | T51: =IFERROR((AC51+AO51+AZ51+BL51)*Q51/O51," ") -> 0 | U51: =IFERROR((SUM(AB51,AD51:AN51,AP51:AQ51,AY51,BA51:BK51,BM51:BN51)*Q51/M51)," ") -> 1.2 | V51: zal | W51: zal | X51: 9 | Y51: =AS51+Z51 -> 225 | Z51: =AR51+AA51 -> 15 | AA51: =(SUM(AB51:AQ51))-AC51 -> 15 | AD51: 15 | AS51: 210 | AT51: zal | AU51: 11 | AV51: =BP51+AW51 -> 275 | AW51: =BO51+AX51 -> 15 | AX51: =(SUM(AY51:BN51))-AZ51 -> 15 | BA51: 15 | BP51: 260 | BQ51: =IFERROR(M51/Q51," ") -> 25 | BR51: =IF(OR(BQ51>30,BQ51<25),"1 ECTS powinien mieścić się przedziale 25-30h","Wartość prawidłowa") -> Wartość prawidłowa | BS51: =SUM(AB51,AD51:AP51,AY51,BA51:BM51)-AC51-AZ51-AO51-BL51 -> 30 | BT51: =AC51+AZ51 -> 0 | BU51: =AO51+BL51 -> 0 | BV51: =AR51+BO51 -> 0 | BW51: =N51 -> 470 | BX51: =AQ51+BN51 -> 0 | BY51: =SUM(BS51:BX51) -> 500 | BZ51: =IFERROR((BS51*Q51)/BY51," ") -> 1.2 | CA51: =IFERROR((BT51*Q51)/BY51," ") -> 0 | CB51: =IFERROR((BU51*Q51)/BY51," ") -> 0 | CC51: =IFERROR((BV51*Q51)/BY51," ") -> 0 | CD51: =IFERROR((BW51*Q51)/BY51," ") -> 18.8 | CE51: =IFERROR((BX51*Q51)/BY51," ") -> 0 | CF51: =IFERROR((SUM(BZ51:CE51))," ") -> 20 | CG51: =SUM(BS51:BT51,CE51) -> 30 | CH51: =SUM(BT51:BU51) -> 0 | CI51: =SUM(BZ51:CA51,CE51) -> 1.2 | CJ51: =SUM(CA51:CB51) -> 0 | CK51: =Matryca!Q51 -> 3 | CL51: =Matryca!R51 -> 4 | CM51: =Matryca!S51 -> 1
A52: 32 | C52: 2026/2027 | E52: 2 | F52: 2027/2028 | G52: RPS | I52: Zajęcia praktyczne: Zaawansowane badania rezonansu magnetycznego (MR) | L52: tak | M52: =Y52+AV52 -> 50 | N52: =AS52+BP52 -> 20 | O52: =Z52+AW52 -> 30 | P52: =AA52+AX52 -> 30 | Q52: =X52+AU52 -> 2 | R52: =IFERROR((AL52+BI52)*Q52/O52," ") -> 0 | S52: =IFERROR(IF(L52="tak",(SUM(AE52:AL52,AQ52,BB52:BI52,BN52))*Q52/O52,0),0) -> 2 | T52: =IFERROR((AC52+AO52+AZ52+BL52)*Q52/O52," ") -> 0 | U52: =IFERROR((SUM(AB52,AD52:AN52,AP52:AQ52,AY52,BA52:BK52,BM52:BN52)*Q52/M52)," ") -> 1.2 | V52: zal | Y52: =AS52+Z52 -> 0 | Z52: =AR52+AA52 -> 0 | AA52: =(SUM(AB52:AQ52))-AC52 -> 0 | AT52: zal | AU52: 2 | AV52: =BP52+AW52 -> 50 | AW52: =BO52+AX52 -> 30 | AX52: =(SUM(AY52:BN52))-AZ52 -> 30 | BH52: 30 | BP52: 20 | BQ52: =IFERROR(M52/Q52," ") -> 25 | BR52: =IF(OR(BQ52>30,BQ52<25),"1 ECTS powinien mieścić się przedziale 25-30h","Wartość prawidłowa") -> Wartość prawidłowa | BS52: =SUM(AB52,AD52:AP52,AY52,BA52:BM52)-AC52-AZ52-AO52-BL52 -> 30 | BT52: =AC52+AZ52 -> 0 | BU52: =AO52+BL52 -> 0 | BV52: =AR52+BO52 -> 0 | BW52: =N52 -> 20 | BX52: =AQ52+BN52 -> 0 | BY52: =SUM(BS52:BX52) -> 50 | BZ52: =IFERROR((BS52*Q52)/BY52," ") -> 1.2 | CA52: =IFERROR((BT52*Q52)/BY52," ") -> 0 | CB52: =IFERROR((BU52*Q52)/BY52," ") -> 0 | CC52: =IFERROR((BV52*Q52)/BY52," ") -> 0 | CD52: =IFERROR((BW52*Q52)/BY52," ") -> 0.8 | CE52: =IFERROR((BX52*Q52)/BY52," ") -> 0 | CF52: =IFERROR((SUM(BZ52:CE52))," ") -> 2 | CG52: =SUM(BS52:BT52,CE52) -> 30 | CH52: =SUM(BT52:BU52) -> 0 | CI52: =SUM(BZ52:CA52,CE52) -> 1.2 | CJ52: =SUM(CA52:CB52) -> 0 | CK52: =Matryca!Q52 -> 5 | CL52: =Matryca!R52 -> 6 | CM52: =Matryca!S52 -> 3
A53: 33 | C53: 2026/2027 | E53: 2 | F53: 2027/2028 | G53: RPS | I53: Zajęcia praktyczne: Radiologia zabiegowa w kardiologii | L53: tak | M53: =Y53+AV53 -> 50 | N53: =AS53+BP53 -> 20 | O53: =Z53+AW53 -> 30 | P53: =AA53+AX53 -> 30 | Q53: =X53+AU53 -> 2 | R53: =IFERROR((AL53+BI53)*Q53/O53," ") -> 0 | S53: =IFERROR(IF(L53="tak",(SUM(AE53:AL53,AQ53,BB53:BI53,BN53))*Q53/O53,0),0) -> 2 | T53: =IFERROR((AC53+AO53+AZ53+BL53)*Q53/O53," ") -> 0 | U53: =IFERROR((SUM(AB53,AD53:AN53,AP53:AQ53,AY53,BA53:BK53,BM53:BN53)*Q53/M53)," ") -> 1.2 | V53: zal | Y53: =AS53+Z53 -> 0 | Z53: =AR53+AA53 -> 0 | AA53: =(SUM(AB53:AQ53))-AC53 -> 0 | AT53: zal | AU53: 2 | AV53: =BP53+AW53 -> 50 | AW53: =BO53+AX53 -> 30 | AX53: =(SUM(AY53:BN53))-AZ53 -> 30 | BH53: 30 | BP53: 20 | BQ53: =IFERROR(M53/Q53," ") -> 25 | BR53: =IF(OR(BQ53>30,BQ53<25),"1 ECTS powinien mieścić się przedziale 25-30h","Wartość prawidłowa") -> Wartość prawidłowa | BS53: =SUM(AB53,AD53:AP53,AY53,BA53:BM53)-AC53-AZ53-AO53-BL53 -> 30 | BT53: =AC53+AZ53 -> 0 | BU53: =AO53+BL53 -> 0 | BV53: =AR53+BO53 -> 0 | BW53: =N53 -> 20 | BX53: =AQ53+BN53 -> 0 | BY53: =SUM(BS53:BX53) -> 50 | BZ53: =IFERROR((BS53*Q53)/BY53," ") -> 1.2 | CA53: =IFERROR((BT53*Q53)/BY53," ") -> 0 | CB53: =IFERROR((BU53*Q53)/BY53," ") -> 0 | CC53: =IFERROR((BV53*Q53)/BY53," ") -> 0 | CD53: =IFERROR((BW53*Q53)/BY53," ") -> 0.8 | CE53: =IFERROR((BX53*Q53)/BY53," ") -> 0 | CF53: =IFERROR((SUM(BZ53:CE53))," ") -> 2 | CG53: =SUM(BS53:BT53,CE53) -> 30 | CH53: =SUM(BT53:BU53) -> 0 | CI53: =SUM(BZ53:CA53,CE53) -> 1.2 | CJ53: =SUM(CA53:CB53) -> 0 | CK53: =Matryca!Q53 -> 5 | CL53: =Matryca!R53 -> 6 | CM53: =Matryca!S53 -> 3
A54: 34 | C54: 2026/2027 | E54: 2 | F54: 2027/2028 | G54: RPS | I54: Radiologia w stanach nagłych | L54: tak | M54: =Y54+AV54 -> 75 | N54: =AS54+BP54 -> 45 | O54: =Z54+AW54 -> 30 | P54: =AA54+AX54 -> 30 | Q54: =X54+AU54 -> 3 | R54: =IFERROR((AL54+BI54)*Q54/O54," ") -> 0 | S54: =IFERROR(IF(L54="tak",(SUM(AE54:AL54,AQ54,BB54:BI54,BN54))*Q54/O54,0),0) -> 1.5 | T54: =IFERROR((AC54+AO54+AZ54+BL54)*Q54/O54," ") -> 1.5 | U54: =IFERROR((SUM(AB54,AD54:AN54,AP54:AQ54,AY54,BA54:BK54,BM54:BN54)*Q54/M54)," ") -> 1.2 | V54: zal | Y54: =AS54+Z54 -> 0 | Z54: =AR54+AA54 -> 0 | AA54: =(SUM(AB54:AQ54))-AC54 -> 0 | AT54: zal/o | AU54: 3 | AV54: =BP54+AW54 -> 75 | AW54: =BO54+AX54 -> 30 | AX54: =(SUM(AY54:BN54))-AZ54 -> 30 | AY54: 15 | AZ54: 15 | BB54: 15 | BP54: 45 | BQ54: =IFERROR(M54/Q54," ") -> 25 | BR54: =IF(OR(BQ54>30,BQ54<25),"1 ECTS powinien mieścić się przedziale 25-30h","Wartość prawidłowa") -> Wartość prawidłowa | BS54: =SUM(AB54,AD54:AP54,AY54,BA54:BM54)-AC54-AZ54-AO54-BL54 -> 15 | BT54: =AC54+AZ54 -> 15 | BU54: =AO54+BL54 -> 0 | BV54: =AR54+BO54 -> 0 | BW54: =N54 -> 45 | BX54: =AQ54+BN54 -> 0 | BY54: =SUM(BS54:BX54) -> 75 | BZ54: =IFERROR((BS54*Q54)/BY54," ") -> 0.6 | CA54: =IFERROR((BT54*Q54)/BY54," ") -> 0.6 | CB54: =IFERROR((BU54*Q54)/BY54," ") -> 0 | CC54: =IFERROR((BV54*Q54)/BY54," ") -> 0 | CD54: =IFERROR((BW54*Q54)/BY54," ") -> 1.8 | CE54: =IFERROR((BX54*Q54)/BY54," ") -> 0 | CF54: =IFERROR((SUM(BZ54:CE54))," ") -> 3 | CG54: =SUM(BS54:BT54,CE54) -> 30 | CH54: =SUM(BT54:BU54) -> 15 | CI54: =SUM(BZ54:CA54,CE54) -> 1.2 | CJ54: =SUM(CA54:CB54) -> 0.6 | CK54: =Matryca!Q54 -> 5 | CL54: =Matryca!R54 -> 5 | CM54: =Matryca!S54 -> 3
A55: 35 | C55: 2026/2027 | E55: 2 | F55: 2027/2028 | G55: RPS | I55: Farmakologia radiologiczna | L55: tak | M55: =Y55+AV55 -> 75 | N55: =AS55+BP55 -> 45 | O55: =Z55+AW55 -> 30 | P55: =AA55+AX55 -> 30 | Q55: =X55+AU55 -> 3 | R55: =IFERROR((AL55+BI55)*Q55/O55," ") -> 0 | S55: =IFERROR(IF(L55="tak",(SUM(AE55:AL55,AQ55,BB55:BI55,BN55))*Q55/O55,0),0) -> 1.5 | T55: =IFERROR((AC55+AO55+AZ55+BL55)*Q55/O55," ") -> 1.5 | U55: =IFERROR((SUM(AB55,AD55:AN55,AP55:AQ55,AY55,BA55:BK55,BM55:BN55)*Q55/M55)," ") -> 1.2 | V55: zal/o | Y55: =AS55+Z55 -> 0 | Z55: =AR55+AA55 -> 0 | AA55: =(SUM(AB55:AQ55))-AC55 -> 0 | AT55: zal/o | AU55: 3 | AV55: =BP55+AW55 -> 75 | AW55: =BO55+AX55 -> 30 | AX55: =(SUM(AY55:BN55))-AZ55 -> 30 | AY55: 15 | AZ55: 15 | BB55: 15 | BP55: 45 | BQ55: =IFERROR(M55/Q55," ") -> 25 | BR55: =IF(OR(BQ55>30,BQ55<25),"1 ECTS powinien mieścić się przedziale 25-30h","Wartość prawidłowa") -> Wartość prawidłowa | BS55: =SUM(AB55,AD55:AP55,AY55,BA55:BM55)-AC55-AZ55-AO55-BL55 -> 15 | BT55: =AC55+AZ55 -> 15 | BU55: =AO55+BL55 -> 0 | BV55: =AR55+BO55 -> 0 | BW55: =N55 -> 45 | BX55: =AQ55+BN55 -> 0 | BY55: =SUM(BS55:BX55) -> 75 | BZ55: =IFERROR((BS55*Q55)/BY55," ") -> 0.6 | CA55: =IFERROR((BT55*Q55)/BY55," ") -> 0.6 | CB55: =IFERROR((BU55*Q55)/BY55," ") -> 0 | CC55: =IFERROR((BV55*Q55)/BY55," ") -> 0 | CD55: =IFERROR((BW55*Q55)/BY55," ") -> 1.8 | CE55: =IFERROR((BX55*Q55)/BY55," ") -> 0 | CF55: =IFERROR((SUM(BZ55:CE55))," ") -> 3 | CG55: =SUM(BS55:BT55,CE55) -> 30 | CH55: =SUM(BT55:BU55) -> 15 | CI55: =SUM(BZ55:CA55,CE55) -> 1.2 | CJ55: =SUM(CA55:CB55) -> 0.6 | CK55: =Matryca!Q55 -> 5 | CL55: =Matryca!R55 -> 4 | CM55: =Matryca!S55 -> 3
A56: 36 | C56: 2026/2027 | E56: 2 | F56: 2027/2028 | G56: RPS | I56: Techniki obrazowe stosowane w onkologii | L56: tak | M56: =Y56+AV56 -> 75 | N56: =AS56+BP56 -> 40 | O56: =Z56+AW56 -> 35 | P56: =AA56+AX56 -> 35 | Q56: =X56+AU56 -> 3 | R56: =IFERROR((AL56+BI56)*Q56/O56," ") -> 0 | S56: =IFERROR(IF(L56="tak",(SUM(AE56:AL56,AQ56,BB56:BI56,BN56))*Q56/O56,0),0) -> 1.7142857 | T56: =IFERROR((AC56+AO56+AZ56+BL56)*Q56/O56," ") -> 1.2857143 | U56: =IFERROR((SUM(AB56,AD56:AN56,AP56:AQ56,AY56,BA56:BK56,BM56:BN56)*Q56/M56)," ") -> 1.4 | V56: zal/o | Y56: =AS56+Z56 -> 0 | Z56: =AR56+AA56 -> 0 | AA56: =(SUM(AB56:AQ56))-AC56 -> 0 | AT56: zal/o | AU56: 3 | AV56: =BP56+AW56 -> 75 | AW56: =BO56+AX56 -> 35 | AX56: =(SUM(AY56:BN56))-AZ56 -> 35 | AY56: 15 | AZ56: 15 | BB56: 20 | BP56: 40 | BQ56: =IFERROR(M56/Q56," ") -> 25 | BR56: =IF(OR(BQ56>30,BQ56<25),"1 ECTS powinien mieścić się przedziale 25-30h","Wartość prawidłowa") -> Wartość prawidłowa | BS56: =SUM(AB56,AD56:AP56,AY56,BA56:BM56)-AC56-AZ56-AO56-BL56 -> 20 | BT56: =AC56+AZ56 -> 15 | BU56: =AO56+BL56 -> 0 | BV56: =AR56+BO56 -> 0 | BW56: =N56 -> 40 | BX56: =AQ56+BN56 -> 0 | BY56: =SUM(BS56:BX56) -> 75 | BZ56: =IFERROR((BS56*Q56)/BY56," ") -> 0.8 | CA56: =IFERROR((BT56*Q56)/BY56," ") -> 0.6 | CB56: =IFERROR((BU56*Q56)/BY56," ") -> 0 | CC56: =IFERROR((BV56*Q56)/BY56," ") -> 0 | CD56: =IFERROR((BW56*Q56)/BY56," ") -> 1.6 | CE56: =IFERROR((BX56*Q56)/BY56," ") -> 0 | CF56: =IFERROR((SUM(BZ56:CE56))," ") -> 3 | CG56: =SUM(BS56:BT56,CE56) -> 35 | CH56: =SUM(BT56:BU56) -> 15 | CI56: =SUM(BZ56:CA56,CE56) -> 1.4 | CJ56: =SUM(CA56:CB56) -> 0.6 | CK56: =Matryca!Q56 -> 5 | CL56: =Matryca!R56 -> 5 | CM56: =Matryca!S56 -> 3
A57: 37 | C57: 2026/2027 | E57: 2 | F57: 2027/2028 | G57: POW | I57: Problematyka zdrowia publicznego / Organizacja systemu ochrony zdrowia | L57: tak | M57: =Y57+AV57 -> 75 | N57: =AS57+BP57 -> 50 | O57: =Z57+AW57 -> 25 | P57: =AA57+AX57 -> 25 | Q57: =X57+AU57 -> 3 | R57: =IFERROR((AL57+BI57)*Q57/O57," ") -> 0 | S57: =IFERROR(IF(L57="tak",(SUM(AE57:AL57,AQ57,BB57:BI57,BN57))*Q57/O57,0),0) -> 1.8 | T57: =IFERROR((AC57+AO57+AZ57+BL57)*Q57/O57," ") -> 1.2 | U57: =IFERROR((SUM(AB57,AD57:AN57,AP57:AQ57,AY57,BA57:BK57,BM57:BN57)*Q57/M57)," ") -> 1 | V57: zal | Y57: =AS57+Z57 -> 0 | Z57: =AR57+AA57 -> 0 | AA57: =(SUM(AB57:AQ57))-AC57 -> 0 | AT57: zal | AU57: 3 | AV57: =BP57+AW57 -> 75 | AW57: =BO57+AX57 -> 25 | AX57: =(SUM(AY57:BN57))-AZ57 -> 25 | AY57: 10 | AZ57: 10 | BB57: 15 | BP57: 50 | BQ57: =IFERROR(M57/Q57," ") -> 25 | BR57: =IF(OR(BQ57>30,BQ57<25),"1 ECTS powinien mieścić się przedziale 25-30h","Wartość prawidłowa") -> Wartość prawidłowa | BS57: =SUM(AB57,AD57:AP57,AY57,BA57:BM57)-AC57-AZ57-AO57-BL57 -> 15 | BT57: =AC57+AZ57 -> 10 | BU57: =AO57+BL57 -> 0 | BV57: =AR57+BO57 -> 0 | BW57: =N57 -> 50 | BX57: =AQ57+BN57 -> 0 | BY57: =SUM(BS57:BX57) -> 75 | BZ57: =IFERROR((BS57*Q57)/BY57," ") -> 0.6 | CA57: =IFERROR((BT57*Q57)/BY57," ") -> 0.4 | CB57: =IFERROR((BU57*Q57)/BY57," ") -> 0 | CC57: =IFERROR((BV57*Q57)/BY57," ") -> 0 | CD57: =IFERROR((BW57*Q57)/BY57," ") -> 2 | CE57: =IFERROR((BX57*Q57)/BY57," ") -> 0 | CF57: =IFERROR((SUM(BZ57:CE57))," ") -> 3 | CG57: =SUM(BS57:BT57,CE57) -> 25 | CH57: =SUM(BT57:BU57) -> 10 | CI57: =SUM(BZ57:CA57,CE57) -> 1 | CJ57: =SUM(CA57:CB57) -> 0.4 | CK57: =Matryca!Q57 -> 6 | CL57: =Matryca!R57 -> 2 | CM57: =Matryca!S57 -> 2
A58: 38 | C58: 2026/2027 | E58: 2 | F58: 2027/2028 | G58: POW | I58: Komunikacja interdyscyplinarna i przywództwo w zespole medycznym/ Komunikacja kryzysowa i psychoedukacja pacjenta w pracy elektroradiologa | K58: tak | L58: tak | M58: =Y58+AV58 -> 75 | N58: =AS58+BP58 -> 50 | O58: =Z58+AW58 -> 25 | P58: =AA58+AX58 -> 25 | Q58: =X58+AU58 -> 3 | R58: =IFERROR((AL58+BI58)*Q58/O58," ") -> 0 | S58: =IFERROR(IF(L58="tak",(SUM(AE58:AL58,AQ58,BB58:BI58,BN58))*Q58/O58,0),0) -> 1.8 | T58: =IFERROR((AC58+AO58+AZ58+BL58)*Q58/O58," ") -> 1.2 | U58: =IFERROR((SUM(AB58,AD58:AN58,AP58:AQ58,AY58,BA58:BK58,BM58:BN58)*Q58/M58)," ") -> 1 | V58: zal | Y58: =AS58+Z58 -> 0 | Z58: =AR58+AA58 -> 0 | AA58: =(SUM(AB58:AQ58))-AC58 -> 0 | AT58: zal | AU58: 3 | AV58: =BP58+AW58 -> 75 | AW58: =BO58+AX58 -> 25 | AX58: =(SUM(AY58:BN58))-AZ58 -> 25 | AY58: 10 | AZ58: 10 | BB58: 15 | BP58: 50 | BQ58: =IFERROR(M58/Q58," ") -> 25 | BR58: =IF(OR(BQ58>30,BQ58<25),"1 ECTS powinien mieścić się przedziale 25-30h","Wartość prawidłowa") -> Wartość prawidłowa | BS58: =SUM(AB58,AD58:AP58,AY58,BA58:BM58)-AC58-AZ58-AO58-BL58 -> 15 | BT58: =AC58+AZ58 -> 10 | BU58: =AO58+BL58 -> 0 | BV58: =AR58+BO58 -> 0 | BW58: =N58 -> 50 | BX58: =AQ58+BN58 -> 0 | BY58: =SUM(BS58:BX58) -> 75 | BZ58: =IFERROR((BS58*Q58)/BY58," ") -> 0.6 | CA58: =IFERROR((BT58*Q58)/BY58," ") -> 0.4 | CB58: =IFERROR((BU58*Q58)/BY58," ") -> 0 | CC58: =IFERROR((BV58*Q58)/BY58," ") -> 0 | CD58: =IFERROR((BW58*Q58)/BY58," ") -> 2 | CE58: =IFERROR((BX58*Q58)/BY58," ") -> 0 | CF58: =IFERROR((SUM(BZ58:CE58))," ") -> 3 | CG58: =SUM(BS58:BT58,CE58) -> 25 | CH58: =SUM(BT58:BU58) -> 10 | CI58: =SUM(BZ58:CA58,CE58) -> 1 | CJ58: =SUM(CA58:CB58) -> 0.4 | CK58: =Matryca!Q58 -> 2 | CL58: =Matryca!R58 -> 3 | CM58: =Matryca!S58 -> 3
A59: 39 | C59: 2026/2027 | E59: 2 | F59: 2027/2028 | G59: POW | I59: Diagnostyka czynnościowa układu oddechowego i snu/ Diagnostyka czynnościowa układu krążenia | L59: tak | M59: =Y59+AV59 -> 75 | N59: =AS59+BP59 -> 50 | O59: =Z59+AW59 -> 25 | P59: =AA59+AX59 -> 25 | Q59: =X59+AU59 -> 3 | R59: =IFERROR((AL59+BI59)*Q59/O59," ") -> 0 | S59: =IFERROR(IF(L59="tak",(SUM(AE59:AL59,AQ59,BB59:BI59,BN59))*Q59/O59,0),0) -> 1.8 | T59: =IFERROR((AC59+AO59+AZ59+BL59)*Q59/O59," ") -> 1.2 | U59: =IFERROR((SUM(AB59,AD59:AN59,AP59:AQ59,AY59,BA59:BK59,BM59:BN59)*Q59/M59)," ") -> 1 | V59: zal | Y59: =AS59+Z59 -> 0 | Z59: =AR59+AA59 -> 0 | AA59: =(SUM(AB59:AQ59))-AC59 -> 0 | AT59: zal | AU59: 3 | AV59: =BP59+AW59 -> 75 | AW59: =BO59+AX59 -> 25 | AX59: =(SUM(AY59:BN59))-AZ59 -> 25 | AY59: 10 | AZ59: 10 | BB59: 15 | BP59: 50 | BQ59: =IFERROR(M59/Q59," ") -> 25 | BR59: =IF(OR(BQ59>30,BQ59<25),"1 ECTS powinien mieścić się przedziale 25-30h","Wartość prawidłowa") -> Wartość prawidłowa | BS59: =SUM(AB59,AD59:AP59,AY59,BA59:BM59)-AC59-AZ59-AO59-BL59 -> 15 | BT59: =AC59+AZ59 -> 10 | BU59: =AO59+BL59 -> 0 | BV59: =AR59+BO59 -> 0 | BW59: =N59 -> 50 | BX59: =AQ59+BN59 -> 0 | BY59: =SUM(BS59:BX59) -> 75 | BZ59: =IFERROR((BS59*Q59)/BY59," ") -> 0.6 | CA59: =IFERROR((BT59*Q59)/BY59," ") -> 0.4 | CB59: =IFERROR((BU59*Q59)/BY59," ") -> 0 | CC59: =IFERROR((BV59*Q59)/BY59," ") -> 0 | CD59: =IFERROR((BW59*Q59)/BY59," ") -> 2 | CE59: =IFERROR((BX59*Q59)/BY59," ") -> 0 | CF59: =IFERROR((SUM(BZ59:CE59))," ") -> 3 | CG59: =SUM(BS59:BT59,CE59) -> 25 | CH59: =SUM(BT59:BU59) -> 10 | CI59: =SUM(BZ59:CA59,CE59) -> 1 | CJ59: =SUM(CA59:CB59) -> 0.4 | CK59: =Matryca!Q59 -> 2 | CL59: =Matryca!R59 -> 1 | CM59: =Matryca!S59 -> 2
A60: 40 | C60: 2026/2027 | E60: 2 | F60: 2027/2028 | G60: RPS | I60: Dialog i współpraca w praktyce klinicznej | K60: tak | L60: tak | M60: =Y60+AV60 -> 75 | N60: =AS60+BP60 -> 45 | O60: =Z60+AW60 -> 30 | P60: =AA60+AX60 -> 30 | Q60: =X60+AU60 -> 3 | R60: =IFERROR((AL60+BI60)*Q60/O60," ") -> 0 | S60: =IFERROR(IF(L60="tak",(SUM(AE60:AL60,AQ60,BB60:BI60,BN60))*Q60/O60,0),0) -> 1.5 | T60: =IFERROR((AC60+AO60+AZ60+BL60)*Q60/O60," ") -> 1.5 | U60: =IFERROR((SUM(AB60,AD60:AN60,AP60:AQ60,AY60,BA60:BK60,BM60:BN60)*Q60/M60)," ") -> 1.2 | V60: zal | W60: zal | X60: 3 | Y60: =AS60+Z60 -> 75 | Z60: =AR60+AA60 -> 30 | AA60: =(SUM(AB60:AQ60))-AC60 -> 30 | AB60: 15 | AC60: 15 | AE60: 15 | AS60: 45 | AV60: =BP60+AW60 -> 0 | AW60: =BO60+AX60 -> 0 | AX60: =(SUM(AY60:BN60))-AZ60 -> 0 | BQ60: =IFERROR(M60/Q60," ") -> 25 | BR60: =IF(OR(BQ60>30,BQ60<25),"1 ECTS powinien mieścić się przedziale 25-30h","Wartość prawidłowa") -> Wartość prawidłowa | BS60: =SUM(AB60,AD60:AP60,AY60,BA60:BM60)-AC60-AZ60-AO60-BL60 -> 15 | BT60: =AC60+AZ60 -> 15 | BU60: =AO60+BL60 -> 0 | BV60: =AR60+BO60 -> 0 | BW60: =N60 -> 45 | BX60: =AQ60+BN60 -> 0 | BY60: =SUM(BS60:BX60) -> 75 | BZ60: =IFERROR((BS60*Q60)/BY60," ") -> 0.6 | CA60: =IFERROR((BT60*Q60)/BY60," ") -> 0.6 | CB60: =IFERROR((BU60*Q60)/BY60," ") -> 0 | CC60: =IFERROR((BV60*Q60)/BY60," ") -> 0 | CD60: =IFERROR((BW60*Q60)/BY60," ") -> 1.8 | CE60: =IFERROR((BX60*Q60)/BY60," ") -> 0 | CF60: =IFERROR((SUM(BZ60:CE60))," ") -> 3 | CG60: =SUM(BS60:BT60,CE60) -> 30 | CH60: =SUM(BT60:BU60) -> 15 | CI60: =SUM(BZ60:CA60,CE60) -> 1.2 | CJ60: =SUM(CA60:CB60) -> 0.6 | CK60: =Matryca!Q60 -> 2 | CL60: =Matryca!R60 -> 3 | CM60: =Matryca!S60 -> 3
A61: 41 | C61: 2026/2027 | E61: 2 | F61: 2027/2028 | M61: =Y61+AV61 -> 0 | N61: =AS61+BP61 -> 0 | O61: =Z61+AW61 -> 0 | P61: =AA61+AX61 -> 0 | Q61: =X61+AU61 -> 0 | R61: =IFERROR((AL61+BI61)*Q61/O61," ") | S61: =IFERROR(IF(L61="tak",(SUM(AE61:AL61,AQ61,BB61:BI61,BN61))*Q61/O61,0),0) -> 0 | T61: =IFERROR((AC61+AO61+AZ61+BL61)*Q61/O61," ") | U61: =IFERROR((SUM(AB61,AD61:AN61,AP61:AQ61,AY61,BA61:BK61,BM61:BN61)*Q61/M61)," ") | Y61: =AS61+Z61 -> 0 | Z61: =AR61+AA61 -> 0 | AA61: =(SUM(AB61:AQ61))-AC61 -> 0 | AV61: =BP61+AW61 -> 0 | AW61: =BO61+AX61 -> 0 | AX61: =(SUM(AY61:BN61))-AZ61 -> 0 | BQ61: =IFERROR(M61/Q61," ") | BR61: =IF(OR(BQ61>30,BQ61<25),"1 ECTS powinien mieścić się przedziale 25-30h","Wartość prawidłowa") -> 1 ECTS powinien mieścić się przedziale 25-30h | BS61: =SUM(AB61,AD61:AP61,AY61,BA61:BM61)-AC61-AZ61-AO61-BL61 -> 0 | BT61: =AC61+AZ61 -> 0 | BU61: =AO61+BL61 -> 0 | BV61: =AR61+BO61 -> 0 | BW61: =N61 -> 0 | BX61: =AQ61+BN61 -> 0 | BY61: =SUM(BS61:BX61) -> 0 | BZ61: =IFERROR((BS61*Q61)/BY61," ") | CA61: =IFERROR((BT61*Q61)/BY61," ") | CB61: =IFERROR((BU61*Q61)/BY61," ") | CC61: =IFERROR((BV61*Q61)/BY61," ") | CD61: =IFERROR((BW61*Q61)/BY61," ") | CE61: =IFERROR((BX61*Q61)/BY61," ") | CF61: =IFERROR((SUM(BZ61:CE61))," ") -> 0 | CG61: =SUM(BS61:BT61,CE61) -> 0 | CH61: =SUM(BT61:BU61) -> 0 | CI61: =SUM(BZ61:CA61,CE61) -> 0 | CJ61: =SUM(CA61:CB61) -> 0 | CK61: =Matryca!Q61 -> 0 | CL61: =Matryca!R61 -> 0 | CM61: =Matryca!S61 -> 0
I62: sumy dla 2 roku | J62: =COUNTIF(J44:J61,"tak") -> 0 | K62: =COUNTIF(K44:K61,"tak") -> 2 | L62: =COUNTIF(L44:L61,"tak") -> 15 | M62: =SUM(M44:M61) -> 1615 | N62: =SUM(N44:N61) -> 1055 | O62: =SUM(O44:O61) -> 560 | P62: =SUM(P44:P61) -> 560 | Q62: =SUM(Q44:Q61) -> 64 | R62: =SUM(R44:R61) -> 0 | S62: =SUM(S44:S61) -> 27.314286 | T62: =SUM(T44:T61) -> 15.485714 | ... BP62: =SUM(BP44:BP61) -> 580 | BS62: =SUM(BS44:BS61) -> 305 | BT62: =SUM(BT44:BT61) -> 155 | BU62: =SUM(BU44:BU61) -> 0 | BV62: =SUM(BV44:BV61) -> 0 | BW62: =SUM(BW44:BW61) -> 1055 | BX62: =SUM(BX44:BX61) -> 100 | BY62: =SUM(BY44:BY61) -> 1615 | BZ62: =SUM(BZ44:BZ61) -> 12.2 | ... CM62: =SUM(CM44:CM61) -> 44
A63: RAZEM | J63: =COUNTIF(J20:J62,"tak") -> 0 | K63: =COUNTIF(K20:K62,"tak") -> 3 | L63: =COUNTIF(L20:L62,"tak") -> 31 | M63: =SUM(M20:M42,M44:M61) -> 3146 | N63: =SUM(N20:N42,N44:N61) -> 1715 | O63: =SUM(O20:O42,O44:O61) -> 1431 | P63: =SUM(P20:P42,P44:P61) -> 1431 | Q63: =SUM(Q20:Q42,Q44:Q61) -> 124 | R63: =SUM(R20:R42,R44:R61) -> 0 | S63: =SUM(S20:S42,S44:S61) -> 63.314286 | T63: =SUM(T20:T42,T44:T61) -> 28.152381 | ... BP63: =SUM(BP20:BP42,BP44:BP61) -> 920 | BS63: =SUM(BS20:BS42,BS44:BS61) -> 655 | BT63: =SUM(BT20:BT42,BT44:BT61) -> 290 | BU63: =SUM(BU20:BU42,BU44:BU61) -> 6 | BV63: =SUM(BV20:BV42,BV44:BV61) -> 0 | BW63: =SUM(BW20:BW42,BW44:BW61) -> 1715 | BX63: =SUM(BX20:BX42,BX44:BX61) -> 480 | BY63: =SUM(BY20:BY42,BY44:BY61) -> 3146 | BZ63: =SUM(BZ20:BZ42,BZ44:BZ61) -> 26.066667 | ... CM63: =SUM(CM20:CM42,CM44:CM61) -> 88
H70: LP | I70: Wskażnik | M70: wg standardu | P70: realizacja wskaźnika | Q70: uwagi do realizacji
M71: % | N71: suma godz./ECTS dyd. wg regulacji | O71: wskaźnik wg regulacji | Z71: =120*30% -> 36
H72: 1 | I72: Liczba godzin zajęć w cyklu kształcenia (zajęcia +praktyki) | P72: =SUM(O20:O42,O44:O61) -> 1431 | Q72: =IF(P72=O72,"OK","Wartość wymaga weryfikacji") -> Wartość wymaga weryfikacji
H73: 2 | I73: Minimalna liczba punktów ECTS w cyklu kształcenia | N73: 120 | O73: 120 | P73: =SUM(Q20:Q42,Q44:Q61) -> 124 | Q73: =IF(P73=O73,"OK","Wartość wymaga weryfikacji") -> Wartość wymaga weryfikacji
H74: 3 | I74: Liczba godzin całkowitego nakładu pracy w cyklu kształcenia (zajęcia, praktyki i pracał własna studenta) | N74: =P73*25 -> 3100 | O74: =P73*30 -> 3720 | P74: =SUM(M20:M42,M44:M61) -> 3146 | Q74: =IF(P74=O74,"OK","Wartość wymaga weryfikacji") -> Wartość wymaga weryfikacji
H75: 4 | I75: Liczba godzin zajęć dydaktycznych w cyklu kształcenia- bez praktyk | O75: 1125 | P75: =P72-P83 -> 951 | Q75: =IF(P75=O75,"OK","Wartość wymaga weryfikacji") -> Wartość wymaga weryfikacji
H76: 5 | I76: Minimalna liczba godzin z bezpośrednim udziałem nauczycieli akademickich lub innych osób prowadzących zajęcia- wg kolumny "U | M76: 0.5 | N76: =P73 -> 124 | O76: =M76*N76 -> 62 | P76: =SUM(U20:U42,U44:U61) -> 56.211594 | Q76: =IF(P76=O76,"OK","Wartość wymaga weryfikacji") -> Wartość wymaga weryfikacji
H77: 6 | I77: Liczba punktów ECTS przypisana do zajęć prowadzonych z wykorzystaniem metod i technik kształcenia na odległość -profil praktyczny | M77: 0.5 | N77: =P73 -> 124 | O77: =M77*N77 -> 62 | P77: =SUM(T20:T42,T44:T61) -> 28.152381 | Q77: =IF(P77=O77,"OK","Wartość wymaga weryfikacji") -> Wartość wymaga weryfikacji
I78: Liczba punktów ECTS przypisana do zajęć prowadzonych z wykorzystaniem metod i technik kształcenia na odległość -profil ogólnoakademicki | M78: 0.75 | N78: =P73 -> 124 | O78: =M78*N78 -> 93 | P78: =SUM(T20:T42,T44:T61) -> 28.152381 | Q78: =IF(P78=O78,"OK","Wartość wymaga weryfikacji") -> Wartość wymaga weryfikacji
H79: 7 | I79: Minimalna liczba ECTS za zajęcia do wyboru | M79: 0.3 | N79: =P73 -> 124 | O79: =M79*N79 -> 37.2 | P79: =(SUMIF(G20:G62,"POW",Q20:Q62))+(SUMIF(G20:G62,"PSW",Q20:Q62)) -> 38 | Q79: =IF(P79=O79,"OK","Wartość wymaga weryfikacji") -> Wartość wymaga weryfikacji
H80: 8 | I80: Liczba godzin zajęć z języka obcego | P80: =SUM(AN20:AN42,AN44:AN61,BK20:BK42,BK44:BK61) -> 60 | Q80: =IF(P80=O80,"OK","Wartość wymaga weryfikacji") -> Wartość wymaga weryfikacji
H81: 9 | I81: Liczba ECTS za zajęcia z języka obcego | P81: =SUMIF(I20:I61,"*język obcy*",Q20:Q61) -> 4 | Q81: =IF(P81=O81,"OK","Wartość wymaga weryfikacji") -> Wartość wymaga weryfikacji | T81: zlicza zajęcia wg nazwy "język obcy"
H82: 10 | I82: Minimalna liczba punktów ECTS za zajęcia z dziedziny nauk humanistycznych lub nauk społecznych | N82: 5 | O82: 5 | P82: =SUMIF(K20:K42,"tak",Q20:Q42)+SUMIF(K44:K61,"tak",Q44:Q61) -> 8 | Q82: =IF(P82=O82,"OK","Wartość wymaga weryfikacji") -> Wartość wymaga weryfikacji
H83: 11 | I83: Liczba godzin praktyk- profil praktyczny | M83: 3 miesiące | N83: 3m-cex4tygx30hx60min/45 min | O83: 480 | P83: =SUM(AQ20:AQ42,AQ44:AQ61,BN20:BN42,BN44:BN61) -> 480 | Q83: =IF(P83=O83,"OK","Wartość wymaga weryfikacji") -> OK | T83: 360h zegarowych co odpowiada 480h dydaktycznym
H84: 12 | I84: Liczba ECTS za praktyki- profil praktyczny | P84: =(SUMIF(I20:I62,"*praktyki zawodowe*",Q20:Q62))+(SUMIF(I20:I62,"*praktyka zawodowa*",Q20:Q62)) -> 21 | Q84: =IF(P84=O84,"OK","Wartość wymaga weryfikacji") -> Wartość wymaga weryfikacji
H85: 13 | I85: Liczba punktów ECTS przyporządkowana do zajęć kształtujących umiejętności praktyczne w wymiarze większym niż 50% liczby punktów ECTS koniecznej do ukończenia studiów -profil praktyczny | M85: 0.5 | N85: =P73 -> 124 | O85: =M85*N85 -> 62 | P85: =ROUND((SUM(S20:S42,S44:S61)),0) -> 63 | Q85: =IF(P85=O85,"OK","Wartość wymaga weryfikacji") -> Wartość wymaga weryfikacji | T85: w przedmiotach oznaczonych w kolumnie "L" jako "tak"-formuła uwzględnia następujące formy zajęć: PP+PZ+CA+CN+CS+CL+CK
I86: Liczba punktów ECTS przyporządkowana zajęciom związanym z prowadzoną w uczelni działalnością naukową w dyscyplinie lub dyscyplinach, do których przyporządkowany jest kierunek studiów w wymiarze większym niż 50% liczby punktów ECTS koniecznej do ukończenia studiów-profil ogólnoakademicki | M86: 0.5 | N86: =P73 -> 124 | O86: =M86*N86 -> 62 | Q86: =IF(P86=O86,"OK","Wartość wymaga weryfikacji") -> Wartość wymaga weryfikacji | T86: należy określić które z przedmiotów można zaliczyć do tej grupy i dostosować formułę która zliczy ECTSy
H87: 14 | I87: Średnia liczba godzin pracy studenta przypadająca na 1 ECTS | N87: 25 | O87: 30 | P87: =P74/P73 -> 25.370968 | Q87: =IF(P87=O87,"OK","Wartość wymaga weryfikacji") -> Wartość wymaga weryfikacji
C90: OBJAŚNIENIA
C91: *kod grupy wpisujemy w przypadku kierunków regulowanych- należy wpisać symbol grupy zajęć, do jakiej należy dany przedmiot, tzw. ”kod grupy”
C93: **Ścieżka- dla kierunków na których realizowane są ścieżki
C95: ***Rodzaj zajęć:
C96: RPS- obowiązkowe
C97: POW- ograniczonego wyboru
C98: PSW- swobodnego wyboru
C101: ****Pula godzin
C102: ze standardu
C103: do dyspozycji uczelni (Autorska oferta uczelni)
C105: *****Forma zakończenia przedmiotu
C106: zal zaliczenie
... C117: W Pracowni dydaktycznej

Sheet Wskaźniki
A1: LP | B1: KOD_GPS | C1: Wskaźnik | D1: wg standardu | G1: realizacja wskaźnika | H1: uwagi do realizacji
D2: % | E2: suma godz./ECTS dyd. wg regulacji | F2: wskaźnik wg regulacji
A3: 1 | B3: GODZINY_ogolem | C3: Liczba godzin zajęć w cyklu kształcenia (zajęcia +praktyki) | G3: =SUM('Elektr_IIst-program szczegółowy'!O20:O42,'Elektr_IIst-program szczegółowy'!O44:O61) -> 1431 | H3: =IF(G3=F3,"OK","Wartość wymaga weryfikacji") -> Wartość wymaga weryfikacji
A4: 2 | C4: Minimalna liczba punktów ECTS w cyklu kształcenia | F4: 120 | G4: =SUM('Elektr_IIst-program szczegółowy'!Q20:Q42,'Elektr_IIst-program szczegółowy'!Q44:Q61) -> 124 | H4: =IF(G4=F4,"OK","Wartość wymaga weryfikacji") -> Wartość wymaga weryfikacji
A5: 3 | C5: Liczba godzin całkowitego nakładu pracy w cyklu kształcenia (zajęcia, praktyki i pracał własna studenta) | E5: =G4*25 -> 3100 | F5: =G4*30 -> 3720 | G5: =SUM('Elektr_IIst-program szczegółowy'!M20:M42,'Elektr_IIst-program szczegółowy'!M44:M61) -> 3146 | H5: =IF(G5=F5,"OK","Wartość wymaga weryfikacji") -> Wartość wymaga weryfikacji
A6: 4 | C6: Liczba godzin zajęć dydaktycznych w cyklu kształcenia- bez praktyk | F6: =G5/2 -> 1573 | G6: =G3-G14 -> 951 | H6: =IF(G6=F6,"OK","Wartość wymaga weryfikacji") -> Wartość wymaga weryfikacji
A7: 5 | B7: ECTS_bezposredni | C7: Minimalna liczba godzin z bezpośrednim udziałem nauczycieli akademickich lub innych osób prowadzących zajęcia- wg kolumny "U" | D7: 0.5 | E7: =G4 -> 124 | F7: 60 | G7: =SUM('Elektr_IIst-program szczegółowy'!U20:U42,'Elektr_IIst-program szczegółowy'!U44:U61) -> 56.211594 | H7: =IF(G7=F7,"OK","Wartość wymaga weryfikacji") -> Wartość wymaga weryfikacji
A8: 6 | B8: ECTS_online | C8: Liczba punktów ECTS przypisana do zajęć prowadzonych z wykorzystaniem metod i technik kształcenia na odległość -profil praktyczny | D8: 0.5 | E8: =G4 -> 124 | F8: =D8*E8 -> 62 | G8: =SUM('Elektr_IIst-program szczegółowy'!T20:T42,'Elektr_IIst-program szczegółowy'!T44:T61) -> 28.152381 | H8: =IF(G8=F8,"OK","Wartość wymaga weryfikacji") -> Wartość wymaga weryfikacji
C9: Liczba punktów ECTS przypisana do zajęć prowadzonych z wykorzystaniem metod i technik kształcenia na odległość -profil ogólnoakademicki | D9: 0.75 | E9: =G4 -> 124 | F9: =D9*E9 -> 93 | G9: =SUM('Elektr_IIst-program szczegółowy'!T20:T42,'Elektr_IIst-program szczegółowy'!T44:T61) -> 28.152381 | H9: =IF(G9=F9,"OK","Wartość wymaga weryfikacji") -> Wartość wymaga weryfikacji
A10: 7 | B10: ECTS_dyspozycja | C10: Minimalna liczba ECTS za zajęcia do wyboru | D10: 0.3 | E10: =G4 -> 124 | F10: =D10*E10 -> 37.2 | G10: =(SUMIF('Elektr_IIst-program szczegółowy'!G20:G62,"POW",'Elektr_IIst-program szczegółowy'!Q20:Q62))+(SUMIF('Elektr_IIst-program szczegółowy'!G20:G62,"PSW",'Elektr_IIst-program szczegółowy'!Q20:Q62)) -> 38 | H10: =IF(G10=F10,"OK","Wartość wymaga weryfikacji") -> Wartość wymaga weryfikacji
A11: 8 | B11: GODZINY_jezyki | C11: Liczba godzin zajęć z języka obcego | G11: =SUM('Elektr_IIst-program szczegółowy'!AN20:AN42,'Elektr_IIst-program szczegółowy'!AN44:AN61,'Elektr_IIst-program szczegółowy'!BK20:BK42,'Elektr_IIst-program szczegółowy'!BK44:BK61) -> 60 | H11: =IF(G11=F11,"OK","Wartość wymaga weryfikacji") -> Wartość wymaga weryfikacji
A12: 9 | B12: ECTS_jezyki | C12: Liczba ECTS za zajęcia z języka obcego | G12: =SUMIF('Elektr_IIst-program szczegółowy'!I20:I61,"język obcy",'Elektr_IIst-program szczegółowy'!Q20:Q61) -> 4 | H12: =IF(G12=F12,"OK","Wartość wymaga weryfikacji") -> Wartość wymaga weryfikacji | I12: zlicza zajęcia wg nazwy "język obcy"
A13: 10 | B13: ECTS_humanistyczne | C13: Minimalna liczba punktów ECTS za zajęcia z dziedziny nauk humanistycznych lub nauk społecznych | E13: 5 | F13: 5 | G13: =SUMIF('Elektr_IIst-program szczegółowy'!K20:K42,"tak",'Elektr_IIst-program szczegółowy'!Q20:Q42)+SUMIF('Elektr_IIst-program szczegółowy'!K44:K61,"tak",'Elektr_IIst-program szczegółowy'!Q44:Q61) -> 8 | H13: =IF(G13=F13,"OK","Wartość wymaga weryfikacji") -> Wartość wymaga weryfikacji
A14: 11 | B14: GODZINY_praktyki | C14: Liczba godzin praktyk- profil praktyczny | D14: 3 miesiące | E14: 3m-cex4tygx30hx60min/45 min | F14: 480 | G14: =SUM('Elektr_IIst-program szczegółowy'!AQ20:AQ42,'Elektr_IIst-program szczegółowy'!AQ44:AQ61,'Elektr_IIst-program szczegółowy'!BN20:BN42,'Elektr_IIst-program szczegółowy'!BN44:BN61) -> 480 | H14: =IF(G14=F14,"OK","Wartość wymaga weryfikacji") -> OK | I14: 360h zegarowych co odpowiada 480h dydaktycznym
A15: 12 | B15: ECTS_praktyki | C15: Liczba ECTS za praktyki -profil praktyczny | G15: =(SUMIF('Elektr_IIst-program szczegółowy'!I20:I62,"*praktyki zawodowe*",'Elektr_IIst-program szczegółowy'!Q20:Q62))+(SUMIF('Elektr_IIst-program szczegółowy'!I20:I62,"*praktyka zawodowa*",'Elektr_IIst-program szczegółowy'!Q20:Q62)) -> 21 | H15: =IF(G15=F15,"OK","Wartość wymaga weryfikacji") -> Wartość wymaga weryfikacji
A16: 13 | B16: ECTS_profil_praktyczny | C16: Liczba punktów ECTS przyporządkowana do zajęć kształtujących umiejętności praktyczne w wymiarze większym niż 50% liczby punktów ECTS koniecznej do ukończenia studiów -profil praktyczny | D16: 0.5 | E16: =G4 -> 124 | F16: =D16*E16 -> 62 | G16: =ROUND((SUM('Elektr_IIst-program szczegółowy'!S20:S42,'Elektr_IIst-program szczegółowy'!S44:S61)),0) -> 63 | H16: =IF(G16=F16,"OK","Wartość wymaga weryfikacji") -> Wartość wymaga weryfikacji | I16: w przedmiotach oznaczonych w kolumnie "L" jako "tak"-formuła uwzględnia następujące formy zajęć: PP+PZ+CA+CN+CS+CL+CK
C17: Liczba punktów ECTS przyporządkowana zajęciom związanym z prowadzoną w uczelni działalnością naukową w dyscyplinie lub dyscyplinach, do których przyporządkowany jest kierunek studiów w wymiarze większym niż 50% liczby punktów ECTS koniecznej do ukończenia studiów-profil ogólnoakademicki | D17: 0.5 | E17: =G4 -> 124 | F17: =D17*E17 -> 62 | H17: =IF(G17=F17,"OK","Wartość wymaga weryfikacji") -> Wartość wymaga weryfikacji
A18: 14 | C18: Średnia liczba godzin pracy studenta przypadająca na 1 ECTS | E18: 25 | F18: 30 | G18: =G5/G4 -> 25.370968 | H18: =IF(G18=F18,"OK","Wartość wymaga weryfikacji") -> Wartość wymaga weryfikacji

Sheet Matryca
G2: Matryca
G5: Wydział | I5: Wydział Nauk o Zdrowiu
G6: Kierunek | I6: Elektroradiologia
G7: Cykl kształcenia | I7: 2026/2027-20027/2028
G8: Poziom kształcenia | I8: studia drugiego stopnia
G9: Profil kształcenia | I9: praktyczny
G10: Forma studiów | I10: niestacjonarne
G11: Liczba semestrów | I11: 4
G12: Łączna liczba godzin | I12: ='Elektr_IIst-program szczegółowy'!P72 -> 1431
G13: Łączna liczba ECTS | I13: 120
A16: Lp. | B16: kod grupy* | C16: Cykl kształcenia (nabór) | D16: Ścieżka** | E16: Rok studiów | F16: Rok akademicki | G16: Rodzaj zajęć*** (RPS, POW, PSW) | H16: ****Pula godzin (ze standardu, do dyspozycji uczelni (Autorska oferta uczelni)) | I16: Przedmiot (nazwa) | J16: łącznie dla przedmiotu | Q16: Suma efektów w poszczególnych kategoriach
J17: SUMA GODZIN PRZEDMIOTU | O17: ECTS | P17: forma zakończenia przedmiotu
J18: NAKŁAD PRACY STUDENTA (godz. dyd. + samodzielna praca) | K18: SAMODZIELNA PRACA STUDENTA | L18: GODZINY DYDAKTYCZNE | M18: W TYM TEORIA (WY+SE) | N18: GODZINY Z NAUCZYCIELEM | Q18: Wiedza | R18: Umiejetności | S18: Kompetencje społeczne | T18: Wiedza | BU18: Kształcenie ogólne | CA18: Umiejętności | CV18: Kompetencje społeczne | DC18: Wiedza | GO18: Umiejętności | KA18: Kompetencje społeczne | KP18: Wiedza | KQ18: Umiejetności | KR18: Kompetencje społeczne | KS18: Proporcje poszczególnych kategorii efektów dla przedmiotu
T19: K_W01 | U19: K_W02 | V19: K_W03 | W19: K_W04 | X19: K_W05 | Y19: K_W06 | Z19: K_W07 | AA19: K_W08 | AB19: K_W09 | AC19: K_W10 | AD19: K_W11 | AE19: K_W12 | AF19: K_W13 | AG19: K_W14 | AH19: K_W15 | AI19: K_W16 | AJ19: K_W17 | AK19: K_W18 | AL19: K_W19 | AM19: K_W20 | AN19: K_W21 | AO19: K_W22 | AP19: K_W23 | AQ19: K_W24 | AR19: K_W25 | AS19: K_W26 | AT19: K_W27 | AU19: K_W28 | AV19: K_W29 | AW19: K_W30 | AX19: K_W31 | AY19: K_W32 | AZ19: K_W33 | BA19: K_W34 | BB19: K_W35 | BC19: K_W36 | BD19: K_W37 | BE19: K_W38 | BF19: K_W39 | BG19: K_W40 | BH19: K_W41 | BI19: K_W42 | BJ19: K_W43 | BK19: K_W44 | BL19: K_W45 | BM19: K_W46 | BN19: K_W47 | BO19: K_W48 | BP19: K_W49 | BQ19: K_W50 | BR19: K_W51 | BS19: K_W52 | BT19: K_W53 | BU19: S.W1 | BV19: S.W2 | BW19: S.W3 | BX19: P.W1 | BY19: P.W2 | BZ19: P.W3 | CA19: K_U01 | CB19: K_U02 | CC19: K_U03 | CD19: K_U04 | CE19: K_U05 | CF19: K_U06 | CG19: K_U07 | CH19: K_U08 | CI19: K_U09 | CJ19: K_U10 | CK19: K_U11 | CL19: K_U12 | CM19: K_U13 | CN19: K_U14 | CO19: K_U15 | CP19: K_U16 | CQ19: K_U17 | CR19: K_U18 | CS19: K_U19 | CT19: K_U20 | CU19: K_U21 | CV19: K_K01 | CW19: K_K02 | CX19: K_K03 | CY19: K_K04 | CZ19: K_K05 | DA19: K_K06 | DB19: K_K07 | DC19: P_W01 | DD19: P_W02 | DE19: P_W03 | DF19: P_W04 | DG19: P_W05 | DH19: P_W06 | DI19: P_W07 | DJ19: P_W08 | DK19: P_W09 | DL19: P_W10 | DM19: P_W11 | DN19: P_W12 | DO19: P_W13 | DP19: P_W14 | DQ19: P_W15 | DR19: P_W16 | DS19: P_W17 | DT19: P_W18 | DU19: P_W19 | DV19: P_W20 | DW19: P_W21 | DX19: P_W22 | DY19: P_W23 | DZ19: P_W24 | EA19: P_W25 | EB19: P_W26 | EC19: P_W27 | ED19: P_W28 | EE19: P_W29 | EF19: P_W30 | EG19: P_W31 | EH19: P_W32 | EI19: P_W33 | EJ19: P_W34 | EK19: P_W35 | EL19: P_W36 | EM19: P_W37 | EN19: P_W38 | EO19: P_W39 | EP19: P_W40 | EQ19: P_W41 | ER19: P_W42 | ES19: P_W43 | ET19: P_W44 | EU19: P_W45 | EV19: P_W46 | EW19: P_W47 | EX19: P_W48 | EY19: P_W49 | EZ19: P_W50 | FA19: P_W51 | FB19: P_W52 | FC19: P_W53 | FD19: P_W54 | FE19: P_W55 | FF19: P_W56 | FG19: P_W57 | FH19: P_W58 | FI19: P_W59 | FJ19: P_W60 | FK19: P_W61 | FL19: P_W62 | FM19: P_W63 | FN19: P_W64 | FO19: P_W65 | FP19: P_W66 | FQ19: P_W67 | FR19: P_W68 | FS19: P_W69 | FT19: P_W70 | FU19: P_W71 | FV19: P_W72 | FW19: P_W73 | FX19: P_W74 | FY19: P_W75 | FZ19: P_W76 | GA19: P_W77 | GB19: P_W78 | GC19: P_W79 | GD19: P_W80 | GE19: P_W81 | GF19: P_W82 | GG19: P_W83 | GH19: P_W84 | GI19: P_W85 | GJ19: P_W86 | GK19: P_W87 | GL19: P_W88 | GM19: P_W89 | GN19: P_W90 | GO19: P_U01 | GP19: P_U02 | GQ19: P_U03 | GR19: P_U04 | GS19: P_U05 | GT19: P_U06 | GU19: P_U07 | GV19: P_U08 | GW19: P_U09 | GX19: P_U10 | GY19: P_U11 | GZ19: P_U12 | HA19: P_U13 | HB19: P_U14 | HC19: P_U15 | HD19: P_U16 | HE19: P_U17 | HF19: P_U18 | HG19: P_U19 | HH19: P_U20 | HI19: P_U21 | HJ19: P_U22 | HK19: P_U23 | HL19: P_U24 | HM19: P_U25 | HN19: P_U26 | HO19: P_U27 | HP19: P_U28 | HQ19: P_U29 | HR19: P_U30 | HS19: P_U31 | HT19: P_U32 | HU19: P_U33 | HV19: P_U34 | HW19: P_U35 | HX19: P_U36 | HY19: P_U37 | HZ19: P_U38 | IA19: P_U39 | IB19: P_U40 | IC19: P_U41 | ID19: P_U42 | IE19: P_U43 | IF19: P_U44 | IG19: P_U45 | IH19: P_U46 | II19: P_U47 | IJ19: P_U48 | IK19: P_U49 | IL19: P_U50 | IM19: P_U51 | IN19: P_U52 | IO19: P_U53 | IP19: P_U54 | IQ19: P_U55 | IR19: P_U56 | IS19: P_U57 | IT19: P_U58 | IU19: P_U59 | IV19: P_U60 | IW19: P_U61 | IX19: P_U62 | IY19: P_U63 | IZ19: P_U64 | JA19: P_U65 | JB19: P_U66 | JC19: P_U67 | JD19: P_U68 | JE19: P_U69 | JF19: P_U70 | JG19: P_U71 | JH19: P_U72 | JI19: P_U73 | JJ19: P_U74 | JK19: P_U75 | JL19: P_U76 | JM19: P_U77 | JN19: P_U78 | JO19: P_U79 | JP19: P_U80 | JQ19: P_U81 | JR19: P_U82 | JS19: P_U83 | JT19: P_U84 | JU19: P_U85 | JV19: P_U86 | JW19: P_U87 | JX19: P_U88 | JY19: P_U89 | JZ19: P_U90 | KA19: P_K01 | KB19: P_K02 | KC19: P_K03 | KD19: P_K04 | KE19: P_K05 | KF19: P_K06 | KG19: P_K07 | KH19: P_K08 | KI19: P_K09 | KJ19: P_K10 | KK19: P_K11 | KL19: P_K12 | KM19: P_K13 | KN19: P_K14 | KO19: P_K15
A20: ='Elektr_IIst-program szczegółowy'!A20 -> 1 | B20: =IF('Elektr_IIst-program szczegółowy'!B20>0,'Elektr_IIst-program szczegółowy'!B20," ") | C20: =IF('Elektr_IIst-program szczegółowy'!C20>0,'Elektr_IIst-program szczegółowy'!C20," ") -> 2026/2027 | D20: =IF('Elektr_IIst-program szczegółowy'!D20>0,'Elektr_IIst-program szczegółowy'!D20," ") | E20: =IF('Elektr_IIst-program szczegółowy'!E20>0,'Elektr_IIst-program szczegółowy'!E20," ") -> 1 | F20: =IF('Elektr_IIst-program szczegółowy'!F20>0,'Elektr_IIst-program szczegółowy'!F20," ") -> 2026/2027 | G20: =IF('Elektr_IIst-program szczegółowy'!G20>0,'Elektr_IIst-program szczegółowy'!G20," ") -> RPS | H20: =IF('Elektr_IIst-program szczegółowy'!H20>0,'Elektr_IIst-program szczegółowy'!H20," ") | I20: =IF('Elektr_IIst-program szczegółowy'!I20>0,'Elektr_IIst-program szczegółowy'!I20," ") -> Zawansowane techniki radiologiczne | J20: ='Elektr_IIst-program szczegółowy'!Y20+'Elektr_IIst-program szczegółowy'!AV20 -> 75 | K20: ='Elektr_IIst-program szczegółowy'!AS20+'Elektr_IIst-program szczegółowy'!BP20 -> 50 | L20: ='Elektr_IIst-program szczegółowy'!Z20+'Elektr_IIst-program szczegółowy'!AW20 -> 25 | M20: ='Elektr_IIst-program szczegółowy'!AB20+'Elektr_IIst-program szczegółowy'!AD20+'Elektr_IIst-program szczegółowy'!AY20+'Elektr_IIst-program szczegółowy'!BA20 -> 10 | N20: ='Elektr_IIst-program szczegółowy'!AA20+'Elektr_IIst-program szczegółowy'!AX20 -> 25 | O20: ='Elektr_IIst-program szczegółowy'!X20+'Elektr_IIst-program szczegółowy'!AU20 -> 3 | P20: =IF('Elektr_IIst-program szczegółowy'!V20>0,'Elektr_IIst-program szczegółowy'!V20," ") -> egz | Q20: =SUM(T20:BZ20) -> 9 | R20: =SUM(CA20:CU20) -> 3 | S20: =SUM(CV20:DB20) -> 1 | U20: 1 | AC20: 1 | AG20: 1 | BC20: 1 | BH20: 1 | BJ20: 1 | BK20: 1 | BL20: 1 | BM20: 1 | CC20: 1 | CD20: 1 | CH20: 1 | CW20: 1 | KP20: =SUM(DC20:GN20) -> 0 | KQ20: =SUM(GO20:JZ20) -> 0 | KR20: =SUM(KA20:KO20) -> 0
A21: ='Elektr_IIst-program szczegółowy'!A21 -> 2 | B21: =IF('Elektr_IIst-program szczegółowy'!B21>0,'Elektr_IIst-program szczegółowy'!B21," ") | C21: =IF('Elektr_IIst-program szczegółowy'!C21>0,'Elektr_IIst-program szczegółowy'!C21," ") -> 2026/2027 | D21: =IF('Elektr_IIst-program szczegółowy'!D21>0,'Elektr_IIst-program szczegółowy'!D21," ") | E21: =IF('Elektr_IIst-program szczegółowy'!E21>0,'Elektr_IIst-program szczegółowy'!E21," ") -> 1 | F21: =IF('Elektr_IIst-program szczegółowy'!F21>0,'Elektr_IIst-program szczegółowy'!F21," ") -> 2026/2027 | G21: =IF('Elektr_IIst-program szczegółowy'!G21>0,'Elektr_IIst-program szczegółowy'!G21," ") -> RPS | H21: =IF('Elektr_IIst-program szczegółowy'!H21>0,'Elektr_IIst-program szczegółowy'!H21," ") | I21: =IF('Elektr_IIst-program szczegółowy'!I21>0,'Elektr_IIst-program szczegółowy'!I21," ") -> Tomografia komputerowa serca i układu krążenia | J21: ='Elektr_IIst-program szczegółowy'!Y21+'Elektr_IIst-program szczegółowy'!AV21 -> 50 | K21: ='Elektr_IIst-program szczegółowy'!AS21+'Elektr_IIst-program szczegółowy'!BP21 -> 25 | L21: ='Elektr_IIst-program szczegółowy'!Z21+'Elektr_IIst-program szczegółowy'!AW21 -> 25 | M21: ='Elektr_IIst-program szczegółowy'!AB21+'Elektr_IIst-program szczegółowy'!AD21+'Elektr_IIst-program szczegółowy'!AY21+'Elektr_IIst-program szczegółowy'!BA21 -> 10 | N21: ='Elektr_IIst-program szczegółowy'!AA21+'Elektr_IIst-program szczegółowy'!AX21 -> 25 | O21: ='Elektr_IIst-program szczegółowy'!X21+'Elektr_IIst-program szczegółowy'!AU21 -> 2 | P21: =IF('Elektr_IIst-program szczegółowy'!V21>0,'Elektr_IIst-program szczegółowy'!V21," ") -> zal/oc | Q21: =SUM(T21:BZ21) -> 2 | R21: =SUM(CA21:CU21) -> 4 | S21: =SUM(CV21:DB21) -> 1 | U21: 1 | V21: 1 | CC21: 1 | CD21: 1 | CH21: 1 | CO21: 1 | CW21: 1 | KP21: =SUM(DC21:GN21) -> 0 | KQ21: =SUM(GO21:JZ21) -> 0 | KR21: =SUM(KA21:KO21) -> 0
A22: ='Elektr_IIst-program szczegółowy'!A22 -> 3 | B22: =IF('Elektr_IIst-program szczegółowy'!B22>0,'Elektr_IIst-program szczegółowy'!B22," ") | C22: =IF('Elektr_IIst-program szczegółowy'!C22>0,'Elektr_IIst-program szczegółowy'!C22," ") -> 2026/2027 | D22: =IF('Elektr_IIst-program szczegółowy'!D22>0,'Elektr_IIst-program szczegółowy'!D22," ") | E22: =IF('Elektr_IIst-program szczegółowy'!E22>0,'Elektr_IIst-program szczegółowy'!E22," ") -> 1 | F22: =IF('Elektr_IIst-program szczegółowy'!F22>0,'Elektr_IIst-program szczegółowy'!F22," ") -> 2026/2027 | G22: =IF('Elektr_IIst-program szczegółowy'!G22>0,'Elektr_IIst-program szczegółowy'!G22," ") -> RPS | H22: =IF('Elektr_IIst-program szczegółowy'!H22>0,'Elektr_IIst-program szczegółowy'!H22," ") | I22: =IF('Elektr_IIst-program szczegółowy'!I22>0,'Elektr_IIst-program szczegółowy'!I22," ") -> Zaawansowane techniki rezonansu magnetycznego (MR) w neurologii | J22: ='Elektr_IIst-program szczegółowy'!Y22+'Elektr_IIst-program szczegółowy'!AV22 -> 50 | K22: ='Elektr_IIst-program szczegółowy'!AS22+'Elektr_IIst-program szczegółowy'!BP22 -> 25 | L22: ='Elektr_IIst-program szczegółowy'!Z22+'Elektr_IIst-program szczegółowy'!AW22 -> 25 | M22: ='Elektr_IIst-program szczegółowy'!AB22+'Elektr_IIst-program szczegółowy'!AD22+'Elektr_IIst-program szczegółowy'!AY22+'Elektr_IIst-program szczegółowy'!BA22 -> 10 | N22: ='Elektr_IIst-program szczegółowy'!AA22+'Elektr_IIst-program szczegółowy'!AX22 -> 25 | O22: ='Elektr_IIst-program szczegółowy'!X22+'Elektr_IIst-program szczegółowy'!AU22 -> 2 | P22: =IF('Elektr_IIst-program szczegółowy'!V22>0,'Elektr_IIst-program szczegółowy'!V22," ") -> zal/oc | Q22: =SUM(T22:BZ22) -> 3 | R22: =SUM(CA22:CU22) -> 4 | S22: =SUM(CV22:DB22) -> 2 | U22: 1 | V22: 1 | BI22: 1 | CC22: 1 | CD22: 1 | CH22: 1 | CO22: 1 | CW22: 1 | CY22: 1 | KP22: =SUM(DC22:GN22) -> 0 | KQ22: =SUM(GO22:JZ22) -> 0 | KR22: =SUM(KA22:KO22) -> 0
A23: ='Elektr_IIst-program szczegółowy'!A23 -> 4 | B23: =IF('Elektr_IIst-program szczegółowy'!B23>0,'Elektr_IIst-program szczegółowy'!B23," ") | C23: =IF('Elektr_IIst-program szczegółowy'!C23>0,'Elektr_IIst-program szczegółowy'!C23," ") -> 2026/2027 | D23: =IF('Elektr_IIst-program szczegółowy'!D23>0,'Elektr_IIst-program szczegółowy'!D23," ") | E23: =IF('Elektr_IIst-program szczegółowy'!E23>0,'Elektr_IIst-program szczegółowy'!E23," ") -> 1 | F23: =IF('Elektr_IIst-program szczegółowy'!F23>0,'Elektr_IIst-program szczegółowy'!F23," ") -> 2026/2027 | G23: =IF('Elektr_IIst-program szczegółowy'!G23>0,'Elektr_IIst-program szczegółowy'!G23," ") -> RPS | H23: =IF('Elektr_IIst-program szczegółowy'!H23>0,'Elektr_IIst-program szczegółowy'!H23," ") | I23: =IF('Elektr_IIst-program szczegółowy'!I23>0,'Elektr_IIst-program szczegółowy'!I23," ") -> Zaawansowane techniki rezonansu magnetycznego (MR) w kardiologii | J23: ='Elektr_IIst-program szczegółowy'!Y23+'Elektr_IIst-program szczegółowy'!AV23 -> 50 | K23: ='Elektr_IIst-program szczegółowy'!AS23+'Elektr_IIst-program szczegółowy'!BP23 -> 25 | L23: ='Elektr_IIst-program szczegółowy'!Z23+'Elektr_IIst-program szczegółowy'!AW23 -> 25 | M23: ='Elektr_IIst-program szczegółowy'!AB23+'Elektr_IIst-program szczegółowy'!AD23+'Elektr_IIst-program szczegółowy'!AY23+'Elektr_IIst-program szczegółowy'!BA23 -> 10 | N23: ='Elektr_IIst-program szczegółowy'!AA23+'Elektr_IIst-program szczegółowy'!AX23 -> 25 | O23: ='Elektr_IIst-program szczegółowy'!X23+'Elektr_IIst-program szczegółowy'!AU23 -> 2 | P23: =IF('Elektr_IIst-program szczegółowy'!V23>0,'Elektr_IIst-program szczegółowy'!V23," ") -> zal/oc | Q23: =SUM(T23:BZ23) -> 5 | R23: =SUM(CA23:CU23) -> 4 | S23: =SUM(CV23:DB23) -> 2 | BA23: 1 | BB23: 1 | BC23: 1 | BD23: 1 | BE23: 1 | CC23: 1 | CD23: 1 | CH23: 1 | CO23: 1 | CW23: 1 | CY23: 1 | KP23: =SUM(DC23:GN23) -> 0 | KQ23: =SUM(GO23:JZ23) -> 0 | KR23: =SUM(KA23:KO23) -> 0
A24: ='Elektr_IIst-program szczegółowy'!A24 -> 5 | B24: =IF('Elektr_IIst-program szczegółowy'!B24>0,'Elektr_IIst-program szczegółowy'!B24," ") | C24: =IF('Elektr_IIst-program szczegółowy'!C24>0,'Elektr_IIst-program szczegółowy'!C24," ") -> 2026/2027 | D24: =IF('Elektr_IIst-program szczegółowy'!D24>0,'Elektr_IIst-program szczegółowy'!D24," ") | E24: =IF('Elektr_IIst-program szczegółowy'!E24>0,'Elektr_IIst-program szczegółowy'!E24," ") -> 1 | F24: =IF('Elektr_IIst-program szczegółowy'!F24>0,'Elektr_IIst-program szczegółowy'!F24," ") -> 2026/2027 | G24: =IF('Elektr_IIst-program szczegółowy'!G24>0,'Elektr_IIst-program szczegółowy'!G24," ") -> RPS | H24: =IF('Elektr_IIst-program szczegółowy'!H24>0,'Elektr_IIst-program szczegółowy'!H24," ") | I24: =IF('Elektr_IIst-program szczegółowy'!I24>0,'Elektr_IIst-program szczegółowy'!I24," ") -> Zajęcia praktyczne: Tomografia komputerowa (TK) | J24: ='Elektr_IIst-program szczegółowy'!Y24+'Elektr_IIst-program szczegółowy'!AV24 -> 50 | K24: ='Elektr_IIst-program szczegółowy'!AS24+'Elektr_IIst-program szczegółowy'!BP24 -> 20 | L24: ='Elektr_IIst-program szczegółowy'!Z24+'Elektr_IIst-program szczegółowy'!AW24 -> 30 | M24: ='Elektr_IIst-program szczegółowy'!AB24+'Elektr_IIst-program szczegółowy'!AD24+'Elektr_IIst-program szczegółowy'!AY24+'Elektr_IIst-program szczegółowy'!BA24 -> 0 | N24: ='Elektr_IIst-program szczegółowy'!AA24+'Elektr_IIst-program szczegółowy'!AX24 -> 30 | O24: ='Elektr_IIst-program szczegółowy'!X24+'Elektr_IIst-program szczegółowy'!AU24 -> 2 | P24: =IF('Elektr_IIst-program szczegółowy'!V24>0,'Elektr_IIst-program szczegółowy'!V24," ") -> zal | Q24: =SUM(T24:BZ24) -> 2 | R24: =SUM(CA24:CU24) -> 5 | S24: =SUM(CV24:DB24) -> 2 | U24: 1 | V24: 1 | CC24: 1 | CD24: 1 | CH24: 1 | CI24: 1 | CO24: 1 | CW24: 1 | CY24: 1 | KP24: =SUM(DC24:GN24) -> 0 | KQ24: =SUM(GO24:JZ24) -> 0 | KR24: =SUM(KA24:KO24) -> 0
A25: ='Elektr_IIst-program szczegółowy'!A25 -> 6 | B25: =IF('Elektr_IIst-program szczegółowy'!B25>0,'Elektr_IIst-program szczegółowy'!B25," ") | C25: =IF('Elektr_IIst-program szczegółowy'!C25>0,'Elektr_IIst-program szczegółowy'!C25," ") -> 2026/2027 | D25: =IF('Elektr_IIst-program szczegółowy'!D25>0,'Elektr_IIst-program szczegółowy'!D25," ") | E25: =IF('Elektr_IIst-program szczegółowy'!E25>0,'Elektr_IIst-program szczegółowy'!E25," ") -> 1 | F25: =IF('Elektr_IIst-program szczegółowy'!F25>0,'Elektr_IIst-program szczegółowy'!F25," ") -> 2026/2027 | G25: =IF('Elektr_IIst-program szczegółowy'!G25>0,'Elektr_IIst-program szczegółowy'!G25," ") -> RPS | H25: =IF('Elektr_IIst-program szczegółowy'!H25>0,'Elektr_IIst-program szczegółowy'!H25," ") | I25: =IF('Elektr_IIst-program szczegółowy'!I25>0,'Elektr_IIst-program szczegółowy'!I25," ") -> Zajęcia praktyczne: Rezonans magnetyczny (MR) | J25: ='Elektr_IIst-program szczegółowy'!Y25+'Elektr_IIst-program szczegółowy'!AV25 -> 50 | K25: ='Elektr_IIst-program szczegółowy'!AS25+'Elektr_IIst-program szczegółowy'!BP25 -> 20 | L25: ='Elektr_IIst-program szczegółowy'!Z25+'Elektr_IIst-program szczegółowy'!AW25 -> 30 | M25: ='Elektr_IIst-program szczegółowy'!AB25+'Elektr_IIst-program szczegółowy'!AD25+'Elektr_IIst-program szczegółowy'!AY25+'Elektr_IIst-program szczegółowy'!BA25 -> 0 | N25: ='Elektr_IIst-program szczegółowy'!AA25+'Elektr_IIst-program szczegółowy'!AX25 -> 30 | O25: ='Elektr_IIst-program szczegółowy'!X25+'Elektr_IIst-program szczegółowy'!AU25 -> 2 | P25: =IF('Elektr_IIst-program szczegółowy'!V25>0,'Elektr_IIst-program szczegółowy'!V25," ") -> zal | Q25: =SUM(T25:BZ25) -> 5 | R25: =SUM(CA25:CU25) -> 5 | S25: =SUM(CV25:DB25) -> 2 | BA25: 1 | BB25: 1 | BC25: 1 | BD25: 1 | BE25: 1 | CC25: 1 | CD25: 1 | CH25: 1 | CI25: 1 | CO25: 1 | CW25: 1 | CY25: 1 | KP25: =SUM(DC25:GN25) -> 0 | KQ25: =SUM(GO25:JZ25) -> 0 | KR25: =SUM(KA25:KO25) -> 0
A26: ='Elektr_IIst-program szczegółowy'!A26 -> 7 | B26: =IF('Elektr_IIst-program szczegółowy'!B26>0,'Elektr_IIst-program szczegółowy'!B26," ") | C26: =IF('Elektr_IIst-program szczegółowy'!C26>0,'Elektr_IIst-program szczegółowy'!C26," ") -> 2026/2027 | D26: =IF('Elektr_IIst-program szczegółowy'!D26>0,'Elektr_IIst-program szczegółowy'!D26," ") | E26: =IF('Elektr_IIst-program szczegółowy'!E26>0,'Elektr_IIst-program szczegółowy'!E26," ") -> 1 | F26: =IF('Elektr_IIst-program szczegółowy'!F26>0,'Elektr_IIst-program szczegółowy'!F26," ") -> 2026/2027 | G26: =IF('Elektr_IIst-program szczegółowy'!G26>0,'Elektr_IIst-program szczegółowy'!G26," ") -> RPS | H26: =IF('Elektr_IIst-program szczegółowy'!H26>0,'Elektr_IIst-program szczegółowy'!H26," ") | I26: =IF('Elektr_IIst-program szczegółowy'!I26>0,'Elektr_IIst-program szczegółowy'!I26," ") -> Metody i techniki badań naukowych | J26: ='Elektr_IIst-program szczegółowy'!Y26+'Elektr_IIst-program szczegółowy'!AV26 -> 50 | K26: ='Elektr_IIst-program szczegółowy'!AS26+'Elektr_IIst-program szczegółowy'!BP26 -> 20 | L26: ='Elektr_IIst-program szczegółowy'!Z26+'Elektr_IIst-program szczegółowy'!AW26 -> 30 | M26: ='Elektr_IIst-program szczegółowy'!AB26+'Elektr_IIst-program szczegółowy'!AD26+'Elektr_IIst-program szczegółowy'!AY26+'Elektr_IIst-program szczegółowy'!BA26 -> 10 | N26: ='Elektr_IIst-program szczegółowy'!AA26+'Elektr_IIst-program szczegółowy'!AX26 -> 30 | O26: ='Elektr_IIst-program szczegółowy'!X26+'Elektr_IIst-program szczegółowy'!AU26 -> 2 | P26: =IF('Elektr_IIst-program szczegółowy'!V26>0,'Elektr_IIst-program szczegółowy'!V26," ") -> zal/oc | Q26: =SUM(T26:BZ26) -> 3 | R26: =SUM(CA26:CU26) -> 4 | S26: =SUM(CV26:DB26) -> 1 | AQ26: 1 | AR26: 1 | AS26: 1 | CK26: 1 | CQ26: 1 | CR26: 1 | CS26: 1 | DA26: 1 | KP26: =SUM(DC26:GN26) -> 0 | KQ26: =SUM(GO26:JZ26) -> 0 | KR26: =SUM(KA26:KO26) -> 0
A27: ='Elektr_IIst-program szczegółowy'!A27 -> 8 | B27: =IF('Elektr_IIst-program szczegółowy'!B27>0,'Elektr_IIst-program szczegółowy'!B27," ") | C27: =IF('Elektr_IIst-program szczegółowy'!C27>0,'Elektr_IIst-program szczegółowy'!C27," ") -> 2026/2027 | D27: =IF('Elektr_IIst-program szczegółowy'!D27>0,'Elektr_IIst-program szczegółowy'!D27," ") | E27: =IF('Elektr_IIst-program szczegółowy'!E27>0,'Elektr_IIst-program szczegółowy'!E27," ") -> 1 | F27: =IF('Elektr_IIst-program szczegółowy'!F27>0,'Elektr_IIst-program szczegółowy'!F27," ") -> 2026/2027 | G27: =IF('Elektr_IIst-program szczegółowy'!G27>0,'Elektr_IIst-program szczegółowy'!G27," ") -> POW | H27: =IF('Elektr_IIst-program szczegółowy'!H27>0,'Elektr_IIst-program szczegółowy'!H27," ") | I27: =IF('Elektr_IIst-program szczegółowy'!I27>0,'Elektr_IIst-program szczegółowy'!I27," ") -> Zdrowie środowiskowe / Zagrożenia epidemiologiczne | J27: ='Elektr_IIst-program szczegółowy'!Y27+'Elektr_IIst-program szczegółowy'!AV27 -> 75 | K27: ='Elektr_IIst-program szczegółowy'!AS27+'Elektr_IIst-program szczegółowy'!BP27 -> 50 | L27: ='Elektr_IIst-program szczegółowy'!Z27+'Elektr_IIst-program szczegółowy'!AW27 -> 25 | M27: ='Elektr_IIst-program szczegółowy'!AB27+'Elektr_IIst-program szczegółowy'!AD27+'Elektr_IIst-program szczegółowy'!AY27+'Elektr_IIst-program szczegółowy'!BA27 -> 10 | N27: ='Elektr_IIst-program szczegółowy'!AA27+'Elektr_IIst-program szczegółowy'!AX27 -> 25 | O27: ='Elektr_IIst-program szczegółowy'!X27+'Elektr_IIst-program szczegółowy'!AU27 -> 3 | P27: =IF('Elektr_IIst-program szczegółowy'!V27>0,'Elektr_IIst-program szczegółowy'!V27," ") -> zal | Q27: =SUM(T27:BZ27) -> 4 | R27: =SUM(CA27:CU27) -> 3 | S27: =SUM(CV27:DB27) -> 2 | AQ27: 1 | AR27: 1 | BS27: 1 | BT27: 1 | CK27: 1 | CQ27: 1 | CU27: 1 | CW27: 1 | DB27: 1 | KP27: =SUM(DC27:GN27) -> 0 | KQ27: =SUM(GO27:JZ27) -> 0 | KR27: =SUM(KA27:KO27) -> 0
A28: ='Elektr_IIst-program szczegółowy'!A28 -> 9 | B28: =IF('Elektr_IIst-program szczegółowy'!B28>0,'Elektr_IIst-program szczegółowy'!B28," ") | C28: =IF('Elektr_IIst-program szczegółowy'!C28>0,'Elektr_IIst-program szczegółowy'!C28," ") -> 2026/2027 | D28: =IF('Elektr_IIst-program szczegółowy'!D28>0,'Elektr_IIst-program szczegółowy'!D28," ") | E28: =IF('Elektr_IIst-program szczegółowy'!E28>0,'Elektr_IIst-program szczegółowy'!E28," ") -> 1 | F28: =IF('Elektr_IIst-program szczegółowy'!F28>0,'Elektr_IIst-program szczegółowy'!F28," ") -> 2026/2027 | G28: =IF('Elektr_IIst-program szczegółowy'!G28>0,'Elektr_IIst-program szczegółowy'!G28," ") -> RPS | H28: =IF('Elektr_IIst-program szczegółowy'!H28>0,'Elektr_IIst-program szczegółowy'!H28," ") | I28: =IF('Elektr_IIst-program szczegółowy'!I28>0,'Elektr_IIst-program szczegółowy'!I28," ") -> Praktyka zawodowa 1 | J28: ='Elektr_IIst-program szczegółowy'!Y28+'Elektr_IIst-program szczegółowy'!AV28 -> 75 | K28: ='Elektr_IIst-program szczegółowy'!AS28+'Elektr_IIst-program szczegółowy'!BP28 -> 15 | L28: ='Elektr_IIst-program szczegółowy'!Z28+'Elektr_IIst-program szczegółowy'!AW28 -> 60 | M28: ='Elektr_IIst-program szczegółowy'!AB28+'Elektr_IIst-program szczegółowy'!AD28+'Elektr_IIst-program szczegółowy'!AY28+'Elektr_IIst-program szczegółowy'!BA28 -> 0 | N28: ='Elektr_IIst-program szczegółowy'!AA28+'Elektr_IIst-program szczegółowy'!AX28 -> 60 | O28: ='Elektr_IIst-program szczegółowy'!X28+'Elektr_IIst-program szczegółowy'!AU28 -> 3 | P28: =IF('Elektr_IIst-program szczegółowy'!V28>0,'Elektr_IIst-program szczegółowy'!V28," ") -> zal | Q28: =SUM(T28:BZ28) -> 2 | R28: =SUM(CA28:CU28) -> 6 | S28: =SUM(CV28:DB28) -> 3 | T28: 1 | BP28: 1 | CA28: 1 | CB28: 1 | CC28: 1 | CD28: 1 | CG28: 1 | CU28: 1 | CW28: 1 | CX28: 1 | CY28: 1 | KP28: =SUM(DC28:GN28) -> 0 | KQ28: =SUM(GO28:JZ28) -> 0 | KR28: =SUM(KA28:KO28) -> 0
A29: ='Elektr_IIst-program szczegółowy'!A29 -> 10 | B29: =IF('Elektr_IIst-program szczegółowy'!B29>0,'Elektr_IIst-program szczegółowy'!B29," ") | C29: =IF('Elektr_IIst-program szczegółowy'!C29>0,'Elektr_IIst-program szczegółowy'!C29," ") -> 2026/2027 | D29: =IF('Elektr_IIst-program szczegółowy'!D29>0,'Elektr_IIst-program szczegółowy'!D29," ") | E29: =IF('Elektr_IIst-program szczegółowy'!E29>0,'Elektr_IIst-program szczegółowy'!E29," ") -> 1 | F29: =IF('Elektr_IIst-program szczegółowy'!F29>0,'Elektr_IIst-program szczegółowy'!F29," ") -> 2026/2027 | G29: =IF('Elektr_IIst-program szczegółowy'!G29>0,'Elektr_IIst-program szczegółowy'!G29," ") -> RPS | H29: =IF('Elektr_IIst-program szczegółowy'!H29>0,'Elektr_IIst-program szczegółowy'!H29," ") | I29: =IF('Elektr_IIst-program szczegółowy'!I29>0,'Elektr_IIst-program szczegółowy'!I29," ") -> Język obcy | J29: ='Elektr_IIst-program szczegółowy'!Y29+'Elektr_IIst-program szczegółowy'!AV29 -> 100 | K29: ='Elektr_IIst-program szczegółowy'!AS29+'Elektr_IIst-program szczegółowy'!BP29 -> 40 | L29: ='Elektr_IIst-program szczegółowy'!Z29+'Elektr_IIst-program szczegółowy'!AW29 -> 60 | M29: ='Elektr_IIst-program szczegółowy'!AB29+'Elektr_IIst-program szczegółowy'!AD29+'Elektr_IIst-program szczegółowy'!AY29+'Elektr_IIst-program szczegółowy'!BA29 -> 0 | N29: ='Elektr_IIst-program szczegółowy'!AA29+'Elektr_IIst-program szczegółowy'!AX29 -> 60 | O29: ='Elektr_IIst-program szczegółowy'!X29+'Elektr_IIst-program szczegółowy'!AU29 -> 4 | P29: =IF('Elektr_IIst-program szczegółowy'!V29>0,'Elektr_IIst-program szczegółowy'!V29," ") -> zal/o | Q29: =SUM(T29:BZ29) -> 0 | R29: =SUM(CA29:CU29) -> 3 | S29: =SUM(CV29:DB29) -> 1 | CA29: 1 | CB29: 1 | CL29: 1 | CV29: 1 | KP29: =SUM(DC29:GN29) -> 0 | KQ29: =SUM(GO29:JZ29) -> 0 | KR29: =SUM(KA29:KO29) -> 0
A30: ='Elektr_IIst-program szczegółowy'!A30 -> 11 | B30: =IF('Elektr_IIst-program szczegółowy'!B30>0,'Elektr_IIst-program szczegółowy'!B30," ") | C30: =IF('Elektr_IIst-program szczegółowy'!C30>0,'Elektr_IIst-program szczegółowy'!C30," ") -> 2026/2027 | D30: =IF('Elektr_IIst-program szczegółowy'!D30>0,'Elektr_IIst-program szczegółowy'!D30," ") | E30: =IF('Elektr_IIst-program szczegółowy'!E30>0,'Elektr_IIst-program szczegółowy'!E30," ") -> 1 | F30: =IF('Elektr_IIst-program szczegółowy'!F30>0,'Elektr_IIst-program szczegółowy'!F30," ") -> 2026/2027 | G30: =IF('Elektr_IIst-program szczegółowy'!G30>0,'Elektr_IIst-program szczegółowy'!G30," ") -> RPS | H30: =IF('Elektr_IIst-program szczegółowy'!H30>0,'Elektr_IIst-program szczegółowy'!H30," ") | I30: =IF('Elektr_IIst-program szczegółowy'!I30>0,'Elektr_IIst-program szczegółowy'!I30," ") -> Radiologia zabiegowa | J30: ='Elektr_IIst-program szczegółowy'!Y30+'Elektr_IIst-program szczegółowy'!AV30 -> 50 | K30: ='Elektr_IIst-program szczegółowy'!AS30+'Elektr_IIst-program szczegółowy'!BP30 -> 25 | L30: ='Elektr_IIst-program szczegółowy'!Z30+'Elektr_IIst-program szczegółowy'!AW30 -> 25 | M30: ='Elektr_IIst-program szczegółowy'!AB30+'Elektr_IIst-program szczegółowy'!AD30+'Elektr_IIst-program szczegółowy'!AY30+'Elektr_IIst-program szczegółowy'!BA30 -> 10 | N30: ='Elektr_IIst-program szczegółowy'!AA30+'Elektr_IIst-program szczegółowy'!AX30 -> 25 | O30: ='Elektr_IIst-program szczegółowy'!X30+'Elektr_IIst-program szczegółowy'!AU30 -> 2 | P30: =IF('Elektr_IIst-program szczegółowy'!V30>0,'Elektr_IIst-program szczegółowy'!V30," ") -> zal/o | Q30: =SUM(T30:BZ30) -> 4 | R30: =SUM(CA30:CU30) -> 5 | S30: =SUM(CV30:DB30) -> 3 | BF30: 1 | BG30: 1 | BH30: 1 | BI30: 1 | CC30: 1 | CD30: 1 | CH30: 1 | CI30: 1 | CJ30: 1 | CW30: 1 | CX30: 1 | CY30: 1 | KP30: =SUM(DC30:GN30) -> 0 | KQ30: =SUM(GO30:JZ30) -> 0 | KR30: =SUM(KA30:KO30) -> 0
A31: ='Elektr_IIst-program szczegółowy'!A31 -> 12 | B31: =IF('Elektr_IIst-program szczegółowy'!B31>0,'Elektr_IIst-program szczegółowy'!B31," ") | C31: =IF('Elektr_IIst-program szczegółowy'!C31>0,'Elektr_IIst-program szczegółowy'!C31," ") -> 2026/2027 | D31: =IF('Elektr_IIst-program szczegółowy'!D31>0,'Elektr_IIst-program szczegółowy'!D31," ") | E31: =IF('Elektr_IIst-program szczegółowy'!E31>0,'Elektr_IIst-program szczegółowy'!E31," ") -> 1 | F31: =IF('Elektr_IIst-program szczegółowy'!F31>0,'Elektr_IIst-program szczegółowy'!F31," ") -> 2026/2027 | G31: =IF('Elektr_IIst-program szczegółowy'!G31>0,'Elektr_IIst-program szczegółowy'!G31," ") -> RPS | H31: =IF('Elektr_IIst-program szczegółowy'!H31>0,'Elektr_IIst-program szczegółowy'!H31," ") | I31: =IF('Elektr_IIst-program szczegółowy'!I31>0,'Elektr_IIst-program szczegółowy'!I31," ") -> Zajęcia praktyczne: Radiologia zabiegowa | J31: ='Elektr_IIst-program szczegółowy'!Y31+'Elektr_IIst-program szczegółowy'!AV31 -> 50 | K31: ='Elektr_IIst-program szczegółowy'!AS31+'Elektr_IIst-program szczegółowy'!BP31 -> 20 | L31: ='Elektr_IIst-program szczegółowy'!Z31+'Elektr_IIst-program szczegółowy'!AW31 -> 30 | M31: ='Elektr_IIst-program szczegółowy'!AB31+'Elektr_IIst-program szczegółowy'!AD31+'Elektr_IIst-program szczegółowy'!AY31+'Elektr_IIst-program szczegółowy'!BA31 -> 0 | N31: ='Elektr_IIst-program szczegółowy'!AA31+'Elektr_IIst-program szczegółowy'!AX31 -> 30 | O31: ='Elektr_IIst-program szczegółowy'!X31+'Elektr_IIst-program szczegółowy'!AU31 -> 2 | P31: =IF('Elektr_IIst-program szczegółowy'!V31>0,'Elektr_IIst-program szczegółowy'!V31," ") -> zal | Q31: =SUM(T31:BZ31) -> 3 | R31: =SUM(CA31:CU31) -> 6 | S31: =SUM(CV31:DB31) -> 3 | BF31: 1 | BG31: 1 | BH31: 1 | CC31: 1 | CD31: 1 | CH31: 1 | CI31: 1 | CJ31: 1 | CO31: 1 | CW31: 1 | CX31: 1 | CY31: 1 | KP31: =SUM(DC31:GN31) -> 0 | KQ31: =SUM(GO31:JZ31) -> 0 | KR31: =SUM(KA31:KO31) -> 0
A32: ='Elektr_IIst-program szczegółowy'!A32 -> 13 | B32: =IF('Elektr_IIst-program szczegółowy'!B32>0,'Elektr_IIst-program szczegółowy'!B32," ") | C32: =IF('Elektr_IIst-program szczegółowy'!C32>0,'Elektr_IIst-program szczegółowy'!C32," ") -> 2026/2027 | D32: =IF('Elektr_IIst-program szczegółowy'!D32>0,'Elektr_IIst-program szczegółowy'!D32," ") | E32: =IF('Elektr_IIst-program szczegółowy'!E32>0,'Elektr_IIst-program szczegółowy'!E32," ") -> 1 | F32: =IF('Elektr_IIst-program szczegółowy'!F32>0,'Elektr_IIst-program szczegółowy'!F32," ") -> 2026/2027 | G32: =IF('Elektr_IIst-program szczegółowy'!G32>0,'Elektr_IIst-program szczegółowy'!G32," ") -> RPS | H32: =IF('Elektr_IIst-program szczegółowy'!H32>0,'Elektr_IIst-program szczegółowy'!H32," ") | I32: =IF('Elektr_IIst-program szczegółowy'!I32>0,'Elektr_IIst-program szczegółowy'!I32," ") -> Procedury wzorcowe | J32: ='Elektr_IIst-program szczegółowy'!Y32+'Elektr_IIst-program szczegółowy'!AV32 -> 75 | K32: ='Elektr_IIst-program szczegółowy'!AS32+'Elektr_IIst-program szczegółowy'!BP32 -> 50 | L32: ='Elektr_IIst-program szczegółowy'!Z32+'Elektr_IIst-program szczegółowy'!AW32 -> 25 | M32: ='Elektr_IIst-program szczegółowy'!AB32+'Elektr_IIst-program szczegółowy'!AD32+'Elektr_IIst-program szczegółowy'!AY32+'Elektr_IIst-program szczegółowy'!BA32 -> 10 | N32: ='Elektr_IIst-program szczegółowy'!AA32+'Elektr_IIst-program szczegółowy'!AX32 -> 25 | O32: ='Elektr_IIst-program szczegółowy'!X32+'Elektr_IIst-program szczegółowy'!AU32 -> 3 | P32: =IF('Elektr_IIst-program szczegółowy'!V32>0,'Elektr_IIst-program szczegółowy'!V32," ") -> zal/o | Q32: =SUM(T32:BZ32) -> 12 | R32: =SUM(CA32:CU32) -> 5 | S32: =SUM(CV32:DB32) -> 2 | T32: 1 | V32: 1 | W32: 1 | X32: 1 | Y32: 1 | Z32: 1 | AE32: 1 | AL32: 1 | AM32: 1 | AN32: 1 | AO32: 1 | AW32: 1 | CC32: 1 | CI32: 1 | CJ32: 1 | CM32: 1 | CP32: 1 | CW32: 1 | DB32: 1 | KP32: =SUM(DC32:GN32) -> 0 | KQ32: =SUM(GO32:JZ32) -> 0 | KR32: =SUM(KA32:KO32) -> 0
A33: ='Elektr_IIst-program szczegółowy'!A33 -> 14 | B33: =IF('Elektr_IIst-program szczegółowy'!B33>0,'Elektr_IIst-program szczegółowy'!B33," ") | C33: =IF('Elektr_IIst-program szczegółowy'!C33>0,'Elektr_IIst-program szczegółowy'!C33," ") -> 2026/2027 | D33: =IF('Elektr_IIst-program szczegółowy'!D33>0,'Elektr_IIst-program szczegółowy'!D33," ") | E33: =IF('Elektr_IIst-program szczegółowy'!E33>0,'Elektr_IIst-program szczegółowy'!E33," ") -> 1 | F33: =IF('Elektr_IIst-program szczegółowy'!F33>0,'Elektr_IIst-program szczegółowy'!F33," ") -> 2026/2027 | G33: =IF('Elektr_IIst-program szczegółowy'!G33>0,'Elektr_IIst-program szczegółowy'!G33," ") -> RPS | H33: =IF('Elektr_IIst-program szczegółowy'!H33>0,'Elektr_IIst-program szczegółowy'!H33," ") | I33: =IF('Elektr_IIst-program szczegółowy'!I33>0,'Elektr_IIst-program szczegółowy'!I33," ") -> Transformacja cyfrowa w zdrowiu: od e-zdrowia do teleopieki | J33: ='Elektr_IIst-program szczegółowy'!Y33+'Elektr_IIst-program szczegółowy'!AV33 -> 75 | K33: ='Elektr_IIst-program szczegółowy'!AS33+'Elektr_IIst-program szczegółowy'!BP33 -> 55 | L33: ='Elektr_IIst-program szczegółowy'!Z33+'Elektr_IIst-program szczegółowy'!AW33 -> 20 | M33: ='Elektr_IIst-program szczegółowy'!AB33+'Elektr_IIst-program szczegółowy'!AD33+'Elektr_IIst-program szczegółowy'!AY33+'Elektr_IIst-program szczegółowy'!BA33 -> 10 | N33: ='Elektr_IIst-program szczegółowy'!AA33+'Elektr_IIst-program szczegółowy'!AX33 -> 20 | O33: ='Elektr_IIst-program szczegółowy'!X33+'Elektr_IIst-program szczegółowy'!AU33 -> 2 | P33: =IF('Elektr_IIst-program szczegółowy'!V33>0,'Elektr_IIst-program szczegółowy'!V33," ") -> zal | Q33: =SUM(T33:BZ33) -> 4 | R33: =SUM(CA33:CU33) -> 2 | S33: =SUM(CV33:DB33) -> 2 | AT33: 1 | AU33: 1 | AV33: 1 | AW33: 1 | CM33: 1 | CP33: 1 | CW33: 1 | DA33: 1 | KP33: =SUM(DC33:GN33) -> 0 | KQ33: =SUM(GO33:JZ33) -> 0 | KR33: =SUM(KA33:KO33) -> 0
A34: ='Elektr_IIst-program szczegółowy'!A34 -> 15 | B34: =IF('Elektr_IIst-program szczegółowy'!B34>0,'Elektr_IIst-program szczegółowy'!B34," ") | C34: =IF('Elektr_IIst-program szczegółowy'!C34>0,'Elektr_IIst-program szczegółowy'!C34," ") -> 2026/2027 | D34: =IF('Elektr_IIst-program szczegółowy'!D34>0,'Elektr_IIst-program szczegółowy'!D34," ") | E34: =IF('Elektr_IIst-program szczegółowy'!E34>0,'Elektr_IIst-program szczegółowy'!E34," ") -> 1 | F34: =IF('Elektr_IIst-program szczegółowy'!F34>0,'Elektr_IIst-program szczegółowy'!F34," ") -> 2026/2027 | G34: =IF('Elektr_IIst-program szczegółowy'!G34>0,'Elektr_IIst-program szczegółowy'!G34," ") -> RPS | H34: =IF('Elektr_IIst-program szczegółowy'!H34>0,'Elektr_IIst-program szczegółowy'!H34," ") | I34: =IF('Elektr_IIst-program szczegółowy'!I34>0,'Elektr_IIst-program szczegółowy'!I34," ") -> Prawo medyczne | J34: ='Elektr_IIst-program szczegółowy'!Y34+'Elektr_IIst-program szczegółowy'!AV34 -> 50 | K34: ='Elektr_IIst-program szczegółowy'!AS34+'Elektr_IIst-program szczegółowy'!BP34 -> 30 | L34: ='Elektr_IIst-program szczegółowy'!Z34+'Elektr_IIst-program szczegółowy'!AW34 -> 20 | M34: ='Elektr_IIst-program szczegółowy'!AB34+'Elektr_IIst-program szczegółowy'!AD34+'Elektr_IIst-program szczegółowy'!AY34+'Elektr_IIst-program szczegółowy'!BA34 -> 20 | N34: ='Elektr_IIst-program szczegółowy'!AA34+'Elektr_IIst-program szczegółowy'!AX34 -> 20 | O34: ='Elektr_IIst-program szczegółowy'!X34+'Elektr_IIst-program szczegółowy'!AU34 -> 2 | P34: =IF('Elektr_IIst-program szczegółowy'!V34>0,'Elektr_IIst-program szczegółowy'!V34," ") -> zal | Q34: =SUM(T34:BZ34) -> 7 | R34: =SUM(CA34:CU34) -> 1 | S34: =SUM(CV34:DB34) -> 3 | AY34: 1 | AZ34: 1 | BP34: 1 | BQ34: 1 | BR34: 1 | BS34: 1 | BT34: 1 | CP34: 1 | CW34: 1 | CX34: 1 | DB34: 1 | KP34: =SUM(DC34:GN34) -> 0 | KQ34: =SUM(GO34:JZ34) -> 0 | KR34: =SUM(KA34:KO34) -> 0
A35: ='Elektr_IIst-program szczegółowy'!A35 -> 16 | B35: =IF('Elektr_IIst-program szczegółowy'!B35>0,'Elektr_IIst-program szczegółowy'!B35," ") | C35: =IF('Elektr_IIst-program szczegółowy'!C35>0,'Elektr_IIst-program szczegółowy'!C35," ") -> 2026/2027 | D35: =IF('Elektr_IIst-program szczegółowy'!D35>0,'Elektr_IIst-program szczegółowy'!D35," ") | E35: =IF('Elektr_IIst-program szczegółowy'!E35>0,'Elektr_IIst-program szczegółowy'!E35," ") -> 1 | F35: =IF('Elektr_IIst-program szczegółowy'!F35>0,'Elektr_IIst-program szczegółowy'!F35," ") -> 2026/2027 | G35: =IF('Elektr_IIst-program szczegółowy'!G35>0,'Elektr_IIst-program szczegółowy'!G35," ") -> RPS | H35: =IF('Elektr_IIst-program szczegółowy'!H35>0,'Elektr_IIst-program szczegółowy'!H35," ") | I35: =IF('Elektr_IIst-program szczegółowy'!I35>0,'Elektr_IIst-program szczegółowy'!I35," ") -> Evidence Based Medicine (EBM) | J35: ='Elektr_IIst-program szczegółowy'!Y35+'Elektr_IIst-program szczegółowy'!AV35 -> 50 | K35: ='Elektr_IIst-program szczegółowy'!AS35+'Elektr_IIst-program szczegółowy'!BP35 -> 20 | L35: ='Elektr_IIst-program szczegółowy'!Z35+'Elektr_IIst-program szczegółowy'!AW35 -> 30 | M35: ='Elektr_IIst-program szczegółowy'!AB35+'Elektr_IIst-program szczegółowy'!AD35+'Elektr_IIst-program szczegółowy'!AY35+'Elektr_IIst-program szczegółowy'!BA35 -> 15 | N35: ='Elektr_IIst-program szczegółowy'!AA35+'Elektr_IIst-program szczegółowy'!AX35 -> 30 | O35: ='Elektr_IIst-program szczegółowy'!X35+'Elektr_IIst-program szczegółowy'!AU35 -> 2 | P35: =IF('Elektr_IIst-program szczegółowy'!V35>0,'Elektr_IIst-program szczegółowy'!V35," ") -> zal/o | Q35: =SUM(T35:BZ35) -> 3 | R35: =SUM(CA35:CU35) -> 4 | S35: =SUM(CV35:DB35) -> 2 | AQ35: 1 | AR35: 1 | AS35: 1 | CK35: 1 | CQ35: 1 | CR35: 1 | CS35: 1 | CW35: 1 | DA35: 1 | KP35: =SUM(DC35:GN35) -> 0 | KQ35: =SUM(GO35:JZ35) -> 0 | KR35: =SUM(KA35:KO35) -> 0
A36: ='Elektr_IIst-program szczegółowy'!A36 -> 17 | B36: =IF('Elektr_IIst-program szczegółowy'!B36>0,'Elektr_IIst-program szczegółowy'!B36," ") | C36: =IF('Elektr_IIst-program szczegółowy'!C36>0,'Elektr_IIst-program szczegółowy'!C36," ") -> 2026/2027 | D36: =IF('Elektr_IIst-program szczegółowy'!D36>0,'Elektr_IIst-program szczegółowy'!D36," ") | E36: =IF('Elektr_IIst-program szczegółowy'!E36>0,'Elektr_IIst-program szczegółowy'!E36," ") -> 1 | F36: =IF('Elektr_IIst-program szczegółowy'!F36>0,'Elektr_IIst-program szczegółowy'!F36," ") -> 2026/2027 | G36: =IF('Elektr_IIst-program szczegółowy'!G36>0,'Elektr_IIst-program szczegółowy'!G36," ") -> RPS | H36: =IF('Elektr_IIst-program szczegółowy'!H36>0,'Elektr_IIst-program szczegółowy'!H36," ") | I36: =IF('Elektr_IIst-program szczegółowy'!I36>0,'Elektr_IIst-program szczegółowy'!I36," ") -> Pielęgniarstwo radiologiczne | J36: ='Elektr_IIst-program szczegółowy'!Y36+'Elektr_IIst-program szczegółowy'!AV36 -> 50 | K36: ='Elektr_IIst-program szczegółowy'!AS36+'Elektr_IIst-program szczegółowy'!BP36 -> 30 | L36: ='Elektr_IIst-program szczegółowy'!Z36+'Elektr_IIst-program szczegółowy'!AW36 -> 20 | M36: ='Elektr_IIst-program szczegółowy'!AB36+'Elektr_IIst-program szczegółowy'!AD36+'Elektr_IIst-program szczegółowy'!AY36+'Elektr_IIst-program szczegółowy'!BA36 -> 20 | N36: ='Elektr_IIst-program szczegółowy'!AA36+'Elektr_IIst-program szczegółowy'!AX36 -> 20 | O36: ='Elektr_IIst-program szczegółowy'!X36+'Elektr_IIst-program szczegółowy'!AU36 -> 2 | P36: =IF('Elektr_IIst-program szczegółowy'!V36>0,'Elektr_IIst-program szczegółowy'!V36," ") -> zal | Q36: =SUM(T36:BZ36) -> 8 | R36: =SUM(CA36:CU36) -> 3 | S36: =SUM(CV36:DB36) -> 3 | T36: 1 | AH36: 1 | AI36: 1 | AJ36: 1 | AK36: 1 | BP36: 1 | BS36: 1 | BT36: 1 | CA36: 1 | CB36: 1 | CU36: 1 | CX36: 1 | CY36: 1 | DB36: 1 | KP36: =SUM(DC36:GN36) -> 0 | KQ36: =SUM(GO36:JZ36) -> 0 | KR36: =SUM(KA36:KO36) -> 0
A37: ='Elektr_IIst-program szczegółowy'!A37 -> 18 | B37: =IF('Elektr_IIst-program szczegółowy'!B37>0,'Elektr_IIst-program szczegółowy'!B37," ") | C37: =IF('Elektr_IIst-program szczegółowy'!C37>0,'Elektr_IIst-program szczegółowy'!C37," ") -> 2026/2027 | D37: =IF('Elektr_IIst-program szczegółowy'!D37>0,'Elektr_IIst-program szczegółowy'!D37," ") | E37: =IF('Elektr_IIst-program szczegółowy'!E37>0,'Elektr_IIst-program szczegółowy'!E37," ") -> 1 | F37: =IF('Elektr_IIst-program szczegółowy'!F37>0,'Elektr_IIst-program szczegółowy'!F37," ") -> 2026/2027 | G37: =IF('Elektr_IIst-program szczegółowy'!G37>0,'Elektr_IIst-program szczegółowy'!G37," ") -> POW | H37: =IF('Elektr_IIst-program szczegółowy'!H37>0,'Elektr_IIst-program szczegółowy'!H37," ") | I37: =IF('Elektr_IIst-program szczegółowy'!I37>0,'Elektr_IIst-program szczegółowy'!I37," ") -> Seminarium dyplomowe | J37: ='Elektr_IIst-program szczegółowy'!Y37+'Elektr_IIst-program szczegółowy'!AV37 -> 75 | K37: ='Elektr_IIst-program szczegółowy'!AS37+'Elektr_IIst-program szczegółowy'!BP37 -> 60 | L37: ='Elektr_IIst-program szczegółowy'!Z37+'Elektr_IIst-program szczegółowy'!AW37 -> 15 | M37: ='Elektr_IIst-program szczegółowy'!AB37+'Elektr_IIst-program szczegółowy'!AD37+'Elektr_IIst-program szczegółowy'!AY37+'Elektr_IIst-program szczegółowy'!BA37 -> 15 | N37: ='Elektr_IIst-program szczegółowy'!AA37+'Elektr_IIst-program szczegółowy'!AX37 -> 15 | O37: ='Elektr_IIst-program szczegółowy'!X37+'Elektr_IIst-program szczegółowy'!AU37 -> 3 | P37: =IF('Elektr_IIst-program szczegółowy'!V37>0,'Elektr_IIst-program szczegółowy'!V37," ") -> zal | Q37: =SUM(T37:BZ37) -> 3 | R37: =SUM(CA37:CU37) -> 4 | S37: =SUM(CV37:DB37) -> 1 | AQ37: 1 | AR37: 1 | AS37: 1 | CK37: 1 | CQ37: 1 | CR37: 1 | CS37: 1 | DA37: 1 | KP37: =SUM(DC37:GN37) -> 0 | KQ37: =SUM(GO37:JZ37) -> 0 | KR37: =SUM(KA37:KO37) -> 0
A38: ='Elektr_IIst-program szczegółowy'!A38 -> 19 | B38: =IF('Elektr_IIst-program szczegółowy'!B38>0,'Elektr_IIst-program szczegółowy'!B38," ") | C38: =IF('Elektr_IIst-program szczegółowy'!C38>0,'Elektr_IIst-program szczegółowy'!C38," ") -> 2026/2027 | D38: =IF('Elektr_IIst-program szczegółowy'!D38>0,'Elektr_IIst-program szczegółowy'!D38," ") | E38: =IF('Elektr_IIst-program szczegółowy'!E38>0,'Elektr_IIst-program szczegółowy'!E38," ") -> 1 | F38: =IF('Elektr_IIst-program szczegółowy'!F38>0,'Elektr_IIst-program szczegółowy'!F38," ") -> 2026/2027 | G38: =IF('Elektr_IIst-program szczegółowy'!G38>0,'Elektr_IIst-program szczegółowy'!G38," ") -> RPS | H38: =IF('Elektr_IIst-program szczegółowy'!H38>0,'Elektr_IIst-program szczegółowy'!H38," ") | I38: =IF('Elektr_IIst-program szczegółowy'!I38>0,'Elektr_IIst-program szczegółowy'!I38," ") -> Praktyka zawodowa 2 | J38: ='Elektr_IIst-program szczegółowy'!Y38+'Elektr_IIst-program szczegółowy'!AV38 -> 175 | K38: ='Elektr_IIst-program szczegółowy'!AS38+'Elektr_IIst-program szczegółowy'!BP38 -> 15 | L38: ='Elektr_IIst-program szczegółowy'!Z38+'Elektr_IIst-program szczegółowy'!AW38 -> 160 | M38: ='Elektr_IIst-program szczegółowy'!AB38+'Elektr_IIst-program szczegółowy'!AD38+'Elektr_IIst-program szczegółowy'!AY38+'Elektr_IIst-program szczegółowy'!BA38 -> 0 | N38: ='Elektr_IIst-program szczegółowy'!AA38+'Elektr_IIst-program szczegółowy'!AX38 -> 160 | O38: ='Elektr_IIst-program szczegółowy'!X38+'Elektr_IIst-program szczegółowy'!AU38 -> 7 | P38: =IF('Elektr_IIst-program szczegółowy'!V38>0,'Elektr_IIst-program szczegółowy'!V38," ") -> zal | Q38: =SUM(T38:BZ38) -> 4 | R38: =SUM(CA38:CU38) -> 5 | S38: =SUM(CV38:DB38) -> 3 | U38: 1 | V38: 1 | BC38: 1 | BD38: 1 | CA38: 1 | CB38: 1 | CD38: 1 | CH38: 1 | CO38: 1 | CW38: 1 | CX38: 1 | CY38: 1 | KP38: =SUM(DC38:GN38) -> 0 | KQ38: =SUM(GO38:JZ38) -> 0 | KR38: =SUM(KA38:KO38) -> 0
A39: ='Elektr_IIst-program szczegółowy'!A39 -> 20 | B39: =IF('Elektr_IIst-program szczegółowy'!B39>0,'Elektr_IIst-program szczegółowy'!B39," ") | C39: =IF('Elektr_IIst-program szczegółowy'!C39>0,'Elektr_IIst-program szczegółowy'!C39," ") -> 2026/2027 | D39: =IF('Elektr_IIst-program szczegółowy'!D39>0,'Elektr_IIst-program szczegółowy'!D39," ") | E39: =IF('Elektr_IIst-program szczegółowy'!E39>0,'Elektr_IIst-program szczegółowy'!E39," ") -> 1 | F39: =IF('Elektr_IIst-program szczegółowy'!F39>0,'Elektr_IIst-program szczegółowy'!F39," ") -> 2026/2027 | G39: =IF('Elektr_IIst-program szczegółowy'!G39>0,'Elektr_IIst-program szczegółowy'!G39," ") -> RPS | H39: =IF('Elektr_IIst-program szczegółowy'!H39>0,'Elektr_IIst-program szczegółowy'!H39," ") | I39: =IF('Elektr_IIst-program szczegółowy'!I39>0,'Elektr_IIst-program szczegółowy'!I39," ") -> Praktyka zawodowa 3 | J39: ='Elektr_IIst-program szczegółowy'!Y39+'Elektr_IIst-program szczegółowy'!AV39 -> 175 | K39: ='Elektr_IIst-program szczegółowy'!AS39+'Elektr_IIst-program szczegółowy'!BP39 -> 15 | L39: ='Elektr_IIst-program szczegółowy'!Z39+'Elektr_IIst-program szczegółowy'!AW39 -> 160 | M39: ='Elektr_IIst-program szczegółowy'!AB39+'Elektr_IIst-program szczegółowy'!AD39+'Elektr_IIst-program szczegółowy'!AY39+'Elektr_IIst-program szczegółowy'!BA39 -> 0 | N39: ='Elektr_IIst-program szczegółowy'!AA39+'Elektr_IIst-program szczegółowy'!AX39 -> 160 | O39: ='Elektr_IIst-program szczegółowy'!X39+'Elektr_IIst-program szczegółowy'!AU39 -> 7 | P39: =IF('Elektr_IIst-program szczegółowy'!V39>0,'Elektr_IIst-program szczegółowy'!V39," ") -> zal | Q39: =SUM(T39:BZ39) -> 4 | R39: =SUM(CA39:CU39) -> 4 | S39: =SUM(CV39:DB39) -> 3 | T39: 1 | W39: 1 | X39: 1 | Y39: 1 | CA39: 1 | CB39: 1 | CD39: 1 | CI39: 1 | CV39: 1 | CX39: 1 | CZ39: 1 | KP39: =SUM(DC39:GN39) -> 0 | KQ39: =SUM(GO39:JZ39) -> 0 | KR39: =SUM(KA39:KO39) -> 0
A40: ='Elektr_IIst-program szczegółowy'!A40 -> 21 | B40: =IF('Elektr_IIst-program szczegółowy'!B40>0,'Elektr_IIst-program szczegółowy'!B40," ") | C40: =IF('Elektr_IIst-program szczegółowy'!C40>0,'Elektr_IIst-program szczegółowy'!C40," ") -> 2026/2027 | D40: =IF('Elektr_IIst-program szczegółowy'!D40>0,'Elektr_IIst-program szczegółowy'!D40," ") | E40: =IF('Elektr_IIst-program szczegółowy'!E40>0,'Elektr_IIst-program szczegółowy'!E40," ") -> 1 | F40: =IF('Elektr_IIst-program szczegółowy'!F40>0,'Elektr_IIst-program szczegółowy'!F40," ") -> 2026/2027 | G40: =IF('Elektr_IIst-program szczegółowy'!G40>0,'Elektr_IIst-program szczegółowy'!G40," ") | H40: =IF('Elektr_IIst-program szczegółowy'!H40>0,'Elektr_IIst-program szczegółowy'!H40," ") | I40: =IF('Elektr_IIst-program szczegółowy'!I40>0,'Elektr_IIst-program szczegółowy'!I40," ") -> Szkolenie BHP i P.P | J40: ='Elektr_IIst-program szczegółowy'!Y40+'Elektr_IIst-program szczegółowy'!AV40 -> 4 | K40: ='Elektr_IIst-program szczegółowy'!AS40+'Elektr_IIst-program szczegółowy'!BP40 -> 0 | L40: ='Elektr_IIst-program szczegółowy'!Z40+'Elektr_IIst-program szczegółowy'!AW40 -> 4 | M40: ='Elektr_IIst-program szczegółowy'!AB40+'Elektr_IIst-program szczegółowy'!AD40+'Elektr_IIst-program szczegółowy'!AY40+'Elektr_IIst-program szczegółowy'!BA40 -> 0 | N40: ='Elektr_IIst-program szczegółowy'!AA40+'Elektr_IIst-program szczegółowy'!AX40 -> 4 | O40: ='Elektr_IIst-program szczegółowy'!X40+'Elektr_IIst-program szczegółowy'!AU40 -> 0 | P40: =IF('Elektr_IIst-program szczegółowy'!V40>0,'Elektr_IIst-program szczegółowy'!V40," ") -> zal | Q40: =SUM(T40:BZ40) -> 3 | R40: =SUM(CA40:CU40) -> 0 | S40: =SUM(CV40:DB40) -> 0 | BU40: 1 | BV40: 1 | BW40: 1 | KP40: =SUM(DC40:GN40) -> 0 | KQ40: =SUM(GO40:JZ40) -> 0 | KR40: =SUM(KA40:KO40) -> 0
A41: ='Elektr_IIst-program szczegółowy'!A41 -> 22 | B41: =IF('Elektr_IIst-program szczegółowy'!B41>0,'Elektr_IIst-program szczegółowy'!B41," ") | C41: =IF('Elektr_IIst-program szczegółowy'!C41>0,'Elektr_IIst-program szczegółowy'!C41," ") -> 2026/2027 | D41: =IF('Elektr_IIst-program szczegółowy'!D41>0,'Elektr_IIst-program szczegółowy'!D41," ") | E41: =IF('Elektr_IIst-program szczegółowy'!E41>0,'Elektr_IIst-program szczegółowy'!E41," ") -> 1 | F41: =IF('Elektr_IIst-program szczegółowy'!F41>0,'Elektr_IIst-program szczegółowy'!F41," ") -> 2026/2027 | G41: =IF('Elektr_IIst-program szczegółowy'!G41>0,'Elektr_IIst-program szczegółowy'!G41," ") | H41: =IF('Elektr_IIst-program szczegółowy'!H41>0,'Elektr_IIst-program szczegółowy'!H41," ") | I41: =IF('Elektr_IIst-program szczegółowy'!I41>0,'Elektr_IIst-program szczegółowy'!I41," ") -> Przysposobienie biblioteczne | J41: ='Elektr_IIst-program szczegółowy'!Y41+'Elektr_IIst-program szczegółowy'!AV41 -> 2 | K41: ='Elektr_IIst-program szczegółowy'!AS41+'Elektr_IIst-program szczegółowy'!BP41 -> 0 | L41: ='Elektr_IIst-program szczegółowy'!Z41+'Elektr_IIst-program szczegółowy'!AW41 -> 2 | M41: ='Elektr_IIst-program szczegółowy'!AB41+'Elektr_IIst-program szczegółowy'!AD41+'Elektr_IIst-program szczegółowy'!AY41+'Elektr_IIst-program szczegółowy'!BA41 -> 0 | N41: ='Elektr_IIst-program szczegółowy'!AA41+'Elektr_IIst-program szczegółowy'!AX41 -> 2 | O41: ='Elektr_IIst-program szczegółowy'!X41+'Elektr_IIst-program szczegółowy'!AU41 -> 0 | P41: =IF('Elektr_IIst-program szczegółowy'!V41>0,'Elektr_IIst-program szczegółowy'!V41," ") -> zal | Q41: =SUM(T41:BZ41) -> 3 | R41: =SUM(CA41:CU41) -> 0 | S41: =SUM(CV41:DB41) -> 0 | BX41: 1 | BY41: 1 | BZ41: 1 | KP41: =SUM(DC41:GN41) -> 0 | KQ41: =SUM(GO41:JZ41) -> 0 | KR41: =SUM(KA41:KO41) -> 0
A42: ='Elektr_IIst-program szczegółowy'!A42 -> 23 | B42: =IF('Elektr_IIst-program szczegółowy'!B42>0,'Elektr_IIst-program szczegółowy'!B42," ") | C42: =IF('Elektr_IIst-program szczegółowy'!C42>0,'Elektr_IIst-program szczegółowy'!C42," ") -> 2026/2027 | D42: =IF('Elektr_IIst-program szczegółowy'!D42>0,'Elektr_IIst-program szczegółowy'!D42," ") | E42: =IF('Elektr_IIst-program szczegółowy'!E42>0,'Elektr_IIst-program szczegółowy'!E42," ") -> 1 | F42: =IF('Elektr_IIst-program szczegółowy'!F42>0,'Elektr_IIst-program szczegółowy'!F42," ") -> 2027/2028 | G42: =IF('Elektr_IIst-program szczegółowy'!G42>0,'Elektr_IIst-program szczegółowy'!G42," ") -> POW | H42: =IF('Elektr_IIst-program szczegółowy'!H42>0,'Elektr_IIst-program szczegółowy'!H42," ") | I42: =IF('Elektr_IIst-program szczegółowy'!I42>0,'Elektr_IIst-program szczegółowy'!I42," ") -> Żywienie w profilaktyce chorób/ Profilaktyka swoista i badania przesiewowe | J42: ='Elektr_IIst-program szczegółowy'!Y42+'Elektr_IIst-program szczegółowy'!AV42 -> 75 | K42: ='Elektr_IIst-program szczegółowy'!AS42+'Elektr_IIst-program szczegółowy'!BP42 -> 50 | L42: ='Elektr_IIst-program szczegółowy'!Z42+'Elektr_IIst-program szczegółowy'!AW42 -> 25 | M42: ='Elektr_IIst-program szczegółowy'!AB42+'Elektr_IIst-program szczegółowy'!AD42+'Elektr_IIst-program szczegółowy'!AY42+'Elektr_IIst-program szczegółowy'!BA42 -> 10 | N42: ='Elektr_IIst-program szczegółowy'!AA42+'Elektr_IIst-program szczegółowy'!AX42 -> 25 | O42: ='Elektr_IIst-program szczegółowy'!X42+'Elektr_IIst-program szczegółowy'!AU42 -> 3 | P42: =IF('Elektr_IIst-program szczegółowy'!V42>0,'Elektr_IIst-program szczegółowy'!V42," ") -> zal | Q42: =SUM(T42:BZ42) -> 0 | R42: =SUM(CA42:CU42) -> 3 | S42: =SUM(CV42:DB42) -> 2 | CA42: 1 | CB42: 1 | CK42: 1 | CW42: 1 | DA42: 1 | KP42: =SUM(DC42:GN42) -> 0 | KQ42: =SUM(GO42:JZ42) -> 0 | KR42: =SUM(KA42:KO42) -> 0
B43: =IF('Elektr_IIst-program szczegółowy'!B43>0,'Elektr_IIst-program szczegółowy'!B43," ") | C43: =IF('Elektr_IIst-program szczegółowy'!C43>0,'Elektr_IIst-program szczegółowy'!C43," ") | D43: =IF('Elektr_IIst-program szczegółowy'!D43>0,'Elektr_IIst-program szczegółowy'!D43," ") | E43: =IF('Elektr_IIst-program szczegółowy'!E43>0,'Elektr_IIst-program szczegółowy'!E43," ") | F43: =IF('Elektr_IIst-program szczegółowy'!F43>0,'Elektr_IIst-program szczegółowy'!F43," ") | G43: =IF('Elektr_IIst-program szczegółowy'!G43>0,'Elektr_IIst-program szczegółowy'!G43," ") | H43: =IF('Elektr_IIst-program szczegółowy'!H43>0,'Elektr_IIst-program szczegółowy'!H43," ") | I43: =IF('Elektr_IIst-program szczegółowy'!I43>0,'Elektr_IIst-program szczegółowy'!I43," ") -> sumy dla 1 roku | J43: ='Elektr_IIst-program szczegółowy'!Y43+'Elektr_IIst-program szczegółowy'!AV43 -> 1531 | K43: ='Elektr_IIst-program szczegółowy'!AS43+'Elektr_IIst-program szczegółowy'!BP43 -> 660 | L43: ='Elektr_IIst-program szczegółowy'!Z43+'Elektr_IIst-program szczegółowy'!AW43 -> 871 | M43: ='Elektr_IIst-program szczegółowy'!AB43+'Elektr_IIst-program szczegółowy'!AD43 -> 60 | N43: ='Elektr_IIst-program szczegółowy'!AA43+'Elektr_IIst-program szczegółowy'!AX43 -> 871 | O43: ='Elektr_IIst-program szczegółowy'!X43+'Elektr_IIst-program szczegółowy'!AU43 -> 60 | P43: =IF('Elektr_IIst-program szczegółowy'!V43>0,'Elektr_IIst-program szczegółowy'!V43," ") | Q43: =SUM(Q20:Q42) -> 93 | R43: =SUM(R20:R42) -> 83 | S43: =SUM(S20:S42) -> 44 | T43: =SUM(T20:T42) -> 4 | U43: =SUM(U20:U42) -> 5 | V43: =SUM(V20:V42) -> 5 | W43: =SUM(W20:W42) -> 2 | X43: =SUM(X20:X42) -> 2 | ... KR43: =SUM(KR20:KR42) -> 0
A44: ='Elektr_IIst-program szczegółowy'!A44 -> 24 | B44: =IF('Elektr_IIst-program szczegółowy'!B44>0,'Elektr_IIst-program szczegółowy'!B44," ") | C44: =IF('Elektr_IIst-program szczegółowy'!C44>0,'Elektr_IIst-program szczegółowy'!C44," ") -> 2026/2027 | D44: =IF('Elektr_IIst-program szczegółowy'!D44>0,'Elektr_IIst-program szczegółowy'!D44," ") | E44: =IF('Elektr_IIst-program szczegółowy'!E44>0,'Elektr_IIst-program szczegółowy'!E44," ") -> 2 | F44: =IF('Elektr_IIst-program szczegółowy'!F44>0,'Elektr_IIst-program szczegółowy'!F44," ") -> 2027/2028 | G44: =IF('Elektr_IIst-program szczegółowy'!G44>0,'Elektr_IIst-program szczegółowy'!G44," ") -> RPS | H44: =IF('Elektr_IIst-program szczegółowy'!H44>0,'Elektr_IIst-program szczegółowy'!H44," ") | I44: =IF('Elektr_IIst-program szczegółowy'!I44>0,'Elektr_IIst-program szczegółowy'!I44," ") -> Zaawansowane badania TK i MR w pediatrii | J44: ='Elektr_IIst-program szczegółowy'!Y44+'Elektr_IIst-program szczegółowy'!AV44 -> 75 | K44: ='Elektr_IIst-program szczegółowy'!AS44+'Elektr_IIst-program szczegółowy'!BP44 -> 45 | L44: ='Elektr_IIst-program szczegółowy'!Z44+'Elektr_IIst-program szczegółowy'!AW44 -> 30 | M44: ='Elektr_IIst-program szczegółowy'!AB44+'Elektr_IIst-program szczegółowy'!AD44+'Elektr_IIst-program szczegółowy'!AY44+'Elektr_IIst-program szczegółowy'!BA44 -> 15 | N44: ='Elektr_IIst-program szczegółowy'!AA44+'Elektr_IIst-program szczegółowy'!AX44 -> 30 | O44: ='Elektr_IIst-program szczegółowy'!X44+'Elektr_IIst-program szczegółowy'!AU44 -> 3 | P44: =IF('Elektr_IIst-program szczegółowy'!V44>0,'Elektr_IIst-program szczegółowy'!V44," ") -> zal/o | Q44: =SUM(T44:BZ44) -> 7 | R44: =SUM(CA44:CU44) -> 4 | S44: =SUM(CV44:DB44) -> 2 | U44: 1 | V44: 1 | BA44: 1 | BB44: 1 | BC44: 1 | BD44: 1 | BE44: 1 | CC44: 1 | CD44: 1 | CH44: 1 | CO44: 1 | CW44: 1 | CY44: 1 | KP44: =SUM(DC44:GN44) -> 0 | KQ44: =SUM(GO44:JZ44) -> 0 | KR44: =SUM(KA44:KO44) -> 0
A45: ='Elektr_IIst-program szczegółowy'!A45 -> 25 | B45: =IF('Elektr_IIst-program szczegółowy'!B45>0,'Elektr_IIst-program szczegółowy'!B45," ") | C45: =IF('Elektr_IIst-program szczegółowy'!C45>0,'Elektr_IIst-program szczegółowy'!C45," ") -> 2026/2027 | D45: =IF('Elektr_IIst-program szczegółowy'!D45>0,'Elektr_IIst-program szczegółowy'!D45," ") | E45: =IF('Elektr_IIst-program szczegółowy'!E45>0,'Elektr_IIst-program szczegółowy'!E45," ") -> 2 | F45: =IF('Elektr_IIst-program szczegółowy'!F45>0,'Elektr_IIst-program szczegółowy'!F45," ") -> 2027/2028 | G45: =IF('Elektr_IIst-program szczegółowy'!G45>0,'Elektr_IIst-program szczegółowy'!G45," ") -> RPS | H45: =IF('Elektr_IIst-program szczegółowy'!H45>0,'Elektr_IIst-program szczegółowy'!H45," ") | I45: =IF('Elektr_IIst-program szczegółowy'!I45>0,'Elektr_IIst-program szczegółowy'!I45," ") -> Nowoczesne techniki radioterapii | J45: ='Elektr_IIst-program szczegółowy'!Y45+'Elektr_IIst-program szczegółowy'!AV45 -> 75 | K45: ='Elektr_IIst-program szczegółowy'!AS45+'Elektr_IIst-program szczegółowy'!BP45 -> 45 | L45: ='Elektr_IIst-program szczegółowy'!Z45+'Elektr_IIst-program szczegółowy'!AW45 -> 30 | M45: ='Elektr_IIst-program szczegółowy'!AB45+'Elektr_IIst-program szczegółowy'!AD45+'Elektr_IIst-program szczegółowy'!AY45+'Elektr_IIst-program szczegółowy'!BA45 -> 15 | N45: ='Elektr_IIst-program szczegółowy'!AA45+'Elektr_IIst-program szczegółowy'!AX45 -> 30 | O45: ='Elektr_IIst-program szczegółowy'!X45+'Elektr_IIst-program szczegółowy'!AU45 -> 3 | P45: =IF('Elektr_IIst-program szczegółowy'!V45>0,'Elektr_IIst-program szczegółowy'!V45," ") -> zal/o | Q45: =SUM(T45:BZ45) -> 3 | R45: =SUM(CA45:CU45) -> 4 | S45: =SUM(CV45:DB45) -> 3 | AA45: 1 | AB45: 1 | AC45: 1 | CE45: 1 | CH45: 1 | CI45: 1 | CJ45: 1 | CW45: 1 | CX45: 1 | CY45: 1 | KP45: =SUM(DC45:GN45) -> 0 | KQ45: =SUM(GO45:JZ45) -> 0 | KR45: =SUM(KA45:KO45) -> 0
A46: ='Elektr_IIst-program szczegółowy'!A46 -> 26 | B46: =IF('Elektr_IIst-program szczegółowy'!B46>0,'Elektr_IIst-program szczegółowy'!B46," ") | C46: =IF('Elektr_IIst-program szczegółowy'!C46>0,'Elektr_IIst-program szczegółowy'!C46," ") -> 2026/2027 | D46: =IF('Elektr_IIst-program szczegółowy'!D46>0,'Elektr_IIst-program szczegółowy'!D46," ") | E46: =IF('Elektr_IIst-program szczegółowy'!E46>0,'Elektr_IIst-program szczegółowy'!E46," ") -> 2 | F46: =IF('Elektr_IIst-program szczegółowy'!F46>0,'Elektr_IIst-program szczegółowy'!F46," ") -> 2027/2028 | G46: =IF('Elektr_IIst-program szczegółowy'!G46>0,'Elektr_IIst-program szczegółowy'!G46," ") -> RPS | H46: =IF('Elektr_IIst-program szczegółowy'!H46>0,'Elektr_IIst-program szczegółowy'!H46," ") | I46: =IF('Elektr_IIst-program szczegółowy'!I46>0,'Elektr_IIst-program szczegółowy'!I46," ") -> Medycyna nuklearna | J46: ='Elektr_IIst-program szczegółowy'!Y46+'Elektr_IIst-program szczegółowy'!AV46 -> 75 | K46: ='Elektr_IIst-program szczegółowy'!AS46+'Elektr_IIst-program szczegółowy'!BP46 -> 45 | L46: ='Elektr_IIst-program szczegółowy'!Z46+'Elektr_IIst-program szczegółowy'!AW46 -> 30 | M46: ='Elektr_IIst-program szczegółowy'!AB46+'Elektr_IIst-program szczegółowy'!AD46+'Elektr_IIst-program szczegółowy'!AY46+'Elektr_IIst-program szczegółowy'!BA46 -> 15 | N46: ='Elektr_IIst-program szczegółowy'!AA46+'Elektr_IIst-program szczegółowy'!AX46 -> 30 | O46: ='Elektr_IIst-program szczegółowy'!X46+'Elektr_IIst-program szczegółowy'!AU46 -> 3 | P46: =IF('Elektr_IIst-program szczegółowy'!V46>0,'Elektr_IIst-program szczegółowy'!V46," ") -> zal/o | Q46: =SUM(T46:BZ46) -> 4 | R46: =SUM(CA46:CU46) -> 5 | S46: =SUM(CV46:DB46) -> 3 | AD46: 1 | AE46: 1 | AF46: 1 | AG46: 1 | CC46: 1 | CF46: 1 | CH46: 1 | CI46: 1 | CJ46: 1 | CW46: 1 | CX46: 1 | CY46: 1 | KP46: =SUM(DC46:GN46) -> 0 | KQ46: =SUM(GO46:JZ46) -> 0 | KR46: =SUM(KA46:KO46) -> 0
A47: ='Elektr_IIst-program szczegółowy'!A47 -> 27 | B47: =IF('Elektr_IIst-program szczegółowy'!B47>0,'Elektr_IIst-program szczegółowy'!B47," ") | C47: =IF('Elektr_IIst-program szczegółowy'!C47>0,'Elektr_IIst-program szczegółowy'!C47," ") -> 2026/2027 | D47: =IF('Elektr_IIst-program szczegółowy'!D47>0,'Elektr_IIst-program szczegółowy'!D47," ") | E47: =IF('Elektr_IIst-program szczegółowy'!E47>0,'Elektr_IIst-program szczegółowy'!E47," ") -> 2 | F47: =IF('Elektr_IIst-program szczegółowy'!F47>0,'Elektr_IIst-program szczegółowy'!F47," ") -> 2027/2028 | G47: =IF('Elektr_IIst-program szczegółowy'!G47>0,'Elektr_IIst-program szczegółowy'!G47," ") -> RPS | H47: =IF('Elektr_IIst-program szczegółowy'!H47>0,'Elektr_IIst-program szczegółowy'!H47," ") | I47: =IF('Elektr_IIst-program szczegółowy'!I47>0,'Elektr_IIst-program szczegółowy'!I47," ") -> Zajęcia praktyczne: Zaawansowane badania tomografii komputerowej (TK) | J47: ='Elektr_IIst-program szczegółowy'!Y47+'Elektr_IIst-program szczegółowy'!AV47 -> 50 | K47: ='Elektr_IIst-program szczegółowy'!AS47+'Elektr_IIst-program szczegółowy'!BP47 -> 20 | L47: ='Elektr_IIst-program szczegółowy'!Z47+'Elektr_IIst-program szczegółowy'!AW47 -> 30 | M47: ='Elektr_IIst-program szczegółowy'!AB47+'Elektr_IIst-program szczegółowy'!AD47+'Elektr_IIst-program szczegółowy'!AY47+'Elektr_IIst-program szczegółowy'!BA47 -> 0 | N47: ='Elektr_IIst-program szczegółowy'!AA47+'Elektr_IIst-program szczegółowy'!AX47 -> 30 | O47: ='Elektr_IIst-program szczegółowy'!X47+'Elektr_IIst-program szczegółowy'!AU47 -> 2 | P47: =IF('Elektr_IIst-program szczegółowy'!V47>0,'Elektr_IIst-program szczegółowy'!V47," ") -> zal | Q47: =SUM(T47:BZ47) -> 2 | R47: =SUM(CA47:CU47) -> 6 | S47: =SUM(CV47:DB47) -> 3 | U47: 1 | V47: 1 | CC47: 1 | CD47: 1 | CH47: 1 | CI47: 1 | CJ47: 1 | CO47: 1 | CW47: 1 | CX47: 1 | CY47: 1 | KP47: =SUM(DC47:GN47) -> 0 | KQ47: =SUM(GO47:JZ47) -> 0 | KR47: =SUM(KA47:KO47) -> 0
A48: ='Elektr_IIst-program szczegółowy'!A48 -> 28 | B48: =IF('Elektr_IIst-program szczegółowy'!B48>0,'Elektr_IIst-program szczegółowy'!B48," ") | C48: =IF('Elektr_IIst-program szczegółowy'!C48>0,'Elektr_IIst-program szczegółowy'!C48," ") -> 2026/2027 | D48: =IF('Elektr_IIst-program szczegółowy'!D48>0,'Elektr_IIst-program szczegółowy'!D48," ") | E48: =IF('Elektr_IIst-program szczegółowy'!E48>0,'Elektr_IIst-program szczegółowy'!E48," ") -> 2 | F48: =IF('Elektr_IIst-program szczegółowy'!F48>0,'Elektr_IIst-program szczegółowy'!F48," ") -> 2027/2028 | G48: =IF('Elektr_IIst-program szczegółowy'!G48>0,'Elektr_IIst-program szczegółowy'!G48," ") -> RPS | H48: =IF('Elektr_IIst-program szczegółowy'!H48>0,'Elektr_IIst-program szczegółowy'!H48," ") | I48: =IF('Elektr_IIst-program szczegółowy'!I48>0,'Elektr_IIst-program szczegółowy'!I48," ") -> Biostatystyka | J48: ='Elektr_IIst-program szczegółowy'!Y48+'Elektr_IIst-program szczegółowy'!AV48 -> 50 | K48: ='Elektr_IIst-program szczegółowy'!AS48+'Elektr_IIst-program szczegółowy'!BP48 -> 25 | L48: ='Elektr_IIst-program szczegółowy'!Z48+'Elektr_IIst-program szczegółowy'!AW48 -> 25 | M48: ='Elektr_IIst-program szczegółowy'!AB48+'Elektr_IIst-program szczegółowy'!AD48+'Elektr_IIst-program szczegółowy'!AY48+'Elektr_IIst-program szczegółowy'!BA48 -> 10 | N48: ='Elektr_IIst-program szczegółowy'!AA48+'Elektr_IIst-program szczegółowy'!AX48 -> 25 | O48: ='Elektr_IIst-program szczegółowy'!X48+'Elektr_IIst-program szczegółowy'!AU48 -> 2 | P48: =IF('Elektr_IIst-program szczegółowy'!V48>0,'Elektr_IIst-program szczegółowy'!V48," ") -> zal/o | Q48: =SUM(T48:BZ48) -> 3 | R48: =SUM(CA48:CU48) -> 4 | S48: =SUM(CV48:DB48) -> 1 | AQ48: 1 | AR48: 1 | AS48: 1 | CK48: 1 | CQ48: 1 | CR48: 1 | CS48: 1 | DA48: 1 | KP48: =SUM(DC48:GN48) -> 0 | KQ48: =SUM(GO48:JZ48) -> 0 | KR48: =SUM(KA48:KO48) -> 0
A49: ='Elektr_IIst-program szczegółowy'!A49 -> 29 | B49: =IF('Elektr_IIst-program szczegółowy'!B49>0,'Elektr_IIst-program szczegółowy'!B49," ") | C49: =IF('Elektr_IIst-program szczegółowy'!C49>0,'Elektr_IIst-program szczegółowy'!C49," ") -> 2026/2027 | D49: =IF('Elektr_IIst-program szczegółowy'!D49>0,'Elektr_IIst-program szczegółowy'!D49," ") | E49: =IF('Elektr_IIst-program szczegółowy'!E49>0,'Elektr_IIst-program szczegółowy'!E49," ") -> 2 | F49: =IF('Elektr_IIst-program szczegółowy'!F49>0,'Elektr_IIst-program szczegółowy'!F49," ") -> 2027/2028 | G49: =IF('Elektr_IIst-program szczegółowy'!G49>0,'Elektr_IIst-program szczegółowy'!G49," ") -> RPS | H49: =IF('Elektr_IIst-program szczegółowy'!H49>0,'Elektr_IIst-program szczegółowy'!H49," ") | I49: =IF('Elektr_IIst-program szczegółowy'!I49>0,'Elektr_IIst-program szczegółowy'!I49," ") -> Praktyka zawodowa 4 | J49: ='Elektr_IIst-program szczegółowy'!Y49+'Elektr_IIst-program szczegółowy'!AV49 -> 115 | K49: ='Elektr_IIst-program szczegółowy'!AS49+'Elektr_IIst-program szczegółowy'!BP49 -> 15 | L49: ='Elektr_IIst-program szczegółowy'!Z49+'Elektr_IIst-program szczegółowy'!AW49 -> 100 | M49: ='Elektr_IIst-program szczegółowy'!AB49+'Elektr_IIst-program szczegółowy'!AD49+'Elektr_IIst-program szczegółowy'!AY49+'Elektr_IIst-program szczegółowy'!BA49 -> 0 | N49: ='Elektr_IIst-program szczegółowy'!AA49+'Elektr_IIst-program szczegółowy'!AX49 -> 100 | O49: ='Elektr_IIst-program szczegółowy'!X49+'Elektr_IIst-program szczegółowy'!AU49 -> 4 | P49: =IF('Elektr_IIst-program szczegółowy'!V49>0,'Elektr_IIst-program szczegółowy'!V49," ") -> zal | Q49: =SUM(T49:BZ49) -> 2 | R49: =SUM(CA49:CU49) -> 6 | S49: =SUM(CV49:DB49) -> 3 | T49: 1 | BP49: 1 | CA49: 1 | CB49: 1 | CC49: 1 | CD49: 1 | CG49: 1 | CU49: 1 | CW49: 1 | CX49: 1 | CY49: 1 | KP49: =SUM(DC49:GN49) -> 0 | KQ49: =SUM(GO49:JZ49) -> 0 | KR49: =SUM(KA49:KO49) -> 0
A50: ='Elektr_IIst-program szczegółowy'!A50 -> 30 | B50: =IF('Elektr_IIst-program szczegółowy'!B50>0,'Elektr_IIst-program szczegółowy'!B50," ") | C50: =IF('Elektr_IIst-program szczegółowy'!C50>0,'Elektr_IIst-program szczegółowy'!C50," ") -> 2026/2027 | D50: =IF('Elektr_IIst-program szczegółowy'!D50>0,'Elektr_IIst-program szczegółowy'!D50," ") | E50: =IF('Elektr_IIst-program szczegółowy'!E50>0,'Elektr_IIst-program szczegółowy'!E50," ") -> 2 | F50: =IF('Elektr_IIst-program szczegółowy'!F50>0,'Elektr_IIst-program szczegółowy'!F50," ") -> 2027/2028 | G50: =IF('Elektr_IIst-program szczegółowy'!G50>0,'Elektr_IIst-program szczegółowy'!G50," ") -> RPS | H50: =IF('Elektr_IIst-program szczegółowy'!H50>0,'Elektr_IIst-program szczegółowy'!H50," ") | I50: =IF('Elektr_IIst-program szczegółowy'!I50>0,'Elektr_IIst-program szczegółowy'!I50," ") -> Radiologia zabiegowa w kardiologii | J50: ='Elektr_IIst-program szczegółowy'!Y50+'Elektr_IIst-program szczegółowy'!AV50 -> 50 | K50: ='Elektr_IIst-program szczegółowy'!AS50+'Elektr_IIst-program szczegółowy'!BP50 -> 25 | L50: ='Elektr_IIst-program szczegółowy'!Z50+'Elektr_IIst-program szczegółowy'!AW50 -> 25 | M50: ='Elektr_IIst-program szczegółowy'!AB50+'Elektr_IIst-program szczegółowy'!AD50+'Elektr_IIst-program szczegółowy'!AY50+'Elektr_IIst-program szczegółowy'!BA50 -> 10 | N50: ='Elektr_IIst-program szczegółowy'!AA50+'Elektr_IIst-program szczegółowy'!AX50 -> 25 | O50: ='Elektr_IIst-program szczegółowy'!X50+'Elektr_IIst-program szczegółowy'!AU50 -> 2 | P50: =IF('Elektr_IIst-program szczegółowy'!V50>0,'Elektr_IIst-program szczegółowy'!V50," ") -> zal/oc | Q50: =SUM(T50:BZ50) -> 4 | R50: =SUM(CA50:CU50) -> 6 | S50: =SUM(CV50:DB50) -> 3 | BF50: 1 | BG50: 1 | BH50: 1 | BI50: 1 | CC50: 1 | CD50: 1 | CH50: 1 | CI50: 1 | CJ50: 1 | CO50: 1 | CW50: 1 | CX50: 1 | CY50: 1 | KP50: =SUM(DC50:GN50) -> 0 | KQ50: =SUM(GO50:JZ50) -> 0 | KR50: =SUM(KA50:KO50) -> 0
A51: ='Elektr_IIst-program szczegółowy'!A51 -> 31 | B51: =IF('Elektr_IIst-program szczegółowy'!B51>0,'Elektr_IIst-program szczegółowy'!B51," ") | C51: =IF('Elektr_IIst-program szczegółowy'!C51>0,'Elektr_IIst-program szczegółowy'!C51," ") -> 2026/2027 | D51: =IF('Elektr_IIst-program szczegółowy'!D51>0,'Elektr_IIst-program szczegółowy'!D51," ") | E51: =IF('Elektr_IIst-program szczegółowy'!E51>0,'Elektr_IIst-program szczegółowy'!E51," ") -> 2 | F51: =IF('Elektr_IIst-program szczegółowy'!F51>0,'Elektr_IIst-program szczegółowy'!F51," ") -> 2027/2028 | G51: =IF('Elektr_IIst-program szczegółowy'!G51>0,'Elektr_IIst-program szczegółowy'!G51," ") -> POW | H51: =IF('Elektr_IIst-program szczegółowy'!H51>0,'Elektr_IIst-program szczegółowy'!H51," ") | I51: =IF('Elektr_IIst-program szczegółowy'!I51>0,'Elektr_IIst-program szczegółowy'!I51," ") -> Seminarium dyplomowe | J51: ='Elektr_IIst-program szczegółowy'!Y51+'Elektr_IIst-program szczegółowy'!AV51 -> 500 | K51: ='Elektr_IIst-program szczegółowy'!AS51+'Elektr_IIst-program szczegółowy'!BP51 -> 470 | L51: ='Elektr_IIst-program szczegółowy'!Z51+'Elektr_IIst-program szczegółowy'!AW51 -> 30 | M51: ='Elektr_IIst-program szczegółowy'!AB51+'Elektr_IIst-program szczegółowy'!AD51+'Elektr_IIst-program szczegółowy'!AY51+'Elektr_IIst-program szczegółowy'!BA51 -> 30 | N51: ='Elektr_IIst-program szczegółowy'!AA51+'Elektr_IIst-program szczegółowy'!AX51 -> 30 | O51: ='Elektr_IIst-program szczegółowy'!X51+'Elektr_IIst-program szczegółowy'!AU51 -> 20 | P51: =IF('Elektr_IIst-program szczegółowy'!V51>0,'Elektr_IIst-program szczegółowy'!V51," ") -> zal | Q51: =SUM(T51:BZ51) -> 3 | R51: =SUM(CA51:CU51) -> 4 | S51: =SUM(CV51:DB51) -> 1 | AQ51: 1 | AR51: 1 | AS51: 1 | CK51: 1 | CQ51: 1 | CR51: 1 | CS51: 1 | DA51: 1 | KP51: =SUM(DC51:GN51) -> 0 | KQ51: =SUM(GO51:JZ51) -> 0 | KR51: =SUM(KA51:KO51) -> 0
A52: ='Elektr_IIst-program szczegółowy'!A52 -> 32 | B52: =IF('Elektr_IIst-program szczegółowy'!B52>0,'Elektr_IIst-program szczegółowy'!B52," ") | C52: =IF('Elektr_IIst-program szczegółowy'!C52>0,'Elektr_IIst-program szczegółowy'!C52," ") -> 2026/2027 | D52: =IF('Elektr_IIst-program szczegółowy'!D52>0,'Elektr_IIst-program szczegółowy'!D52," ") | E52: =IF('Elektr_IIst-program szczegółowy'!E52>0,'Elektr_IIst-program szczegółowy'!E52," ") -> 2 | F52: =IF('Elektr_IIst-program szczegółowy'!F52>0,'Elektr_IIst-program szczegółowy'!F52," ") -> 2027/2028 | G52: =IF('Elektr_IIst-program szczegółowy'!G52>0,'Elektr_IIst-program szczegółowy'!G52," ") -> RPS | H52: =IF('Elektr_IIst-program szczegółowy'!H52>0,'Elektr_IIst-program szczegółowy'!H52," ") | I52: =IF('Elektr_IIst-program szczegółowy'!I52>0,'Elektr_IIst-program szczegółowy'!I52," ") -> Zajęcia praktyczne: Zaawansowane badania rezonansu magnetycznego (MR) | J52: ='Elektr_IIst-program szczegółowy'!Y52+'Elektr_IIst-program szczegółowy'!AV52 -> 50 | K52: ='Elektr_IIst-program szczegółowy'!AS52+'Elektr_IIst-program szczegółowy'!BP52 -> 20 | L52: ='Elektr_IIst-program szczegółowy'!Z52+'Elektr_IIst-program szczegółowy'!AW52 -> 30 | M52: ='Elektr_IIst-program szczegółowy'!AB52+'Elektr_IIst-program szczegółowy'!AD52+'Elektr_IIst-program szczegółowy'!AY52+'Elektr_IIst-program szczegółowy'!BA52 -> 0 | N52: ='Elektr_IIst-program szczegółowy'!AA52+'Elektr_IIst-program szczegółowy'!AX52 -> 30 | O52: ='Elektr_IIst-program szczegółowy'!X52+'Elektr_IIst-program szczegółowy'!AU52 -> 2 | P52: =IF('Elektr_IIst-program szczegółowy'!V52>0,'Elektr_IIst-program szczegółowy'!V52," ") -> zal | Q52: =SUM(T52:BZ52) -> 5 | R52: =SUM(CA52:CU52) -> 6 | S52: =SUM(CV52:DB52) -> 3 | BA52: 1 | BB52: 1 | BC52: 1 | BD52: 1 | BE52: 1 | CC52: 1 | CD52: 1 | CH52: 1 | CI52: 1 | CJ52: 1 | CO52: 1 | CW52: 1 | CX52: 1 | CY52: 1 | KP52: =SUM(DC52:GN52) -> 0 | KQ52: =SUM(GO52:JZ52) -> 0 | KR52: =SUM(KA52:KO52) -> 0
A53: ='Elektr_IIst-program szczegółowy'!A53 -> 33 | B53: =IF('Elektr_IIst-program szczegółowy'!B53>0,'Elektr_IIst-program szczegółowy'!B53," ") | C53: =IF('Elektr_IIst-program szczegółowy'!C53>0,'Elektr_IIst-program szczegółowy'!C53," ") -> 2026/2027 | D53: =IF('Elektr_IIst-program szczegółowy'!D53>0,'Elektr_IIst-program szczegółowy'!D53," ") | E53: =IF('Elektr_IIst-program szczegółowy'!E53>0,'Elektr_IIst-program szczegółowy'!E53," ") -> 2 | F53: =IF('Elektr_IIst-program szczegółowy'!F53>0,'Elektr_IIst-program szczegółowy'!F53," ") -> 2027/2028 | G53: =IF('Elektr_IIst-program szczegółowy'!G53>0,'Elektr_IIst-program szczegółowy'!G53," ") -> RPS | H53: =IF('Elektr_IIst-program szczegółowy'!H53>0,'Elektr_IIst-program szczegółowy'!H53," ") | I53: =IF('Elektr_IIst-program szczegółowy'!I53>0,'Elektr_IIst-program szczegółowy'!I53," ") -> Zajęcia praktyczne: Radiologia zabiegowa w kardiologii | J53: ='Elektr_IIst-program szczegółowy'!Y53+'Elektr_IIst-program szczegółowy'!AV53 -> 50 | K53: ='Elektr_IIst-program szczegółowy'!AS53+'Elektr_IIst-program szczegółowy'!BP53 -> 20 | L53: ='Elektr_IIst-program szczegółowy'!Z53+'Elektr_IIst-program szczegółowy'!AW53 -> 30 | M53: ='Elektr_IIst-program szczegółowy'!AB53+'Elektr_IIst-program szczegółowy'!AD53+'Elektr_IIst-program szczegółowy'!AY53+'Elektr_IIst-program szczegółowy'!BA53 -> 0 | N53: ='Elektr_IIst-program szczegółowy'!AA53+'Elektr_IIst-program szczegółowy'!AX53 -> 30 | O53: ='Elektr_IIst-program szczegółowy'!X53+'Elektr_IIst-program szczegółowy'!AU53 -> 2 | P53: =IF('Elektr_IIst-program szczegółowy'!V53>0,'Elektr_IIst-program szczegółowy'!V53," ") -> zal | Q53: =SUM(T53:BZ53) -> 5 | R53: =SUM(CA53:CU53) -> 6 | S53: =SUM(CV53:DB53) -> 3 | U53: 1 | BF53: 1 | BG53: 1 | BH53: 1 | BI53: 1 | CC53: 1 | CD53: 1 | CH53: 1 | CI53: 1 | CJ53: 1 | CO53: 1 | CW53: 1 | CX53: 1 | CY53: 1 | KP53: =SUM(DC53:GN53) -> 0 | KQ53: =SUM(GO53:JZ53) -> 0 | KR53: =SUM(KA53:KO53) -> 0
A54: ='Elektr_IIst-program szczegółowy'!A54 -> 34 | B54: =IF('Elektr_IIst-program szczegółowy'!B54>0,'Elektr_IIst-program szczegółowy'!B54," ") | C54: =IF('Elektr_IIst-program szczegółowy'!C54>0,'Elektr_IIst-program szczegółowy'!C54," ") -> 2026/2027 | D54: =IF('Elektr_IIst-program szczegółowy'!D54>0,'Elektr_IIst-program szczegółowy'!D54," ") | E54: =IF('Elektr_IIst-program szczegółowy'!E54>0,'Elektr_IIst-program szczegółowy'!E54," ") -> 2 | F54: =IF('Elektr_IIst-program szczegółowy'!F54>0,'Elektr_IIst-program szczegółowy'!F54," ") -> 2027/2028 | G54: =IF('Elektr_IIst-program szczegółowy'!G54>0,'Elektr_IIst-program szczegółowy'!G54," ") -> RPS | H54: =IF('Elektr_IIst-program szczegółowy'!H54>0,'Elektr_IIst-program szczegółowy'!H54," ") | I54: =IF('Elektr_IIst-program szczegółowy'!I54>0,'Elektr_IIst-program szczegółowy'!I54," ") -> Radiologia w stanach nagłych | J54: ='Elektr_IIst-program szczegółowy'!Y54+'Elektr_IIst-program szczegółowy'!AV54 -> 75 | K54: ='Elektr_IIst-program szczegółowy'!AS54+'Elektr_IIst-program szczegółowy'!BP54 -> 45 | L54: ='Elektr_IIst-program szczegółowy'!Z54+'Elektr_IIst-program szczegółowy'!AW54 -> 30 | M54: ='Elektr_IIst-program szczegółowy'!AB54+'Elektr_IIst-program szczegółowy'!AD54+'Elektr_IIst-program szczegółowy'!AY54+'Elektr_IIst-program szczegółowy'!BA54 -> 15 | N54: ='Elektr_IIst-program szczegółowy'!AA54+'Elektr_IIst-program szczegółowy'!AX54 -> 30 | O54: ='Elektr_IIst-program szczegółowy'!X54+'Elektr_IIst-program szczegółowy'!AU54 -> 3 | P54: =IF('Elektr_IIst-program szczegółowy'!V54>0,'Elektr_IIst-program szczegółowy'!V54," ") -> zal | Q54: =SUM(T54:BZ54) -> 5 | R54: =SUM(CA54:CU54) -> 5 | S54: =SUM(CV54:DB54) -> 3 | U54: 1 | V54: 1 | BF54: 1 | BH54: 1 | BI54: 1 | CC54: 1 | CD54: 1 | CH54: 1 | CJ54: 1 | CU54: 1 | CW54: 1 | CX54: 1 | CY54: 1 | KP54: =SUM(DC54:GN54) -> 0 | KQ54: =SUM(GO54:JZ54) -> 0 | KR54: =SUM(KA54:KO54) -> 0
A55: ='Elektr_IIst-program szczegółowy'!A55 -> 35 | B55: =IF('Elektr_IIst-program szczegółowy'!B55>0,'Elektr_IIst-program szczegółowy'!B55," ") | C55: =IF('Elektr_IIst-program szczegółowy'!C55>0,'Elektr_IIst-program szczegółowy'!C55," ") -> 2026/2027 | D55: =IF('Elektr_IIst-program szczegółowy'!D55>0,'Elektr_IIst-program szczegółowy'!D55," ") | E55: =IF('Elektr_IIst-program szczegółowy'!E55>0,'Elektr_IIst-program szczegółowy'!E55," ") -> 2 | F55: =IF('Elektr_IIst-program szczegółowy'!F55>0,'Elektr_IIst-program szczegółowy'!F55," ") -> 2027/2028 | G55: =IF('Elektr_IIst-program szczegółowy'!G55>0,'Elektr_IIst-program szczegółowy'!G55," ") -> RPS | H55: =IF('Elektr_IIst-program szczegółowy'!H55>0,'Elektr_IIst-program szczegółowy'!H55," ") | I55: =IF('Elektr_IIst-program szczegółowy'!I55>0,'Elektr_IIst-program szczegółowy'!I55," ") -> Farmakologia radiologiczna | J55: ='Elektr_IIst-program szczegółowy'!Y55+'Elektr_IIst-program szczegółowy'!AV55 -> 75 | K55: ='Elektr_IIst-program szczegółowy'!AS55+'Elektr_IIst-program szczegółowy'!BP55 -> 45 | L55: ='Elektr_IIst-program szczegółowy'!Z55+'Elektr_IIst-program szczegółowy'!AW55 -> 30 | M55: ='Elektr_IIst-program szczegółowy'!AB55+'Elektr_IIst-program szczegółowy'!AD55+'Elektr_IIst-program szczegółowy'!AY55+'Elektr_IIst-program szczegółowy'!BA55 -> 15 | N55: ='Elektr_IIst-program szczegółowy'!AA55+'Elektr_IIst-program szczegółowy'!AX55 -> 30 | O55: ='Elektr_IIst-program szczegółowy'!X55+'Elektr_IIst-program szczegółowy'!AU55 -> 3 | P55: =IF('Elektr_IIst-program szczegółowy'!V55>0,'Elektr_IIst-program szczegółowy'!V55," ") -> zal/o | Q55: =SUM(T55:BZ55) -> 5 | R55: =SUM(CA55:CU55) -> 4 | S55: =SUM(CV55:DB55) -> 3 | U55: 1 | V55: 1 | AG55: 1 | BC55: 1 | BH55: 1 | CC55: 1 | CH55: 1 | CJ55: 1 | CU55: 1 | CW55: 1 | CX55: 1 | DB55: 1 | KP55: =SUM(DC55:GN55) -> 0 | KQ55: =SUM(GO55:JZ55) -> 0 | KR55: =SUM(KA55:KO55) -> 0
A56: ='Elektr_IIst-program szczegółowy'!A56 -> 36 | B56: =IF('Elektr_IIst-program szczegółowy'!B56>0,'Elektr_IIst-program szczegółowy'!B56," ") | C56: =IF('Elektr_IIst-program szczegółowy'!C56>0,'Elektr_IIst-program szczegółowy'!C56," ") -> 2026/2027 | D56: =IF('Elektr_IIst-program szczegółowy'!D56>0,'Elektr_IIst-program szczegółowy'!D56," ") | E56: =IF('Elektr_IIst-program szczegółowy'!E56>0,'Elektr_IIst-program szczegółowy'!E56," ") -> 2 | F56: =IF('Elektr_IIst-program szczegółowy'!F56>0,'Elektr_IIst-program szczegółowy'!F56," ") -> 2027/2028 | G56: =IF('Elektr_IIst-program szczegółowy'!G56>0,'Elektr_IIst-program szczegółowy'!G56," ") -> RPS | H56: =IF('Elektr_IIst-program szczegółowy'!H56>0,'Elektr_IIst-program szczegółowy'!H56," ") | I56: =IF('Elektr_IIst-program szczegółowy'!I56>0,'Elektr_IIst-program szczegółowy'!I56," ") -> Techniki obrazowe stosowane w onkologii | J56: ='Elektr_IIst-program szczegółowy'!Y56+'Elektr_IIst-program szczegółowy'!AV56 -> 75 | K56: ='Elektr_IIst-program szczegółowy'!AS56+'Elektr_IIst-program szczegółowy'!BP56 -> 40 | L56: ='Elektr_IIst-program szczegółowy'!Z56+'Elektr_IIst-program szczegółowy'!AW56 -> 35 | M56: ='Elektr_IIst-program szczegółowy'!AB56+'Elektr_IIst-program szczegółowy'!AD56+'Elektr_IIst-program szczegółowy'!AY56+'Elektr_IIst-program szczegółowy'!BA56 -> 15 | N56: ='Elektr_IIst-program szczegółowy'!AA56+'Elektr_IIst-program szczegółowy'!AX56 -> 35 | O56: ='Elektr_IIst-program szczegółowy'!X56+'Elektr_IIst-program szczegółowy'!AU56 -> 3 | P56: =IF('Elektr_IIst-program szczegółowy'!V56>0,'Elektr_IIst-program szczegółowy'!V56," ") -> zal/o | Q56: =SUM(T56:BZ56) -> 5 | R56: =SUM(CA56:CU56) -> 5 | S56: =SUM(CV56:DB56) -> 3 | U56: 1 | V56: 1 | AG56: 1 | BC56: 1 | BE56: 1 | CC56: 1 | CH56: 1 | CI56: 1 | CJ56: 1 | CO56: 1 | CW56: 1 | CX56: 1 | CY56: 1 | KP56: =SUM(DC56:GN56) -> 0 | KQ56: =SUM(GO56:JZ56) -> 0 | KR56: =SUM(KA56:KO56) -> 0
A57: ='Elektr_IIst-program szczegółowy'!A57 -> 37 | B57: =IF('Elektr_IIst-program szczegółowy'!B57>0,'Elektr_IIst-program szczegółowy'!B57," ") | C57: =IF('Elektr_IIst-program szczegółowy'!C57>0,'Elektr_IIst-program szczegółowy'!C57," ") -> 2026/2027 | D57: =IF('Elektr_IIst-program szczegółowy'!D57>0,'Elektr_IIst-program szczegółowy'!D57," ") | E57: =IF('Elektr_IIst-program szczegółowy'!E57>0,'Elektr_IIst-program szczegółowy'!E57," ") -> 2 | F57: =IF('Elektr_IIst-program szczegółowy'!F57>0,'Elektr_IIst-program szczegółowy'!F57," ") -> 2027/2028 | G57: =IF('Elektr_IIst-program szczegółowy'!G57>0,'Elektr_IIst-program szczegółowy'!G57," ") -> POW | H57: =IF('Elektr_IIst-program szczegółowy'!H57>0,'Elektr_IIst-program szczegółowy'!H57," ") | I57: =IF('Elektr_IIst-program szczegółowy'!I57>0,'Elektr_IIst-program szczegółowy'!I57," ") -> Problematyka zdrowia publicznego / Organizacja systemu ochrony zdrowia | J57: ='Elektr_IIst-program szczegółowy'!Y57+'Elektr_IIst-program szczegółowy'!AV57 -> 75 | K57: ='Elektr_IIst-program szczegółowy'!AS57+'Elektr_IIst-program szczegółowy'!BP57 -> 50 | L57: ='Elektr_IIst-program szczegółowy'!Z57+'Elektr_IIst-program szczegółowy'!AW57 -> 25 | M57: ='Elektr_IIst-program szczegółowy'!AB57+'Elektr_IIst-program szczegółowy'!AD57+'Elektr_IIst-program szczegółowy'!AY57+'Elektr_IIst-program szczegółowy'!BA57 -> 10 | N57: ='Elektr_IIst-program szczegółowy'!AA57+'Elektr_IIst-program szczegółowy'!AX57 -> 25 | O57: ='Elektr_IIst-program szczegółowy'!X57+'Elektr_IIst-program szczegółowy'!AU57 -> 3 | P57: =IF('Elektr_IIst-program szczegółowy'!V57>0,'Elektr_IIst-program szczegółowy'!V57," ") -> zal | Q57: =SUM(T57:BZ57) -> 6 | R57: =SUM(CA57:CU57) -> 2 | S57: =SUM(CV57:DB57) -> 2 | AP57: 1 | AX57: 1 | BN57: 1 | BP57: 1 | BS57: 1 | BT57: 1 | CK57: 1 | CT57: 1 | CW57: 1 | DA57: 1 | KP57: =SUM(DC57:GN57) -> 0 | KQ57: =SUM(GO57:JZ57) -> 0 | KR57: =SUM(KA57:KO57) -> 0
A58: ='Elektr_IIst-program szczegółowy'!A58 -> 38 | B58: =IF('Elektr_IIst-program szczegółowy'!B58>0,'Elektr_IIst-program szczegółowy'!B58," ") | C58: =IF('Elektr_IIst-program szczegółowy'!C58>0,'Elektr_IIst-program szczegółowy'!C58," ") -> 2026/2027 | D58: =IF('Elektr_IIst-program szczegółowy'!D58>0,'Elektr_IIst-program szczegółowy'!D58," ") | E58: =IF('Elektr_IIst-program szczegółowy'!E58>0,'Elektr_IIst-program szczegółowy'!E58," ") -> 2 | F58: =IF('Elektr_IIst-program szczegółowy'!F58>0,'Elektr_IIst-program szczegółowy'!F58," ") -> 2027/2028 | G58: =IF('Elektr_IIst-program szczegółowy'!G58>0,'Elektr_IIst-program szczegółowy'!G58," ") -> POW | H58: =IF('Elektr_IIst-program szczegółowy'!H58>0,'Elektr_IIst-program szczegółowy'!H58," ") | I58: =IF('Elektr_IIst-program szczegółowy'!I58>0,'Elektr_IIst-program szczegółowy'!I58," ") -> Komunikacja interdyscyplinarna i przywództwo w zespole medycznym/ Komunikacja kryzysowa i psychoedukacja pacjenta w pracy elektroradiologa | J58: ='Elektr_IIst-program szczegółowy'!Y58+'Elektr_IIst-program szczegółowy'!AV58 -> 75 | K58: ='Elektr_IIst-program szczegółowy'!AS58+'Elektr_IIst-program szczegółowy'!BP58 -> 50 | L58: ='Elektr_IIst-program szczegółowy'!Z58+'Elektr_IIst-program szczegółowy'!AW58 -> 25 | M58: ='Elektr_IIst-program szczegółowy'!AB58+'Elektr_IIst-program szczegółowy'!AD58+'Elektr_IIst-program szczegółowy'!AY58+'Elektr_IIst-program szczegółowy'!BA58 -> 10 | N58: ='Elektr_IIst-program szczegółowy'!AA58+'Elektr_IIst-program szczegółowy'!AX58 -> 25 | O58: ='Elektr_IIst-program szczegółowy'!X58+'Elektr_IIst-program szczegółowy'!AU58 -> 3 | P58: =IF('Elektr_IIst-program szczegółowy'!V58>0,'Elektr_IIst-program szczegółowy'!V58," ") -> zal | Q58: =SUM(T58:BZ58) -> 2 | R58: =SUM(CA58:CU58) -> 3 | S58: =SUM(CV58:DB58) -> 3 | BO58: 1 | BP58: 1 | CA58: 1 | CB58: 1 | CN58: 1 | CV58: 1 | CW58: 1 | CY58: 1 | KP58: =SUM(DC58:GN58) -> 0 | KQ58: =SUM(GO58:JZ58) -> 0 | KR58: =SUM(KA58:KO58) -> 0
A59: ='Elektr_IIst-program szczegółowy'!A59 -> 39 | B59: =IF('Elektr_IIst-program szczegółowy'!B59>0,'Elektr_IIst-program szczegółowy'!B59," ") | C59: =IF('Elektr_IIst-program szczegółowy'!C59>0,'Elektr_IIst-program szczegółowy'!C59," ") -> 2026/2027 | D59: =IF('Elektr_IIst-program szczegółowy'!D59>0,'Elektr_IIst-program szczegółowy'!D59," ") | E59: =IF('Elektr_IIst-program szczegółowy'!E59>0,'Elektr_IIst-program szczegółowy'!E59," ") -> 2 | F59: =IF('Elektr_IIst-program szczegółowy'!F59>0,'Elektr_IIst-program szczegółowy'!F59," ") -> 2027/2028 | G59: =IF('Elektr_IIst-program szczegółowy'!G59>0,'Elektr_IIst-program szczegółowy'!G59," ") -> POW | H59: =IF('Elektr_IIst-program szczegółowy'!H59>0,'Elektr_IIst-program szczegółowy'!H59," ") | I59: =IF('Elektr_IIst-program szczegółowy'!I59>0,'Elektr_IIst-program szczegółowy'!I59," ") -> Diagnostyka czynnościowa układu oddechowego i snu/ Diagnostyka czynnościowa układu krążenia | J59: ='Elektr_IIst-program szczegółowy'!Y59+'Elektr_IIst-program szczegółowy'!AV59 -> 75 | K59: ='Elektr_IIst-program szczegółowy'!AS59+'Elektr_IIst-program szczegółowy'!BP59 -> 50 | L59: ='Elektr_IIst-program szczegółowy'!Z59+'Elektr_IIst-program szczegółowy'!AW59 -> 25 | M59: ='Elektr_IIst-program szczegółowy'!AB59+'Elektr_IIst-program szczegółowy'!AD59+'Elektr_IIst-program szczegółowy'!AY59+'Elektr_IIst-program szczegółowy'!BA59 -> 10 | N59: ='Elektr_IIst-program szczegółowy'!AA59+'Elektr_IIst-program szczegółowy'!AX59 -> 25 | O59: ='Elektr_IIst-program szczegółowy'!X59+'Elektr_IIst-program szczegółowy'!AU59 -> 3 | P59: =IF('Elektr_IIst-program szczegółowy'!V59>0,'Elektr_IIst-program szczegółowy'!V59," ") -> zal | Q59: =SUM(T59:BZ59) -> 2 | R59: =SUM(CA59:CU59) -> 1 | S59: =SUM(CV59:DB59) -> 2 | AJ59: 1 | AN59: 1 | CH59: 1 | CX59: 1 | CY59: 1 | KP59: =SUM(DC59:GN59) -> 0 | KQ59: =SUM(GO59:JZ59) -> 0 | KR59: =SUM(KA59:KO59) -> 0
A60: ='Elektr_IIst-program szczegółowy'!A60 -> 40 | B60: =IF('Elektr_IIst-program szczegółowy'!B60>0,'Elektr_IIst-program szczegółowy'!B60," ") | C60: =IF('Elektr_IIst-program szczegółowy'!C60>0,'Elektr_IIst-program szczegółowy'!C60," ") -> 2026/2027 | D60: =IF('Elektr_IIst-program szczegółowy'!D60>0,'Elektr_IIst-program szczegółowy'!D60," ") | E60: =IF('Elektr_IIst-program szczegółowy'!E60>0,'Elektr_IIst-program szczegółowy'!E60," ") -> 2 | F60: =IF('Elektr_IIst-program szczegółowy'!F60>0,'Elektr_IIst-program szczegółowy'!F60," ") -> 2027/2028 | G60: =IF('Elektr_IIst-program szczegółowy'!G60>0,'Elektr_IIst-program szczegółowy'!G60," ") -> RPS | H60: =IF('Elektr_IIst-program szczegółowy'!H60>0,'Elektr_IIst-program szczegółowy'!H60," ") | I60: =IF('Elektr_IIst-program szczegółowy'!I60>0,'Elektr_IIst-program szczegółowy'!I60," ") -> Dialog i współpraca w praktyce klinicznej | J60: ='Elektr_IIst-program szczegółowy'!Y60+'Elektr_IIst-program szczegółowy'!AV60 -> 75 | K60: ='Elektr_IIst-program szczegółowy'!AS60+'Elektr_IIst-program szczegółowy'!BP60 -> 45 | L60: ='Elektr_IIst-program szczegółowy'!Z60+'Elektr_IIst-program szczegółowy'!AW60 -> 30 | M60: ='Elektr_IIst-program szczegółowy'!AB60+'Elektr_IIst-program szczegółowy'!AD60+'Elektr_IIst-program szczegółowy'!AY60+'Elektr_IIst-program szczegółowy'!BA60 -> 15 | N60: ='Elektr_IIst-program szczegółowy'!AA60+'Elektr_IIst-program szczegółowy'!AX60 -> 30 | O60: ='Elektr_IIst-program szczegółowy'!X60+'Elektr_IIst-program szczegółowy'!AU60 -> 3 | P60: =IF('Elektr_IIst-program szczegółowy'!V60>0,'Elektr_IIst-program szczegółowy'!V60," ") -> zal | Q60: =SUM(T60:BZ60) -> 2 | R60: =SUM(CA60:CU60) -> 3 | S60: =SUM(CV60:DB60) -> 3 | BO60: 1 | BP60: 1 | CA60: 1 | CB60: 1 | CN60: 1 | CV60: 1 | CW60: 1 | CY60: 1 | KP60: =SUM(DC60:GN60) -> 0 | KQ60: =SUM(GO60:JZ60) -> 0 | KR60: =SUM(KA60:KO60) -> 0
A61: ='Elektr_IIst-program szczegółowy'!A61 -> 41 | B61: =IF('Elektr_IIst-program szczegółowy'!B61>0,'Elektr_IIst-program szczegółowy'!B61," ") | C61: =IF('Elektr_IIst-program szczegółowy'!C61>0,'Elektr_IIst-program szczegółowy'!C61," ") -> 2026/2027 | D61: =IF('Elektr_IIst-program szczegółowy'!D61>0,'Elektr_IIst-program szczegółowy'!D61," ") | E61: =IF('Elektr_IIst-program szczegółowy'!E61>0,'Elektr_IIst-program szczegółowy'!E61," ") -> 2 | F61: =IF('Elektr_IIst-program szczegółowy'!F61>0,'Elektr_IIst-program szczegółowy'!F61," ") -> 2027/2028 | G61: =IF('Elektr_IIst-program szczegółowy'!G61>0,'Elektr_IIst-program szczegółowy'!G61," ") | H61: =IF('Elektr_IIst-program szczegółowy'!H61>0,'Elektr_IIst-program szczegółowy'!H61," ") | I61: =IF('Elektr_IIst-program szczegółowy'!I61>0,'Elektr_IIst-program szczegółowy'!I61," ") | J61: ='Elektr_IIst-program szczegółowy'!Y61+'Elektr_IIst-program szczegółowy'!AV61 -> 0 | K61: ='Elektr_IIst-program szczegółowy'!AS61+'Elektr_IIst-program szczegółowy'!BP61 -> 0 | L61: ='Elektr_IIst-program szczegółowy'!Z61+'Elektr_IIst-program szczegółowy'!AW61 -> 0 | M61: ='Elektr_IIst-program szczegółowy'!AB61+'Elektr_IIst-program szczegółowy'!AD61+'Elektr_IIst-program szczegółowy'!AY61+'Elektr_IIst-program szczegółowy'!BA61 -> 0 | N61: ='Elektr_IIst-program szczegółowy'!AA61+'Elektr_IIst-program szczegółowy'!AX61 -> 0 | O61: ='Elektr_IIst-program szczegółowy'!X61+'Elektr_IIst-program szczegółowy'!AU61 -> 0 | P61: =IF('Elektr_IIst-program szczegółowy'!V61>0,'Elektr_IIst-program szczegółowy'!V61," ") | Q61: =SUM(T61:BZ61) -> 0 | R61: =SUM(CA61:CU61) -> 0 | S61: =SUM(CV61:DB61) -> 0 | KP61: =SUM(DC61:GN61) -> 0 | KQ61: =SUM(GO61:JZ61) -> 0 | KR61: =SUM(KA61:KO61) -> 0
A62: ='Elektr_IIst-program szczegółowy'!A62 -> 0 | B62: =IF('Elektr_IIst-program szczegółowy'!B62>0,'Elektr_IIst-program szczegółowy'!B62," ") | C62: =IF('Elektr_IIst-program szczegółowy'!C62>0,'Elektr_IIst-program szczegółowy'!C62," ") | D62: =IF('Elektr_IIst-program szczegółowy'!D62>0,'Elektr_IIst-program szczegółowy'!D62," ") | E62: =IF('Elektr_IIst-program szczegółowy'!E62>0,'Elektr_IIst-program szczegółowy'!E62," ") | F62: =IF('Elektr_IIst-program szczegółowy'!F62>0,'Elektr_IIst-program szczegółowy'!F62," ") | G62: =IF('Elektr_IIst-program szczegółowy'!G62>0,'Elektr_IIst-program szczegółowy'!G62," ") | H62: =IF('Elektr_IIst-program szczegółowy'!H62>0,'Elektr_IIst-program szczegółowy'!H62," ") | I62: =IF('Elektr_IIst-program szczegółowy'!I62>0,'Elektr_IIst-program szczegółowy'!I62," ") -> sumy dla 2 roku | J62: ='Elektr_IIst-program szczegółowy'!Y62+'Elektr_IIst-program szczegółowy'!AV62 -> 1615 | K62: ='Elektr_IIst-program szczegółowy'!AS62+'Elektr_IIst-program szczegółowy'!BP62 -> 1055 | L62: ='Elektr_IIst-program szczegółowy'!Z62+'Elektr_IIst-program szczegółowy'!AW62 -> 560 | M62: ='Elektr_IIst-program szczegółowy'!AB62+'Elektr_IIst-program szczegółowy'!AD62+'Elektr_IIst-program szczegółowy'!AY62+'Elektr_IIst-program szczegółowy'!BA62 -> 185 | N62: ='Elektr_IIst-program szczegółowy'!AA62+'Elektr_IIst-program szczegółowy'!AX62 -> 560 | O62: ='Elektr_IIst-program szczegółowy'!X62+'Elektr_IIst-program szczegółowy'!AU62 -> 64 | P62: =IF('Elektr_IIst-program szczegółowy'!V62>0,'Elektr_IIst-program szczegółowy'!V62," ") | Q62: =SUM(Q44:Q61) -> 65 | R62: =SUM(R44:R61) -> 74 | S62: =SUM(S44:S61) -> 44 | T62: =SUM(T44:T61) -> 1 | U62: =SUM(U44:U61) -> 6 | V62: =SUM(V44:V61) -> 5 | W62: =SUM(W44:W61) -> 0 | X62: =SUM(X44:X61) -> 0 | ... KR62: =SUM(KR44:KR61) -> 0
A63: RAZEM | J63: ='Elektr_IIst-program szczegółowy'!M63 -> 3146 | K63: ='Elektr_IIst-program szczegółowy'!N63 -> 1715 | L63: ='Elektr_IIst-program szczegółowy'!O63 -> 1431 | M63: ='Elektr_IIst-program szczegółowy'!P63 -> 1431 | N63: ='Elektr_IIst-program szczegółowy'!Q63 -> 124 | O63: ='Elektr_IIst-program szczegółowy'!R63 -> 0 | P63: ='Elektr_IIst-program szczegółowy'!S63 -> 63.314286 | Q63: =SUM(Q20:Q42,Q44:Q61) -> 158 | R63: =SUM(R20:R42,R44:R61) -> 157 | S63: =SUM(S20:S42,S44:S61) -> 88 | T63: =SUM(T20:T42,T44:T61) -> 5 | U63: =SUM(U20:U42,U44:U61) -> 11 | V63: =SUM(V20:V42,V44:V61) -> 10 | W63: =SUM(W20:W42,W44:W61) -> 2 | X63: =SUM(X20:X42,X44:X61) -> 2 | ... KR63: =SUM(KR20:KR42,KR44:KR61) -> 0

Sheet Matryca_fakultety
G2: Matryca
G5: Wydział | I5: Wydział Nauk o Zdrowiu
G6: Kierunek | I6: Zdrowie publiczne
G7: Cykl kształcenia | I7: 2026/2027-20027/2028
G8: Poziom kształcenia | I8: studia drugiego stopnia
G9: Profil kształcenia | I9: praktyczny
G10: Forma studiów | I10: stacjonarne
G11: Liczba semestrów | I11: 4
G12: Łączna liczba godzin | I12: ='Elektr_IIst-program szczegółowy'!P72 -> 1431
G13: Łączna liczba ECTS | I13: 120
A16: Lp. | B16: kod grupy* | C16: Cykl kształcenia (nabór) | D16: Ścieżka** | E16: Rok studiów | F16: Rok akademicki | G16: Rodzaj zajęć*** (RPS, POW, PSW) | H16: ****Pula godzin (ze standardu, do dyspozycji uczelni (Autorska oferta uczelni)) | I16: Przedmiot (nazwa) | J16: łącznie dla przedmiotu | Q16: Suma efektów w poszczególnych kategoriach
J17: SUMA GODZIN PRZEDMIOTU | O17: ECTS | P17: forma zakończenia przedmiotu
J18: NAKŁAD PRACY STUDENTA (godz. dyd. + samodzielna praca) | K18: SAMODZIELNA PRACA STUDENTA | L18: GODZINY DYDAKTYCZNE | M18: W TYM TEORIA (WY+SE) | N18: GODZINY Z NAUCZYCIELEM | Q18: Wiedza | R18: Umiejetności | S18: Kompetencje społeczne | T18: Wiedza | BU18: Kształcenie ogólne | CA18: Umiejętności | CV18: Kompetencje społeczne | DC18: Wiedza | GO18: Umiejętności | KA18: Kompetencje społeczne | KP18: Wiedza | KQ18: Umiejetności | KR18: Kompetencje społeczne | KS18: Proporcje poszczególnych kategorii efektów dla przedmiotu
T19: K_W01 | U19: K_W02 | V19: K_W03 | W19: K_W04 | X19: K_W05 | Y19: K_W06 | Z19: K_W07 | AA19: K_W08 | AB19: K_W09 | AC19: K_W10 | AD19: K_W11 | AE19: K_W12 | AF19: K_W13 | AG19: K_W14 | AH19: K_W15 | AI19: K_W16 | AJ19: K_W17 | AK19: K_W18 | AL19: K_W19 | AM19: K_W20 | AN19: K_W21 | AO19: K_W22 | AP19: K_W23 | AQ19: K_W24 | AR19: K_W25 | AS19: K_W26 | AT19: K_W27 | AU19: K_W28 | AV19: K_W29 | AW19: K_W30 | AX19: K_W31 | AY19: K_W32 | AZ19: K_W33 | BA19: K_W34 | BB19: K_W35 | BC19: K_W36 | BD19: K_W37 | BE19: K_W38 | BF19: K_W39 | BG19: K_W40 | BH19: K_W41 | BI19: K_W42 | BJ19: K_W43 | BK19: K_W44 | BL19: K_W45 | BM19: K_W46 | BN19: K_W47 | BO19: K_W48 | BP19: K_W49 | BQ19: K_W50 | BR19: K_W51 | BS19: K_W52 | BT19: K_W53 | BU19: S.W1 | BV19: S.W2 | BW19: S.W3 | BX19: P.W1 | BY19: P.W2 | BZ19: P.W3 | CA19: K_U01 | CB19: K_U02 | CC19: K_U03 | CD19: K_U04 | CE19: K_U05 | CF19: K_U06 | CG19: K_U07 | CH19: K_U08 | CI19: K_U09 | CJ19: K_U10 | CK19: K_U11 | CL19: K_U12 | CM19: K_U13 | CN19: K_U14 | CO19: K_U15 | CP19: K_U16 | CQ19: K_U17 | CR19: K_U18 | CS19: K_U19 | CT19: K_U20 | CU19: K_U21 | CV19: K_K01 | CW19: K_K02 | CX19: K_K03 | CY19: K_K04 | CZ19: K_K05 | DA19: K_K06 | DB19: K_K07 | DC19: P_W01 | DD19: P_W02 | DE19: P_W03 | DF19: P_W04 | DG19: P_W05 | DH19: P_W06 | DI19: P_W07 | DJ19: P_W08 | DK19: P_W09 | DL19: P_W10 | DM19: P_W11 | DN19: P_W12 | DO19: P_W13 | DP19: P_W14 | DQ19: P_W15 | DR19: P_W16 | DS19: P_W17 | DT19: P_W18 | DU19: P_W19 | DV19: P_W20 | DW19: P_W21 | DX19: P_W22 | DY19: P_W23 | DZ19: P_W24 | EA19: P_W25 | EB19: P_W26 | EC19: P_W27 | ED19: P_W28 | EE19: P_W29 | EF19: P_W30 | EG19: P_W31 | EH19: P_W32 | EI19: P_W33 | EJ19: P_W34 | EK19: P_W35 | EL19: P_W36 | EM19: P_W37 | EN19: P_W38 | EO19: P_W39 | EP19: P_W40 | EQ19: P_W41 | ER19: P_W42 | ES19: P_W43 | ET19: P_W44 | EU19: P_W45 | EV19: P_W46 | EW19: P_W47 | EX19: P_W48 | EY19: P_W49 | EZ19: P_W50 | FA19: P_W51 | FB19: P_W52 | FC19: P_W53 | FD19: P_W54 | FE19: P_W55 | FF19: P_W56 | FG19: P_W57 | FH19: P_W58 | FI19: P_W59 | FJ19: P_W60 | FK19: P_W61 | FL19: P_W62 | FM19: P_W63 | FN19: P_W64 | FO19: P_W65 | FP19: P_W66 | FQ19: P_W67 | FR19: P_W68 | FS19: P_W69 | FT19: P_W70 | FU19: P_W71 | FV19: P_W72 | FW19: P_W73 | FX19: P_W74 | FY19: P_W75 | FZ19: P_W76 | GA19: P_W77 | GB19: P_W78 | GC19: P_W79 | GD19: P_W80 | GE19: P_W81 | GF19: P_W82 | GG19: P_W83 | GH19: P_W84 | GI19: P_W85 | GJ19: P_W86 | GK19: P_W87 | GL19: P_W88 | GM19: P_W89 | GN19: P_W90 | GO19: P_U01 | GP19: P_U02 | GQ19: P_U03 | GR19: P_U04 | GS19: P_U05 | GT19: P_U06 | GU19: P_U07 | GV19: P_U08 | GW19: P_U09 | GX19: P_U10 | GY19: P_U11 | GZ19: P_U12 | HA19: P_U13 | HB19: P_U14 | HC19: P_U15 | HD19: P_U16 | HE19: P_U17 | HF19: P_U18 | HG19: P_U19 | HH19: P_U20 | HI19: P_U21 | HJ19: P_U22 | HK19: P_U23 | HL19: P_U24 | HM19: P_U25 | HN19: P_U26 | HO19: P_U27 | HP19: P_U28 | HQ19: P_U29 | HR19: P_U30 | HS19: P_U31 | HT19: P_U32 | HU19: P_U33 | HV19: P_U34 | HW19: P_U35 | HX19: P_U36 | HY19: P_U37 | HZ19: P_U38 | IA19: P_U39 | IB19: P_U40 | IC19: P_U41 | ID19: P_U42 | IE19: P_U43 | IF19: P_U44 | IG19: P_U45 | IH19: P_U46 | II19: P_U47 | IJ19: P_U48 | IK19: P_U49 | IL19: P_U50 | IM19: P_U51 | IN19: P_U52 | IO19: P_U53 | IP19: P_U54 | IQ19: P_U55 | IR19: P_U56 | IS19: P_U57 | IT19: P_U58 | IU19: P_U59 | IV19: P_U60 | IW19: P_U61 | IX19: P_U62 | IY19: P_U63 | IZ19: P_U64 | JA19: P_U65 | JB19: P_U66 | JC19: P_U67 | JD19: P_U68 | JE19: P_U69 | JF19: P_U70 | JG19: P_U71 | JH19: P_U72 | JI19: P_U73 | JJ19: P_U74 | JK19: P_U75 | JL19: P_U76 | JM19: P_U77 | JN19: P_U78 | JO19: P_U79 | JP19: P_U80 | JQ19: P_U81 | JR19: P_U82 | JS19: P_U83 | JT19: P_U84 | JU19: P_U85 | JV19: P_U86 | JW19: P_U87 | JX19: P_U88 | JY19: P_U89 | JZ19: P_U90 | KA19: P_K01 | KB19: P_K02 | KC19: P_K03 | KD19: P_K04 | KE19: P_K05 | KF19: P_K06 | KG19: P_K07 | KH19: P_K08 | KI19: P_K09 | KJ19: P_K10 | KK19: P_K11 | KL19: P_K12 | KM19: P_K13 | KN19: P_K14 | KO19: P_K15
A20: 8 | C20: 2026/2027 | E20: 1 | F20: 2026/2027 | G20: POW | I20: Zdrowie środowiskowe | J20: ='Elektr_IIst-program szczegółowy'!Y27+'Elektr_IIst-program szczegółowy'!AV27 -> 75 | K20: ='Elektr_IIst-program szczegółowy'!AS27+'Elektr_IIst-program szczegółowy'!BP27 -> 50 | L20: ='Elektr_IIst-program szczegółowy'!Z27+'Elektr_IIst-program szczegółowy'!AW27 -> 25 | M20: ='Elektr_IIst-program szczegółowy'!AB27+'Elektr_IIst-program szczegółowy'!AD27+'Elektr_IIst-program szczegółowy'!AY27+'Elektr_IIst-program szczegółowy'!BA27 -> 10 | N20: ='Elektr_IIst-program szczegółowy'!AA27+'Elektr_IIst-program szczegółowy'!AX27 -> 25 | O20: ='Elektr_IIst-program szczegółowy'!X27+'Elektr_IIst-program szczegółowy'!AU27 -> 3 | P20: =IF('Elektr_IIst-program szczegółowy'!V27>0,'Elektr_IIst-program szczegółowy'!V27," ") -> zal | Q20: =SUM(T20:BT20) -> 4 | R20: =SUM(CA20:CU20) -> 3 | S20: =SUM(CV20:DB20) -> 2 | AQ20: 1 | AR20: 1 | BS20: 1 | BT20: 1 | CK20: 1 | CQ20: 1 | CU20: 1 | CW20: 1 | DB20: 1 | KP20: =SUM(DC20:GN20) -> 0 | KQ20: =SUM(GO20:JZ20) -> 0 | KR20: =SUM(KA20:KO20) -> 0
A21: 8 | C21: 2026/2027 | E21: 1 | F21: 2026/2027 | G21: POW | I21: Zagrożenia epidemiologiczne | J21: 75 | K21: 50 | L21: 25 | M21: 10 | N21: 25 | O21: 3 | P21: zal | Q21: =SUM(T21:BT21) -> 4 | R21: =SUM(CA21:CU21) -> 3 | S21: =SUM(CV21:DB21) -> 2 | AQ21: 1 | AR21: 1 | BS21: 1 | BT21: 1 | CK21: 1 | CQ21: 1 | CU21: 1 | CW21: 1 | DB21: 1 | KP21: =SUM(DC21:GN21) -> 0 | KQ21: =SUM(GO21:JZ21) -> 0 | KR21: =SUM(KA21:KO21) -> 0
A22: 23 | C22: 2026/2027 | E22: 1 | F22: 2027/2028 | G22: POW | I22: Żywienie w profilaktyce chorób | J22: 75 | K22: 50 | L22: 25 | M22: 10 | N22: 25 | O22: 3 | P22: zal | Q22: =SUM(T22:BT22) -> 0 | R22: =SUM(CA22:CU22) -> 3 | S22: =SUM(CV22:DB22) -> 1 | CA22: 1 | CB22: 1 | CK22: 1 | CW22: 1 | KP22: =SUM(DC22:GN22) -> 0 | KQ22: =SUM(GO22:JZ22) -> 0 | KR22: =SUM(KA22:KO22) -> 0
A23: 23 | C23: 2026/2027 | E23: 1 | F23: 2027/2028 | G23: POW | I23: Profilaktyka swoista i badania przesiewowe | J23: 75 | K23: 50 | L23: 25 | M23: 10 | N23: 25 | O23: 3 | P23: zal | Q23: =SUM(T23:BT23) -> 0 | R23: =SUM(CA23:CU23) -> 2 | S23: =SUM(CV23:DB23) -> 1 | CA23: 1 | CK23: 1 | DA23: 1 | KP23: =SUM(DC23:GN23) -> 0 | KQ23: =SUM(GO23:JZ23) -> 0 | KR23: =SUM(KA23:KO23) -> 0
B24: =IF('Elektr_IIst-program szczegółowy'!B43>0,'Elektr_IIst-program szczegółowy'!B43," ") | C24: =IF('Elektr_IIst-program szczegółowy'!C43>0,'Elektr_IIst-program szczegółowy'!C43," ") | D24: =IF('Elektr_IIst-program szczegółowy'!D43>0,'Elektr_IIst-program szczegółowy'!D43," ") | E24: =IF('Elektr_IIst-program szczegółowy'!E43>0,'Elektr_IIst-program szczegółowy'!E43," ") | F24: =IF('Elektr_IIst-program szczegółowy'!F43>0,'Elektr_IIst-program szczegółowy'!F43," ") | G24: =IF('Elektr_IIst-program szczegółowy'!G43>0,'Elektr_IIst-program szczegółowy'!G43," ") | H24: =IF('Elektr_IIst-program szczegółowy'!H43>0,'Elektr_IIst-program szczegółowy'!H43," ") | I24: =IF('Elektr_IIst-program szczegółowy'!I43>0,'Elektr_IIst-program szczegółowy'!I43," ") -> sumy dla 1 roku | J24: ='Elektr_IIst-program szczegółowy'!Y43+'Elektr_IIst-program szczegółowy'!AV43 -> 1531 | K24: ='Elektr_IIst-program szczegółowy'!AS43+'Elektr_IIst-program szczegółowy'!BP43 -> 660 | L24: ='Elektr_IIst-program szczegółowy'!Z43+'Elektr_IIst-program szczegółowy'!AW43 -> 871 | M24: ='Elektr_IIst-program szczegółowy'!AB43+'Elektr_IIst-program szczegółowy'!AD43 -> 60 | N24: ='Elektr_IIst-program szczegółowy'!AA43+'Elektr_IIst-program szczegółowy'!AX43 -> 871 | O24: ='Elektr_IIst-program szczegółowy'!X43+'Elektr_IIst-program szczegółowy'!AU43 -> 60 | P24: =IF('Elektr_IIst-program szczegółowy'!V43>0,'Elektr_IIst-program szczegółowy'!V43," ") | Q24: =SUM(Q20:Q23) -> 8 | R24: =SUM(R20:R23) -> 11 | S24: =SUM(S20:S23) -> 6 | T24: =SUM(T20:T23) -> 0 | U24: =SUM(U20:U23) -> 0 | V24: =SUM(V20:V23) -> 0 | W24: =SUM(W20:W23) -> 0 | X24: =SUM(X20:X23) -> 0 | ... KR24: =SUM(KR20:KR23) -> 0
A25: 37 | C25: 2026/2027 | E25: 2 | F25: 2027/2028 | G25: POW | I25: Problematyka zdrowia publicznego | J25: 75 | K25: 50 | L25: 25 | M25: 10 | N25: 25 | O25: 3 | P25: zal | Q25: =SUM(T25:BZ25) -> 5 | R25: =SUM(CA25:CU25) -> 2 | S25: =SUM(CV25:DB25) -> 2 | AP25: 1 | AX25: 1 | BP25: 1 | BS25: 1 | BT25: 1 | CK25: 1 | CT25: 1 | CW25: 1 | DA25: 1 | KP25: =SUM(DC25:GN25) -> 0 | KQ25: =SUM(GO25:JZ25) -> 0 | KR25: =SUM(KA25:KO25) -> 0
A26: 37 | C26: 2026/2027 | E26: 2 | F26: 2027/2028 | G26: POW | I26: Organizacja systemu ochrony zdrowia | J26: 75 | K26: 50 | L26: 25 | M26: 10 | N26: 25 | O26: 3 | P26: zal | Q26: =SUM(T26:BZ26) -> 6 | R26: =SUM(CA26:CU26) -> 2 | S26: =SUM(CV26:DB26) -> 2 | AP26: 1 | AX26: 1 | BN26: 1 | BP26: 1 | BS26: 1 | BT26: 1 | CK26: 1 | CT26: 1 | CW26: 1 | DA26: 1 | KP26: =SUM(DC26:GN26) -> 0 | KQ26: =SUM(GO26:JZ26) -> 0 | KR26: =SUM(KA26:KO26) -> 0
A27: 38 | C27: 2026/2027 | E27: 2 | F27: 2027/2028 | G27: POW | I27: Komunikacja interdyscyplinarna i przywództwo w zespole medycznym | J27: 75 | K27: 50 | L27: 25 | M27: 10 | N27: 25 | O27: 3 | P27: zal | Q27: =SUM(T27:BZ27) -> 2 | R27: =SUM(CA27:CU27) -> 2 | S27: =SUM(CV27:DB27) -> 3 | BO27: 1 | BP27: 1 | CB27: 1 | CN27: 1 | CV27: 1 | CW27: 1 | CY27: 1 | KP27: =SUM(DC27:GN27) -> 0 | KQ27: =SUM(GO27:JZ27) -> 0 | KR27: =SUM(KA27:KO27) -> 0
A28: 38 | C28: 2026/2027 | E28: 2 | F28: 2027/2028 | G28: POW | I28: Komunikacja kryzysowa i psychoedukacja pacjenta w pracy elektroradiologa | J28: 75 | K28: 50 | L28: 25 | M28: 10 | N28: 25 | O28: 3 | P28: zal | Q28: =SUM(T28:BZ28) -> 2 | R28: =SUM(CA28:CU28) -> 1 | S28: =SUM(CV28:DB28) -> 3 | BO28: 1 | BP28: 1 | CA28: 1 | CV28: 1 | CW28: 1 | CY28: 1 | KP28: =SUM(DC28:GN28) -> 0 | KQ28: =SUM(GO28:JZ28) -> 0 | KR28: =SUM(KA28:KO28) -> 0
A29: 39 | C29: 2026/2027 | E29: 2 | F29: 2027/2028 | G29: POW | I29: Diagnostyka czynnościowa układu oddechowego i snu | J29: 75 | K29: 50 | L29: 25 | M29: 10 | N29: 25 | O29: 3 | P29: zal | Q29: =SUM(T29:BZ29) -> 1 | R29: =SUM(CA29:CU29) -> 1 | S29: =SUM(CV29:DB29) -> 1 | AN29: 1 | CH29: 1 | CX29: 1 | KP29: =SUM(DC29:GN29) -> 0 | KQ29: =SUM(GO29:JZ29) -> 0 | KR29: =SUM(KA29:KO29) -> 0
A30: 39 | C30: 2026/2027 | E30: 2 | F30: 2027/2028 | G30: POW | I30: Diagnostyka czynnościowa układu krążenia | J30: 75 | K30: 50 | L30: 25 | M30: 10 | N30: 25 | O30: 3 | P30: zal | Q30: =SUM(T30:BZ30) -> 1 | R30: =SUM(CA30:CU30) -> 1 | S30: =SUM(CV30:DB30) -> 1 | AJ30: 1 | CH30: 1 | CY30: 1 | KP30: 0 | KQ30: 0 | KR30: 0
C31: 2026/2027 | E31: 2 | F31: 2027/2028 | J31: 0 | K31: 0 | L31: 0 | M31: 0 | N31: 0 | O31: 0 | Q31: =SUM(T31:BZ31) -> 0 | R31: =SUM(CA31:CU31) -> 0 | S31: =SUM(CV31:DB31) -> 0 | KP31: =SUM(DC31:GN31) -> 0 | KQ31: =SUM(GO31:JZ31) -> 0 | KR31: =SUM(KA31:KO31) -> 0
A32: ='Elektr_IIst-program szczegółowy'!A62 -> 0 | B32: =IF('Elektr_IIst-program szczegółowy'!B62>0,'Elektr_IIst-program szczegółowy'!B62," ") | C32: =IF('Elektr_IIst-program szczegółowy'!C62>0,'Elektr_IIst-program szczegółowy'!C62," ") | D32: =IF('Elektr_IIst-program szczegółowy'!D62>0,'Elektr_IIst-program szczegółowy'!D62," ") | E32: =IF('Elektr_IIst-program szczegółowy'!E62>0,'Elektr_IIst-program szczegółowy'!E62," ") | F32: =IF('Elektr_IIst-program szczegółowy'!F62>0,'Elektr_IIst-program szczegółowy'!F62," ") | G32: =IF('Elektr_IIst-program szczegółowy'!G62>0,'Elektr_IIst-program szczegółowy'!G62," ") | H32: =IF('Elektr_IIst-program szczegółowy'!H62>0,'Elektr_IIst-program szczegółowy'!H62," ") | I32: =IF('Elektr_IIst-program szczegółowy'!I62>0,'Elektr_IIst-program szczegółowy'!I62," ") -> sumy dla 2 roku | J32: ='Elektr_IIst-program szczegółowy'!Y62+'Elektr_IIst-program szczegółowy'!AV62 -> 1615 | K32: ='Elektr_IIst-program szczegółowy'!AS62+'Elektr_IIst-program szczegółowy'!BP62 -> 1055 | L32: ='Elektr_IIst-program szczegółowy'!Z62+'Elektr_IIst-program szczegółowy'!AW62 -> 560 | M32: ='Elektr_IIst-program szczegółowy'!AB62+'Elektr_IIst-program szczegółowy'!AD62+'Elektr_IIst-program szczegółowy'!AY62+'Elektr_IIst-program szczegółowy'!BA62 -> 185 | N32: ='Elektr_IIst-program szczegółowy'!AA62+'Elektr_IIst-program szczegółowy'!AX62 -> 560 | O32: ='Elektr_IIst-program szczegółowy'!X62+'Elektr_IIst-program szczegółowy'!AU62 -> 64 | P32: =IF('Elektr_IIst-program szczegółowy'!V62>0,'Elektr_IIst-program szczegółowy'!V62," ") | Q32: =SUM(Q25:Q31) -> 17 | R32: =SUM(R25:R31) -> 9 | S32: =SUM(S25:S31) -> 12 | T32: =SUM(T25:T31) -> 0 | U32: =SUM(U25:U31) -> 0 | V32: =SUM(V25:V31) -> 0 | W32: =SUM(W25:W31) -> 0 | X32: =SUM(X25:X31) -> 0 | ... KR32: =SUM(KR25:KR31) -> 0
A33: RAZEM | J33: ='Elektr_IIst-program szczegółowy'!M63 -> 3146 | K33: ='Elektr_IIst-program szczegółowy'!N63 -> 1715 | L33: ='Elektr_IIst-program szczegółowy'!O63 -> 1431 | M33: ='Elektr_IIst-program szczegółowy'!P63 -> 1431 | N33: ='Elektr_IIst-program szczegółowy'!Q63 -> 124 | O33: ='Elektr_IIst-program szczegółowy'!R63 -> 0 | P33: ='Elektr_IIst-program szczegółowy'!S63 -> 63.314286 | Q33: =SUM(Q20:Q23,Q25:Q31) -> 25 | R33: =SUM(R20:R23,R25:R31) -> 20 | S33: =SUM(S20:S23,S25:S31) -> 18 | T33: =SUM(T20:T23,T25:T31) -> 0 | U33: =SUM(U20:U23,U25:U31) -> 0 | V33: =SUM(V20:V23,V25:V31) -> 0 | W33: =SUM(W20:W23,W25:W31) -> 0 | X33: =SUM(X20:X23,X25:X31) -> 0 | ... KR33: =SUM(KR20:KR23,KR25:KR31) -> 0

Sheet Efekty
A1: Oznaczenie kategorii efektu (Kierunkowy/Przedmiotowy) | B1: Numer efektu uczenia się | C1: Efekty uczenia się po ukończeniu studiów absolwent (w zakresie WIEDZY zna i rozumie/ w zakresie UMIEJĘTNOŚCI potrafi/ w zakresie KOMPETENCJI SPOŁECZNYCH jest gotów do): | D1: PRK
A2: Kierunkowy | B2: K_W01 | C2: sposoby organizowania pracy oraz zapewnienia bezpieczeństwa pacjentów i pracowników w pracowni diagnostycznej | D2: P7S_WK
A3: Kierunkowy | B3: K_W02 | C3: zaawansowane zasady działania aparatury oraz procedury niestandardowe w tomografii komputerowej | D3: P7S_WG
A4: Kierunkowy | B4: K_W03 | C4: metody zapewnienia optymalnej jakości procedur w tomografii komputerowej | D4: P7S_WG
A5: Kierunkowy | B5: K_W04 | C5: sposoby organizowania pracy oraz zapewnienia bezpieczeństwa pacjentów i pracowników w pracowni diagnostyki obrazowej piersi | D5: P7S_WK
A6: Kierunkowy | B6: K_W05 | C6: szczegółową budowę i zasady działania aparatury wykorzystywanej w diagnostyce obrazowej piersi (mammograf, ultrasonograf, cewki piersiowe w rezonansie magnetycznym) | D6: P7S_WG
A7: Kierunkowy | B7: K_W06 | C7: zaawansowane zasady działania aparatury oraz procedury niestandardowe w diagnostyce obrazowej piersi | D7: P7S_WG
A8: Kierunkowy | B8: K_W07 | C8: metody zapewnienia optymalnej jakości procedur w pracowni diagnostyki obrazowej piersi | D8: P7S_WG
A9: Kierunkowy | B9: K_W08 | C9: sposoby organizowania pracy oraz zapewnienia bezpieczeństwa pacjentów i pracowników w pracowni radioterapii | D9: P7S_WK
A10: Kierunkowy | B10: K_W09 | C10: budowę i zasady działania aparatury stosowanej w radioterapii, w tym aparatury obrazowej wykorzystywanej w przygotowaniu i realizacji leczenia | D10: P7S_WG
A11: Kierunkowy | B11: K_W10 | C11: zasady wykonywania zaawansowanych procedur radioterapeutycznych, w tym IGRT i SGRT, oraz podstawy klinicznego i dozymetrycznego przygotowania planu leczenia z uwzględnieniem roli lekarza radioterapeuty i fizyka medycznego | D11: P7S_WG
A12: Kierunkowy | B12: K_W11 | C12: sposoby organizowania pracy oraz zapewnienia bezpieczeństwa pacjentów i pracowników w pracowni medycyny nuklearnej (PET, scyntygrafia) | D12: P7S_WK
... A54: Kierunkowy | B54: K_W53 | C54: przepisy prawne dotyczące bezpieczeństwa i ochrony zdrowia w procesie kształcenia oraz zasady postępowania w przypadku niebezpiecznego zdarzenia podczas zajęć, w szczególności w jednostkach medycznych i podczas kontaktu z pacjentem | D54: P7S_WK
A55: Przedmiotowy | B55: S.W1 | C55: podstawowe zagrożenia dla zdrowia i życia, które mogą wystąpić w środowisku nauki i pracy, w tym zagrożeń pożarowych, chemicznych, fizycznych i biologicznych,
A56: Przedmiotowy | B56: S.W2 | C56: zasady zapobiegania tym zagrożeniom oraz procedur postępowania w sytuacjach niebezpiecznych,
A57: Przedmiotowy | B57: S.W3 | C57: podstawowe zasady udzielania pierwszej pomocy przedmedycznej w nagłych wypadkach.
A58: Przedmiotowy | B58: P.W1 | C58: zasoby i usługi biblioteczne, w tym bazy danych, katalogi oraz narzędzia wyszukiwania informacji naukowej na poziomie zaawansowanym.
A59: Przedmiotowy | B59: P.W2 | C59: zasady etycznego korzystania z informacji, w tym prawa autorskiego i zasady cytowania źródeł.
A60: Przedmiotowy | B60: P.W3 | C60: metody wyszukiwania, selekcji i oceny wiarygodności źródeł informacji naukowej.
A61: Przedmiotowy | B61: P_W01
A62: Przedmiotowy | B62: P_W02
A63: Przedmiotowy | B63: P_W03
A64: Przedmiotowy | B64: P_W04
A65: Przedmiotowy | B65: P_W05
A66: Przedmiotowy | B66: P_W06
A67: Przedmiotowy | B67: P_W07
A68: Przedmiotowy | B68: P_W08
A69: Przedmiotowy | B69: P_W09
A70: Przedmiotowy | B70: P_W10
A71: Przedmiotowy | B71: P_W11
A72: Przedmiotowy | B72: P_W12
... A83: Przedmiotowy | B83: P_W23
A84: Kierunkowy | B84: K_U01 | C84: prowadzić profesjonalną komunikację z pacjentem i jego rodziną w procesie diagnostyczno-terapeutycznym | D84: P7S_UK
A85: Kierunkowy | B85: K_U02 | C85: współpracować i komunikować się w interdyscyplinarnym zespole ochrony zdrowia | D85: P7S_UK
A86: Kierunkowy | B86: K_U03 | C86: zaplanować i wykonywać zgodnie ze wskazaniami lekarskimi procedury diagnostyczne i terapeutyczne z zastosowaniem promieniowania jonizującego i niejonizującego | D86: P7S_UW
A87: Kierunkowy | B87: K_U04 | C87: obsługiwać w stopniu zaawansowanym aparaturę wykorzystującą promieniowanie jonizujące i niejonizujące | D87: P7S_UW
A88: Kierunkowy | B88: K_U05 | C88: obsługuje aparaturę radioterapeutyczną oraz aparaturę obrazową stosowaną w przygotowaniu i realizacji leczenia | D88: P7S_UW
A89: Kierunkowy | B89: K_U06 | C89: obsługiwać w stopniu zaawansowanym aparaturę stosowaną w medycynie nuklearnej | D89: P7S_UW
A90: Kierunkowy | B90: K_U07 | C90: obsługiwać w stopniu zaawansowanym aparaturę stosowaną w pracowniach diagnostyki elektromedycznej | D90: P7S_UW
A91: Kierunkowy | B91: K_U08 | C91: wykonywać specjalistyczne procedury diagnostyczne i terapeutyczne oraz rozpoznawać możliwe artefakty i zdarzenia niepożądane, ze szczególnym uwzględnieniem technik pozycjonowania i weryfikacji obrazowej IGRT oraz SGRT | D91: P7S_UW
A92: Kierunkowy | B92: K_U09 | C92: zastosować procedury kontroli jakości aparatury elektromedycznej | D92: P7S_UW
A93: Kierunkowy | B93: K_U10 | C93: planować, realizować i oceniać działania z zakresu ochrony radiologicznej oraz kontroli jakości w diagnostyce i terapii wykorzystującej promieniowanie jonizujące | D93: P7S_UW
A94: Kierunkowy | B94: K_U11 | C94: pozyskiwać i interpretować informacje naukowe i wyciągać wnioski | D94: P7S_UW
A95: Kierunkowy | B95: K_U12 | C95: komunikować się w języku angielskim na poziomie B2+ Europejskiego Systemu Opisu Kształcenia Językowego | D95: P7S_UK
... A104: Kierunkowy | B104: K_U21 | C104: zidentyfikować potencjalne zagrożenia dla życia i zdrowia, zachować się adekwatnie do zaistniałego zagrożenia, a także ocenić swoje możliwości podczas udzielania pierwszej pomocy | D104: P7S_UW
A105: Przedmiotowy | B105: P_U01
A106: Przedmiotowy | B106: P_U02
A107: Przedmiotowy | B107: P_U03
A108: Przedmiotowy | B108: P_U04
A109: Przedmiotowy | B109: P_U05
A110: Przedmiotowy | B110: P_U06
A111: Przedmiotowy | B111: P_U07
A112: Przedmiotowy | B112: P_U08
A113: Przedmiotowy | B113: P_U09
A114: Przedmiotowy | B114: P_U10
A115: Przedmiotowy | B115: P_U11
A116: Przedmiotowy | B116: P_U12
... A126: Przedmiotowy | B126: P_U22
A127: Kierunkowy | B127: K_K01 | C127: krytycznej oceny działań własnych i działań współpracowników z poszanowaniem zasad etyki, różnic światopoglądowych i kulturowych | D127: P7S_KR
A128: Kierunkowy | B128: K_K02 | C128: formułowania opinii dotyczących różnych aspektów działalności zawodowej i zasięgania porad ekspertów w przypadku trudności z samodzielnym rozwiązaniem problemu | D128: P7S_KO
A129: Kierunkowy | B129: K_K03 | C129: ponoszenia odpowiedzialności za realizowane świadczenia zdrowotne | D129: P7S_KR
A130: Kierunkowy | B130: K_K04 | C130: współpracy z elektroradiologami i innymi członkami zespołu opieki zdrowotnej w zakresie udzielania świadczeń | D130: P7S_KO
A131: Kierunkowy | B131: K_K05 | C131: okazywania dbałości o prestiż związany z wykonywaniem zawodu elektroradiologa i solidarność zawodową | D131: P7S_KK
A132: Kierunkowy | B132: K_K06 | C132: przekazywania społeczeństwu informacji o osiągnięciach naukowych związanych z reprezentowaną dziedziną wiedzy | D132: P7S_KO
A133: Kierunkowy | B133: K_K07 | C133: rozwiązywania złożonych problemów etycznych związanych z wykonywaniem zawodu elektroradiologa i wskazywania priorytetów w realizacji określonych zadań | D133: P7S_KR
A134: Przedmiotowy | B134: P_K01
A135: Przedmiotowy | B135: P_K02
A136: Przedmiotowy | B136: P_K03
A137: Przedmiotowy | B137: P_K04
A138: Przedmiotowy | B138: P_K05
A139: Przedmiotowy | B139: P_K06
A140: Przedmiotowy | B140: P_K07
A141: Przedmiotowy | B141: P_K08
A142: Przedmiotowy | B142: P_K09
A143: Przedmiotowy | B143: P_K10
A144: Przedmiotowy | B144: P_K11
A145: Przedmiotowy | B145: P_K12
... A148: Przedmiotowy | B148: P_K15

Sheet Słowniki
A1: *kod grupy | B1: Nazwa grupy zajęć | D1: ***Rodzaj zajęć: | E1: Nazwa godzaju zajęć | G1: *******Forma zakończenia semestru | H1: Nazwa formy zakończenia | J1: ****Pula godzin | L1: ******Forma zakończenia przedmiotu | M1: Nazwa formy zakończenia | O1: *Czy przedmiot kształtuje kompetencje komunikacyjne *Czy przedmiot humanistyczny lub społeczny *Czy zajęcia kształtują umiejętności praktyczne | Q1: PRK
A2: - | B2: nie dotyczy | D2: RPS | E2: obowiązkowe | G2: zal | H2: zaliczenie (zal/nzal) | J2: ze standardu | L2: zal | M2: zaliczenie (zal/nzal) | O2: tak | Q2: P7S_WG | R2: wiedza- zakres i głębia
D3: POW | E3: przedmiot ograniczonego wyboru | G3: zal/o | H3: zaliczenie na ocenę | J3: do dyspozycji uczelni (Autorska oferta uczelni) | L3: zal/o | M3: zaliczenie na ocenę | O3: nie | Q3: P7S_WK | R3: wiedza- kontekst - uwarunkowania, skutki
D4: PSW | E4: przedmiot swobodnego wyboru | L4: egz | M4: egzamin | Q4: P7S_UW | R4: umiejętności- wykorzystanie wiedzy - rozwiązywanie problemów i wykonywanie zadań
Q5: P7S_UK | R5: umiejętności- komunikowanie się - odbieranie i tworzenie wypowiedzi, upowszechnianie wiedzy w środowisku naukowym i posługiwanie się językiem obcym
Q6: P7S_UO | R6: umiejętności- organizacja pracy - planowanie i praca zespołowa
Q7: P7S_UU | R7: umiejętności- uczenie się - planowanie własnego rozwoju i rozwoju innych osób
Q8: P7S_KK | R8: Kompetencje społeczne - oceny- krytyczne podejście
Q9: P7S_KO | R9: Kompetencje społeczne - odpowiedzialność - wypełnianie zobowiązań społecznych i działanie na rzecz interesu publicznego
Q10: P7S_KR | R10: Kompetencje społeczne - rola zawodowa - niezależność i rozwój etosu
