Workbook

Sheet Arkusz2
A1: SE | B1: CA | C1: CN | D1: CK | E1: CS_(wysoka_wierność) | F1: CS_(niska_wierność) | G1: CS | H1: CL | I1: LE | J1: WF
A2: 24 osoby | B2: 24 osoby | C2: 12 osób | D2: 6 osób | E2: 6 osób | F2: 12 osób | G2: 9 osób | H2: 9 osób | I2: 24 osoby | J2: 24 osoby
A3: 24 osoby Suma
A4: SE_1 | B4: CA_1 | C4: CN_1A | D4: CK_1A | E4: CS_1A | F4: CS_1A | G4: CS_1 | H4: CL_1 | I4: LE_1 | J4: WF_1
D5: CK_1B | E5: CS_1B | F5: CS_1A | G5: CS_1 | H5: CL_1 | I5: LE_1 | J5: WF_1
G6: CS_2 | H6: CL_2 | I6: LE_1 | J6: WF_1
C7: CN_1B | D7: CK_1C | E7: CS_1C | F7: CS_1B | G7: CS_2 | H7: CL_2 | I7: LE_1 | J7: WF_1
D8: CK_1D | E8: CS_1D | F8: CS_1B | G8: CS_3 | H8: CL_3 | I8: LE_1 | J8: WF_1
A9: SE_1 Suma
A10: SE_10 | B10: CA_10 | C10: CN_10A | D10: CK_10A | E10: CS_10A | F10: CS_10A | G10: CS_25 | H10: CL_25 | I10: LE_10 | J10: WF_10
D11: CK_10B | E11: CS_10B | F11: CS_10A | G11: CS_25 | H11: CL_25 | I11: LE_10 | J11: WF_10
G12: CS_26 | H12: CL_26 | I12: LE_10 | J12: WF_10
C13: CN_10B | D13: CK_10C | E13: CS_10C | F13: CS_10B | G13: CS_26 | H13: CL_26 | I13: LE_10 | J13: WF_10
D14: CK_10D | E14: CS_10D | F14: CS_10B | G14: CS_27 | H14: CL_27 | I14: LE_10 | J14: WF_10
A15: SE_10 Suma
A16: SE_11 | B16: CA_11 | C16: CN_11A | D16: CK_11A | E16: CS_11A | F16: CS_11A | G16: CS_27 | H16: CL_27 | I16: LE_11 | J16: WF_11
G17: CS_28 | H17: CL_28 | I17: LE_11 | J17: WF_11
D18: CK_11B | E18: CS_11B | F18: CS_11A | G18: CS_28 | H18: CL_28 | I18: LE_11 | J18: WF_11
C19: CN_11B | D19: CK_11C | E19: CS_11C | F19: CS_11B | G19: CS_29 | H19: CL_29 | I19: LE_11 | J19: WF_11
D20: CK_11D | E20: CS_11D | F20: CS_11B | G20: CS_29 | H20: CL_29 | I20: LE_11 | J20: WF_11
G21: CS_30 | H21: CL_30 | I21: LE_11 | J21: WF_11
A22: SE_11 Suma
A23: SE_12 | B23: CA_12 | C23: CN_12A | D23: CK_12A | E23: CS_12A | F23: CS_12A | G23: CS_30 | H23: CL_30 | I23: LE_12 | J23: WF_12
D24: CK_12B | E24: CS_12B | F24: CS_12A | G24: CS_31 | H24: CL_31 | I24: LE_12 | J24: WF_12
C25: CN_12B | D25: CK_12C | E25: CS_12C | F25: CS_12B | G25: CS_31 | H25: CL_31 | I25: LE_12 | J25: WF_12
G26: CS_32 | H26: CL_32 | I26: LE_12 | J26: WF_12
D27: CK_12D | E27: CS_12D | F27: CS_12B | G27: CS_32 | H27: CL_32 | I27: LE_12 | J27: WF_12
A28: SE_12 Suma
A29: SE_13 | B29: CA_13 | C29: CN_13A | D29: CK_13A | E29: CS_13A | F29: CS_13A | G29: CS_33 | H29: CL_33 | I29: LE_13 | J29: WF_13
D30: CK_13B | E30: CS_13B | F30: CS_13A | G30: CS_33 | H30: CL_33 | I30: LE_13 | J30: WF_13
G31: CS_34 | H31: CL_34 | I31: LE_13 | J31: WF_13
C32: CN_13B | D32: CK_13C | E32: CS_13C | F32: CS_13B | G32: CS_34 | H32: CL_34 | I32: LE_13 | J32: WF_13
D33: CK_13D | E33: CS_13D | F33: CS_13B | G33: CS_35 | H33: CL_35 | I33: LE_13 | J33: WF_13
A34: SE_13 Suma
A35: SE_14 | B35: CA_14 | C35: CN_14A | D35: CK_14A | E35: CS_14A | F35: CS_14A | G35: CS_35 | H35: CL_35 | I35: LE_14 | J35: WF_14
G36: CS_36 | H36: CL_36 | I36: LE_14 | J36: WF_14
D37: CK_14B | E37: CS_14B | F37: CS_14A | G37: CS_36 | H37: CL_36 | I37: LE_14 | J37: WF_14
C38: CN_14B | D38: CK_14C | E38: CS_14C | F38: CS_14B | G38: CS_37 | H38: CL_37 | I38: LE_14 | J38: WF_14
D39: CK_14D | E39: CS_14D | F39: CS_14B | G39: CS_37 | H39: CL_37 | I39: LE_14 | J39: WF_14
G40: CS_38 | H40: CL_38 | I40: LE_14 | J40: WF_14
...

Sheet grupy
D2: 24 osoby | E2: 24 osoby | F2: 12 osób | G2: 9 osób | H2: 6 osób | I2: 12 osób | J2: 9 osób | K2: 6 osób | L2: 5 osób | M2: 4 osób | N2: 4 osoby | O2: 24 osoby | P2: 24 osoby
A3: LP | B3: do wyszukiwania | C3: Nr albumu | D3: SE | E3: CA | F3: CN | G3: CS | H3: CS_(wysoka_wierność) | I3: CS_(niska_wierność) | J3: CL | K3: CK | L3: CK_(V_WL-S) | M3: PP | N3: PP_(WNoZ_-_zajęcia_na_oddziałach_intensywnej_trapii,_neonatologicznych_i_sali_porodowej) | O3: LE | P3: WF | Q3: WY
A4: 1 | B4: =CONCATENATE(#REF!," ",#REF!," ",C4) -> #REF! | C4: 28536 | D4: SE_1 | E4: CA_1 | F4: CN_1A | G4: CS_1 | H4: CS_1A | I4: CS_1A | J4: CL_1 | K4: CK_1A | L4: CK_1A | M4: PP_1A | N4: PP_1A | O4: LE_1 | P4: WF_1
A5: 2 | B5: =CONCATENATE(#REF!," ",#REF!," ",C5) -> #REF! | C5: 28603 | D5: SE_1 | E5: CA_1 | F5: CN_1A | G5: CS_1 | H5: CS_1A | I5: CS_1A | J5: CL_1 | K5: CK_1A | L5: CK_1A | M5: PP_1A | N5: PP_1A | O5: LE_1 | P5: WF_1
A6: 3 | B6: =CONCATENATE(#REF!," ",#REF!," ",C6) -> #REF! | C6: 28464 | D6: SE_1 | E6: CA_1 | F6: CN_1A | G6: CS_1 | H6: CS_1A | I6: CS_1A | J6: CL_1 | K6: CK_1A | L6: CK_1A | M6: PP_1A | N6: PP_1A | O6: LE_1 | P6: WF_1
A7: 4 | B7: =CONCATENATE(#REF!," ",#REF!," ",C7) -> #REF! | C7: 28423 | D7: SE_1 | E7: CA_1 | F7: CN_1A | G7: CS_1 | H7: CS_1A | I7: CS_1A | J7: CL_1 | K7: CK_1A | L7: CK_1A | M7: PP_2A | N7: PP_1A | O7: LE_1 | P7: WF_1
A8: 5 | B8: =CONCATENATE(#REF!," ",#REF!," ",C8) -> #REF! | C8: 28478 | D8: SE_1 | E8: CA_1 | F8: CN_1A | G8: CS_1 | H8: CS_1A | I8: CS_1A | J8: CL_1 | K8: CK_1A | L8: CK_1A | M8: PP_2A | N8: PP_1A | O8: LE_1 | P8: WF_1
A9: 6 | B9: =CONCATENATE(#REF!," ",#REF!," ",C9) -> #REF! | C9: 28344 | D9: SE_1 | E9: CA_1 | F9: CN_1A | G9: CS_1 | H9: CS_1A | I9: CS_1A | J9: CL_1 | K9: CK_1A | L9: CK_1A | M9: PP_2A | N9: PP_1A | O9: LE_1 | P9: WF_1
A10: 7 | B10: =CONCATENATE(#REF!," ",#REF!," ",C10) -> #REF! | C10: 28425 | D10: SE_1 | E10: CA_1 | F10: CN_1A | G10: CS_1 | H10: CS_1A | I10: CS_1A | J10: CL_1 | K10: CK_1A | L10: CK_1A | M10: PP_2A | N10: PP_1A | O10: LE_1 | P10: WF_1
A11: 8 | B11: =CONCATENATE(#REF!," ",#REF!," ",C11) -> #REF! | C11: 28342 | D11: SE_1 | E11: CA_1 | F11: CN_1A | G11: CS_1 | H11: CS_1A | I11: CS_1A | J11: CL_1 | K11: CK_1A | L11: CK_1A | M11: PP_3A | N11: PP_1A | O11: LE_1 | P11: WF_1
A12: 9 | B12: =CONCATENATE(#REF!," ",#REF!," ",C12) -> #REF! | C12: 28343 | D12: SE_1 | E12: CA_1 | F12: CN_1A | G12: CS_1 | H12: CS_1A | I12: CS_1A | J12: CL_1 | K12: CK_1A | L12: CK_1A | M12: PP_3A | N12: PP_1A | O12: LE_1 | P12: WF_1
A13: 10 | B13: =CONCATENATE(#REF!," ",#REF!," ",C13) -> #REF! | C13: 28337 | D13: SE_1 | E13: CA_1 | F13: CN_1A | G13: CS_1 | H13: CS_1A | I13: CS_1A | J13: CL_1 | K13: CK_1A | L13: CK_1A | M13: PP_3A | N13: PP_1A | O13: LE_1 | P13: WF_1
A14: 11 | B14: =CONCATENATE(#REF!," ",#REF!," ",C14) -> #REF! | C14: 28340 | D14: SE_1 | E14: CA_1 | F14: CN_1A | G14: CS_1 | H14: CS_1A | I14: CS_1A | J14: CL_1 | K14: CK_1A | L14: CK_1A | M14: PP_3A | N14: PP_1A | O14: LE_1 | P14: WF_1

Sheet sprawdzenie
A1: mniejsza liczba studentów
A2: większa liczba studentów
A4: grupa | B4: liczba studentów | C4: grupa | D4: liczba studentów | E4: grupa | F4: liczba studentów | G4: grupa | H4: liczba studentów | I4: grupa (wysoka wierność) | J4: liczba studentów | K4: grupa (niska wierność) | L4: liczba studentów | M4: grupa | N4: liczba studentów | O4: grupa | P4: liczba studentów | Q4: grupa (V WL-S) | R4: liczba studentów | S4: grupa | T4: liczba studentów | U4: grupa (WNoZ wybrane) | V4: liczba studentów | W4: grupa | X4: liczba studentów | Y4: grupa | Z4: liczba studentów
A5: SE_1 | B5: =COUNTIFS(grupy!D:D,sprawdzenie!A5,grupy!#REF!,"<>") -> #REF! | C5: CA_1 | D5: =COUNTIFS(grupy!E:E,sprawdzenie!C5,grupy!#REF!,"<>") -> #REF! | E5: CN_1A | F5: =COUNTIFS(grupy!F:F,sprawdzenie!E5,grupy!#REF!,"<>") -> #REF! | G5: CS_1 | H5: =COUNTIFS(grupy!G:G,sprawdzenie!G5,grupy!#REF!,"<>") -> #REF! | I5: CS_1A | J5: =COUNTIFS(grupy!H:H,sprawdzenie!I5,grupy!#REF!,"<>") -> #REF! | K5: CS_1A | L5: =COUNTIFS(grupy!I:I,sprawdzenie!K5,grupy!#REF!,"<>") -> #REF! | M5: CL_1 | N5: =COUNTIFS(grupy!J:J,sprawdzenie!M5,grupy!#REF!,"<>") -> #REF! | O5: CK_1A | P5: =COUNTIFS(grupy!K:K,sprawdzenie!O5,grupy!#REF!,"<>") -> #REF! | Q5: CK_1A | R5: =COUNTIFS(grupy!L:L,sprawdzenie!Q5,grupy!#REF!,"<>") -> #REF! | S5: PP_1A | T5: =COUNTIFS(grupy!M:M,sprawdzenie!S5,grupy!#REF!,"<>") -> #REF! | U5: PP_1A | V5: =COUNTIFS(grupy!N:N,sprawdzenie!U5,grupy!#REF!,"<>") -> #REF! | W5: LE_1 | X5: =COUNTIFS(grupy!O:O,sprawdzenie!W5,grupy!#REF!,"<>") -> #REF! | Y5: WF_1 | Z5: =COUNTIFS(grupy!P:P,sprawdzenie!Y5,grupy!#REF!,"<>") -> #REF!
A6: SE_2 | B6: =COUNTIFS(grupy!D:D,sprawdzenie!A6,grupy!#REF!,"<>") -> #REF! | C6: CA_2 | D6: =COUNTIFS(grupy!E:E,sprawdzenie!C6,grupy!#REF!,"<>") -> #REF! | E6: CN_1B | F6: =COUNTIFS(grupy!F:F,sprawdzenie!E6,grupy!#REF!,"<>") -> #REF! | G6: CS_2 | H6: =COUNTIFS(grupy!G:G,sprawdzenie!G6,grupy!#REF!,"<>") -> #REF! | I6: CS_1B | J6: =COUNTIFS(grupy!H:H,sprawdzenie!I6,grupy!#REF!,"<>") -> #REF! | K6: CS_1B | L6: =COUNTIFS(grupy!I:I,sprawdzenie!K6,grupy!#REF!,"<>") -> #REF! | M6: CL_2 | N6: =COUNTIFS(grupy!J:J,sprawdzenie!M6,grupy!#REF!,"<>") -> #REF! | O6: CK_1B | P6: =COUNTIFS(grupy!K:K,sprawdzenie!O6,grupy!#REF!,"<>") -> #REF! | Q6: CK_1B | R6: =COUNTIFS(grupy!L:L,sprawdzenie!Q6,grupy!#REF!,"<>") -> #REF! | S6: PP_1B | T6: =COUNTIFS(grupy!M:M,sprawdzenie!S6,grupy!#REF!,"<>") -> #REF! | U6: PP_1B | V6: =COUNTIFS(grupy!N:N,sprawdzenie!U6,grupy!#REF!,"<>") -> #REF! | W6: LE_2 | X6: =COUNTIFS(grupy!O:O,sprawdzenie!W6,grupy!#REF!,"<>") -> #REF! | Y6: WF_2 | Z6: =COUNTIFS(grupy!P:P,sprawdzenie!Y6,grupy!#REF!,"<>") -> #REF!
A7: SE_3 | B7: =COUNTIFS(grupy!D:D,sprawdzenie!A7,grupy!#REF!,"<>") -> #REF! | C7: CA_3 | D7: =COUNTIFS(grupy!E:E,sprawdzenie!C7,grupy!#REF!,"<>") -> #REF! | E7: CN_2A | F7: =COUNTIFS(grupy!F:F,sprawdzenie!E7,grupy!#REF!,"<>") -> #REF! | G7: CS_3 | H7: =COUNTIFS(grupy!G:G,sprawdzenie!G7,grupy!#REF!,"<>") -> #REF! | I7: CS_1C | J7: =COUNTIFS(grupy!H:H,sprawdzenie!I7,grupy!#REF!,"<>") -> #REF! | K7: CS_2A | L7: =COUNTIFS(grupy!I:I,sprawdzenie!K7,grupy!#REF!,"<>") -> #REF! | M7: CL_3 | N7: =COUNTIFS(grupy!J:J,sprawdzenie!M7,grupy!#REF!,"<>") -> #REF! | O7: CK_1C | P7: =COUNTIFS(grupy!K:K,sprawdzenie!O7,grupy!#REF!,"<>") -> #REF! | Q7: CK_1C | R7: =COUNTIFS(grupy!L:L,sprawdzenie!Q7,grupy!#REF!,"<>") -> #REF! | S7: PP_1C | T7: =COUNTIFS(grupy!M:M,sprawdzenie!S7,grupy!#REF!,"<>") -> #REF! | U7: PP_1C | V7: =COUNTIFS(grupy!N:N,sprawdzenie!U7,grupy!#REF!,"<>") -> #REF! | W7: LE_3 | X7: =COUNTIFS(grupy!O:O,sprawdzenie!W7,grupy!#REF!,"<>") -> #REF! | Y7: WF_3 | Z7: =COUNTIFS(grupy!P:P,sprawdzenie!Y7,grupy!#REF!,"<>") -> #REF!
A8: SE_4 | B8: =COUNTIFS(grupy!D:D,sprawdzenie!A8,grupy!#REF!,"<>") -> #REF! | C8: CA_4 | D8: =COUNTIFS(grupy!E:E,sprawdzenie!C8,grupy!#REF!,"<>") -> #REF! | E8: CN_2B | F8: =COUNTIFS(grupy!F:F,sprawdzenie!E8,grupy!#REF!,"<>") -> #REF! | G8: CS_4 | H8: =COUNTIFS(grupy!G:G,sprawdzenie!G8,grupy!#REF!,"<>") -> #REF! | I8: CS_1D | J8: =COUNTIFS(grupy!H:H,sprawdzenie!I8,grupy!#REF!,"<>") -> #REF! | K8: CS_2B | L8: =COUNTIFS(grupy!I:I,sprawdzenie!K8,grupy!#REF!,"<>") -> #REF! | M8: CL_4 | N8: =COUNTIFS(grupy!J:J,sprawdzenie!M8,grupy!#REF!,"<>") -> #REF! | O8: CK_1D | P8: =COUNTIFS(grupy!K:K,sprawdzenie!O8,grupy!#REF!,"<>") -> #REF! | Q8: CK_1D | R8: =COUNTIFS(grupy!L:L,sprawdzenie!Q8,grupy!#REF!,"<>") -> #REF! | S8: PP_1D | T8: =COUNTIFS(grupy!M:M,sprawdzenie!S8,grupy!#REF!,"<>") -> #REF! | U8: PP_1D | V8: =COUNTIFS(grupy!N:N,sprawdzenie!U8,grupy!#REF!,"<>") -> #REF! | W8: LE_4 | X8: =COUNTIFS(grupy!O:O,sprawdzenie!W8,grupy!#REF!,"<>") -> #REF! | Y8: WF_4 | Z8: =COUNTIFS(grupy!P:P,sprawdzenie!Y8,grupy!#REF!,"<>") -> #REF!
A9: SE_5 | B9: =COUNTIFS(grupy!D:D,sprawdzenie!A9,grupy!#REF!,"<>") -> #REF! | C9: CA_5 | D9: =COUNTIFS(grupy!E:E,sprawdzenie!C9,grupy!#REF!,"<>") -> #REF! | E9: CN_3A | F9: =COUNTIFS(grupy!F:F,sprawdzenie!E9,grupy!#REF!,"<>") -> #REF! | G9: CS_5 | H9: =COUNTIFS(grupy!G:G,sprawdzenie!G9,grupy!#REF!,"<>") -> #REF! | I9: CS_2A | J9: =COUNTIFS(grupy!H:H,sprawdzenie!I9,grupy!#REF!,"<>") -> #REF! | K9: CS_3A | L9: =COUNTIFS(grupy!I:I,sprawdzenie!K9,grupy!#REF!,"<>") -> #REF! | M9: CL_5 | N9: =COUNTIFS(grupy!J:J,sprawdzenie!M9,grupy!#REF!,"<>") -> #REF! | O9: CK_2A | P9: =COUNTIFS(grupy!K:K,sprawdzenie!O9,grupy!#REF!,"<>") -> #REF! | Q9: CK_1E | R9: =COUNTIFS(grupy!L:L,sprawdzenie!Q9,grupy!#REF!,"<>") -> #REF! | S9: PP_2A | T9: =COUNTIFS(grupy!M:M,sprawdzenie!S9,grupy!#REF!,"<>") -> #REF! | U9: PP_1E | V9: =COUNTIFS(grupy!N:N,sprawdzenie!U9,grupy!#REF!,"<>") -> #REF! | W9: LE_5 | X9: =COUNTIFS(grupy!O:O,sprawdzenie!W9,grupy!#REF!,"<>") -> #REF! | Y9: WF_5 | Z9: =COUNTIFS(grupy!P:P,sprawdzenie!Y9,grupy!#REF!,"<>") -> #REF!
A10: SE_6 | B10: =COUNTIFS(grupy!D:D,sprawdzenie!A10,grupy!#REF!,"<>") -> #REF! | C10: CA_6 | D10: =COUNTIFS(grupy!E:E,sprawdzenie!C10,grupy!#REF!,"<>") -> #REF! | E10: CN_3B | F10: =COUNTIFS(grupy!F:F,sprawdzenie!E10,grupy!#REF!,"<>") -> #REF! | G10: CS_6 | H10: =COUNTIFS(grupy!G:G,sprawdzenie!G10,grupy!#REF!,"<>") -> #REF! | I10: CS_2B | J10: =COUNTIFS(grupy!H:H,sprawdzenie!I10,grupy!#REF!,"<>") -> #REF! | K10: CS_3B | L10: =COUNTIFS(grupy!I:I,sprawdzenie!K10,grupy!#REF!,"<>") -> #REF! | M10: CL_6 | N10: =COUNTIFS(grupy!J:J,sprawdzenie!M10,grupy!#REF!,"<>") -> #REF! | O10: CK_2B | P10: =COUNTIFS(grupy!K:K,sprawdzenie!O10,grupy!#REF!,"<>") -> #REF! | Q10: CK_2A | R10: =COUNTIFS(grupy!L:L,sprawdzenie!Q10,grupy!#REF!,"<>") -> #REF! | S10: PP_2B | T10: =COUNTIFS(grupy!M:M,sprawdzenie!S10,grupy!#REF!,"<>") -> #REF! | U10: PP_1F | V10: =COUNTIFS(grupy!N:N,sprawdzenie!U10,grupy!#REF!,"<>") -> #REF! | W10: LE_6 | X10: =COUNTIFS(grupy!O:O,sprawdzenie!W10,grupy!#REF!,"<>") -> #REF! | Y10: WF_6 | Z10: =COUNTIFS(grupy!P:P,sprawdzenie!Y10,grupy!#REF!,"<>") -> #REF!
A11: SE_7 | B11: =COUNTIFS(grupy!D:D,sprawdzenie!A11,grupy!#REF!,"<>") -> #REF! | C11: CA_7 | D11: =COUNTIFS(grupy!E:E,sprawdzenie!C11,grupy!#REF!,"<>") -> #REF! | E11: CN_4A | F11: =COUNTIFS(grupy!F:F,sprawdzenie!E11,grupy!#REF!,"<>") -> #REF! | G11: CS_7 | H11: =COUNTIFS(grupy!G:G,sprawdzenie!G11,grupy!#REF!,"<>") -> #REF! | I11: CS_2C | J11: =COUNTIFS(grupy!H:H,sprawdzenie!I11,grupy!#REF!,"<>") -> #REF! | K11: CS_4A | L11: =COUNTIFS(grupy!I:I,sprawdzenie!K11,grupy!#REF!,"<>") -> #REF! | M11: CL_7 | N11: =COUNTIFS(grupy!J:J,sprawdzenie!M11,grupy!#REF!,"<>") -> #REF! | O11: CK_2C | P11: =COUNTIFS(grupy!K:K,sprawdzenie!O11,grupy!#REF!,"<>") -> #REF! | Q11: CK_2B | R11: =COUNTIFS(grupy!L:L,sprawdzenie!Q11,grupy!#REF!,"<>") -> #REF! | S11: PP_2C | T11: =COUNTIFS(grupy!M:M,sprawdzenie!S11,grupy!#REF!,"<>") -> #REF! | U11: PP_2A | V11: =COUNTIFS(grupy!N:N,sprawdzenie!U11,grupy!#REF!,"<>") -> #REF! | W11: LE_7 | X11: =COUNTIFS(grupy!O:O,sprawdzenie!W11,grupy!#REF!,"<>") -> #REF! | Y11: WF_7 | Z11: =COUNTIFS(grupy!P:P,sprawdzenie!Y11,grupy!#REF!,"<>") -> #REF!
A12: SE_8 | B12: =COUNTIFS(grupy!D:D,sprawdzenie!A12,grupy!#REF!,"<>") -> #REF! | C12: CA_8 | D12: =COUNTIFS(grupy!E:E,sprawdzenie!C12,grupy!#REF!,"<>") -> #REF! | E12: CN_4B | F12: =COUNTIFS(grupy!F:F,sprawdzenie!E12,grupy!#REF!,"<>") -> #REF! | G12: CS_8 | H12: =COUNTIFS(grupy!G:G,sprawdzenie!G12,grupy!#REF!,"<>") -> #REF! | I12: CS_2D | J12: =COUNTIFS(grupy!H:H,sprawdzenie!I12,grupy!#REF!,"<>") -> #REF! | K12: CS_4B | L12: =COUNTIFS(grupy!I:I,sprawdzenie!K12,grupy!#REF!,"<>") -> #REF! | M12: CL_8 | N12: =COUNTIFS(grupy!J:J,sprawdzenie!M12,grupy!#REF!,"<>") -> #REF! | O12: CK_2D | P12: =COUNTIFS(grupy!K:K,sprawdzenie!O12,grupy!#REF!,"<>") -> #REF! | Q12: CK_2C | R12: =COUNTIFS(grupy!L:L,sprawdzenie!Q12,grupy!#REF!,"<>") -> #REF! | S12: PP_2D | T12: =COUNTIFS(grupy!M:M,sprawdzenie!S12,grupy!#REF!,"<>") -> #REF! | U12: PP_2B | V12: =COUNTIFS(grupy!N:N,sprawdzenie!U12,grupy!#REF!,"<>") -> #REF! | W12: LE_8 | X12: =COUNTIFS(grupy!O:O,sprawdzenie!W12,grupy!#REF!,"<>") -> #REF! | Y12: WF_8 | Z12: =COUNTIFS(grupy!P:P,sprawdzenie!Y12,grupy!#REF!,"<>") -> #REF!
A13: SE_9 | B13: =COUNTIFS(grupy!D:D,sprawdzenie!A13,grupy!#REF!,"<>") -> #REF! | C13: CA_9 | D13: =COUNTIFS(grupy!E:E,sprawdzenie!C13,grupy!#REF!,"<>") -> #REF! | E13: CN_5A | F13: =COUNTIFS(grupy!F:F,sprawdzenie!E13,grupy!#REF!,"<>") -> #REF! | G13: CS_9 | H13: =COUNTIFS(grupy!G:G,sprawdzenie!G13,grupy!#REF!,"<>") -> #REF! | I13: CS_3A | J13: =COUNTIFS(grupy!H:H,sprawdzenie!I13,grupy!#REF!,"<>") -> #REF! | K13: CS_5A | L13: =COUNTIFS(grupy!I:I,sprawdzenie!K13,grupy!#REF!,"<>") -> #REF! | M13: CL_9 | N13: =COUNTIFS(grupy!J:J,sprawdzenie!M13,grupy!#REF!,"<>") -> #REF! | O13: CK_3A | P13: =COUNTIFS(grupy!K:K,sprawdzenie!O13,grupy!#REF!,"<>") -> #REF! | Q13: CK_2D | R13: =COUNTIFS(grupy!L:L,sprawdzenie!Q13,grupy!#REF!,"<>") -> #REF! | S13: PP_3A | T13: =COUNTIFS(grupy!M:M,sprawdzenie!S13,grupy!#REF!,"<>") -> #REF! | U13: PP_2C | V13: =COUNTIFS(grupy!N:N,sprawdzenie!U13,grupy!#REF!,"<>") -> #REF! | W13: LE_9 | X13: =COUNTIFS(grupy!O:O,sprawdzenie!W13,grupy!#REF!,"<>") -> #REF! | Y13: WF_9 | Z13: =COUNTIFS(grupy!P:P,sprawdzenie!Y13,grupy!#REF!,"<>") -> #REF!
A14: SE_10 | B14: =COUNTIFS(grupy!D:D,sprawdzenie!A14,grupy!#REF!,"<>") -> #REF! | C14: CA_10 | D14: =COUNTIFS(grupy!E:E,sprawdzenie!C14,grupy!#REF!,"<>") -> #REF! | E14: CN_5B | F14: =COUNTIFS(grupy!F:F,sprawdzenie!E14,grupy!#REF!,"<>") -> #REF! | G14: CS_10 | H14: =COUNTIFS(grupy!G:G,sprawdzenie!G14,grupy!#REF!,"<>") -> #REF! | I14: CS_3B | J14: =COUNTIFS(grupy!H:H,sprawdzenie!I14,grupy!#REF!,"<>") -> #REF! | K14: CS_5B | L14: =COUNTIFS(grupy!I:I,sprawdzenie!K14,grupy!#REF!,"<>") -> #REF! | M14: CL_10 | N14: =COUNTIFS(grupy!J:J,sprawdzenie!M14,grupy!#REF!,"<>") -> #REF! | O14: CK_3B | P14: =COUNTIFS(grupy!K:K,sprawdzenie!O14,grupy!#REF!,"<>") -> #REF! | Q14: CK_2E | R14: =COUNTIFS(grupy!L:L,sprawdzenie!Q14,grupy!#REF!,"<>") -> #REF! | S14: PP_3B | T14: =COUNTIFS(grupy!M:M,sprawdzenie!S14,grupy!#REF!,"<>") -> #REF! | U14: PP_2D | V14: =COUNTIFS(grupy!N:N,sprawdzenie!U14,grupy!#REF!,"<>") -> #REF! | W14: LE_10 | X14: =COUNTIFS(grupy!O:O,sprawdzenie!W14,grupy!#REF!,"<>") -> #REF! | Y14: WF_10 | Z14: =COUNTIFS(grupy!P:P,sprawdzenie!Y14,grupy!#REF!,"<>") -> #REF!
A15: SE_11 | B15: =COUNTIFS(grupy!D:D,sprawdzenie!A15,grupy!#REF!,"<>") -> #REF! | C15: CA_11 | D15: =COUNTIFS(grupy!E:E,sprawdzenie!C15,grupy!#REF!,"<>") -> #REF! | E15: CN_6A | F15: =COUNTIFS(grupy!F:F,sprawdzenie!E15,grupy!#REF!,"<>") -> #REF! | G15: CS_11 | H15: =COUNTIFS(grupy!G:G,sprawdzenie!G15,grupy!#REF!,"<>") -> #REF! | I15: CS_3C | J15: =COUNTIFS(grupy!H:H,sprawdzenie!I15,grupy!#REF!,"<>") -> #REF! | K15: CS_6A | L15: =COUNTIFS(grupy!I:I,sprawdzenie!K15,grupy!#REF!,"<>") -> #REF! | M15: CL_11 | N15: =COUNTIFS(grupy!J:J,sprawdzenie!M15,grupy!#REF!,"<>") -> #REF! | O15: CK_3C | P15: =COUNTIFS(grupy!K:K,sprawdzenie!O15,grupy!#REF!,"<>") -> #REF! | Q15: CK_3A | R15: =COUNTIFS(grupy!L:L,sprawdzenie!Q15,grupy!#REF!,"<>") -> #REF! | S15: PP_3C | T15: =COUNTIFS(grupy!M:M,sprawdzenie!S15,grupy!#REF!,"<>") -> #REF! | U15: PP_2E | V15: =COUNTIFS(grupy!N:N,sprawdzenie!U15,grupy!#REF!,"<>") -> #REF! | W15: LE_11 | X15: =COUNTIFS(grupy!O:O,sprawdzenie!W15,grupy!#REF!,"<>") -> #REF! | Y15: WF_11 | Z15: =COUNTIFS(grupy!P:P,sprawdzenie!Y15,grupy!#REF!,"<>") -> #REF!
A16: SE_12 | B16: =COUNTIFS(grupy!D:D,sprawdzenie!A16,grupy!#REF!,"<>") -> #REF! | C16: CA_12 | D16: =COUNTIFS(grupy!E:E,sprawdzenie!C16,grupy!#REF!,"<>") -> #REF! | E16: CN_6B | F16: =COUNTIFS(grupy!F:F,sprawdzenie!E16,grupy!#REF!,"<>") -> #REF! | G16: CS_12 | H16: =COUNTIFS(grupy!G:G,sprawdzenie!G16,grupy!#REF!,"<>") -> #REF! | I16: CS_3D | J16: =COUNTIFS(grupy!H:H,sprawdzenie!I16,grupy!#REF!,"<>") -> #REF! | K16: CS_6B | L16: =COUNTIFS(grupy!I:I,sprawdzenie!K16,grupy!#REF!,"<>") -> #REF! | M16: CL_12 | N16: =COUNTIFS(grupy!J:J,sprawdzenie!M16,grupy!#REF!,"<>") -> #REF! | O16: CK_3D | P16: =COUNTIFS(grupy!K:K,sprawdzenie!O16,grupy!#REF!,"<>") -> #REF! | Q16: CK_3B | R16: =COUNTIFS(grupy!L:L,sprawdzenie!Q16,grupy!#REF!,"<>") -> #REF! | S16: PP_3D | T16: =COUNTIFS(grupy!M:M,sprawdzenie!S16,grupy!#REF!,"<>") -> #REF! | U16: PP_2F | V16: =COUNTIFS(grupy!N:N,sprawdzenie!U16,grupy!#REF!,"<>") -> #REF! | W16: LE_12 | X16: =COUNTIFS(grupy!O:O,sprawdzenie!W16,grupy!#REF!,"<>") -> #REF! | Y16: WF_12 | Z16: =COUNTIFS(grupy!P:P,sprawdzenie!Y16,grupy!#REF!,"<>") -> #REF!
... A23: SE_19 | B23: =COUNTIFS(grupy!D:D,sprawdzenie!A23,grupy!#REF!,"<>") -> #REF! | C23: CA_19 | D23: =COUNTIFS(grupy!E:E,sprawdzenie!C23,grupy!#REF!,"<>") -> #REF! | E23: CN_10A | F23: =COUNTIFS(grupy!F:F,sprawdzenie!E23,grupy!#REF!,"<>") -> #REF! | G23: CS_19 | H23: =COUNTIFS(grupy!G:G,sprawdzenie!G23,grupy!#REF!,"<>") -> #REF! | I23: CS_5C | J23: =COUNTIFS(grupy!H:H,sprawdzenie!I23,grupy!#REF!,"<>") -> #REF! | K23: CS_10A | L23: =COUNTIFS(grupy!I:I,sprawdzenie!K23,grupy!#REF!,"<>") -> #REF! | M23: CL_19 | N23: =COUNTIFS(grupy!J:J,sprawdzenie!M23,grupy!#REF!,"<>") -> #REF! | O23: CK_5C | P23: =COUNTIFS(grupy!K:K,sprawdzenie!O23,grupy!#REF!,"<>") -> #REF! | Q23: CK_4D | R23: =COUNTIFS(grupy!L:L,sprawdzenie!Q23,grupy!#REF!,"<>") -> #REF! | S23: PP_5C | T23: =COUNTIFS(grupy!M:M,sprawdzenie!S23,grupy!#REF!,"<>") -> #REF! | U23: PP_4A | V23: =COUNTIFS(grupy!N:N,sprawdzenie!U23,grupy!#REF!,"<>") -> #REF! | W23: LE_19 | X23: =COUNTIFS(grupy!O:O,sprawdzenie!W23,grupy!#REF!,"<>") -> #REF! | Y23: WF_19 | Z23: =COUNTIFS(grupy!P:P,sprawdzenie!Y23,grupy!#REF!,"<>") -> #REF!
B24: =SUM(B5:B23) -> #REF! | D24: =SUM(D5:D23) -> #REF! | E24: CN_10B | F24: =COUNTIFS(grupy!F:F,sprawdzenie!E24,grupy!#REF!,"<>") -> #REF! | G24: CS_20 | H24: =COUNTIFS(grupy!G:G,sprawdzenie!G24,grupy!#REF!,"<>") -> #REF! | I24: CS_5D | J24: =COUNTIFS(grupy!H:H,sprawdzenie!I24,grupy!#REF!,"<>") -> #REF! | K24: CS_10B | L24: =COUNTIFS(grupy!I:I,sprawdzenie!K24,grupy!#REF!,"<>") -> #REF! | M24: CL_20 | N24: =COUNTIFS(grupy!J:J,sprawdzenie!M24,grupy!#REF!,"<>") -> #REF! | O24: CK_5D | P24: =COUNTIFS(grupy!K:K,sprawdzenie!O24,grupy!#REF!,"<>") -> #REF! | Q24: CK_4E | R24: =COUNTIFS(grupy!L:L,sprawdzenie!Q24,grupy!#REF!,"<>") -> #REF! | S24: PP_5D | T24: =COUNTIFS(grupy!M:M,sprawdzenie!S24,grupy!#REF!,"<>") -> #REF! | U24: PP_4B | V24: =COUNTIFS(grupy!N:N,sprawdzenie!U24,grupy!#REF!,"<>") -> #REF! | X24: =SUM(X5:X23) -> #REF! | Z24: =SUM(Z5:Z23) -> #REF!
E25: CN_11A | F25: =COUNTIFS(grupy!F:F,sprawdzenie!E25,grupy!#REF!,"<>") -> #REF! | G25: CS_21 | H25: =COUNTIFS(grupy!G:G,sprawdzenie!G25,grupy!#REF!,"<>") -> #REF! | I25: CS_6A | J25: =COUNTIFS(grupy!H:H,sprawdzenie!I25,grupy!#REF!,"<>") -> #REF! | K25: CS_11A | L25: =COUNTIFS(grupy!I:I,sprawdzenie!K25,grupy!#REF!,"<>") -> #REF! | M25: CL_21 | N25: =COUNTIFS(grupy!J:J,sprawdzenie!M25,grupy!#REF!,"<>") -> #REF! | O25: CK_6A | P25: =COUNTIFS(grupy!K:K,sprawdzenie!O25,grupy!#REF!,"<>") -> #REF! | Q25: CK_5A | R25: =COUNTIFS(grupy!L:L,sprawdzenie!Q25,grupy!#REF!,"<>") -> #REF! | S25: PP_6A | T25: =COUNTIFS(grupy!M:M,sprawdzenie!S25,grupy!#REF!,"<>") -> #REF! | U25: PP_4C | V25: =COUNTIFS(grupy!N:N,sprawdzenie!U25,grupy!#REF!,"<>") -> #REF!
E26: CN_11B | F26: =COUNTIFS(grupy!F:F,sprawdzenie!E26,grupy!#REF!,"<>") -> #REF! | G26: CS_22 | H26: =COUNTIFS(grupy!G:G,sprawdzenie!G26,grupy!#REF!,"<>") -> #REF! | I26: CS_6B | J26: =COUNTIFS(grupy!H:H,sprawdzenie!I26,grupy!#REF!,"<>") -> #REF! | K26: CS_11B | L26: =COUNTIFS(grupy!I:I,sprawdzenie!K26,grupy!#REF!,"<>") -> #REF! | M26: CL_22 | N26: =COUNTIFS(grupy!J:J,sprawdzenie!M26,grupy!#REF!,"<>") -> #REF! | O26: CK_6B | P26: =COUNTIFS(grupy!K:K,sprawdzenie!O26,grupy!#REF!,"<>") -> #REF! | Q26: CK_5B | R26: =COUNTIFS(grupy!L:L,sprawdzenie!Q26,grupy!#REF!,"<>") -> #REF! | S26: PP_6B | T26: =COUNTIFS(grupy!M:M,sprawdzenie!S26,grupy!#REF!,"<>") -> #REF! | U26: PP_4D | V26: =COUNTIFS(grupy!N:N,sprawdzenie!U26,grupy!#REF!,"<>") -> #REF!
E27: CN_12A | F27: =COUNTIFS(grupy!F:F,sprawdzenie!E27,grupy!#REF!,"<>") -> #REF! | G27: CS_23 | H27: =COUNTIFS(grupy!G:G,sprawdzenie!G27,grupy!#REF!,"<>") -> #REF! | I27: CS_6C | J27: =COUNTIFS(grupy!H:H,sprawdzenie!I27,grupy!#REF!,"<>") -> #REF! | K27: CS_12A | L27: =COUNTIFS(grupy!I:I,sprawdzenie!K27,grupy!#REF!,"<>") -> #REF! | M27: CL_23 | N27: =COUNTIFS(grupy!J:J,sprawdzenie!M27,grupy!#REF!,"<>") -> #REF! | O27: CK_6C | P27: =COUNTIFS(grupy!K:K,sprawdzenie!O27,grupy!#REF!,"<>") -> #REF! | Q27: CK_5C | R27: =COUNTIFS(grupy!L:L,sprawdzenie!Q27,grupy!#REF!,"<>") -> #REF! | S27: PP_6C | T27: =COUNTIFS(grupy!M:M,sprawdzenie!S27,grupy!#REF!,"<>") -> #REF! | U27: PP_4E | V27: =COUNTIFS(grupy!N:N,sprawdzenie!U27,grupy!#REF!,"<>") -> #REF!
E28: CN_12B | F28: =COUNTIFS(grupy!F:F,sprawdzenie!E28,grupy!#REF!,"<>") -> #REF! | G28: CS_24 | H28: =COUNTIFS(grupy!G:G,sprawdzenie!G28,grupy!#REF!,"<>") -> #REF! | I28: CS_6D | J28: =COUNTIFS(grupy!H:H,sprawdzenie!I28,grupy!#REF!,"<>") -> #REF! | K28: CS_12B | L28: =COUNTIFS(grupy!I:I,sprawdzenie!K28,grupy!#REF!,"<>") -> #REF! | M28: CL_24 | N28: =COUNTIFS(grupy!J:J,sprawdzenie!M28,grupy!#REF!,"<>") -> #REF! | O28: CK_6D | P28: =COUNTIFS(grupy!K:K,sprawdzenie!O28,grupy!#REF!,"<>") -> #REF! | Q28: CK_5D | R28: =COUNTIFS(grupy!L:L,sprawdzenie!Q28,grupy!#REF!,"<>") -> #REF! | S28: PP_6D | T28: =COUNTIFS(grupy!M:M,sprawdzenie!S28,grupy!#REF!,"<>") -> #REF! | U28: PP_4F | V28: =COUNTIFS(grupy!N:N,sprawdzenie!U28,grupy!#REF!,"<>") -> #REF!
E29: CN_13A | F29: =COUNTIFS(grupy!F:F,sprawdzenie!E29,grupy!#REF!,"<>") -> #REF! | G29: CS_25 | H29: =COUNTIFS(grupy!G:G,sprawdzenie!G29,grupy!#REF!,"<>") -> #REF! | I29: CS_7A | J29: =COUNTIFS(grupy!H:H,sprawdzenie!I29,grupy!#REF!,"<>") -> #REF! | K29: CS_13A | L29: =COUNTIFS(grupy!I:I,sprawdzenie!K29,grupy!#REF!,"<>") -> #REF! | M29: CL_25 | N29: =COUNTIFS(grupy!J:J,sprawdzenie!M29,grupy!#REF!,"<>") -> #REF! | O29: CK_7A | P29: =COUNTIFS(grupy!K:K,sprawdzenie!O29,grupy!#REF!,"<>") -> #REF! | Q29: CK_5E | R29: =COUNTIFS(grupy!L:L,sprawdzenie!Q29,grupy!#REF!,"<>") -> #REF! | S29: PP_7A | T29: =COUNTIFS(grupy!M:M,sprawdzenie!S29,grupy!#REF!,"<>") -> #REF! | U29: PP_5A | V29: =COUNTIFS(grupy!N:N,sprawdzenie!U29,grupy!#REF!,"<>") -> #REF!
E30: CN_13B | F30: =COUNTIFS(grupy!F:F,sprawdzenie!E30,grupy!#REF!,"<>") -> #REF! | G30: CS_26 | H30: =COUNTIFS(grupy!G:G,sprawdzenie!G30,grupy!#REF!,"<>") -> #REF! | I30: CS_7B | J30: =COUNTIFS(grupy!H:H,sprawdzenie!I30,grupy!#REF!,"<>") -> #REF! | K30: CS_13B | L30: =COUNTIFS(grupy!I:I,sprawdzenie!K30,grupy!#REF!,"<>") -> #REF! | M30: CL_26 | N30: =COUNTIFS(grupy!J:J,sprawdzenie!M30,grupy!#REF!,"<>") -> #REF! | O30: CK_7B | P30: =COUNTIFS(grupy!K:K,sprawdzenie!O30,grupy!#REF!,"<>") -> #REF! | Q30: CK_6A | R30: =COUNTIFS(grupy!L:L,sprawdzenie!Q30,grupy!#REF!,"<>") -> #REF! | S30: PP_7B | T30: =COUNTIFS(grupy!M:M,sprawdzenie!S30,grupy!#REF!,"<>") -> #REF! | U30: PP_5B | V30: =COUNTIFS(grupy!N:N,sprawdzenie!U30,grupy!#REF!,"<>") -> #REF!
E31: CN_14A | F31: =COUNTIFS(grupy!F:F,sprawdzenie!E31,grupy!#REF!,"<>") -> #REF! | G31: CS_27 | H31: =COUNTIFS(grupy!G:G,sprawdzenie!G31,grupy!#REF!,"<>") -> #REF! | I31: CS_7C | J31: =COUNTIFS(grupy!H:H,sprawdzenie!I31,grupy!#REF!,"<>") -> #REF! | K31: CS_14A | L31: =COUNTIFS(grupy!I:I,sprawdzenie!K31,grupy!#REF!,"<>") -> #REF! | M31: CL_27 | N31: =COUNTIFS(grupy!J:J,sprawdzenie!M31,grupy!#REF!,"<>") -> #REF! | O31: CK_7C | P31: =COUNTIFS(grupy!K:K,sprawdzenie!O31,grupy!#REF!,"<>") -> #REF! | Q31: CK_6B | R31: =COUNTIFS(grupy!L:L,sprawdzenie!Q31,grupy!#REF!,"<>") -> #REF! | S31: PP_7C | T31: =COUNTIFS(grupy!M:M,sprawdzenie!S31,grupy!#REF!,"<>") -> #REF! | U31: PP_5C | V31: =COUNTIFS(grupy!N:N,sprawdzenie!U31,grupy!#REF!,"<>") -> #REF!
E32: CN_14B | F32: =COUNTIFS(grupy!F:F,sprawdzenie!E32,grupy!#REF!,"<>") -> #REF! | G32: CS_28 | H32: =COUNTIFS(grupy!G:G,sprawdzenie!G32,grupy!#REF!,"<>") -> #REF! | I32: CS_7D | J32: =COUNTIFS(grupy!H:H,sprawdzenie!I32,grupy!#REF!,"<>") -> #REF! | K32: CS_14B | L32: =COUNTIFS(grupy!I:I,sprawdzenie!K32,grupy!#REF!,"<>") -> #REF! | M32: CL_28 | N32: =COUNTIFS(grupy!J:J,sprawdzenie!M32,grupy!#REF!,"<>") -> #REF! | O32: CK_7D | P32: =COUNTIFS(grupy!K:K,sprawdzenie!O32,grupy!#REF!,"<>") -> #REF! | Q32: CK_6C | R32: =COUNTIFS(grupy!L:L,sprawdzenie!Q32,grupy!#REF!,"<>") -> #REF! | S32: PP_7D | T32: =COUNTIFS(grupy!M:M,sprawdzenie!S32,grupy!#REF!,"<>") -> #REF! | U32: PP_5D | V32: =COUNTIFS(grupy!N:N,sprawdzenie!U32,grupy!#REF!,"<>") -> #REF!
E33: CN_15A | F33: =COUNTIFS(grupy!F:F,sprawdzenie!E33,grupy!#REF!,"<>") -> #REF! | G33: CS_29 | H33: =COUNTIFS(grupy!G:G,sprawdzenie!G33,grupy!#REF!,"<>") -> #REF! | I33: CS_8A | J33: =COUNTIFS(grupy!H:H,sprawdzenie!I33,grupy!#REF!,"<>") -> #REF! | K33: CS_15A | L33: =COUNTIFS(grupy!I:I,sprawdzenie!K33,grupy!#REF!,"<>") -> #REF! | M33: CL_29 | N33: =COUNTIFS(grupy!J:J,sprawdzenie!M33,grupy!#REF!,"<>") -> #REF! | O33: CK_8A | P33: =COUNTIFS(grupy!K:K,sprawdzenie!O33,grupy!#REF!,"<>") -> #REF! | Q33: CK_6D | R33: =COUNTIFS(grupy!L:L,sprawdzenie!Q33,grupy!#REF!,"<>") -> #REF! | S33: PP_8A | T33: =COUNTIFS(grupy!M:M,sprawdzenie!S33,grupy!#REF!,"<>") -> #REF! | U33: PP_5E | V33: =COUNTIFS(grupy!N:N,sprawdzenie!U33,grupy!#REF!,"<>") -> #REF!
E34: CN_15B | F34: =COUNTIFS(grupy!F:F,sprawdzenie!E34,grupy!#REF!,"<>") -> #REF! | G34: CS_30 | H34: =COUNTIFS(grupy!G:G,sprawdzenie!G34,grupy!#REF!,"<>") -> #REF! | I34: CS_8B | J34: =COUNTIFS(grupy!H:H,sprawdzenie!I34,grupy!#REF!,"<>") -> #REF! | K34: CS_15B | L34: =COUNTIFS(grupy!I:I,sprawdzenie!K34,grupy!#REF!,"<>") -> #REF! | M34: CL_30 | N34: =COUNTIFS(grupy!J:J,sprawdzenie!M34,grupy!#REF!,"<>") -> #REF! | O34: CK_8B | P34: =COUNTIFS(grupy!K:K,sprawdzenie!O34,grupy!#REF!,"<>") -> #REF! | Q34: CK_6E | R34: =COUNTIFS(grupy!L:L,sprawdzenie!Q34,grupy!#REF!,"<>") -> #REF! | S34: PP_8B | T34: =COUNTIFS(grupy!M:M,sprawdzenie!S34,grupy!#REF!,"<>") -> #REF! | U34: PP_5F | V34: =COUNTIFS(grupy!N:N,sprawdzenie!U34,grupy!#REF!,"<>") -> #REF!
E35: CN_16A | F35: =COUNTIFS(grupy!F:F,sprawdzenie!E35,grupy!#REF!,"<>") -> #REF! | G35: CS_31 | H35: =COUNTIFS(grupy!G:G,sprawdzenie!G35,grupy!#REF!,"<>") -> #REF! | I35: CS_8C | J35: =COUNTIFS(grupy!H:H,sprawdzenie!I35,grupy!#REF!,"<>") -> #REF! | K35: CS_16A | L35: =COUNTIFS(grupy!I:I,sprawdzenie!K35,grupy!#REF!,"<>") -> #REF! | M35: CL_31 | N35: =COUNTIFS(grupy!J:J,sprawdzenie!M35,grupy!#REF!,"<>") -> #REF! | O35: CK_8C | P35: =COUNTIFS(grupy!K:K,sprawdzenie!O35,grupy!#REF!,"<>") -> #REF! | Q35: CK_7A | R35: =COUNTIFS(grupy!L:L,sprawdzenie!Q35,grupy!#REF!,"<>") -> #REF! | S35: PP_8C | T35: =COUNTIFS(grupy!M:M,sprawdzenie!S35,grupy!#REF!,"<>") -> #REF! | U35: PP_6A | V35: =COUNTIFS(grupy!N:N,sprawdzenie!U35,grupy!#REF!,"<>") -> #REF!
E36: CN_16B | F36: =COUNTIFS(grupy!F:F,sprawdzenie!E36,grupy!#REF!,"<>") -> #REF! | G36: CS_32 | H36: =COUNTIFS(grupy!G:G,sprawdzenie!G36,grupy!#REF!,"<>") -> #REF! | I36: CS_8D | J36: =COUNTIFS(grupy!H:H,sprawdzenie!I36,grupy!#REF!,"<>") -> #REF! | K36: CS_16B | L36: =COUNTIFS(grupy!I:I,sprawdzenie!K36,grupy!#REF!,"<>") -> #REF! | M36: CL_32 | N36: =COUNTIFS(grupy!J:J,sprawdzenie!M36,grupy!#REF!,"<>") -> #REF! | O36: CK_8D | P36: =COUNTIFS(grupy!K:K,sprawdzenie!O36,grupy!#REF!,"<>") -> #REF! | Q36: CK_7B | R36: =COUNTIFS(grupy!L:L,sprawdzenie!Q36,grupy!#REF!,"<>") -> #REF! | S36: PP_8D | T36: =COUNTIFS(grupy!M:M,sprawdzenie!S36,grupy!#REF!,"<>") -> #REF! | U36: PP_6B | V36: =COUNTIFS(grupy!N:N,sprawdzenie!U36,grupy!#REF!,"<>") -> #REF!
... E42: CN_19B | F42: =COUNTIFS(grupy!F:F,sprawdzenie!E42,grupy!#REF!,"<>") -> #REF! | G42: CS_38 | H42: =COUNTIFS(grupy!G:G,sprawdzenie!G42,grupy!#REF!,"<>") -> #REF! | I42: CS_10B | J42: =COUNTIFS(grupy!H:H,sprawdzenie!I42,grupy!#REF!,"<>") -> #REF! | K42: CS_19B | L42: =COUNTIFS(grupy!I:I,sprawdzenie!K42,grupy!#REF!,"<>") -> #REF! | M42: CL_38 | N42: =COUNTIFS(grupy!J:J,sprawdzenie!M42,grupy!#REF!,"<>") -> #REF! | O42: CK_10B | P42: =COUNTIFS(grupy!K:K,sprawdzenie!O42,grupy!#REF!,"<>") -> #REF! | Q42: CK_8C | R42: =COUNTIFS(grupy!L:L,sprawdzenie!Q42,grupy!#REF!,"<>") -> #REF! | S42: PP_10B | T42: =COUNTIFS(grupy!M:M,sprawdzenie!S42,grupy!#REF!,"<>") -> #REF! | U42: PP_7B | V42: =COUNTIFS(grupy!N:N,sprawdzenie!U42,grupy!#REF!,"<>") -> #REF!
F43: =SUM(F5:F42) -> #REF! | G43: CS_39 | H43: =COUNTIFS(grupy!G:G,sprawdzenie!G43,grupy!#REF!,"<>") -> #REF! | I43: CS_10C | J43: =COUNTIFS(grupy!H:H,sprawdzenie!I43,grupy!#REF!,"<>") -> #REF! | L43: =SUM(L5:L42) -> #REF! | M43: CL_39 | N43: =COUNTIFS(grupy!J:J,sprawdzenie!M43,grupy!#REF!,"<>") -> #REF! | O43: CK_10C | P43: =COUNTIFS(grupy!K:K,sprawdzenie!O43,grupy!#REF!,"<>") -> #REF! | Q43: CK_8D | R43: =COUNTIFS(grupy!L:L,sprawdzenie!Q43,grupy!#REF!,"<>") -> #REF! | S43: PP_10C | T43: =COUNTIFS(grupy!M:M,sprawdzenie!S43,grupy!#REF!,"<>") -> #REF! | U43: PP_7C | V43: =COUNTIFS(grupy!N:N,sprawdzenie!U43,grupy!#REF!,"<>") -> #REF!
G44: CS_40 | H44: =COUNTIFS(grupy!G:G,sprawdzenie!G44,grupy!#REF!,"<>") -> #REF! | I44: CS_10D | J44: =COUNTIFS(grupy!H:H,sprawdzenie!I44,grupy!#REF!,"<>") -> #REF! | M44: CL_40 | N44: =COUNTIFS(grupy!J:J,sprawdzenie!M44,grupy!#REF!,"<>") -> #REF! | O44: CK_10D | P44: =COUNTIFS(grupy!K:K,sprawdzenie!O44,grupy!#REF!,"<>") -> #REF! | Q44: CK_8E | R44: =COUNTIFS(grupy!L:L,sprawdzenie!Q44,grupy!#REF!,"<>") -> #REF! | S44: PP_10D | T44: =COUNTIFS(grupy!M:M,sprawdzenie!S44,grupy!#REF!,"<>") -> #REF! | U44: PP_7D | V44: =COUNTIFS(grupy!N:N,sprawdzenie!U44,grupy!#REF!,"<>") -> #REF!
G45: CS_41 | H45: =COUNTIFS(grupy!G:G,sprawdzenie!G45,grupy!#REF!,"<>") -> #REF! | I45: CS_11A | J45: =COUNTIFS(grupy!H:H,sprawdzenie!I45,grupy!#REF!,"<>") -> #REF! | M45: CL_41 | N45: =COUNTIFS(grupy!J:J,sprawdzenie!M45,grupy!#REF!,"<>") -> #REF! | O45: CK_11A | P45: =COUNTIFS(grupy!K:K,sprawdzenie!O45,grupy!#REF!,"<>") -> #REF! | Q45: CK_9A | R45: =COUNTIFS(grupy!L:L,sprawdzenie!Q45,grupy!#REF!,"<>") -> #REF! | S45: PP_11A | T45: =COUNTIFS(grupy!M:M,sprawdzenie!S45,grupy!#REF!,"<>") -> #REF! | U45: PP_7E | V45: =COUNTIFS(grupy!N:N,sprawdzenie!U45,grupy!#REF!,"<>") -> #REF!
G46: CS_42 | H46: =COUNTIFS(grupy!G:G,sprawdzenie!G46,grupy!#REF!,"<>") -> #REF! | I46: CS_11B | J46: =COUNTIFS(grupy!H:H,sprawdzenie!I46,grupy!#REF!,"<>") -> #REF! | M46: CL_42 | N46: =COUNTIFS(grupy!J:J,sprawdzenie!M46,grupy!#REF!,"<>") -> #REF! | O46: CK_11B | P46: =COUNTIFS(grupy!K:K,sprawdzenie!O46,grupy!#REF!,"<>") -> #REF! | Q46: CK_9B | R46: =COUNTIFS(grupy!L:L,sprawdzenie!Q46,grupy!#REF!,"<>") -> #REF! | S46: PP_11B | T46: =COUNTIFS(grupy!M:M,sprawdzenie!S46,grupy!#REF!,"<>") -> #REF! | U46: PP_7F | V46: =COUNTIFS(grupy!N:N,sprawdzenie!U46,grupy!#REF!,"<>") -> #REF!
G47: CS_43 | H47: =COUNTIFS(grupy!G:G,sprawdzenie!G47,grupy!#REF!,"<>") -> #REF! | I47: CS_11C | J47: =COUNTIFS(grupy!H:H,sprawdzenie!I47,grupy!#REF!,"<>") -> #REF! | M47: CL_43 | N47: =COUNTIFS(grupy!J:J,sprawdzenie!M47,grupy!#REF!,"<>") -> #REF! | O47: CK_11C | P47: =COUNTIFS(grupy!K:K,sprawdzenie!O47,grupy!#REF!,"<>") -> #REF! | Q47: CK_9C | R47: =COUNTIFS(grupy!L:L,sprawdzenie!Q47,grupy!#REF!,"<>") -> #REF! | S47: PP_11C | T47: =COUNTIFS(grupy!M:M,sprawdzenie!S47,grupy!#REF!,"<>") -> #REF! | U47: PP_8A | V47: =COUNTIFS(grupy!N:N,sprawdzenie!U47,grupy!#REF!,"<>") -> #REF!
G48: CS_44 | H48: =COUNTIFS(grupy!G:G,sprawdzenie!G48,grupy!#REF!,"<>") -> #REF! | I48: CS_11D | J48: =COUNTIFS(grupy!H:H,sprawdzenie!I48,grupy!#REF!,"<>") -> #REF! | M48: CL_44 | N48: =COUNTIFS(grupy!J:J,sprawdzenie!M48,grupy!#REF!,"<>") -> #REF! | O48: CK_11D | P48: =COUNTIFS(grupy!K:K,sprawdzenie!O48,grupy!#REF!,"<>") -> #REF! | Q48: CK_9D | R48: =COUNTIFS(grupy!L:L,sprawdzenie!Q48,grupy!#REF!,"<>") -> #REF! | S48: PP_11D | T48: =COUNTIFS(grupy!M:M,sprawdzenie!S48,grupy!#REF!,"<>") -> #REF! | U48: PP_8B | V48: =COUNTIFS(grupy!N:N,sprawdzenie!U48,grupy!#REF!,"<>") -> #REF!
G49: CS_45 | H49: =COUNTIFS(grupy!G:G,sprawdzenie!G49,grupy!#REF!,"<>") -> #REF! | I49: CS_12A | J49: =COUNTIFS(grupy!H:H,sprawdzenie!I49,grupy!#REF!,"<>") -> #REF! | M49: CL_45 | N49: =COUNTIFS(grupy!J:J,sprawdzenie!M49,grupy!#REF!,"<>") -> #REF! | O49: CK_12A | P49: =COUNTIFS(grupy!K:K,sprawdzenie!O49,grupy!#REF!,"<>") -> #REF! | Q49: CK_9E | R49: =COUNTIFS(grupy!L:L,sprawdzenie!Q49,grupy!#REF!,"<>") -> #REF! | S49: PP_12A | T49: =COUNTIFS(grupy!M:M,sprawdzenie!S49,grupy!#REF!,"<>") -> #REF! | U49: PP_8C | V49: =COUNTIFS(grupy!N:N,sprawdzenie!U49,grupy!#REF!,"<>") -> #REF!
G50: CS_46 | H50: =COUNTIFS(grupy!G:G,sprawdzenie!G50,grupy!#REF!,"<>") -> #REF! | I50: CS_12B | J50: =COUNTIFS(grupy!H:H,sprawdzenie!I50,grupy!#REF!,"<>") -> #REF! | M50: CL_46 | N50: =COUNTIFS(grupy!J:J,sprawdzenie!M50,grupy!#REF!,"<>") -> #REF! | O50: CK_12B | P50: =COUNTIFS(grupy!K:K,sprawdzenie!O50,grupy!#REF!,"<>") -> #REF! | Q50: CK_10A | R50: =COUNTIFS(grupy!L:L,sprawdzenie!Q50,grupy!#REF!,"<>") -> #REF! | S50: PP_12B | T50: =COUNTIFS(grupy!M:M,sprawdzenie!S50,grupy!#REF!,"<>") -> #REF! | U50: PP_8D | V50: =COUNTIFS(grupy!N:N,sprawdzenie!U50,grupy!#REF!,"<>") -> #REF!
G51: CS_47 | H51: =COUNTIFS(grupy!G:G,sprawdzenie!G51,grupy!#REF!,"<>") -> #REF! | I51: CS_12C | J51: =COUNTIFS(grupy!H:H,sprawdzenie!I51,grupy!#REF!,"<>") -> #REF! | M51: CL_47 | N51: =COUNTIFS(grupy!J:J,sprawdzenie!M51,grupy!#REF!,"<>") -> #REF! | O51: CK_12C | P51: =COUNTIFS(grupy!K:K,sprawdzenie!O51,grupy!#REF!,"<>") -> #REF! | Q51: CK_10B | R51: =COUNTIFS(grupy!L:L,sprawdzenie!Q51,grupy!#REF!,"<>") -> #REF! | S51: PP_12C | T51: =COUNTIFS(grupy!M:M,sprawdzenie!S51,grupy!#REF!,"<>") -> #REF! | U51: PP_8E | V51: =COUNTIFS(grupy!N:N,sprawdzenie!U51,grupy!#REF!,"<>") -> #REF!
G52: CS_48 | H52: =COUNTIFS(grupy!G:G,sprawdzenie!G52,grupy!#REF!,"<>") -> #REF! | I52: CS_12D | J52: =COUNTIFS(grupy!H:H,sprawdzenie!I52,grupy!#REF!,"<>") -> #REF! | M52: CL_48 | N52: =COUNTIFS(grupy!J:J,sprawdzenie!M52,grupy!#REF!,"<>") -> #REF! | O52: CK_12D | P52: =COUNTIFS(grupy!K:K,sprawdzenie!O52,grupy!#REF!,"<>") -> #REF! | Q52: CK_10C | R52: =COUNTIFS(grupy!L:L,sprawdzenie!Q52,grupy!#REF!,"<>") -> #REF! | S52: PP_12D | T52: =COUNTIFS(grupy!M:M,sprawdzenie!S52,grupy!#REF!,"<>") -> #REF! | U52: PP_8F | V52: =COUNTIFS(grupy!N:N,sprawdzenie!U52,grupy!#REF!,"<>") -> #REF!
...
